Workbook

Sheet Все (3)
A1: =Расп!$A$21 -> МИНИСТЕРСТВО СПОРТА РОССИЙСКОЙ ФЕДЕРАЦИИ | V1: 0 | W1: б/р
A2: =Расп!$A$22 -> ВСЕРОССИЙСКАЯ ФЕДЕРАЦИЯ ЛЕГКОЙ АТЛЕТИКИ | V2: 3800 | W2: 3
A3: =Расп!$A$23 | V3: 4600 | W3: 2
V4: 5500 | W4: 1
A5: =Расп!$A$25 -> Командный чемпионат России | V5: 6200 | W5: КМС
A6: =Расп!$A$26 -> г.Сочи, Адлерский район, стадион "Юность" | F6: =Расп!$A$1 -> 04.09.2019 г. | K6: =Расп!$A$7 -> 19.05.2019 г. | O6: =Расп!C13 -> До 23 лет | V6: 7000 | W6: МС
F7: =Расп!A2 -> бег 100 м | G7: =Расп!B2 -> 0.39583333 | K7: =Расп!A8 -> бег с барьерами 110 м (1,067 м) | L7: =Расп!B8 -> 0.41666667 | N7: =Расп!$A$14 -> РМ | O7: =Расп!C14 -> 8617 | V7: 8100 | W7: МСМК
C8: =Расп!$A$27 -> по многоборью | F8: =Расп!A3 -> прыжок в длину | G8: =Расп!B3 -> 0.42708333 | K8: =Расп!A9 -> метание диска (2,0 кг) | L8: =Расп!B9 -> 0.45138889 | N8: =Расп!$A$15 -> РЕ | O8: =Расп!C15 -> 8617 | U8: Скрыть
C9: =Расп!A28 -> Мужчины | F9: =Расп!A4 -> толкание ядра (7,26 кг) | G9: =Расп!B4 -> 0.46875 | K9: =Расп!A10 -> прыжок с шестом | L9: =Расп!B10 -> 0.52777778 | N9: =Расп!$A$16 -> РР | O9: =Расп!C16 -> 8365 | U9: при
C10: =Расп!A29 -> 0 | F10: =Расп!A5 -> прыжок в высоту | G10: =Расп!B5 -> 0.625 | K10: =Расп!A11 -> метание копья (800 г) | L10: =Расп!B11 -> 0.625 | U10: печати
C11: ИТОГОВЫЙ ПРОТОКОЛ | F11: =Расп!A6 -> бег 400 м | G11: =Расп!B6 -> 0.72916667 | K11: =Расп!A12 -> бег 1500 м | L11: =Расп!B12 -> 0.76388889
C12: Промежуточные результаы
A13: Мес | B13: № | C13: Фамилия, имя | D13: ДР | F13: 100м | G13: Длина | H13: Ядро | I13: Высота | J13: 400м | K13: 110м с/б | L13: Диск | M13: Шест | N13: Копье | O13: 1500м | P13: Очки | Q13: Разряд | R13: Оч. ком | U13: 100 | V13: Длина | W13: Ядро | X13: Высота | Y13: 400 | Z13: 110сб | AA13: Диск | AB13: Шест | AC13: Копье | AD13: 1500
A16: =RANK(P16,$P$16:$P$165,0) -> #N/A | B16: 34 | C16: =VLOOKUP(B16,Уч!$A$2:$L$26,2,FALSE) -> #N/A | D16: =VLOOKUP(B16,Уч!$A$2:$L$26,3,FALSE) -> #N/A | E16: Рез | F16: =VLOOKUP($B16,'100 м 1'!$C$18:$I$86,5,FALSE) -> #N/A | G16: =VLOOKUP($B16,'длина 2 '!$C$16:$O$54,11,FALSE) -> #N/A | H16: =VLOOKUP($B16,'ядро 2'!$C$16:$K$60,8,FALSE) -> #N/A | I16: =VLOOKUP($B16,'высота 2'!$C$16:$AF$57,23,FALSE) -> #N/A | J16: =VLOOKUP($B16,'4_р'!$C$17:$H$73,5,FALSE) -> #N/A | K16: =VLOOKUP($B16,'1cб_р'!$C$17:$I$63,5,FALSE) -> #N/A | L16: =VLOOKUP($B16,Дс_р!$C$16:$K$70,8,FALSE) -> #N/A | M16: =VLOOKUP($B16,Ш_р!$C$15:$AF$69,17,FALSE) -> #N/A | N16: =VLOOKUP($B16,К_р!$C$15:$K$68,8,FALSE) -> #N/A | O16: =VLOOKUP($B16,'15_р'!$C$17:$H$86,5,FALSE) -> #N/A | P16: =SUM(F18:O18) -> #N/A | Q16: =LOOKUP(P16,$V$1:$V$7,$W$1:$W$7) -> #N/A | S16: =$A16 -> #N/A | T16: 1
C17: =VLOOKUP(B16,Уч!$A$2:$L$26,5,FALSE) -> #N/A | D17: =VLOOKUP(B16,Уч!$A$2:$L$26,4,FALSE) -> #N/A | E17: Вет | F17: =VLOOKUP($B16,'100 м 1'!$C$18:$I$86,6,FALSE) -> #N/A | G17: =VLOOKUP($B16,'длина 2 '!$C$16:$O$54,12,FALSE) -> #N/A | K17: =VLOOKUP($B16,'1cб_р'!$C$17:$I$63,6,FALSE) -> #N/A | S17: =$A16 -> #N/A | T17: 2
C18: =VLOOKUP(B16,Уч!$A$2:$L$26,7,FALSE) -> #N/A | E18: Оч | F18: =VLOOKUP($B16,'100 м 1'!$C$18:$I$86,7,FALSE) -> #N/A | G18: =VLOOKUP($B16,'длина 2 '!$C$16:$O$54,13,FALSE) -> #N/A | H18: =VLOOKUP($B16,'ядро 2'!$C$16:$K$60,9,FALSE) -> #N/A | I18: =VLOOKUP($B16,'высота 2'!$C$16:$AF$57,24,) -> #N/A | J18: =VLOOKUP($B16,'4_р'!$C$17:$H$73,6,FALSE) -> #N/A | K18: =VLOOKUP($B16,'1cб_р'!$C$17:$I$63,7,FALSE) -> #N/A | L18: =VLOOKUP($B16,Дс_р!$C$16:$K$70,9,FALSE) -> #N/A | M18: =VLOOKUP($B16,Ш_р!$C$15:$AF$69,18,FALSE) -> #N/A | N18: =VLOOKUP($B16,К_р!$C$15:$K$68,9,FALSE) -> #N/A | O18: =VLOOKUP($B16,'15_р'!$C$17:$H$86,6,FALSE) -> #N/A | S18: =$A16 -> #N/A | T18: 3
C19: =VLOOKUP(B16,Уч!$A$2:$L$26,11,FALSE) -> #N/A | E19: Сум | F19: =F18 -> #N/A | G19: =F19+G18 -> #N/A | H19: =G19+H18 -> #N/A | I19: =H19+I18 -> #N/A | J19: =SUM($F18:J18) -> #N/A | K19: =SUM($F18:$K18) -> #N/A | L19: =K19+L18 -> #N/A | M19: =L19+M18 -> #N/A | N19: =SUM($F18:$N18) -> #N/A | O19: =SUM($F18:$O18) -> #N/A | S19: =$A16 -> #N/A | T19: 4 | U19: =F19 -> #N/A | V19: =G19 -> #N/A | W19: =H19 -> #N/A | X19: =I19 -> #N/A | Y19: =J19 -> #N/A | Z19: =K19 -> #N/A | AA19: =L19 -> #N/A | AB19: =M19 -> #N/A | ... AD19: =O19 -> #N/A
C20: =VLOOKUP(B16,Уч!$A$2:$L$26,12,FALSE) -> #N/A | E20: Мес | F20: =RANK(F19,$U$19:$U$165,0) -> #N/A | G20: =RANK(G19,$V$19:$V$165,0) -> #N/A | H20: =RANK(H19,$W$19:$W$165,0) -> #N/A | I20: =RANK(I19,$X$19:$X$165,0) -> #N/A | J20: =RANK(J19,$Y$19:$Y$165,0) -> #N/A | K20: =RANK(K19,$Z$19:$Z$165,0) -> #N/A | L20: =RANK(L19,$AA$19:$AA$165,0) -> #N/A | M20: =RANK(M19,$AB$19:$AB$155,0) -> #N/A | N20: =RANK(N19,$AC$19:$AC$165,0) -> #N/A | O20: =RANK(O19,$AD$19:$AD$165,0) -> #N/A | S20: =$A16 -> #N/A | T20: 5
A21: =RANK(P21,$P$16:$P$165,0) -> #N/A | B21: 17 | C21: =VLOOKUP(B21,Уч!$A$2:$L$26,2,FALSE) -> #N/A | D21: =VLOOKUP(B21,Уч!$A$2:$L$26,3,FALSE) -> #N/A | E21: Рез | F21: =VLOOKUP($B21,'100 м 1'!$C$18:$I$86,5,FALSE) -> #N/A | G21: =VLOOKUP($B21,'длина 2 '!$C$16:$O$54,11,FALSE) -> #N/A | H21: =VLOOKUP($B21,'ядро 2'!$C$16:$K$60,8,FALSE) -> #N/A | I21: =VLOOKUP($B21,'высота 2'!$C$16:$AF$57,23,FALSE) -> #N/A | J21: =VLOOKUP($B21,'4_р'!$C$17:$H$73,5,FALSE) -> #N/A | K21: =VLOOKUP($B21,'1cб_р'!$C$17:$I$63,5,FALSE) -> #N/A | L21: =VLOOKUP($B21,Дс_р!$C$16:$K$70,8,FALSE) -> #N/A | M21: =VLOOKUP($B21,Ш_р!$C$15:$AF$69,17,FALSE) -> #N/A | N21: =VLOOKUP($B21,К_р!$C$15:$K$68,8,FALSE) -> #N/A | O21: =VLOOKUP($B21,'15_р'!$C$17:$H$86,5,FALSE) -> #N/A | P21: =SUM(F23:O23) -> #N/A | Q21: =LOOKUP(P21,$V$1:$V$7,$W$1:$W$7) -> #N/A | S21: =$A21 -> #N/A | T21: 1 | AF21: 10 | AG21: 8 | AH21: МНГБ | AI21: 5
C22: =VLOOKUP(B21,Уч!$A$2:$L$26,5,FALSE) -> #N/A | D22: =VLOOKUP(B21,Уч!$A$2:$L$26,4,FALSE) -> #N/A | E22: Вет | F22: =VLOOKUP($B21,'100 м 1'!$C$18:$I$86,6,FALSE) -> #N/A | G22: =VLOOKUP($B21,'длина 2 '!$C$16:$O$54,12,FALSE) -> #N/A | K22: =VLOOKUP($B21,'1cб_р'!$C$17:$I$63,6,FALSE) -> #N/A | S22: =$A21 -> #N/A | T22: 2 | AF22: 11 | AG22: 7
C23: =VLOOKUP(B21,Уч!$A$2:$L$26,7,FALSE) -> #N/A | E23: Оч | F23: =VLOOKUP($B21,'100 м 1'!$C$18:$I$86,7,FALSE) -> #N/A | G23: =VLOOKUP($B21,'длина 2 '!$C$16:$O$54,13,FALSE) -> #N/A | H23: =VLOOKUP($B21,'ядро 2'!$C$16:$K$60,9,FALSE) -> #N/A | I23: =VLOOKUP($B21,'высота 2'!$C$16:$AF$57,24,) -> #N/A | J23: =VLOOKUP($B21,'4_р'!$C$17:$H$73,6,FALSE) -> #N/A | K23: =VLOOKUP($B21,'1cб_р'!$C$17:$I$63,7,FALSE) -> #N/A | L23: =VLOOKUP($B21,Дс_р!$C$16:$K$70,9,FALSE) -> #N/A | M23: =VLOOKUP($B21,Ш_р!$C$15:$AF$69,18,FALSE) -> #N/A | N23: =VLOOKUP($B21,К_р!$C$15:$K$68,9,FALSE) -> #N/A | O23: =VLOOKUP($B21,'15_р'!$C$17:$H$86,6,FALSE) -> #N/A | S23: =$A21 -> #N/A | T23: 3 | AF23: 12 | AG23: 6
C24: =VLOOKUP(B21,Уч!$A$2:$L$26,11,FALSE) -> #N/A | E24: Сум | F24: =F23 -> #N/A | G24: =F24+G23 -> #N/A | H24: =G24+H23 -> #N/A | I24: =H24+I23 -> #N/A | J24: =SUM($F23:J23) -> #N/A | K24: =SUM($F23:$K23) -> #N/A | L24: =K24+L23 -> #N/A | M24: =L24+M23 -> #N/A | N24: =SUM($F23:$N23) -> #N/A | O24: =SUM($F23:$O23) -> #N/A | S24: =$A21 -> #N/A | T24: 4 | U24: =F24 -> #N/A | V24: =G24 -> #N/A | W24: =H24 -> #N/A | X24: =I24 -> #N/A | Y24: =J24 -> #N/A | Z24: =K24 -> #N/A | AA24: =L24 -> #N/A | AB24: =M24 -> #N/A | ... AD24: =O24 -> #N/A | AF24: 13 | AG24: 5
C25: =VLOOKUP(B21,Уч!$A$2:$L$26,12,FALSE) -> #N/A | E25: Мес | F25: =RANK(F24,$U$19:$U$165,0) -> #N/A | G25: =RANK(G24,$V$19:$V$165,0) -> #N/A | H25: =RANK(H24,$W$19:$W$165,0) -> #N/A | I25: =RANK(I24,$X$19:$X$165,0) -> #N/A | J25: =RANK(J24,$Y$19:$Y$165,0) -> #N/A | K25: =RANK(K24,$Z$19:$Z$165,0) -> #N/A | L25: =RANK(L24,$AA$19:$AA$165,0) -> #N/A | M25: =RANK(M24,$AB$19:$AB$155,0) -> #N/A | N25: =RANK(N24,$AC$19:$AC$165,0) -> #N/A | O25: =RANK(O24,$AD$19:$AD$165,0) -> #N/A | S25: =$A21 -> #N/A | T25: 5 | AF25: 14 | AG25: 4
A26: =RANK(P26,$P$16:$P$165,0) -> #N/A | B26: 59 | C26: =VLOOKUP(B26,Уч!$A$2:$L$26,2,FALSE) -> #N/A | D26: =VLOOKUP(B26,Уч!$A$2:$L$26,3,FALSE) -> #N/A | E26: Рез | F26: =VLOOKUP($B26,'100 м 1'!$C$18:$I$86,5,FALSE) -> #N/A | G26: =VLOOKUP($B26,'длина 2 '!$C$16:$O$54,11,FALSE) -> #N/A | H26: =VLOOKUP($B26,'ядро 2'!$C$16:$K$60,8,FALSE) -> #N/A | I26: =VLOOKUP($B26,'высота 2'!$C$16:$AF$57,23,FALSE) -> #N/A | J26: =VLOOKUP($B26,'4_р'!$C$17:$H$73,5,FALSE) -> #N/A | K26: =VLOOKUP($B26,'1cб_р'!$C$17:$I$63,5,FALSE) -> #N/A | L26: =VLOOKUP($B26,Дс_р!$C$16:$K$70,8,FALSE) -> #N/A | M26: =VLOOKUP($B26,Ш_р!$C$15:$AF$69,17,FALSE) -> #N/A | N26: =VLOOKUP($B26,К_р!$C$15:$K$68,8,FALSE) -> #N/A | O26: =VLOOKUP($B26,'15_р'!$C$17:$H$86,5,FALSE) -> #N/A | P26: =SUM(F28:O28) -> #N/A | Q26: =LOOKUP(P26,$V$1:$V$7,$W$1:$W$7) -> #N/A | S26: =$A26 -> #N/A | T26: 1
C27: =VLOOKUP(B26,Уч!$A$2:$L$26,5,FALSE) -> #N/A | D27: =VLOOKUP(B26,Уч!$A$2:$L$26,4,FALSE) -> #N/A | E27: Вет | F27: =VLOOKUP($B26,'100 м 1'!$C$18:$I$86,6,FALSE) -> #N/A | G27: =VLOOKUP($B26,'длина 2 '!$C$16:$O$54,12,FALSE) -> #N/A | K27: =VLOOKUP($B26,'1cб_р'!$C$17:$I$63,6,FALSE) -> #N/A | S27: =$A26 -> #N/A | T27: 2
C28: =VLOOKUP(B26,Уч!$A$2:$L$26,7,FALSE) -> #N/A | E28: Оч | F28: =VLOOKUP($B26,'100 м 1'!$C$18:$I$86,7,FALSE) -> #N/A | G28: =VLOOKUP($B26,'длина 2 '!$C$16:$O$54,13,FALSE) -> #N/A | H28: =VLOOKUP($B26,'ядро 2'!$C$16:$K$60,9,FALSE) -> #N/A | I28: =VLOOKUP($B26,'высота 2'!$C$16:$AF$57,24,) -> #N/A | J28: =VLOOKUP($B26,'4_р'!$C$17:$H$73,6,FALSE) -> #N/A | K28: =VLOOKUP($B26,'1cб_р'!$C$17:$I$63,7,FALSE) -> #N/A | L28: =VLOOKUP($B26,Дс_р!$C$16:$K$70,9,FALSE) -> #N/A | M28: =VLOOKUP($B26,Ш_р!$C$15:$AF$69,18,FALSE) -> #N/A | N28: =VLOOKUP($B26,К_р!$C$15:$K$68,9,FALSE) -> #N/A | O28: =VLOOKUP($B26,'15_р'!$C$17:$H$86,6,FALSE) -> #N/A | S28: =$A26 -> #N/A | T28: 3
C29: =VLOOKUP(B26,Уч!$A$2:$L$26,11,FALSE) -> #N/A | E29: Сум | F29: =F28 -> #N/A | G29: =F29+G28 -> #N/A | H29: =G29+H28 -> #N/A | I29: =H29+I28 -> #N/A | J29: =SUM($F28:J28) -> #N/A | K29: =SUM($F28:$K28) -> #N/A | L29: =K29+L28 -> #N/A | M29: =L29+M28 -> #N/A | N29: =SUM($F28:$N28) -> #N/A | O29: =SUM($F28:$O28) -> #N/A | S29: =$A26 -> #N/A | T29: 4 | U29: =F29 -> #N/A | V29: =G29 -> #N/A | W29: =H29 -> #N/A | X29: =I29 -> #N/A | Y29: =J29 -> #N/A | Z29: =K29 -> #N/A | AA29: =L29 -> #N/A | AB29: =M29 -> #N/A | ... AD29: =O29 -> #N/A
C30: =VLOOKUP(B26,Уч!$A$2:$L$26,12,FALSE) -> #N/A | E30: Мес | F30: =RANK(F29,$U$19:$U$165,0) -> #N/A | G30: =RANK(G29,$V$19:$V$165,0) -> #N/A | H30: =RANK(H29,$W$19:$W$165,0) -> #N/A | I30: =RANK(I29,$X$19:$X$165,0) -> #N/A | J30: =RANK(J29,$Y$19:$Y$165,0) -> #N/A | K30: =RANK(K29,$Z$19:$Z$165,0) -> #N/A | L30: =RANK(L29,$AA$19:$AA$165,0) -> #N/A | M30: =RANK(M29,$AB$19:$AB$155,0) -> #N/A | N30: =RANK(N29,$AC$19:$AC$165,0) -> #N/A | O30: =RANK(O29,$AD$19:$AD$165,0) -> #N/A | S30: =$A26 -> #N/A | T30: 5
A31: =RANK(P31,$P$16:$P$165,0) -> #N/A | B31: 37 | C31: =VLOOKUP(B31,Уч!$A$2:$L$26,2,FALSE) -> Гончарук Артём | D31: =VLOOKUP(B31,Уч!$A$2:$L$26,3,FALSE) -> 07.01.1992 | E31: Рез | F31: =VLOOKUP($B31,'100 м 1'!$C$18:$I$86,5,FALSE) -> 11.13 | G31: =VLOOKUP($B31,'длина 2 '!$C$16:$O$54,11,FALSE) -> #N/A | H31: =VLOOKUP($B31,'ядро 2'!$C$16:$K$60,8,FALSE) -> #N/A | I31: =VLOOKUP($B31,'высота 2'!$C$16:$AF$57,23,FALSE) -> #N/A | J31: =VLOOKUP($B31,'4_р'!$C$17:$H$73,5,FALSE) -> #N/A | K31: =VLOOKUP($B31,'1cб_р'!$C$17:$I$63,5,FALSE) -> #N/A | L31: =VLOOKUP($B31,Дс_р!$C$16:$K$70,8,FALSE) -> #N/A | M31: =VLOOKUP($B31,Ш_р!$C$15:$AF$69,17,FALSE) -> #N/A | N31: =VLOOKUP($B31,К_р!$C$15:$K$68,8,FALSE) -> #N/A | O31: =VLOOKUP($B31,'15_р'!$C$17:$H$86,5,FALSE) -> #N/A | P31: =SUM(F33:O33) -> #N/A | Q31: =LOOKUP(P31,$V$1:$V$7,$W$1:$W$7) -> #N/A | S31: =$A31 -> #N/A | T31: 1
C32: =VLOOKUP(B31,Уч!$A$2:$L$26,5,FALSE) -> Ульяновская область | D32: =VLOOKUP(B31,Уч!$A$2:$L$26,4,FALSE) -> МС | E32: Вет | F32: =VLOOKUP($B31,'100 м 1'!$C$18:$I$86,6,FALSE) -> 0 | G32: =VLOOKUP($B31,'длина 2 '!$C$16:$O$54,12,FALSE) -> #N/A | K32: =VLOOKUP($B31,'1cб_р'!$C$17:$I$63,6,FALSE) -> #N/A | S32: =$A31 -> #N/A | T32: 2
C33: =VLOOKUP(B31,Уч!$A$2:$L$26,7,FALSE) -> МБУ ДО ДЮСШ №6 | E33: Оч | F33: =VLOOKUP($B31,'100 м 1'!$C$18:$I$86,7,FALSE) -> 832 | G33: =VLOOKUP($B31,'длина 2 '!$C$16:$O$54,13,FALSE) -> #N/A | H33: =VLOOKUP($B31,'ядро 2'!$C$16:$K$60,9,FALSE) -> #N/A | I33: =VLOOKUP($B31,'высота 2'!$C$16:$AF$57,24,) -> #N/A | J33: =VLOOKUP($B31,'4_р'!$C$17:$H$73,6,FALSE) -> #N/A | K33: =VLOOKUP($B31,'1cб_р'!$C$17:$I$63,7,FALSE) -> #N/A | L33: =VLOOKUP($B31,Дс_р!$C$16:$K$70,9,FALSE) -> #N/A | M33: =VLOOKUP($B31,Ш_р!$C$15:$AF$69,18,FALSE) -> #N/A | N33: =VLOOKUP($B31,К_р!$C$15:$K$68,9,FALSE) -> #N/A | O33: =VLOOKUP($B31,'15_р'!$C$17:$H$86,6,FALSE) -> #N/A | S33: =$A31 -> #N/A | T33: 3
C34: =VLOOKUP(B31,Уч!$A$2:$L$26,11,FALSE) -> Жульков Ю.А. | E34: Сум | F34: =F33 -> 832 | G34: =F34+G33 -> #N/A | H34: =G34+H33 -> #N/A | I34: =H34+I33 -> #N/A | J34: =SUM($F33:J33) -> #N/A | K34: =SUM($F33:$K33) -> #N/A | L34: =K34+L33 -> #N/A | M34: =L34+M33 -> #N/A | N34: =SUM($F33:$N33) -> #N/A | O34: =SUM($F33:$O33) -> #N/A | S34: =$A31 -> #N/A | T34: 4 | U34: =F34 -> 832 | V34: =G34 -> #N/A | W34: =H34 -> #N/A | X34: =I34 -> #N/A | Y34: =J34 -> #N/A | Z34: =K34 -> #N/A | AA34: =L34 -> #N/A | AB34: =M34 -> #N/A | ... AD34: =O34 -> #N/A
C35: =VLOOKUP(B31,Уч!$A$2:$L$26,12,FALSE) -> 0 | E35: Мес | F35: =RANK(F34,$U$19:$U$165,0) -> #N/A | G35: =RANK(G34,$V$19:$V$165,0) -> #N/A | H35: =RANK(H34,$W$19:$W$165,0) -> #N/A | I35: =RANK(I34,$X$19:$X$165,0) -> #N/A | J35: =RANK(J34,$Y$19:$Y$165,0) -> #N/A | K35: =RANK(K34,$Z$19:$Z$165,0) -> #N/A | L35: =RANK(L34,$AA$19:$AA$165,0) -> #N/A | M35: =RANK(M34,$AB$19:$AB$155,0) -> #N/A | N35: =RANK(N34,$AC$19:$AC$165,0) -> #N/A | O35: =RANK(O34,$AD$19:$AD$165,0) -> #N/A | S35: =$A31 -> #N/A | T35: 5
A36: =RANK(P36,$P$16:$P$165,0) -> #N/A | B36: 18 | C36: =VLOOKUP(B36,Уч!$A$2:$L$26,2,FALSE) -> #N/A | D36: =VLOOKUP(B36,Уч!$A$2:$L$26,3,FALSE) -> #N/A | E36: Рез | F36: =VLOOKUP($B36,'100 м 1'!$C$18:$I$86,5,FALSE) -> #N/A | G36: =VLOOKUP($B36,'длина 2 '!$C$16:$O$54,11,FALSE) -> #N/A | H36: =VLOOKUP($B36,'ядро 2'!$C$16:$K$60,8,FALSE) -> #N/A | I36: =VLOOKUP($B36,'высота 2'!$C$16:$AF$57,23,FALSE) -> #N/A | J36: =VLOOKUP($B36,'4_р'!$C$17:$H$73,5,FALSE) -> #N/A | K36: =VLOOKUP($B36,'1cб_р'!$C$17:$I$63,5,FALSE) -> #N/A | L36: =VLOOKUP($B36,Дс_р!$C$16:$K$70,8,FALSE) -> #N/A | M36: =VLOOKUP($B36,Ш_р!$C$15:$AF$69,17,FALSE) -> #N/A | N36: =VLOOKUP($B36,К_р!$C$15:$K$68,8,FALSE) -> #N/A | O36: =VLOOKUP($B36,'15_р'!$C$17:$H$86,5,FALSE) -> #N/A | P36: =SUM(F38:O38) -> #N/A | Q36: =LOOKUP(P36,$V$1:$V$7,$W$1:$W$7) -> #N/A | S36: =$A36 -> #N/A | T36: 1
C37: =VLOOKUP(B36,Уч!$A$2:$L$26,5,FALSE) -> #N/A | D37: =VLOOKUP(B36,Уч!$A$2:$L$26,4,FALSE) -> #N/A | E37: Вет | F37: =VLOOKUP($B36,'100 м 1'!$C$18:$I$86,6,FALSE) -> #N/A | G37: =VLOOKUP($B36,'длина 2 '!$C$16:$O$54,12,FALSE) -> #N/A | K37: =VLOOKUP($B36,'1cб_р'!$C$17:$I$63,6,FALSE) -> #N/A | S37: =$A36 -> #N/A | T37: 2
C38: =VLOOKUP(B36,Уч!$A$2:$L$26,7,FALSE) -> #N/A | E38: Оч | F38: =VLOOKUP($B36,'100 м 1'!$C$18:$I$86,7,FALSE) -> #N/A | G38: =VLOOKUP($B36,'длина 2 '!$C$16:$O$54,13,FALSE) -> #N/A | H38: =VLOOKUP($B36,'ядро 2'!$C$16:$K$60,9,FALSE) -> #N/A | I38: =VLOOKUP($B36,'высота 2'!$C$16:$AF$57,24,) -> #N/A | J38: =VLOOKUP($B36,'4_р'!$C$17:$H$73,6,FALSE) -> #N/A | K38: =VLOOKUP($B36,'1cб_р'!$C$17:$I$63,7,FALSE) -> #N/A | L38: =VLOOKUP($B36,Дс_р!$C$16:$K$70,9,FALSE) -> #N/A | M38: =VLOOKUP($B36,Ш_р!$C$15:$AF$69,18,FALSE) -> #N/A | N38: =VLOOKUP($B36,К_р!$C$15:$K$68,9,FALSE) -> #N/A | O38: =VLOOKUP($B36,'15_р'!$C$17:$H$86,6,FALSE) -> #N/A | S38: =$A36 -> #N/A | T38: 3
C39: =VLOOKUP(B36,Уч!$A$2:$L$26,11,FALSE) -> #N/A | E39: Сум | F39: =F38 -> #N/A | G39: =F39+G38 -> #N/A | H39: =G39+H38 -> #N/A | I39: =H39+I38 -> #N/A | J39: =SUM($F38:J38) -> #N/A | K39: =SUM($F38:$K38) -> #N/A | L39: =K39+L38 -> #N/A | M39: =L39+M38 -> #N/A | N39: =SUM($F38:$N38) -> #N/A | O39: =SUM($F38:$O38) -> #N/A | S39: =$A36 -> #N/A | T39: 4 | U39: =F39 -> #N/A | V39: =G39 -> #N/A | W39: =H39 -> #N/A | X39: =I39 -> #N/A | Y39: =J39 -> #N/A | Z39: =K39 -> #N/A | AA39: =L39 -> #N/A | AB39: =M39 -> #N/A | ... AD39: =O39 -> #N/A
C40: =VLOOKUP(B36,Уч!$A$2:$L$26,12,FALSE) -> #N/A | E40: Мес | F40: =RANK(F39,$U$19:$U$165,0) -> #N/A | G40: =RANK(G39,$V$19:$V$165,0) -> #N/A | H40: =RANK(H39,$W$19:$W$165,0) -> #N/A | I40: =RANK(I39,$X$19:$X$165,0) -> #N/A | J40: =RANK(J39,$Y$19:$Y$165,0) -> #N/A | K40: =RANK(K39,$Z$19:$Z$165,0) -> #N/A | L40: =RANK(L39,$AA$19:$AA$165,0) -> #N/A | M40: =RANK(M39,$AB$19:$AB$155,0) -> #N/A | N40: =RANK(N39,$AC$19:$AC$165,0) -> #N/A | O40: =RANK(O39,$AD$19:$AD$165,0) -> #N/A | S40: =$A36 -> #N/A | T40: 5
A41: =RANK(P41,$P$16:$P$165,0) -> #N/A | B41: 16 | C41: =VLOOKUP(B41,Уч!$A$2:$L$26,2,FALSE) -> #N/A | D41: 32964 | E41: Рез | F41: =VLOOKUP($B41,'100 м 1'!$C$18:$I$86,5,FALSE) -> #N/A | G41: =VLOOKUP($B41,'длина 2 '!$C$16:$O$54,11,FALSE) -> #N/A | H41: =VLOOKUP($B41,'ядро 2'!$C$16:$K$60,8,FALSE) -> #N/A | I41: =VLOOKUP($B41,'высота 2'!$C$16:$AF$57,23,FALSE) -> #N/A | J41: =VLOOKUP($B41,'4_р'!$C$17:$H$73,5,FALSE) -> #N/A | K41: =VLOOKUP($B41,'1cб_р'!$C$17:$I$63,5,FALSE) -> #N/A | L41: =VLOOKUP($B41,Дс_р!$C$16:$K$70,8,FALSE) -> #N/A | M41: =VLOOKUP($B41,Ш_р!$C$15:$AF$69,17,FALSE) -> 0 | N41: =VLOOKUP($B41,К_р!$C$15:$K$68,8,FALSE) -> #N/A | O41: =VLOOKUP($B41,'15_р'!$C$17:$H$86,5,FALSE) -> #N/A | P41: =SUM(F43:O43) -> #N/A | Q41: =LOOKUP(P41,$V$1:$V$7,$W$1:$W$7) -> #N/A | S41: =$A41 -> #N/A | T41: 1
C42: =VLOOKUP(B41,Уч!$A$2:$L$26,5,FALSE) -> #N/A | D42: =VLOOKUP(B41,Уч!$A$2:$L$26,4,FALSE) -> #N/A | E42: Вет | F42: =VLOOKUP($B41,'100 м 1'!$C$18:$I$86,6,FALSE) -> #N/A | G42: =VLOOKUP($B41,'длина 2 '!$C$16:$O$54,12,FALSE) -> #N/A | K42: =VLOOKUP($B41,'1cб_р'!$C$17:$I$63,6,FALSE) -> #N/A | S42: =$A41 -> #N/A | T42: 2
C43: =VLOOKUP(B41,Уч!$A$2:$L$26,7,FALSE) -> #N/A | E43: Оч | F43: =VLOOKUP($B41,'100 м 1'!$C$18:$I$86,7,FALSE) -> #N/A | G43: =VLOOKUP($B41,'длина 2 '!$C$16:$O$54,13,FALSE) -> #N/A | H43: =VLOOKUP($B41,'ядро 2'!$C$16:$K$60,9,FALSE) -> #N/A | I43: =VLOOKUP($B41,'высота 2'!$C$16:$AF$57,24,) -> #N/A | J43: =VLOOKUP($B41,'4_р'!$C$17:$H$73,6,FALSE) -> #N/A | K43: =VLOOKUP($B41,'1cб_р'!$C$17:$I$63,7,FALSE) -> #N/A | L43: =VLOOKUP($B41,Дс_р!$C$16:$K$70,9,FALSE) -> #N/A | M43: =VLOOKUP($B41,Ш_р!$C$15:$AF$69,18,FALSE) -> 0 | N43: =VLOOKUP($B41,К_р!$C$15:$K$68,9,FALSE) -> #N/A | O43: =VLOOKUP($B41,'15_р'!$C$17:$H$86,6,FALSE) -> #N/A | S43: =$A41 -> #N/A | T43: 3
C44: =VLOOKUP(B41,Уч!$A$2:$L$26,11,FALSE) -> #N/A | E44: Сум | F44: =F43 -> #N/A | G44: =F44+G43 -> #N/A | H44: =G44+H43 -> #N/A | I44: =H44+I43 -> #N/A | J44: =SUM($F43:J43) -> #N/A | K44: =SUM($F43:$K43) -> #N/A | L44: =K44+L43 -> #N/A | M44: =L44+M43 -> #N/A | N44: =SUM($F43:$N43) -> #N/A | O44: =SUM($F43:$O43) -> #N/A | S44: =$A41 -> #N/A | T44: 4 | U44: =F44 -> #N/A | V44: =G44 -> #N/A | W44: =H44 -> #N/A | X44: =I44 -> #N/A | Y44: =J44 -> #N/A | Z44: =K44 -> #N/A | AA44: =L44 -> #N/A | AB44: =M44 -> #N/A | ... AD44: =O44 -> #N/A
C45: =VLOOKUP(B41,Уч!$A$2:$L$26,12,FALSE) -> #N/A | E45: Мес | F45: =RANK(F44,$U$19:$U$165,0) -> #N/A | G45: =RANK(G44,$V$19:$V$165,0) -> #N/A | H45: =RANK(H44,$W$19:$W$165,0) -> #N/A | I45: =RANK(I44,$X$19:$X$165,0) -> #N/A | J45: =RANK(J44,$Y$19:$Y$165,0) -> #N/A | K45: =RANK(K44,$Z$19:$Z$165,0) -> #N/A | L45: =RANK(L44,$AA$19:$AA$165,0) -> #N/A | M45: =RANK(M44,$AB$19:$AB$155,0) -> #N/A | N45: =RANK(N44,$AC$19:$AC$165,0) -> #N/A | O45: =RANK(O44,$AD$19:$AD$165,0) -> #N/A | S45: =$A41 -> #N/A | T45: 5
A46: =RANK(P46,$P$16:$P$165,0) -> #N/A | B46: 52 | C46: =VLOOKUP(B46,Уч!$A$2:$L$26,2,FALSE) -> #N/A | D46: =VLOOKUP(B46,Уч!$A$2:$L$26,3,FALSE) -> #N/A | E46: Рез | F46: =VLOOKUP($B46,'100 м 1'!$C$18:$I$86,5,FALSE) -> 10.93 | G46: =VLOOKUP($B46,'длина 2 '!$C$16:$O$54,11,FALSE) -> #N/A | H46: =VLOOKUP($B46,'ядро 2'!$C$16:$K$60,8,FALSE) -> #N/A | I46: =VLOOKUP($B46,'высота 2'!$C$16:$AF$57,23,FALSE) -> #N/A | J46: =VLOOKUP($B46,'4_р'!$C$17:$H$73,5,FALSE) -> 0 | K46: =VLOOKUP($B46,'1cб_р'!$C$17:$I$63,5,FALSE) -> #N/A | L46: =VLOOKUP($B46,Дс_р!$C$16:$K$70,8,FALSE) -> #N/A | M46: =VLOOKUP($B46,Ш_р!$C$15:$AF$69,17,FALSE) -> #N/A | N46: =VLOOKUP($B46,К_р!$C$15:$K$68,8,FALSE) -> #N/A | O46: =VLOOKUP($B46,'15_р'!$C$17:$H$86,5,FALSE) -> 0 | P46: =SUM(F48:O48) -> #N/A | Q46: =LOOKUP(P46,$V$1:$V$7,$W$1:$W$7) -> #N/A | S46: =$A46 -> #N/A | T46: 1
C47: =VLOOKUP(B46,Уч!$A$2:$L$26,5,FALSE) -> #N/A | D47: =VLOOKUP(B46,Уч!$A$2:$L$26,4,FALSE) -> #N/A | E47: Вет | F47: =VLOOKUP($B46,'100 м 1'!$C$18:$I$86,6,FALSE) -> 1 | G47: =VLOOKUP($B46,'длина 2 '!$C$16:$O$54,12,FALSE) -> #N/A | K47: =VLOOKUP($B46,'1cб_р'!$C$17:$I$63,6,FALSE) -> #N/A | S47: =$A46 -> #N/A | T47: 2
C48: =VLOOKUP(B46,Уч!$A$2:$L$26,7,FALSE) -> #N/A | E48: Оч | F48: =VLOOKUP($B46,'100 м 1'!$C$18:$I$86,7,FALSE) -> 876 | G48: =VLOOKUP($B46,'длина 2 '!$C$16:$O$54,13,FALSE) -> #N/A | H48: =VLOOKUP($B46,'ядро 2'!$C$16:$K$60,9,FALSE) -> #N/A | I48: =VLOOKUP($B46,'высота 2'!$C$16:$AF$57,24,) -> #N/A | J48: =VLOOKUP($B46,'4_р'!$C$17:$H$73,6,FALSE) -> 0 | K48: =VLOOKUP($B46,'1cб_р'!$C$17:$I$63,7,FALSE) -> #N/A | L48: =VLOOKUP($B46,Дс_р!$C$16:$K$70,9,FALSE) -> #N/A | M48: =VLOOKUP($B46,Ш_р!$C$15:$AF$69,18,FALSE) -> #N/A | N48: =VLOOKUP($B46,К_р!$C$15:$K$68,9,FALSE) -> #N/A | O48: =VLOOKUP($B46,'15_р'!$C$17:$H$86,6,FALSE) -> 0 | S48: =$A46 -> #N/A | T48: 3
C49: =VLOOKUP(B46,Уч!$A$2:$L$26,11,FALSE) -> #N/A | E49: Сум | F49: =F48 -> 876 | G49: =F49+G48 -> #N/A | H49: =G49+H48 -> #N/A | I49: =H49+I48 -> #N/A | J49: =SUM($F48:J48) -> #N/A | K49: =SUM($F48:$K48) -> #N/A | L49: =K49+L48 -> #N/A | M49: =L49+M48 -> #N/A | N49: =SUM($F48:$N48) -> #N/A | O49: =SUM($F48:$O48) -> #N/A | S49: =$A46 -> #N/A | T49: 4 | U49: =F49 -> 876 | V49: =G49 -> #N/A | W49: =H49 -> #N/A | X49: =I49 -> #N/A | Y49: =J49 -> #N/A | Z49: =K49 -> #N/A | AA49: =L49 -> #N/A | AB49: =M49 -> #N/A | ... AD49: =O49 -> #N/A
C50: =VLOOKUP(B46,Уч!$A$2:$L$26,12,FALSE) -> #N/A | E50: Мес | F50: =RANK(F49,$U$19:$U$165,0) -> #N/A | G50: =RANK(G49,$V$19:$V$165,0) -> #N/A | H50: =RANK(H49,$W$19:$W$165,0) -> #N/A | I50: =RANK(I49,$X$19:$X$165,0) -> #N/A | J50: =RANK(J49,$Y$19:$Y$165,0) -> #N/A | K50: =RANK(K49,$Z$19:$Z$165,0) -> #N/A | L50: =RANK(L49,$AA$19:$AA$165,0) -> #N/A | M50: =RANK(M49,$AB$19:$AB$155,0) -> #N/A | N50: =RANK(N49,$AC$19:$AC$165,0) -> #N/A | O50: =RANK(O49,$AD$19:$AD$165,0) -> #N/A | S50: =$A46 -> #N/A | T50: 5
A51: =RANK(P51,$P$16:$P$165,0) -> #N/A | B51: 98 | C51: =VLOOKUP(B51,Уч!$A$2:$L$26,2,FALSE) -> Недригайло Данил | D51: =VLOOKUP(B51,Уч!$A$2:$L$26,3,FALSE) -> 21.09.1999 | E51: Рез | F51: =VLOOKUP($B51,'100 м 1'!$C$18:$I$86,5,FALSE) -> 11.13 | G51: =VLOOKUP($B51,'длина 2 '!$C$16:$O$54,11,FALSE) -> #N/A | H51: =VLOOKUP($B51,'ядро 2'!$C$16:$K$60,8,FALSE) -> #N/A | I51: =VLOOKUP($B51,'высота 2'!$C$16:$AF$57,23,FALSE) -> #N/A | J51: =VLOOKUP($B51,'4_р'!$C$17:$H$73,5,FALSE) -> #N/A | K51: =VLOOKUP($B51,'1cб_р'!$C$17:$I$63,5,FALSE) -> #N/A | L51: =VLOOKUP($B51,Дс_р!$C$16:$K$70,8,FALSE) -> #N/A | M51: =VLOOKUP($B51,Ш_р!$C$15:$AF$69,17,FALSE) -> #N/A | N51: =VLOOKUP($B51,К_р!$C$15:$K$68,8,FALSE) -> #N/A | O51: =VLOOKUP($B51,'15_р'!$C$17:$H$86,5,FALSE) -> #N/A | P51: =SUM(F53:O53) -> #N/A | Q51: =LOOKUP(P51,$V$1:$V$7,$W$1:$W$7) -> #N/A | S51: =$A51 -> #N/A | T51: 1
C52: =VLOOKUP(B51,Уч!$A$2:$L$26,5,FALSE) -> Волгоградская область | D52: =VLOOKUP(B51,Уч!$A$2:$L$26,4,FALSE) -> КМС | E52: Вет | F52: =VLOOKUP($B51,'100 м 1'!$C$18:$I$86,6,FALSE) -> 0 | G52: =VLOOKUP($B51,'длина 2 '!$C$16:$O$54,12,FALSE) -> #N/A | K52: =VLOOKUP($B51,'1cб_р'!$C$17:$I$63,6,FALSE) -> #N/A | S52: =$A51 -> #N/A | T52: 2
C53: =VLOOKUP(B51,Уч!$A$2:$L$26,7,FALSE) -> ГБУ ВО "СШОР по легкой атлетике", ГАПОУ ВО "УОР имени дважды Героя Советского Союза А.И.Родимцева" | E53: Оч | F53: =VLOOKUP($B51,'100 м 1'!$C$18:$I$86,7,FALSE) -> 832 | G53: =VLOOKUP($B51,'длина 2 '!$C$16:$O$54,13,FALSE) -> #N/A | H53: =VLOOKUP($B51,'ядро 2'!$C$16:$K$60,9,FALSE) -> #N/A | I53: =VLOOKUP($B51,'высота 2'!$C$16:$AF$57,24,) -> #N/A | J53: =VLOOKUP($B51,'4_р'!$C$17:$H$73,6,FALSE) -> #N/A | K53: =VLOOKUP($B51,'1cб_р'!$C$17:$I$63,7,FALSE) -> #N/A | L53: =VLOOKUP($B51,Дс_р!$C$16:$K$70,9,FALSE) -> #N/A | M53: =VLOOKUP($B51,Ш_р!$C$15:$AF$69,18,FALSE) -> #N/A | N53: =VLOOKUP($B51,К_р!$C$15:$K$68,9,FALSE) -> #N/A | O53: =VLOOKUP($B51,'15_р'!$C$17:$H$86,6,FALSE) -> #N/A | S53: =$A51 -> #N/A | T53: 3
C54: =VLOOKUP(B51,Уч!$A$2:$L$26,11,FALSE) -> Зацеляпин М.И., Мельников Е.С., Кайдалин В.С., Трофимов Е.В. | E54: Сум | F54: =F53 -> 832 | G54: =F54+G53 -> #N/A | H54: =G54+H53 -> #N/A | I54: =H54+I53 -> #N/A | J54: =SUM($F53:J53) -> #N/A | K54: =SUM($F53:$K53) -> #N/A | L54: =K54+L53 -> #N/A | M54: =L54+M53 -> #N/A | N54: =SUM($F53:$N53) -> #N/A | O54: =SUM($F53:$O53) -> #N/A | S54: =$A51 -> #N/A | T54: 4 | U54: =F54 -> 832 | V54: =G54 -> #N/A | W54: =H54 -> #N/A | X54: =I54 -> #N/A | Y54: =J54 -> #N/A | Z54: =K54 -> #N/A | AA54: =L54 -> #N/A | AB54: =M54 -> #N/A | ... AD54: =O54 -> #N/A
C55: =VLOOKUP(B51,Уч!$A$2:$L$26,12,FALSE) -> 0 | E55: Мес | F55: =RANK(F54,$U$19:$U$165,0) -> #N/A | G55: =RANK(G54,$V$19:$V$165,0) -> #N/A | H55: =RANK(H54,$W$19:$W$165,0) -> #N/A | I55: =RANK(I54,$X$19:$X$165,0) -> #N/A | J55: =RANK(J54,$Y$19:$Y$165,0) -> #N/A | K55: =RANK(K54,$Z$19:$Z$165,0) -> #N/A | L55: =RANK(L54,$AA$19:$AA$165,0) -> #N/A | M55: =RANK(M54,$AB$19:$AB$155,0) -> #N/A | N55: =RANK(N54,$AC$19:$AC$165,0) -> #N/A | O55: =RANK(O54,$AD$19:$AD$165,0) -> #N/A | S55: =$A51 -> #N/A | T55: 5
A56: =RANK(P56,$P$16:$P$165,0) -> #N/A | B56: 29 | C56: =VLOOKUP(B56,Уч!$A$2:$L$26,2,FALSE) -> #N/A | D56: =VLOOKUP(B56,Уч!$A$2:$L$26,3,FALSE) -> #N/A | E56: Рез | F56: =VLOOKUP($B56,'100 м 1'!$C$18:$I$86,5,FALSE) -> #N/A | G56: =VLOOKUP($B56,'длина 2 '!$C$16:$O$54,11,FALSE) -> #N/A | H56: =VLOOKUP($B56,'ядро 2'!$C$16:$K$60,8,FALSE) -> #N/A | I56: =VLOOKUP($B56,'высота 2'!$C$16:$AF$57,23,FALSE) -> #N/A | J56: =VLOOKUP($B56,'4_р'!$C$17:$H$73,5,FALSE) -> 50.57 | K56: =VLOOKUP($B56,'1cб_р'!$C$17:$I$63,5,FALSE) -> 14.69 | L56: =VLOOKUP($B56,Дс_р!$C$16:$K$70,8,FALSE) -> 42.74 | M56: =VLOOKUP($B56,Ш_р!$C$15:$AF$69,17,FALSE) -> 0 | N56: =VLOOKUP($B56,К_р!$C$15:$K$68,8,FALSE) -> 0 | O56: =VLOOKUP($B56,'15_р'!$C$17:$H$86,5,FALSE) -> #N/A | P56: =SUM(F58:O58) -> #N/A | Q56: =LOOKUP(P56,$V$1:$V$7,$W$1:$W$7) -> #N/A | S56: =$A56 -> #N/A | T56: 1
C57: =VLOOKUP(B56,Уч!$A$2:$L$26,5,FALSE) -> #N/A | D57: =VLOOKUP(B56,Уч!$A$2:$L$26,4,FALSE) -> #N/A | E57: Вет | F57: =VLOOKUP($B56,'100 м 1'!$C$18:$I$86,6,FALSE) -> #N/A | G57: =VLOOKUP($B56,'длина 2 '!$C$16:$O$54,12,FALSE) -> #N/A | K57: =VLOOKUP($B56,'1cб_р'!$C$17:$I$63,6,FALSE) -> 0 | S57: =$A56 -> #N/A | T57: 2
C58: =VLOOKUP(B56,Уч!$A$2:$L$26,7,FALSE) -> #N/A | E58: Оч | F58: =VLOOKUP($B56,'100 м 1'!$C$18:$I$86,7,FALSE) -> #N/A | G58: =VLOOKUP($B56,'длина 2 '!$C$16:$O$54,13,FALSE) -> #N/A | H58: =VLOOKUP($B56,'ядро 2'!$C$16:$K$60,9,FALSE) -> #N/A | I58: =VLOOKUP($B56,'высота 2'!$C$16:$AF$57,24,) -> #N/A | J58: =VLOOKUP($B56,'4_р'!$C$17:$H$73,6,FALSE) -> 789 | K58: =VLOOKUP($B56,'1cб_р'!$C$17:$I$63,7,FALSE) -> 887 | L58: =VLOOKUP($B56,Дс_р!$C$16:$K$70,9,FALSE) -> 720 | M58: =VLOOKUP($B56,Ш_р!$C$15:$AF$69,18,FALSE) -> 0 | N58: =VLOOKUP($B56,К_р!$C$15:$K$68,9,FALSE) -> 0 | O58: =VLOOKUP($B56,'15_р'!$C$17:$H$86,6,FALSE) -> #N/A | S58: =$A56 -> #N/A | T58: 3
C59: =VLOOKUP(B56,Уч!$A$2:$L$26,11,FALSE) -> #N/A | E59: Сум | F59: =F58 -> #N/A | G59: =F59+G58 -> #N/A | H59: =G59+H58 -> #N/A | I59: =H59+I58 -> #N/A | J59: =SUM($F58:J58) -> #N/A | K59: =SUM($F58:$K58) -> #N/A | L59: =K59+L58 -> #N/A | M59: =L59+M58 -> #N/A | N59: =SUM($F58:$N58) -> #N/A | O59: =SUM($F58:$O58) -> #N/A | S59: =$A56 -> #N/A | T59: 4 | U59: =F59 -> #N/A | V59: =G59 -> #N/A | W59: =H59 -> #N/A | X59: =I59 -> #N/A | Y59: =J59 -> #N/A | Z59: =K59 -> #N/A | AA59: =L59 -> #N/A | AB59: =M59 -> #N/A | ... AD59: =O59 -> #N/A
C60: =VLOOKUP(B56,Уч!$A$2:$L$26,12,FALSE) -> #N/A | E60: Мес | F60: =RANK(F59,$U$19:$U$165,0) -> #N/A | G60: =RANK(G59,$V$19:$V$165,0) -> #N/A | H60: =RANK(H59,$W$19:$W$165,0) -> #N/A | I60: =RANK(I59,$X$19:$X$165,0) -> #N/A | J60: =RANK(J59,$Y$19:$Y$165,0) -> #N/A | K60: =RANK(K59,$Z$19:$Z$165,0) -> #N/A | L60: =RANK(L59,$AA$19:$AA$165,0) -> #N/A | M60: =RANK(M59,$AB$19:$AB$155,0) -> #N/A | N60: =RANK(N59,$AC$19:$AC$165,0) -> #N/A | O60: =RANK(O59,$AD$19:$AD$165,0) -> #N/A | S60: =$A56 -> #N/A | T60: 5
A61: =RANK(P61,$P$16:$P$165,0) -> #N/A | B61: 88 | C61: =VLOOKUP(B61,Уч!$A$2:$L$26,2,FALSE) -> Башаев Никита | D61: =VLOOKUP(B61,Уч!$A$2:$L$26,3,FALSE) -> 19.07.1997 | E61: Рез | F61: =VLOOKUP($B61,'100 м 1'!$C$18:$I$86,5,FALSE) -> 11.22 | G61: =VLOOKUP($B61,'длина 2 '!$C$16:$O$54,11,FALSE) -> 6.77 | H61: =VLOOKUP($B61,'ядро 2'!$C$16:$K$60,8,FALSE) -> 12.3 | I61: =VLOOKUP($B61,'высота 2'!$C$16:$AF$57,23,FALSE) -> 0 | J61: =VLOOKUP($B61,'4_р'!$C$17:$H$73,5,FALSE) -> #N/A | K61: =VLOOKUP($B61,'1cб_р'!$C$17:$I$63,5,FALSE) -> #N/A | L61: =VLOOKUP($B61,Дс_р!$C$16:$K$70,8,FALSE) -> #N/A | M61: =VLOOKUP($B61,Ш_р!$C$15:$AF$69,17,FALSE) -> #N/A | N61: =VLOOKUP($B61,К_р!$C$15:$K$68,8,FALSE) -> #N/A | O61: =VLOOKUP($B61,'15_р'!$C$17:$H$86,5,FALSE) -> #N/A | P61: =SUM(F63:O63) -> #N/A | Q61: =LOOKUP(P61,$V$1:$V$7,$W$1:$W$7) -> #N/A | S61: =$A61 -> #N/A | T61: 1
C62: =VLOOKUP(B61,Уч!$A$2:$L$26,5,FALSE) -> Челябинская область | D62: =VLOOKUP(B61,Уч!$A$2:$L$26,4,FALSE) -> КМС | E62: Вет | F62: =VLOOKUP($B61,'100 м 1'!$C$18:$I$86,6,FALSE) -> 0.8 | G62: =VLOOKUP($B61,'длина 2 '!$C$16:$O$54,12,FALSE) -> 0.1 | K62: =VLOOKUP($B61,'1cб_р'!$C$17:$I$63,6,FALSE) -> #N/A | S62: =$A61 -> #N/A | T62: 2
C63: =VLOOKUP(B61,Уч!$A$2:$L$26,7,FALSE) -> МБУ СШОР № 2 по легкой атлетике имени Л.Н.Мосеева г.Челябинск | E63: Оч | F63: =VLOOKUP($B61,'100 м 1'!$C$18:$I$86,7,FALSE) -> 812 | G63: =VLOOKUP($B61,'длина 2 '!$C$16:$O$54,13,FALSE) -> 0 | H63: =VLOOKUP($B61,'ядро 2'!$C$16:$K$60,9,FALSE) -> 625 | I63: =VLOOKUP($B61,'высота 2'!$C$16:$AF$57,24,) -> 0 | J63: =VLOOKUP($B61,'4_р'!$C$17:$H$73,6,FALSE) -> #N/A | K63: =VLOOKUP($B61,'1cб_р'!$C$17:$I$63,7,FALSE) -> #N/A | L63: =VLOOKUP($B61,Дс_р!$C$16:$K$70,9,FALSE) -> #N/A | M63: =VLOOKUP($B61,Ш_р!$C$15:$AF$69,18,FALSE) -> #N/A | N63: =VLOOKUP($B61,К_р!$C$15:$K$68,9,FALSE) -> #N/A | O63: =VLOOKUP($B61,'15_р'!$C$17:$H$86,6,FALSE) -> #N/A | S63: =$A61 -> #N/A | T63: 3
C64: =VLOOKUP(B61,Уч!$A$2:$L$26,11,FALSE) -> Пугач С.В., Свистун В.В. | E64: Сум | F64: =F63 -> 812 | G64: =F64+G63 -> 812 | H64: =G64+H63 -> 1437 | I64: =H64+I63 -> 1437 | J64: =SUM($F63:J63) -> #N/A | K64: =SUM($F63:$K63) -> #N/A | L64: =K64+L63 -> #N/A | M64: =L64+M63 -> #N/A | N64: =SUM($F63:$N63) -> #N/A | O64: =SUM($F63:$O63) -> #N/A | S64: =$A61 -> #N/A | T64: 4 | U64: =F64 -> 812 | V64: =G64 -> 812 | W64: =H64 -> 1437 | X64: =I64 -> 1437 | Y64: =J64 -> #N/A | Z64: =K64 -> #N/A | AA64: =L64 -> #N/A | AB64: =M64 -> #N/A | ... AD64: =O64 -> #N/A
C65: =VLOOKUP(B61,Уч!$A$2:$L$26,12,FALSE) -> 0 | E65: Мес | F65: =RANK(F64,$U$19:$U$165,0) -> #N/A | G65: =RANK(G64,$V$19:$V$165,0) -> #N/A | H65: =RANK(H64,$W$19:$W$165,0) -> #N/A | I65: =RANK(I64,$X$19:$X$165,0) -> #N/A | J65: =RANK(J64,$Y$19:$Y$165,0) -> #N/A | K65: =RANK(K64,$Z$19:$Z$165,0) -> #N/A | L65: =RANK(L64,$AA$19:$AA$165,0) -> #N/A | M65: =RANK(M64,$AB$19:$AB$155,0) -> #N/A | N65: =RANK(N64,$AC$19:$AC$165,0) -> #N/A | O65: =RANK(O64,$AD$19:$AD$165,0) -> #N/A | S65: =$A61 -> #N/A | T65: 5
A66: =RANK(P66,$P$16:$P$165,0) -> #N/A | B66: 15 | C66: =VLOOKUP(B66,Уч!$A$2:$L$26,2,FALSE) -> #N/A | D66: =VLOOKUP(B66,Уч!$A$2:$L$26,3,FALSE) -> #N/A | E66: Рез | F66: =VLOOKUP($B66,'100 м 1'!$C$18:$I$86,5,FALSE) -> #N/A | G66: =VLOOKUP($B66,'длина 2 '!$C$16:$O$54,11,FALSE) -> #N/A | H66: =VLOOKUP($B66,'ядро 2'!$C$16:$K$60,8,FALSE) -> #N/A | I66: =VLOOKUP($B66,'высота 2'!$C$16:$AF$57,23,FALSE) -> #N/A | J66: =VLOOKUP($B66,'4_р'!$C$17:$H$73,5,FALSE) -> #N/A | K66: =VLOOKUP($B66,'1cб_р'!$C$17:$I$63,5,FALSE) -> #N/A | L66: =VLOOKUP($B66,Дс_р!$C$16:$K$70,8,FALSE) -> #N/A | M66: =VLOOKUP($B66,Ш_р!$C$15:$AF$69,17,FALSE) -> #N/A | N66: =VLOOKUP($B66,К_р!$C$15:$K$68,8,FALSE) -> #N/A | O66: =VLOOKUP($B66,'15_р'!$C$17:$H$86,5,FALSE) -> 0 | P66: =SUM(F68:O68) -> #N/A | Q66: =LOOKUP(P66,$V$1:$V$7,$W$1:$W$7) -> #N/A | S66: =$A66 -> #N/A | T66: 1
C67: =VLOOKUP(B66,Уч!$A$2:$L$26,5,FALSE) -> #N/A | D67: =VLOOKUP(B66,Уч!$A$2:$L$26,4,FALSE) -> #N/A | E67: Вет | F67: =VLOOKUP($B66,'100 м 1'!$C$18:$I$86,6,FALSE) -> #N/A | G67: =VLOOKUP($B66,'длина 2 '!$C$16:$O$54,12,FALSE) -> #N/A | K67: =VLOOKUP($B66,'1cб_р'!$C$17:$I$63,6,FALSE) -> #N/A | S67: =$A66 -> #N/A | T67: 2
C68: =VLOOKUP(B66,Уч!$A$2:$L$26,7,FALSE) -> #N/A | E68: Оч | F68: =VLOOKUP($B66,'100 м 1'!$C$18:$I$86,7,FALSE) -> #N/A | G68: =VLOOKUP($B66,'длина 2 '!$C$16:$O$54,13,FALSE) -> #N/A | H68: =VLOOKUP($B66,'ядро 2'!$C$16:$K$60,9,FALSE) -> #N/A | I68: =VLOOKUP($B66,'высота 2'!$C$16:$AF$57,24,) -> #N/A | J68: =VLOOKUP($B66,'4_р'!$C$17:$H$73,6,FALSE) -> #N/A | K68: =VLOOKUP($B66,'1cб_р'!$C$17:$I$63,7,FALSE) -> #N/A | L68: =VLOOKUP($B66,Дс_р!$C$16:$K$70,9,FALSE) -> #N/A | M68: =VLOOKUP($B66,Ш_р!$C$15:$AF$69,18,FALSE) -> #N/A | N68: =VLOOKUP($B66,К_р!$C$15:$K$68,9,FALSE) -> #N/A | O68: =VLOOKUP($B66,'15_р'!$C$17:$H$86,6,FALSE) -> 0 | S68: =$A66 -> #N/A | T68: 3
C69: =VLOOKUP(B66,Уч!$A$2:$L$26,11,FALSE) -> #N/A | E69: Сум | F69: =F68 -> #N/A | G69: =F69+G68 -> #N/A | H69: =G69+H68 -> #N/A | I69: =H69+I68 -> #N/A | J69: =SUM($F68:J68) -> #N/A | K69: =SUM($F68:$K68) -> #N/A | L69: =K69+L68 -> #N/A | M69: =L69+M68 -> #N/A | N69: =SUM($F68:$N68) -> #N/A | O69: =SUM($F68:$O68) -> #N/A | S69: =$A66 -> #N/A | T69: 4 | U69: =F69 -> #N/A | V69: =G69 -> #N/A | W69: =H69 -> #N/A | X69: =I69 -> #N/A | Y69: =J69 -> #N/A | Z69: =K69 -> #N/A | AA69: =L69 -> #N/A | AB69: =M69 -> #N/A | ... AD69: =O69 -> #N/A
C70: =VLOOKUP(B66,Уч!$A$2:$L$26,12,FALSE) -> #N/A | E70: Мес | F70: =RANK(F69,$U$19:$U$165,0) -> #N/A | G70: =RANK(G69,$V$19:$V$165,0) -> #N/A | H70: =RANK(H69,$W$19:$W$165,0) -> #N/A | I70: =RANK(I69,$X$19:$X$165,0) -> #N/A | J70: =RANK(J69,$Y$19:$Y$165,0) -> #N/A | K70: =RANK(K69,$Z$19:$Z$165,0) -> #N/A | L70: =RANK(L69,$AA$19:$AA$165,0) -> #N/A | M70: =RANK(M69,$AB$19:$AB$155,0) -> #N/A | N70: =RANK(N69,$AC$19:$AC$165,0) -> #N/A | O70: =RANK(O69,$AD$19:$AD$165,0) -> #N/A | S70: =$A66 -> #N/A | T70: 5
A71: =RANK(P71,$P$16:$P$165,0) -> #N/A | B71: 89 | C71: =VLOOKUP(B71,Уч!$A$2:$L$26,2,FALSE) -> #N/A | D71: =VLOOKUP(B71,Уч!$A$2:$L$26,3,FALSE) -> #N/A | E71: Рез | F71: =VLOOKUP($B71,'100 м 1'!$C$18:$I$86,5,FALSE) -> 11.89 | G71: =VLOOKUP($B71,'длина 2 '!$C$16:$O$54,11,FALSE) -> 7.16 | H71: =VLOOKUP($B71,'ядро 2'!$C$16:$K$60,8,FALSE) -> 12.7 | I71: =VLOOKUP($B71,'высота 2'!$C$16:$AF$57,23,FALSE) -> 0 | J71: =VLOOKUP($B71,'4_р'!$C$17:$H$73,5,FALSE) -> #N/A | K71: =VLOOKUP($B71,'1cб_р'!$C$17:$I$63,5,FALSE) -> #N/A | L71: =VLOOKUP($B71,Дс_р!$C$16:$K$70,8,FALSE) -> #N/A | M71: =VLOOKUP($B71,Ш_р!$C$15:$AF$69,17,FALSE) -> #N/A | N71: =VLOOKUP($B71,К_р!$C$15:$K$68,8,FALSE) -> #N/A | O71: =VLOOKUP($B71,'15_р'!$C$17:$H$86,5,FALSE) -> #N/A | P71: =SUM(F73:O73) -> #N/A | Q71: =LOOKUP(P71,$V$1:$V$7,$W$1:$W$7) -> #N/A | S71: =$A71 -> #N/A | T71: 1
C72: =VLOOKUP(B71,Уч!$A$2:$L$26,5,FALSE) -> #N/A | D72: =VLOOKUP(B71,Уч!$A$2:$L$26,4,FALSE) -> #N/A | E72: Вет | F72: =VLOOKUP($B71,'100 м 1'!$C$18:$I$86,6,FALSE) -> 2 | G72: =VLOOKUP($B71,'длина 2 '!$C$16:$O$54,12,FALSE) -> 0.7 | K72: =VLOOKUP($B71,'1cб_р'!$C$17:$I$63,6,FALSE) -> #N/A | S72: =$A71 -> #N/A | T72: 2
C73: =VLOOKUP(B71,Уч!$A$2:$L$26,7,FALSE) -> #N/A | E73: Оч | F73: =VLOOKUP($B71,'100 м 1'!$C$18:$I$86,7,FALSE) -> 673 | G73: =VLOOKUP($B71,'длина 2 '!$C$16:$O$54,13,FALSE) -> 0 | H73: =VLOOKUP($B71,'ядро 2'!$C$16:$K$60,9,FALSE) -> 649 | I73: =VLOOKUP($B71,'высота 2'!$C$16:$AF$57,24,) -> 0 | J73: =VLOOKUP($B71,'4_р'!$C$17:$H$73,6,FALSE) -> #N/A | K73: =VLOOKUP($B71,'1cб_р'!$C$17:$I$63,7,FALSE) -> #N/A | L73: =VLOOKUP($B71,Дс_р!$C$16:$K$70,9,FALSE) -> #N/A | M73: =VLOOKUP($B71,Ш_р!$C$15:$AF$69,18,FALSE) -> #N/A | N73: =VLOOKUP($B71,К_р!$C$15:$K$68,9,FALSE) -> #N/A | O73: =VLOOKUP($B71,'15_р'!$C$17:$H$86,6,FALSE) -> #N/A | S73: =$A71 -> #N/A | T73: 3
C74: =VLOOKUP(B71,Уч!$A$2:$L$26,11,FALSE) -> #N/A | E74: Сум | F74: =F73 -> 673 | G74: =F74+G73 -> 673 | H74: =G74+H73 -> 1322 | I74: =H74+I73 -> 1322 | J74: =SUM($F73:J73) -> #N/A | K74: =SUM($F73:$K73) -> #N/A | L74: =K74+L73 -> #N/A | M74: =L74+M73 -> #N/A | N74: =SUM($F73:$N73) -> #N/A | O74: =SUM($F73:$O73) -> #N/A | S74: =$A71 -> #N/A | T74: 4 | U74: =F74 -> 673 | V74: =G74 -> 673 | W74: =H74 -> 1322 | X74: =I74 -> 1322 | Y74: =J74 -> #N/A | Z74: =K74 -> #N/A | AA74: =L74 -> #N/A | AB74: =M74 -> #N/A | ... AD74: =O74 -> #N/A
C75: =VLOOKUP(B71,Уч!$A$2:$L$26,12,FALSE) -> #N/A | E75: Мес | F75: =RANK(F74,$U$19:$U$165,0) -> #N/A | G75: =RANK(G74,$V$19:$V$165,0) -> #N/A | H75: =RANK(H74,$W$19:$W$165,0) -> #N/A | I75: =RANK(I74,$X$19:$X$165,0) -> #N/A | J75: =RANK(J74,$Y$19:$Y$165,0) -> #N/A | K75: =RANK(K74,$Z$19:$Z$165,0) -> #N/A | L75: =RANK(L74,$AA$19:$AA$165,0) -> #N/A | M75: =RANK(M74,$AB$19:$AB$155,0) -> #N/A | N75: =RANK(N74,$AC$19:$AC$165,0) -> #N/A | O75: =RANK(O74,$AD$19:$AD$165,0) -> #N/A | S75: =$A71 -> #N/A | T75: 5
A76: =RANK(P76,$P$16:$P$165,0) -> #N/A | B76: 36 | C76: =VLOOKUP(B76,Уч!$A$2:$L$26,2,FALSE) -> Королёв Максим | D76: =VLOOKUP(B76,Уч!$A$2:$L$26,3,FALSE) -> 06.01.1988 | E76: Рез | F76: =VLOOKUP($B76,'100 м 1'!$C$18:$I$86,5,FALSE) -> 11.62 | G76: =VLOOKUP($B76,'длина 2 '!$C$16:$O$54,11,FALSE) -> #N/A | H76: =VLOOKUP($B76,'ядро 2'!$C$16:$K$60,8,FALSE) -> #N/A | I76: =VLOOKUP($B76,'высота 2'!$C$16:$AF$57,23,FALSE) -> #N/A | J76: =VLOOKUP($B76,'4_р'!$C$17:$H$73,5,FALSE) -> #N/A | K76: =VLOOKUP($B76,'1cб_р'!$C$17:$I$63,5,FALSE) -> #N/A | L76: =VLOOKUP($B76,Дс_р!$C$16:$K$70,8,FALSE) -> #N/A | M76: =VLOOKUP($B76,Ш_р!$C$15:$AF$69,17,FALSE) -> #N/A | N76: =VLOOKUP($B76,К_р!$C$15:$K$68,8,FALSE) -> #N/A | O76: =VLOOKUP($B76,'15_р'!$C$17:$H$86,5,FALSE) -> #N/A | P76: =SUM(F78:O78) -> #N/A | Q76: =LOOKUP(P76,$V$1:$V$7,$W$1:$W$7) -> #N/A | S76: =$A76 -> #N/A | T76: 1 | AF76: 15 | AG76: 3
C77: =VLOOKUP(B76,Уч!$A$2:$L$26,5,FALSE) -> Липецкая область | D77: =VLOOKUP(B76,Уч!$A$2:$L$26,4,FALSE) -> МС | E77: Вет | F77: =VLOOKUP($B76,'100 м 1'!$C$18:$I$86,6,FALSE) -> 0 | G77: =VLOOKUP($B76,'длина 2 '!$C$16:$O$54,12,FALSE) -> #N/A | K77: =VLOOKUP($B76,'1cб_р'!$C$17:$I$63,6,FALSE) -> #N/A | S77: =$A76 -> #N/A | T77: 2 | AF77: 16 | AG77: 2
C78: =VLOOKUP(B76,Уч!$A$2:$L$26,7,FALSE) -> ГБУ ЛО ОК СШОР | E78: Оч | F78: =VLOOKUP($B76,'100 м 1'!$C$18:$I$86,7,FALSE) -> 728 | G78: =VLOOKUP($B76,'длина 2 '!$C$16:$O$54,13,FALSE) -> #N/A | H78: =VLOOKUP($B76,'ядро 2'!$C$16:$K$60,9,FALSE) -> #N/A | I78: =VLOOKUP($B76,'высота 2'!$C$16:$AF$57,24,) -> #N/A | J78: =VLOOKUP($B76,'4_р'!$C$17:$H$73,6,FALSE) -> #N/A | K78: =VLOOKUP($B76,'1cб_р'!$C$17:$I$63,7,FALSE) -> #N/A | L78: =VLOOKUP($B76,Дс_р!$C$16:$K$70,9,FALSE) -> #N/A | M78: =VLOOKUP($B76,Ш_р!$C$15:$AF$69,18,FALSE) -> #N/A | N78: =VLOOKUP($B76,К_р!$C$15:$K$68,9,FALSE) -> #N/A | O78: =VLOOKUP($B76,'15_р'!$C$17:$H$86,6,FALSE) -> #N/A | S78: =$A76 -> #N/A | T78: 3 | AF78: КМС | AG78: 1 | AH78: Взр
C79: =VLOOKUP(B76,Уч!$A$2:$L$26,11,FALSE) -> Стегачёв И.Н., Королева К.В., Фролов С.В. | E79: Сум | F79: =F78 -> 728 | G79: =F79+G78 -> #N/A | H79: =G79+H78 -> #N/A | I79: =H79+I78 -> #N/A | J79: =SUM($F78:J78) -> #N/A | K79: =SUM($F78:$K78) -> #N/A | L79: =K79+L78 -> #N/A | M79: =L79+M78 -> #N/A | N79: =SUM($F78:$N78) -> #N/A | O79: =SUM($F78:$O78) -> #N/A | S79: =$A76 -> #N/A | T79: 4 | U79: =F79 -> 728 | V79: =G79 -> #N/A | W79: =H79 -> #N/A | X79: =I79 -> #N/A | Y79: =J79 -> #N/A | Z79: =K79 -> #N/A | AA79: =L79 -> #N/A | AB79: =M79 -> #N/A | ... AD79: =O79 -> #N/A | AF79: 1 раз | AG79: 1 | AH79: Мол
C80: =VLOOKUP(B76,Уч!$A$2:$L$26,12,FALSE) -> 0 | E80: Мес | F80: =RANK(F79,$U$19:$U$165,0) -> #N/A | G80: =RANK(G79,$V$19:$V$165,0) -> #N/A | H80: =RANK(H79,$W$19:$W$165,0) -> #N/A | I80: =RANK(I79,$X$19:$X$165,0) -> #N/A | J80: =RANK(J79,$Y$19:$Y$165,0) -> #N/A | K80: =RANK(K79,$Z$19:$Z$165,0) -> #N/A | L80: =RANK(L79,$AA$19:$AA$165,0) -> #N/A | M80: =RANK(M79,$AB$19:$AB$155,0) -> #N/A | N80: =RANK(N79,$AC$19:$AC$165,0) -> #N/A | O80: =RANK(O79,$AD$19:$AD$165,0) -> #N/A | S80: =$A76 -> #N/A | T80: 5 | AF80: 2 раз | AG80: 1 | AH80: Юниор
A81: =RANK(P81,$P$16:$P$165,0) -> #N/A | B81: 22 | C81: =VLOOKUP(B81,Уч!$A$2:$L$26,2,FALSE) -> Чернов Евгений | D81: 32964 | E81: Рез | F81: =VLOOKUP($B81,'100 м 1'!$C$18:$I$86,5,FALSE) -> 11.8 | G81: =VLOOKUP($B81,'длина 2 '!$C$16:$O$54,11,FALSE) -> #N/A | H81: =VLOOKUP($B81,'ядро 2'!$C$16:$K$60,8,FALSE) -> #N/A | I81: =VLOOKUP($B81,'высота 2'!$C$16:$AF$57,23,FALSE) -> #N/A | J81: =VLOOKUP($B81,'4_р'!$C$17:$H$73,5,FALSE) -> #N/A | K81: =VLOOKUP($B81,'1cб_р'!$C$17:$I$63,5,FALSE) -> #N/A | L81: =VLOOKUP($B81,Дс_р!$C$16:$K$70,8,FALSE) -> #N/A | M81: =VLOOKUP($B81,Ш_р!$C$15:$AF$69,17,FALSE) -> #N/A | N81: =VLOOKUP($B81,К_р!$C$15:$K$68,8,FALSE) -> #N/A | O81: =VLOOKUP($B81,'15_р'!$C$17:$H$86,5,FALSE) -> 0 | P81: =SUM(F83:O83) -> #N/A | Q81: =LOOKUP(P81,$V$1:$V$7,$W$1:$W$7) -> #N/A | S81: =$A81 -> #N/A | T81: 1
C82: =VLOOKUP(B81,Уч!$A$2:$L$26,5,FALSE) -> Краснодарский край | D82: =VLOOKUP(B81,Уч!$A$2:$L$26,4,FALSE) -> МС | E82: Вет | F82: =VLOOKUP($B81,'100 м 1'!$C$18:$I$86,6,FALSE) -> 0 | G82: =VLOOKUP($B81,'длина 2 '!$C$16:$O$54,12,FALSE) -> #N/A | K82: =VLOOKUP($B81,'1cб_р'!$C$17:$I$63,6,FALSE) -> #N/A | S82: =$A81 -> #N/A | T82: 2
C83: =VLOOKUP(B81,Уч!$A$2:$L$26,7,FALSE) -> ГБУ КК "ЦОП по легкой атлетике", ГБУ КК "РЦСП по легкой атлетике" | E83: Оч | F83: =VLOOKUP($B81,'100 м 1'!$C$18:$I$86,7,FALSE) -> 691 | G83: =VLOOKUP($B81,'длина 2 '!$C$16:$O$54,13,FALSE) -> #N/A | H83: =VLOOKUP($B81,'ядро 2'!$C$16:$K$60,9,FALSE) -> #N/A | I83: =VLOOKUP($B81,'высота 2'!$C$16:$AF$57,24,) -> #N/A | J83: =VLOOKUP($B81,'4_р'!$C$17:$H$73,6,FALSE) -> #N/A | K83: =VLOOKUP($B81,'1cб_р'!$C$17:$I$63,7,FALSE) -> #N/A | L83: =VLOOKUP($B81,Дс_р!$C$16:$K$70,9,FALSE) -> #N/A | M83: =VLOOKUP($B81,Ш_р!$C$15:$AF$69,18,FALSE) -> #N/A | N83: =VLOOKUP($B81,К_р!$C$15:$K$68,9,FALSE) -> #N/A | O83: =VLOOKUP($B81,'15_р'!$C$17:$H$86,6,FALSE) -> 0 | S83: =$A81 -> #N/A | T83: 3
C84: =VLOOKUP(B81,Уч!$A$2:$L$26,11,FALSE) -> Чернов С.А., Мирошниченко В.И., Чернова Т.С. | E84: Сум | F84: =F83 -> 691 | G84: =F84+G83 -> #N/A | H84: =G84+H83 -> #N/A | I84: =H84+I83 -> #N/A | J84: =SUM($F83:J83) -> #N/A | K84: =SUM($F83:$K83) -> #N/A | L84: =K84+L83 -> #N/A | M84: =L84+M83 -> #N/A | N84: =SUM($F83:$N83) -> #N/A | O84: =SUM($F83:$O83) -> #N/A | S84: =$A81 -> #N/A | T84: 4 | U84: =F84 -> 691 | V84: =G84 -> #N/A | W84: =H84 -> #N/A | X84: =I84 -> #N/A | Y84: =J84 -> #N/A | Z84: =K84 -> #N/A | AA84: =L84 -> #N/A | AB84: =M84 -> #N/A | ... AD84: =O84 -> #N/A
C85: =VLOOKUP(B81,Уч!$A$2:$L$26,12,FALSE) -> 0 | E85: Мес | F85: =RANK(F84,$U$19:$U$165,0) -> #N/A | G85: =RANK(G84,$V$19:$V$165,0) -> #N/A | H85: =RANK(H84,$W$19:$W$165,0) -> #N/A | I85: =RANK(I84,$X$19:$X$165,0) -> #N/A | J85: =RANK(J84,$Y$19:$Y$165,0) -> #N/A | K85: =RANK(K84,$Z$19:$Z$165,0) -> #N/A | L85: =RANK(L84,$AA$19:$AA$165,0) -> #N/A | M85: =RANK(M84,$AB$19:$AB$155,0) -> #N/A | N85: =RANK(N84,$AC$19:$AC$165,0) -> #N/A | O85: =RANK(O84,$AD$19:$AD$165,0) -> #N/A | S85: =$A81 -> #N/A | T85: 5
A86: =RANK(P86,$P$16:$P$165,0) -> #N/A | B86: 105 | C86: =VLOOKUP(B86,Уч!$A$2:$L$26,2,FALSE) -> #N/A | D86: =VLOOKUP(B86,Уч!$A$2:$L$26,3,FALSE) -> #N/A | E86: Рез | F86: =VLOOKUP($B86,'100 м 1'!$C$18:$I$86,5,FALSE) -> #N/A | G86: =VLOOKUP($B86,'длина 2 '!$C$16:$O$54,11,FALSE) -> #N/A | H86: =VLOOKUP($B86,'ядро 2'!$C$16:$K$60,8,FALSE) -> #N/A | I86: =VLOOKUP($B86,'высота 2'!$C$16:$AF$57,23,FALSE) -> #N/A | J86: =VLOOKUP($B86,'4_р'!$C$17:$H$73,5,FALSE) -> #N/A | K86: =VLOOKUP($B86,'1cб_р'!$C$17:$I$63,5,FALSE) -> #N/A | L86: =VLOOKUP($B86,Дс_р!$C$16:$K$70,8,FALSE) -> #N/A | M86: =VLOOKUP($B86,Ш_р!$C$15:$AF$69,17,FALSE) -> #N/A | N86: =VLOOKUP($B86,К_р!$C$15:$K$68,8,FALSE) -> #N/A | O86: =VLOOKUP($B86,'15_р'!$C$17:$H$86,5,FALSE) -> #N/A | P86: =SUM(F88:O88) -> #N/A | Q86: =LOOKUP(P86,$V$1:$V$7,$W$1:$W$7) -> #N/A | S86: =$A86 -> #N/A | T86: 1
C87: =VLOOKUP(B86,Уч!$A$2:$L$26,5,FALSE) -> #N/A | D87: =VLOOKUP(B86,Уч!$A$2:$L$26,4,FALSE) -> #N/A | E87: Вет | F87: =VLOOKUP($B86,'100 м 1'!$C$18:$I$86,6,FALSE) -> #N/A | G87: =VLOOKUP($B86,'длина 2 '!$C$16:$O$54,12,FALSE) -> #N/A | K87: =VLOOKUP($B86,'1cб_р'!$C$17:$I$63,6,FALSE) -> #N/A | S87: =$A86 -> #N/A | T87: 2
C88: =VLOOKUP(B86,Уч!$A$2:$L$26,7,FALSE) -> #N/A | E88: Оч | F88: =VLOOKUP($B86,'100 м 1'!$C$18:$I$86,7,FALSE) -> #N/A | G88: =VLOOKUP($B86,'длина 2 '!$C$16:$O$54,13,FALSE) -> #N/A | H88: =VLOOKUP($B86,'ядро 2'!$C$16:$K$60,9,FALSE) -> #N/A | I88: =VLOOKUP($B86,'высота 2'!$C$16:$AF$57,24,) -> #N/A | J88: =VLOOKUP($B86,'4_р'!$C$17:$H$73,6,FALSE) -> #N/A | K88: =VLOOKUP($B86,'1cб_р'!$C$17:$I$63,7,FALSE) -> #N/A | L88: =VLOOKUP($B86,Дс_р!$C$16:$K$70,9,FALSE) -> #N/A | M88: =VLOOKUP($B86,Ш_р!$C$15:$AF$69,18,FALSE) -> #N/A | N88: =VLOOKUP($B86,К_р!$C$15:$K$68,9,FALSE) -> #N/A | O88: =VLOOKUP($B86,'15_р'!$C$17:$H$86,6,FALSE) -> #N/A | S88: =$A86 -> #N/A | T88: 3
C89: =VLOOKUP(B86,Уч!$A$2:$L$26,11,FALSE) -> #N/A | E89: Сум | F89: =F88 -> #N/A | G89: =F89+G88 -> #N/A | H89: =G89+H88 -> #N/A | I89: =H89+I88 -> #N/A | J89: =SUM($F88:J88) -> #N/A | K89: =SUM($F88:$K88) -> #N/A | L89: =K89+L88 -> #N/A | M89: =L89+M88 -> #N/A | N89: =SUM($F88:$N88) -> #N/A | O89: =SUM($F88:$O88) -> #N/A | S89: =$A86 -> #N/A | T89: 4 | U89: =F89 -> #N/A | V89: =G89 -> #N/A | W89: =H89 -> #N/A | X89: =I89 -> #N/A | Y89: =J89 -> #N/A | Z89: =K89 -> #N/A | AA89: =L89 -> #N/A | AB89: =M89 -> #N/A | ... AD89: =O89 -> #N/A
C90: =VLOOKUP(B86,Уч!$A$2:$L$26,12,FALSE) -> #N/A | E90: Мес | F90: =RANK(F89,$U$19:$U$165,0) -> #N/A | G90: =RANK(G89,$V$19:$V$165,0) -> #N/A | H90: =RANK(H89,$W$19:$W$165,0) -> #N/A | I90: =RANK(I89,$X$19:$X$165,0) -> #N/A | J90: =RANK(J89,$Y$19:$Y$165,0) -> #N/A | K90: =RANK(K89,$Z$19:$Z$165,0) -> #N/A | L90: =RANK(L89,$AA$19:$AA$165,0) -> #N/A | M90: =RANK(M89,$AB$19:$AB$155,0) -> #N/A | N90: =RANK(N89,$AC$19:$AC$165,0) -> #N/A | O90: =RANK(O89,$AD$19:$AD$165,0) -> #N/A | S90: =$A86 -> #N/A | T90: 5
A91: =RANK(P91,$P$16:$P$165,0) -> #N/A | B91: 24 | C91: =VLOOKUP(B91,Уч!$A$2:$L$26,2,FALSE) -> #N/A | D91: =VLOOKUP(B91,Уч!$A$2:$L$26,3,FALSE) -> #N/A | E91: Рез | F91: =VLOOKUP($B91,'100 м 1'!$C$18:$I$86,5,FALSE) -> 11.15 | G91: =VLOOKUP($B91,'длина 2 '!$C$16:$O$54,11,FALSE) -> #N/A | H91: =VLOOKUP($B91,'ядро 2'!$C$16:$K$60,8,FALSE) -> #N/A | I91: =VLOOKUP($B91,'высота 2'!$C$16:$AF$57,23,FALSE) -> #N/A | J91: =VLOOKUP($B91,'4_р'!$C$17:$H$73,5,FALSE) -> 54.8 | K91: =VLOOKUP($B91,'1cб_р'!$C$17:$I$63,5,FALSE) -> 17.36 | L91: =VLOOKUP($B91,Дс_р!$C$16:$K$70,8,FALSE) -> 29.35 | M91: =VLOOKUP($B91,Ш_р!$C$15:$AF$69,17,FALSE) -> 0 | N91: =VLOOKUP($B91,К_р!$C$15:$K$68,8,FALSE) -> 45.16 | O91: =VLOOKUP($B91,'15_р'!$C$17:$H$86,5,FALSE) -> 4:51.71 | P91: =SUM(F93:O93) -> #N/A | Q91: =LOOKUP(P91,$V$1:$V$7,$W$1:$W$7) -> #N/A | S91: =$A91 -> #N/A | T91: 1
C92: =VLOOKUP(B91,Уч!$A$2:$L$26,5,FALSE) -> #N/A | D92: =VLOOKUP(B91,Уч!$A$2:$L$26,4,FALSE) -> #N/A | E92: Вет | F92: =VLOOKUP($B91,'100 м 1'!$C$18:$I$86,6,FALSE) -> 1 | G92: =VLOOKUP($B91,'длина 2 '!$C$16:$O$54,12,FALSE) -> #N/A | K92: =VLOOKUP($B91,'1cб_р'!$C$17:$I$63,6,FALSE) -> 0 | S92: =$A91 -> #N/A | T92: 2
C93: =VLOOKUP(B91,Уч!$A$2:$L$26,7,FALSE) -> #N/A | E93: Оч | F93: =VLOOKUP($B91,'100 м 1'!$C$18:$I$86,7,FALSE) -> 827 | G93: =VLOOKUP($B91,'длина 2 '!$C$16:$O$54,13,FALSE) -> #N/A | H93: =VLOOKUP($B91,'ядро 2'!$C$16:$K$60,9,FALSE) -> #N/A | I93: =VLOOKUP($B91,'высота 2'!$C$16:$AF$57,24,) -> #N/A | J93: =VLOOKUP($B91,'4_р'!$C$17:$H$73,6,FALSE) -> 607 | K93: =VLOOKUP($B91,'1cб_р'!$C$17:$I$63,7,FALSE) -> 587 | L93: =VLOOKUP($B91,Дс_р!$C$16:$K$70,9,FALSE) -> 452 | M93: =VLOOKUP($B91,Ш_р!$C$15:$AF$69,18,FALSE) -> 0 | N93: =VLOOKUP($B91,К_р!$C$15:$K$68,9,FALSE) -> 517 | O93: =VLOOKUP($B91,'15_р'!$C$17:$H$86,6,FALSE) -> 608 | S93: =$A91 -> #N/A | T93: 3
C94: =VLOOKUP(B91,Уч!$A$2:$L$26,11,FALSE) -> #N/A | E94: Сум | F94: =F93 -> 827 | G94: =F94+G93 -> #N/A | H94: =G94+H93 -> #N/A | I94: =H94+I93 -> #N/A | J94: =SUM($F93:J93) -> #N/A | K94: =SUM($F93:$K93) -> #N/A | L94: =K94+L93 -> #N/A | M94: =L94+M93 -> #N/A | N94: =SUM($F93:$N93) -> #N/A | O94: =SUM($F93:$O93) -> #N/A | S94: =$A91 -> #N/A | T94: 4 | U94: =F94 -> 827 | V94: =G94 -> #N/A | W94: =H94 -> #N/A | X94: =I94 -> #N/A | Y94: =J94 -> #N/A | Z94: =K94 -> #N/A | AA94: =L94 -> #N/A | AB94: =M94 -> #N/A | ... AD94: =O94 -> #N/A
C95: =VLOOKUP(B91,Уч!$A$2:$L$26,12,FALSE) -> #N/A | E95: Мес | F95: =RANK(F94,$U$19:$U$165,0) -> #N/A | G95: =RANK(G94,$V$19:$V$165,0) -> #N/A | H95: =RANK(H94,$W$19:$W$165,0) -> #N/A | I95: =RANK(I94,$X$19:$X$165,0) -> #N/A | J95: =RANK(J94,$Y$19:$Y$165,0) -> #N/A | K95: =RANK(K94,$Z$19:$Z$165,0) -> #N/A | L95: =RANK(L94,$AA$19:$AA$165,0) -> #N/A | M95: =RANK(M94,$AB$19:$AB$155,0) -> #N/A | N95: =RANK(N94,$AC$19:$AC$165,0) -> #N/A | O95: =RANK(O94,$AD$19:$AD$165,0) -> #N/A | S95: =$A91 -> #N/A | T95: 5
A96: =RANK(P96,$P$16:$P$165,0) -> #N/A | B96: 84 | C96: =VLOOKUP(B96,Уч!$A$2:$L$26,2,FALSE) -> #N/A | D96: =VLOOKUP(B96,Уч!$A$2:$L$26,3,FALSE) -> #N/A | E96: Рез | F96: =VLOOKUP($B96,'100 м 1'!$C$18:$I$86,5,FALSE) -> #N/A | G96: =VLOOKUP($B96,'длина 2 '!$C$16:$O$54,11,FALSE) -> #N/A | H96: =VLOOKUP($B96,'ядро 2'!$C$16:$K$60,8,FALSE) -> #N/A | I96: =VLOOKUP($B96,'высота 2'!$C$16:$AF$57,23,FALSE) -> #N/A | J96: =VLOOKUP($B96,'4_р'!$C$17:$H$73,5,FALSE) -> #N/A | K96: =VLOOKUP($B96,'1cб_р'!$C$17:$I$63,5,FALSE) -> #N/A | L96: =VLOOKUP($B96,Дс_р!$C$16:$K$70,8,FALSE) -> #N/A | M96: =VLOOKUP($B96,Ш_р!$C$15:$AF$69,17,FALSE) -> #N/A | N96: =VLOOKUP($B96,К_р!$C$15:$K$68,8,FALSE) -> #N/A | O96: =VLOOKUP($B96,'15_р'!$C$17:$H$86,5,FALSE) -> #N/A | P96: =SUM(F98:O98) -> #N/A | Q96: =LOOKUP(P96,$V$1:$V$7,$W$1:$W$7) -> #N/A | S96: =$A96 -> #N/A | T96: 1
C97: =VLOOKUP(B96,Уч!$A$2:$L$26,5,FALSE) -> #N/A | D97: =VLOOKUP(B96,Уч!$A$2:$L$26,4,FALSE) -> #N/A | E97: Вет | F97: =VLOOKUP($B96,'100 м 1'!$C$18:$I$86,6,FALSE) -> #N/A | G97: =VLOOKUP($B96,'длина 2 '!$C$16:$O$54,12,FALSE) -> #N/A | K97: =VLOOKUP($B96,'1cб_р'!$C$17:$I$63,6,FALSE) -> #N/A | S97: =$A96 -> #N/A | T97: 2
C98: =VLOOKUP(B96,Уч!$A$2:$L$26,7,FALSE) -> #N/A | E98: Оч | F98: =VLOOKUP($B96,'100 м 1'!$C$18:$I$86,7,FALSE) -> #N/A | G98: =VLOOKUP($B96,'длина 2 '!$C$16:$O$54,13,FALSE) -> #N/A | H98: =VLOOKUP($B96,'ядро 2'!$C$16:$K$60,9,FALSE) -> #N/A | I98: =VLOOKUP($B96,'высота 2'!$C$16:$AF$57,24,) -> #N/A | J98: =VLOOKUP($B96,'4_р'!$C$17:$H$73,6,FALSE) -> #N/A | K98: =VLOOKUP($B96,'1cб_р'!$C$17:$I$63,7,FALSE) -> #N/A | L98: =VLOOKUP($B96,Дс_р!$C$16:$K$70,9,FALSE) -> #N/A | M98: =VLOOKUP($B96,Ш_р!$C$15:$AF$69,18,FALSE) -> #N/A | N98: =VLOOKUP($B96,К_р!$C$15:$K$68,9,FALSE) -> #N/A | O98: =VLOOKUP($B96,'15_р'!$C$17:$H$86,6,FALSE) -> #N/A | S98: =$A96 -> #N/A | T98: 3
C99: =VLOOKUP(B96,Уч!$A$2:$L$26,11,FALSE) -> #N/A | E99: Сум | F99: =F98 -> #N/A | G99: =F99+G98 -> #N/A | H99: =G99+H98 -> #N/A | I99: =H99+I98 -> #N/A | J99: =SUM($F98:J98) -> #N/A | K99: =SUM($F98:$K98) -> #N/A | L99: =K99+L98 -> #N/A | M99: =L99+M98 -> #N/A | N99: =SUM($F98:$N98) -> #N/A | O99: =SUM($F98:$O98) -> #N/A | S99: =$A96 -> #N/A | T99: 4 | U99: =F99 -> #N/A | V99: =G99 -> #N/A | W99: =H99 -> #N/A | X99: =I99 -> #N/A | Y99: =J99 -> #N/A | Z99: =K99 -> #N/A | AA99: =L99 -> #N/A | AB99: =M99 -> #N/A | ... AD99: =O99 -> #N/A
C100: =VLOOKUP(B96,Уч!$A$2:$L$26,12,FALSE) -> #N/A | E100: Мес | F100: =RANK(F99,$U$19:$U$165,0) -> #N/A | G100: =RANK(G99,$V$19:$V$165,0) -> #N/A | H100: =RANK(H99,$W$19:$W$165,0) -> #N/A | I100: =RANK(I99,$X$19:$X$165,0) -> #N/A | J100: =RANK(J99,$Y$19:$Y$165,0) -> #N/A | K100: =RANK(K99,$Z$19:$Z$165,0) -> #N/A | L100: =RANK(L99,$AA$19:$AA$165,0) -> #N/A | M100: =RANK(M99,$AB$19:$AB$155,0) -> #N/A | N100: =RANK(N99,$AC$19:$AC$165,0) -> #N/A | O100: =RANK(O99,$AD$19:$AD$165,0) -> #N/A | S100: =$A96 -> #N/A | T100: 5
A101: =RANK(P101,$P$16:$P$165,0) -> #N/A | B101: 106 | C101: =VLOOKUP(B101,Уч!$A$2:$L$26,2,FALSE) -> #N/A | D101: =VLOOKUP(B101,Уч!$A$2:$L$26,3,FALSE) -> #N/A | E101: Рез | F101: =VLOOKUP($B101,'100 м 1'!$C$18:$I$86,5,FALSE) -> #N/A | G101: =VLOOKUP($B101,'длина 2 '!$C$16:$O$54,11,FALSE) -> #N/A | H101: =VLOOKUP($B101,'ядро 2'!$C$16:$K$60,8,FALSE) -> #N/A | I101: =VLOOKUP($B101,'высота 2'!$C$16:$AF$57,23,FALSE) -> #N/A | J101: =VLOOKUP($B101,'4_р'!$C$17:$H$73,5,FALSE) -> #N/A | K101: =VLOOKUP($B101,'1cб_р'!$C$17:$I$63,5,FALSE) -> #N/A | L101: =VLOOKUP($B101,Дс_р!$C$16:$K$70,8,FALSE) -> #N/A | M101: =VLOOKUP($B101,Ш_р!$C$15:$AF$69,17,FALSE) -> #N/A | N101: =VLOOKUP($B101,К_р!$C$15:$K$68,8,FALSE) -> #N/A | O101: =VLOOKUP($B101,'15_р'!$C$17:$H$86,5,FALSE) -> #N/A | P101: =SUM(F103:O103) -> #N/A | Q101: =LOOKUP(P101,$V$1:$V$7,$W$1:$W$7) -> #N/A | R101: 20+5 | S101: =$A101 -> #N/A | T101: 1
C102: =VLOOKUP(B101,Уч!$A$2:$L$26,5,FALSE) -> #N/A | D102: =VLOOKUP(B101,Уч!$A$2:$L$26,4,FALSE) -> #N/A | E102: Вет | F102: =VLOOKUP($B101,'100 м 1'!$C$18:$I$86,6,FALSE) -> #N/A | G102: =VLOOKUP($B101,'длина 2 '!$C$16:$O$54,12,FALSE) -> #N/A | K102: =VLOOKUP($B101,'1cб_р'!$C$17:$I$63,6,FALSE) -> #N/A | S102: =$A101 -> #N/A | T102: 2
...

Sheet Все (2)
A1: =Расп!$A$21 -> МИНИСТЕРСТВО СПОРТА РОССИЙСКОЙ ФЕДЕРАЦИИ | V1: 0 | W1: б/р
A2: =Расп!$A$22 -> ВСЕРОССИЙСКАЯ ФЕДЕРАЦИЯ ЛЕГКОЙ АТЛЕТИКИ | V2: 3800 | W2: 3
A3: =Расп!$A$23 | V3: 4600 | W3: 2
V4: 5500 | W4: 1
A5: =Расп!$A$25 -> Командный чемпионат России | V5: 6200 | W5: КМС
A6: =Расп!$A$26 -> г.Сочи, Адлерский район, стадион "Юность" | F6: =Расп!$A$1 -> 04.09.2019 г. | K6: =Расп!$A$7 -> 19.05.2019 г. | O6: =Расп!C13 -> До 23 лет | V6: 7000 | W6: МС
F7: =Расп!A2 -> бег 100 м | G7: =Расп!B2 -> 0.39583333 | K7: =Расп!A8 -> бег с барьерами 110 м (1,067 м) | L7: =Расп!B8 -> 0.41666667 | N7: =Расп!$A$14 -> РМ | O7: =Расп!C14 -> 8617 | V7: 8100 | W7: МСМК
C8: =Расп!$A$27 -> по многоборью | F8: =Расп!A3 -> прыжок в длину | G8: =Расп!B3 -> 0.42708333 | K8: =Расп!A9 -> метание диска (2,0 кг) | L8: =Расп!B9 -> 0.45138889 | N8: =Расп!$A$15 -> РЕ | O8: =Расп!C15 -> 8617 | U8: Скрыть
C9: Юниоры до 23 лет | F9: =Расп!A4 -> толкание ядра (7,26 кг) | G9: =Расп!B4 -> 0.46875 | K9: =Расп!A10 -> прыжок с шестом | L9: =Расп!B10 -> 0.52777778 | N9: =Расп!$A$16 -> РР | O9: =Расп!C16 -> 8365 | U9: при
F10: =Расп!A5 -> прыжок в высоту | G10: =Расп!B5 -> 0.625 | K10: =Расп!A11 -> метание копья (800 г) | L10: =Расп!B11 -> 0.625 | U10: печати
C11: ИТОГОВЫЙ ПРОТОКОЛ | F11: =Расп!A6 -> бег 400 м | G11: =Расп!B6 -> 0.72916667 | K11: =Расп!A12 -> бег 1500 м | L11: =Расп!B12 -> 0.76388889
C12: Промежуточные результаы
A13: Мес | B13: № | C13: Фамилия, имя | D13: ДР | F13: 100м | G13: Длина | H13: Ядро | I13: Высота | J13: 400м | K13: 110м с/б | L13: Диск | M13: Шест | N13: Копье | O13: 1500м | P13: Очки | Q13: Разряд | R13: Оч. ком | U13: 100 | V13: Длина | W13: Ядро | X13: Высота | Y13: 400 | Z13: 110сб | AA13: Диск | AB13: Шест | AC13: Копье | AD13: 1500
A16: =RANK(P16,$P$16:$P$160,0) -> #N/A | B16: 34 | C16: =VLOOKUP(B16,Уч!$A$2:$L$26,2,FALSE) -> #N/A | D16: =VLOOKUP(B16,Уч!$A$2:$L$26,3,FALSE) -> #N/A | E16: Рез | F16: =VLOOKUP($B16,'100 м 1'!$C$18:$I$86,5,FALSE) -> #N/A | G16: =VLOOKUP($B16,'длина 2 '!$C$16:$O$54,11,FALSE) -> #N/A | H16: =VLOOKUP($B16,'ядро 2'!$C$16:$K$60,8,FALSE) -> #N/A | I16: =VLOOKUP($B16,'высота 2'!$C$16:$AF$57,13,FALSE) -> #N/A | J16: =VLOOKUP($B16,'4_р'!$C$17:$H$73,5,FALSE) -> #N/A | K16: =VLOOKUP($B16,'1cб_р'!$C$17:$I$63,5,FALSE) -> #N/A | L16: =VLOOKUP($B16,Дс_р!$C$16:$K$70,8,FALSE) -> #N/A | M16: =VLOOKUP($B16,Ш_р!$C$15:$AF$69,17,FALSE) -> #N/A | N16: =VLOOKUP($B16,К_р!$C$15:$K$68,8,FALSE) -> #N/A | O16: =VLOOKUP($B16,'15_р'!$C$17:$H$86,5,FALSE) -> #N/A | P16: =SUM(F18:O18) -> #N/A | Q16: =LOOKUP(P16,$V$1:$V$7,$W$1:$W$7) -> #N/A | S16: =$A16 -> #N/A | T16: 1
C17: =VLOOKUP(B16,Уч!$A$2:$L$26,5,FALSE) -> #N/A | D17: =VLOOKUP(B16,Уч!$A$2:$L$26,4,FALSE) -> #N/A | E17: Вет | F17: =VLOOKUP($B16,'100 м 1'!$C$18:$I$86,6,FALSE) -> #N/A | G17: =VLOOKUP($B16,'длина 2 '!$C$16:$O$54,12,FALSE) -> #N/A | K17: =VLOOKUP($B16,'1cб_р'!$C$17:$I$63,6,FALSE) -> #N/A | S17: =$A16 -> #N/A | T17: 2
C18: =VLOOKUP(B16,Уч!$A$2:$L$26,7) -> #N/A | E18: Оч | F18: =VLOOKUP($B16,'100 м 1'!$C$18:$I$86,7,FALSE) -> #N/A | G18: =VLOOKUP($B16,'длина 2 '!$C$16:$O$54,13,FALSE) -> #N/A | H18: =VLOOKUP($B16,'ядро 2'!$C$16:$K$60,9,FALSE) -> #N/A | I18: =VLOOKUP($B16,'высота 2'!$C$16:$AF$57,14,FALSE) -> #N/A | J18: =VLOOKUP($B16,'4_р'!$C$17:$H$73,6,FALSE) -> #N/A | K18: =VLOOKUP($B16,'1cб_р'!$C$17:$I$63,7,FALSE) -> #N/A | L18: =VLOOKUP($B16,Дс_р!$C$16:$K$70,9,FALSE) -> #N/A | M18: =VLOOKUP($B16,Ш_р!$C$15:$AF$69,18,FALSE) -> #N/A | N18: =VLOOKUP($B16,К_р!$C$15:$K$68,9,FALSE) -> #N/A | O18: =VLOOKUP($B16,'15_р'!$C$17:$H$86,6,FALSE) -> #N/A | S18: =$A16 -> #N/A | T18: 3
C19: =VLOOKUP(B16,Уч!$A$2:$L$26,11,FALSE) -> #N/A | E19: Сум | F19: =F18 -> #N/A | G19: =F19+G18 -> #N/A | H19: =G19+H18 -> #N/A | I19: =H19+I18 -> #N/A | J19: =SUM($F18:J18) -> #N/A | K19: =SUM($F18:$K18) -> #N/A | L19: =K19+L18 -> #N/A | M19: =L19+M18 -> #N/A | N19: =SUM($F18:$N18) -> #N/A | O19: =SUM($F18:$O18) -> #N/A | S19: =$A16 -> #N/A | T19: 4 | U19: =F19 -> #N/A | V19: =G19 -> #N/A | W19: =H19 -> #N/A | X19: =I19 -> #N/A | Y19: =J19 -> #N/A | Z19: =K19 -> #N/A | AA19: =L19 -> #N/A | AB19: =M19 -> #N/A | ... AD19: =O19 -> #N/A
C20: =VLOOKUP(B16,Уч!$A$2:$L$26,12,FALSE) -> #N/A | E20: Мес | F20: =RANK(F19,$U$19:$U$160,0) -> #N/A | G20: =RANK(G19,$V$19:$V$160,0) -> #N/A | H20: =RANK(H19,$W$19:$W$160,0) -> #N/A | I20: =RANK(I19,$X$19:$X$160,0) -> #N/A | J20: =RANK(J19,$Y$19:$Y$160,0) -> #N/A | K20: =RANK(K19,$Z$19:$Z$160,0) -> #N/A | L20: =RANK(L19,$AA$19:$AA$160,0) -> #N/A | M20: =RANK(M19,$AB$19:$AB$150,0) -> #N/A | N20: =RANK(N19,$AC$19:$AC$160,0) -> #N/A | O20: =RANK(O19,$AD$19:$AD$160,0) -> #N/A | S20: =$A16 -> #N/A | T20: 5
A21: =RANK(P21,$P$16:$P$160,0) -> #N/A | B21: 17 | C21: =VLOOKUP(B21,Уч!$A$2:$L$26,2,FALSE) -> #N/A | D21: =VLOOKUP(B21,Уч!$A$2:$L$26,3,FALSE) -> #N/A | E21: Рез | F21: =VLOOKUP($B21,'100 м 1'!$C$18:$I$86,5,FALSE) -> #N/A | G21: =VLOOKUP($B21,'длина 2 '!$C$16:$O$54,11,FALSE) -> #N/A | H21: =VLOOKUP($B21,'ядро 2'!$C$16:$K$60,8,FALSE) -> #N/A | I21: =VLOOKUP($B21,'высота 2'!$C$16:$AF$57,13,FALSE) -> #N/A | J21: =VLOOKUP($B21,'4_р'!$C$17:$H$73,5,FALSE) -> #N/A | K21: =VLOOKUP($B21,'1cб_р'!$C$17:$I$63,5,FALSE) -> #N/A | L21: =VLOOKUP($B21,Дс_р!$C$16:$K$70,8,FALSE) -> #N/A | M21: =VLOOKUP($B21,Ш_р!$C$15:$AF$69,17,FALSE) -> #N/A | N21: =VLOOKUP($B21,К_р!$C$15:$K$68,8,FALSE) -> #N/A | O21: =VLOOKUP($B21,'15_р'!$C$17:$H$86,5,FALSE) -> #N/A | P21: =SUM(F23:O23) -> #N/A | Q21: =LOOKUP(P21,$V$1:$V$7,$W$1:$W$7) -> #N/A | S21: =$A21 -> #N/A | T21: 1 | AF21: 15 | AG21: 3
C22: =VLOOKUP(B21,Уч!$A$2:$L$26,5,FALSE) -> #N/A | D22: =VLOOKUP(B21,Уч!$A$2:$L$26,4,FALSE) -> #N/A | E22: Вет | F22: =VLOOKUP($B21,'100 м 1'!$C$18:$I$86,6,FALSE) -> #N/A | G22: =VLOOKUP($B21,'длина 2 '!$C$16:$O$54,12,FALSE) -> #N/A | K22: =VLOOKUP($B21,'1cб_р'!$C$17:$I$63,6,FALSE) -> #N/A | S22: =$A21 -> #N/A | T22: 2 | AF22: 16 | AG22: 2
C23: =VLOOKUP(B21,Уч!$A$2:$L$26,7) -> #N/A | E23: Оч | F23: =VLOOKUP($B21,'100 м 1'!$C$18:$I$86,7,FALSE) -> #N/A | G23: =VLOOKUP($B21,'длина 2 '!$C$16:$O$54,13,FALSE) -> #N/A | H23: =VLOOKUP($B21,'ядро 2'!$C$16:$K$60,9,FALSE) -> #N/A | I23: =VLOOKUP($B21,'высота 2'!$C$16:$AF$57,14,FALSE) -> #N/A | J23: =VLOOKUP($B21,'4_р'!$C$17:$H$73,6,FALSE) -> #N/A | K23: =VLOOKUP($B21,'1cб_р'!$C$17:$I$63,7,FALSE) -> #N/A | L23: =VLOOKUP($B21,Дс_р!$C$16:$K$70,9,FALSE) -> #N/A | M23: =VLOOKUP($B21,Ш_р!$C$15:$AF$69,18,FALSE) -> #N/A | N23: =VLOOKUP($B21,К_р!$C$15:$K$68,9,FALSE) -> #N/A | O23: =VLOOKUP($B21,'15_р'!$C$17:$H$86,6,FALSE) -> #N/A | S23: =$A21 -> #N/A | T23: 3 | AF23: КМС | AG23: 1 | AH23: Взр
C24: =VLOOKUP(B21,Уч!$A$2:$L$26,11,FALSE) -> #N/A | E24: Сум | F24: =F23 -> #N/A | G24: =F24+G23 -> #N/A | H24: =G24+H23 -> #N/A | I24: =H24+I23 -> #N/A | J24: =SUM($F23:J23) -> #N/A | K24: =SUM($F23:$K23) -> #N/A | L24: =K24+L23 -> #N/A | M24: =L24+M23 -> #N/A | N24: =SUM($F23:$N23) -> #N/A | O24: =SUM($F23:$O23) -> #N/A | S24: =$A21 -> #N/A | T24: 4 | U24: =F24 -> #N/A | V24: =G24 -> #N/A | W24: =H24 -> #N/A | X24: =I24 -> #N/A | Y24: =J24 -> #N/A | Z24: =K24 -> #N/A | AA24: =L24 -> #N/A | AB24: =M24 -> #N/A | ... AD24: =O24 -> #N/A | AF24: 1 раз | AG24: 1 | AH24: Мол
C25: =VLOOKUP(B21,Уч!$A$2:$L$26,12,FALSE) -> #N/A | E25: Мес | F25: =RANK(F24,$U$19:$U$160,0) -> #N/A | G25: =RANK(G24,$V$19:$V$160,0) -> #N/A | H25: =RANK(H24,$W$19:$W$160,0) -> #N/A | I25: =RANK(I24,$X$19:$X$160,0) -> #N/A | J25: =RANK(J24,$Y$19:$Y$160,0) -> #N/A | K25: =RANK(K24,$Z$19:$Z$160,0) -> #N/A | L25: =RANK(L24,$AA$19:$AA$160,0) -> #N/A | M25: =RANK(M24,$AB$19:$AB$150,0) -> #N/A | N25: =RANK(N24,$AC$19:$AC$160,0) -> #N/A | O25: =RANK(O24,$AD$19:$AD$160,0) -> #N/A | S25: =$A21 -> #N/A | T25: 5 | AF25: 2 раз | AG25: 1 | AH25: Юниор
A26: =RANK(P26,$P$16:$P$160,0) -> #N/A | B26: 59 | C26: =VLOOKUP(B26,Уч!$A$2:$L$26,2,FALSE) -> #N/A | D26: =VLOOKUP(B26,Уч!$A$2:$L$26,3,FALSE) -> #N/A | E26: Рез | F26: =VLOOKUP($B26,'100 м 1'!$C$18:$I$86,5,FALSE) -> #N/A | G26: =VLOOKUP($B26,'длина 2 '!$C$16:$O$54,11,FALSE) -> #N/A | H26: =VLOOKUP($B26,'ядро 2'!$C$16:$K$60,8,FALSE) -> #N/A | I26: =VLOOKUP($B26,'высота 2'!$C$16:$AF$57,13,FALSE) -> #N/A | J26: =VLOOKUP($B26,'4_р'!$C$17:$H$73,5,FALSE) -> #N/A | K26: =VLOOKUP($B26,'1cб_р'!$C$17:$I$63,5,FALSE) -> #N/A | L26: =VLOOKUP($B26,Дс_р!$C$16:$K$70,8,FALSE) -> #N/A | M26: =VLOOKUP($B26,Ш_р!$C$15:$AF$69,17,FALSE) -> #N/A | N26: =VLOOKUP($B26,К_р!$C$15:$K$68,8,FALSE) -> #N/A | O26: =VLOOKUP($B26,'15_р'!$C$17:$H$86,5,FALSE) -> #N/A | P26: =SUM(F28:O28) -> #N/A | Q26: =LOOKUP(P26,$V$1:$V$7,$W$1:$W$7) -> #N/A | S26: =$A26 -> #N/A | T26: 1
C27: =VLOOKUP(B26,Уч!$A$2:$L$26,5,FALSE) -> #N/A | D27: =VLOOKUP(B26,Уч!$A$2:$L$26,4,FALSE) -> #N/A | E27: Вет | F27: =VLOOKUP($B26,'100 м 1'!$C$18:$I$86,6,FALSE) -> #N/A | G27: =VLOOKUP($B26,'длина 2 '!$C$16:$O$54,12,FALSE) -> #N/A | K27: =VLOOKUP($B26,'1cб_р'!$C$17:$I$63,6,FALSE) -> #N/A | S27: =$A26 -> #N/A | T27: 2
C28: =VLOOKUP(B26,Уч!$A$2:$L$26,7) -> МБУ ДО ДЮСШ №6 | E28: Оч | F28: =VLOOKUP($B26,'100 м 1'!$C$18:$I$86,7,FALSE) -> #N/A | G28: =VLOOKUP($B26,'длина 2 '!$C$16:$O$54,13,FALSE) -> #N/A | H28: =VLOOKUP($B26,'ядро 2'!$C$16:$K$60,9,FALSE) -> #N/A | I28: =VLOOKUP($B26,'высота 2'!$C$16:$AF$57,14,FALSE) -> #N/A | J28: =VLOOKUP($B26,'4_р'!$C$17:$H$73,6,FALSE) -> #N/A | K28: =VLOOKUP($B26,'1cб_р'!$C$17:$I$63,7,FALSE) -> #N/A | L28: =VLOOKUP($B26,Дс_р!$C$16:$K$70,9,FALSE) -> #N/A | M28: =VLOOKUP($B26,Ш_р!$C$15:$AF$69,18,FALSE) -> #N/A | N28: =VLOOKUP($B26,К_р!$C$15:$K$68,9,FALSE) -> #N/A | O28: =VLOOKUP($B26,'15_р'!$C$17:$H$86,6,FALSE) -> #N/A | S28: =$A26 -> #N/A | T28: 3
C29: =VLOOKUP(B26,Уч!$A$2:$L$26,11,FALSE) -> #N/A | E29: Сум | F29: =F28 -> #N/A | G29: =F29+G28 -> #N/A | H29: =G29+H28 -> #N/A | I29: =H29+I28 -> #N/A | J29: =SUM($F28:J28) -> #N/A | K29: =SUM($F28:$K28) -> #N/A | L29: =K29+L28 -> #N/A | M29: =L29+M28 -> #N/A | N29: =SUM($F28:$N28) -> #N/A | O29: =SUM($F28:$O28) -> #N/A | S29: =$A26 -> #N/A | T29: 4 | U29: =F29 -> #N/A | V29: =G29 -> #N/A | W29: =H29 -> #N/A | X29: =I29 -> #N/A | Y29: =J29 -> #N/A | Z29: =K29 -> #N/A | AA29: =L29 -> #N/A | AB29: =M29 -> #N/A | ... AD29: =O29 -> #N/A
C30: =VLOOKUP(B26,Уч!$A$2:$L$26,12,FALSE) -> #N/A | E30: Мес | F30: =RANK(F29,$U$19:$U$160,0) -> #N/A | G30: =RANK(G29,$V$19:$V$160,0) -> #N/A | H30: =RANK(H29,$W$19:$W$160,0) -> #N/A | I30: =RANK(I29,$X$19:$X$160,0) -> #N/A | J30: =RANK(J29,$Y$19:$Y$160,0) -> #N/A | K30: =RANK(K29,$Z$19:$Z$160,0) -> #N/A | L30: =RANK(L29,$AA$19:$AA$160,0) -> #N/A | M30: =RANK(M29,$AB$19:$AB$150,0) -> #N/A | N30: =RANK(N29,$AC$19:$AC$160,0) -> #N/A | O30: =RANK(O29,$AD$19:$AD$160,0) -> #N/A | S30: =$A26 -> #N/A | T30: 5
A31: =RANK(P31,$P$16:$P$160,0) -> #N/A | B31: 37 | C31: =VLOOKUP(B31,Уч!$A$2:$L$26,2,FALSE) -> Гончарук Артём | D31: =VLOOKUP(B31,Уч!$A$2:$L$26,3,FALSE) -> 07.01.1992 | E31: Рез | F31: =VLOOKUP($B31,'100 м 1'!$C$18:$I$86,5,FALSE) -> 11.13 | G31: =VLOOKUP($B31,'длина 2 '!$C$16:$O$54,11,FALSE) -> #N/A | H31: =VLOOKUP($B31,'ядро 2'!$C$16:$K$60,8,FALSE) -> #N/A | I31: =VLOOKUP($B31,'высота 2'!$C$16:$AF$57,13,FALSE) -> #N/A | J31: =VLOOKUP($B31,'4_р'!$C$17:$H$73,5,FALSE) -> #N/A | K31: =VLOOKUP($B31,'1cб_р'!$C$17:$I$63,5,FALSE) -> #N/A | L31: =VLOOKUP($B31,Дс_р!$C$16:$K$70,8,FALSE) -> #N/A | M31: =VLOOKUP($B31,Ш_р!$C$15:$AF$69,17,FALSE) -> #N/A | N31: =VLOOKUP($B31,К_р!$C$15:$K$68,8,FALSE) -> #N/A | O31: =VLOOKUP($B31,'15_р'!$C$17:$H$86,5,FALSE) -> #N/A | P31: =SUM(F33:O33) -> #N/A | Q31: =LOOKUP(P31,$V$1:$V$7,$W$1:$W$7) -> #N/A | S31: =$A31 -> #N/A | T31: 1
C32: =VLOOKUP(B31,Уч!$A$2:$L$26,5,FALSE) -> Ульяновская область | D32: =VLOOKUP(B31,Уч!$A$2:$L$26,4,FALSE) -> МС | E32: Вет | F32: =VLOOKUP($B31,'100 м 1'!$C$18:$I$86,6,FALSE) -> 0 | G32: =VLOOKUP($B31,'длина 2 '!$C$16:$O$54,12,FALSE) -> #N/A | K32: =VLOOKUP($B31,'1cб_р'!$C$17:$I$63,6,FALSE) -> #N/A | S32: =$A31 -> #N/A | T32: 2
C33: =VLOOKUP(B31,Уч!$A$2:$L$26,7) -> МБУ ДО ДЮСШ №6 | E33: Оч | F33: =VLOOKUP($B31,'100 м 1'!$C$18:$I$86,7,FALSE) -> 832 | G33: =VLOOKUP($B31,'длина 2 '!$C$16:$O$54,13,FALSE) -> #N/A | H33: =VLOOKUP($B31,'ядро 2'!$C$16:$K$60,9,FALSE) -> #N/A | I33: =VLOOKUP($B31,'высота 2'!$C$16:$AF$57,14,FALSE) -> #N/A | J33: =VLOOKUP($B31,'4_р'!$C$17:$H$73,6,FALSE) -> #N/A | K33: =VLOOKUP($B31,'1cб_р'!$C$17:$I$63,7,FALSE) -> #N/A | L33: =VLOOKUP($B31,Дс_р!$C$16:$K$70,9,FALSE) -> #N/A | M33: =VLOOKUP($B31,Ш_р!$C$15:$AF$69,18,FALSE) -> #N/A | N33: =VLOOKUP($B31,К_р!$C$15:$K$68,9,FALSE) -> #N/A | O33: =VLOOKUP($B31,'15_р'!$C$17:$H$86,6,FALSE) -> #N/A | S33: =$A31 -> #N/A | T33: 3
C34: =VLOOKUP(B31,Уч!$A$2:$L$26,11,FALSE) -> Жульков Ю.А. | E34: Сум | F34: =F33 -> 832 | G34: =F34+G33 -> #N/A | H34: =G34+H33 -> #N/A | I34: =H34+I33 -> #N/A | J34: =SUM($F33:J33) -> #N/A | K34: =SUM($F33:$K33) -> #N/A | L34: =K34+L33 -> #N/A | M34: =L34+M33 -> #N/A | N34: =SUM($F33:$N33) -> #N/A | O34: =SUM($F33:$O33) -> #N/A | S34: =$A31 -> #N/A | T34: 4 | U34: =F34 -> 832 | V34: =G34 -> #N/A | W34: =H34 -> #N/A | X34: =I34 -> #N/A | Y34: =J34 -> #N/A | Z34: =K34 -> #N/A | AA34: =L34 -> #N/A | AB34: =M34 -> #N/A | ... AD34: =O34 -> #N/A
C35: =VLOOKUP(B31,Уч!$A$2:$L$26,12,FALSE) -> 0 | E35: Мес | F35: =RANK(F34,$U$19:$U$160,0) -> #N/A | G35: =RANK(G34,$V$19:$V$160,0) -> #N/A | H35: =RANK(H34,$W$19:$W$160,0) -> #N/A | I35: =RANK(I34,$X$19:$X$160,0) -> #N/A | J35: =RANK(J34,$Y$19:$Y$160,0) -> #N/A | K35: =RANK(K34,$Z$19:$Z$160,0) -> #N/A | L35: =RANK(L34,$AA$19:$AA$160,0) -> #N/A | M35: =RANK(M34,$AB$19:$AB$150,0) -> #N/A | N35: =RANK(N34,$AC$19:$AC$160,0) -> #N/A | O35: =RANK(O34,$AD$19:$AD$160,0) -> #N/A | S35: =$A31 -> #N/A | T35: 5
A36: =RANK(P36,$P$16:$P$160,0) -> #N/A | B36: 18 | C36: =VLOOKUP(B36,Уч!$A$2:$L$26,2,FALSE) -> #N/A | D36: =VLOOKUP(B36,Уч!$A$2:$L$26,3,FALSE) -> #N/A | E36: Рез | F36: =VLOOKUP($B36,'100 м 1'!$C$18:$I$86,5,FALSE) -> #N/A | G36: =VLOOKUP($B36,'длина 2 '!$C$16:$O$54,11,FALSE) -> #N/A | H36: =VLOOKUP($B36,'ядро 2'!$C$16:$K$60,8,FALSE) -> #N/A | I36: =VLOOKUP($B36,'высота 2'!$C$16:$AF$57,13,FALSE) -> #N/A | J36: =VLOOKUP($B36,'4_р'!$C$17:$H$73,5,FALSE) -> #N/A | K36: =VLOOKUP($B36,'1cб_р'!$C$17:$I$63,5,FALSE) -> #N/A | L36: =VLOOKUP($B36,Дс_р!$C$16:$K$70,8,FALSE) -> #N/A | M36: =VLOOKUP($B36,Ш_р!$C$15:$AF$69,17,FALSE) -> #N/A | N36: =VLOOKUP($B36,К_р!$C$15:$K$68,8,FALSE) -> #N/A | O36: =VLOOKUP($B36,'15_р'!$C$17:$H$86,5,FALSE) -> #N/A | P36: =SUM(F38:O38) -> #N/A | Q36: =LOOKUP(P36,$V$1:$V$7,$W$1:$W$7) -> #N/A | S36: =$A36 -> #N/A | T36: 1
C37: =VLOOKUP(B36,Уч!$A$2:$L$26,5,FALSE) -> #N/A | D37: =VLOOKUP(B36,Уч!$A$2:$L$26,4,FALSE) -> #N/A | E37: Вет | F37: =VLOOKUP($B36,'100 м 1'!$C$18:$I$86,6,FALSE) -> #N/A | G37: =VLOOKUP($B36,'длина 2 '!$C$16:$O$54,12,FALSE) -> #N/A | K37: =VLOOKUP($B36,'1cб_р'!$C$17:$I$63,6,FALSE) -> #N/A | S37: =$A36 -> #N/A | T37: 2
C38: =VLOOKUP(B36,Уч!$A$2:$L$26,7) -> #N/A | E38: Оч | F38: =VLOOKUP($B36,'100 м 1'!$C$18:$I$86,7,FALSE) -> #N/A | G38: =VLOOKUP($B36,'длина 2 '!$C$16:$O$54,13,FALSE) -> #N/A | H38: =VLOOKUP($B36,'ядро 2'!$C$16:$K$60,9,FALSE) -> #N/A | I38: =VLOOKUP($B36,'высота 2'!$C$16:$AF$57,14,FALSE) -> #N/A | J38: =VLOOKUP($B36,'4_р'!$C$17:$H$73,6,FALSE) -> #N/A | K38: =VLOOKUP($B36,'1cб_р'!$C$17:$I$63,7,FALSE) -> #N/A | L38: =VLOOKUP($B36,Дс_р!$C$16:$K$70,9,FALSE) -> #N/A | M38: =VLOOKUP($B36,Ш_р!$C$15:$AF$69,18,FALSE) -> #N/A | N38: =VLOOKUP($B36,К_р!$C$15:$K$68,9,FALSE) -> #N/A | O38: =VLOOKUP($B36,'15_р'!$C$17:$H$86,6,FALSE) -> #N/A | S38: =$A36 -> #N/A | T38: 3
C39: =VLOOKUP(B36,Уч!$A$2:$L$26,11,FALSE) -> #N/A | E39: Сум | F39: =F38 -> #N/A | G39: =F39+G38 -> #N/A | H39: =G39+H38 -> #N/A | I39: =H39+I38 -> #N/A | J39: =SUM($F38:J38) -> #N/A | K39: =SUM($F38:$K38) -> #N/A | L39: =K39+L38 -> #N/A | M39: =L39+M38 -> #N/A | N39: =SUM($F38:$N38) -> #N/A | O39: =SUM($F38:$O38) -> #N/A | S39: =$A36 -> #N/A | T39: 4 | U39: =F39 -> #N/A | V39: =G39 -> #N/A | W39: =H39 -> #N/A | X39: =I39 -> #N/A | Y39: =J39 -> #N/A | Z39: =K39 -> #N/A | AA39: =L39 -> #N/A | AB39: =M39 -> #N/A | ... AD39: =O39 -> #N/A
C40: =VLOOKUP(B36,Уч!$A$2:$L$26,12,FALSE) -> #N/A | E40: Мес | F40: =RANK(F39,$U$19:$U$160,0) -> #N/A | G40: =RANK(G39,$V$19:$V$160,0) -> #N/A | H40: =RANK(H39,$W$19:$W$160,0) -> #N/A | I40: =RANK(I39,$X$19:$X$160,0) -> #N/A | J40: =RANK(J39,$Y$19:$Y$160,0) -> #N/A | K40: =RANK(K39,$Z$19:$Z$160,0) -> #N/A | L40: =RANK(L39,$AA$19:$AA$160,0) -> #N/A | M40: =RANK(M39,$AB$19:$AB$150,0) -> #N/A | N40: =RANK(N39,$AC$19:$AC$160,0) -> #N/A | O40: =RANK(O39,$AD$19:$AD$160,0) -> #N/A | S40: =$A36 -> #N/A | T40: 5
A41: =RANK(P41,$P$16:$P$160,0) -> #N/A | B41: 16 | C41: =VLOOKUP(B41,Уч!$A$2:$L$26,2,FALSE) -> #N/A | D41: 32964 | E41: Рез | F41: =VLOOKUP($B41,'100 м 1'!$C$18:$I$86,5,FALSE) -> #N/A | G41: =VLOOKUP($B41,'длина 2 '!$C$16:$O$54,11,FALSE) -> #N/A | H41: =VLOOKUP($B41,'ядро 2'!$C$16:$K$60,8,FALSE) -> #N/A | I41: =VLOOKUP($B41,'высота 2'!$C$16:$AF$57,13,FALSE) -> #N/A | J41: =VLOOKUP($B41,'4_р'!$C$17:$H$73,5,FALSE) -> #N/A | K41: =VLOOKUP($B41,'1cб_р'!$C$17:$I$63,5,FALSE) -> #N/A | L41: =VLOOKUP($B41,Дс_р!$C$16:$K$70,8,FALSE) -> #N/A | M41: =VLOOKUP($B41,Ш_р!$C$15:$AF$69,17,FALSE) -> 0 | N41: =VLOOKUP($B41,К_р!$C$15:$K$68,8,FALSE) -> #N/A | O41: =VLOOKUP($B41,'15_р'!$C$17:$H$86,5,FALSE) -> #N/A | P41: =SUM(F43:O43) -> #N/A | Q41: =LOOKUP(P41,$V$1:$V$7,$W$1:$W$7) -> #N/A | S41: =$A41 -> #N/A | T41: 1
C42: =VLOOKUP(B41,Уч!$A$2:$L$26,5,FALSE) -> #N/A | D42: =VLOOKUP(B41,Уч!$A$2:$L$26,4,FALSE) -> #N/A | E42: Вет | F42: =VLOOKUP($B41,'100 м 1'!$C$18:$I$86,6,FALSE) -> #N/A | G42: =VLOOKUP($B41,'длина 2 '!$C$16:$O$54,12,FALSE) -> #N/A | K42: =VLOOKUP($B41,'1cб_р'!$C$17:$I$63,6,FALSE) -> #N/A | S42: =$A41 -> #N/A | T42: 2
C43: =VLOOKUP(B41,Уч!$A$2:$L$26,7) -> #N/A | E43: Оч | F43: =VLOOKUP($B41,'100 м 1'!$C$18:$I$86,7,FALSE) -> #N/A | G43: =VLOOKUP($B41,'длина 2 '!$C$16:$O$54,13,FALSE) -> #N/A | H43: =VLOOKUP($B41,'ядро 2'!$C$16:$K$60,9,FALSE) -> #N/A | I43: =VLOOKUP($B41,'высота 2'!$C$16:$AF$57,14,FALSE) -> #N/A | J43: =VLOOKUP($B41,'4_р'!$C$17:$H$73,6,FALSE) -> #N/A | K43: =VLOOKUP($B41,'1cб_р'!$C$17:$I$63,7,FALSE) -> #N/A | L43: =VLOOKUP($B41,Дс_р!$C$16:$K$70,9,FALSE) -> #N/A | M43: =VLOOKUP($B41,Ш_р!$C$15:$AF$69,18,FALSE) -> 0 | N43: =VLOOKUP($B41,К_р!$C$15:$K$68,9,FALSE) -> #N/A | O43: =VLOOKUP($B41,'15_р'!$C$17:$H$86,6,FALSE) -> #N/A | S43: =$A41 -> #N/A | T43: 3
C44: =VLOOKUP(B41,Уч!$A$2:$L$26,11,FALSE) -> #N/A | E44: Сум | F44: =F43 -> #N/A | G44: =F44+G43 -> #N/A | H44: =G44+H43 -> #N/A | I44: =H44+I43 -> #N/A | J44: =SUM($F43:J43) -> #N/A | K44: =SUM($F43:$K43) -> #N/A | L44: =K44+L43 -> #N/A | M44: =L44+M43 -> #N/A | N44: =SUM($F43:$N43) -> #N/A | O44: =SUM($F43:$O43) -> #N/A | S44: =$A41 -> #N/A | T44: 4 | U44: =F44 -> #N/A | V44: =G44 -> #N/A | W44: =H44 -> #N/A | X44: =I44 -> #N/A | Y44: =J44 -> #N/A | Z44: =K44 -> #N/A | AA44: =L44 -> #N/A | AB44: =M44 -> #N/A | ... AD44: =O44 -> #N/A
C45: =VLOOKUP(B41,Уч!$A$2:$L$26,12,FALSE) -> #N/A | E45: Мес | F45: =RANK(F44,$U$19:$U$160,0) -> #N/A | G45: =RANK(G44,$V$19:$V$160,0) -> #N/A | H45: =RANK(H44,$W$19:$W$160,0) -> #N/A | I45: =RANK(I44,$X$19:$X$160,0) -> #N/A | J45: =RANK(J44,$Y$19:$Y$160,0) -> #N/A | K45: =RANK(K44,$Z$19:$Z$160,0) -> #N/A | L45: =RANK(L44,$AA$19:$AA$160,0) -> #N/A | M45: =RANK(M44,$AB$19:$AB$150,0) -> #N/A | N45: =RANK(N44,$AC$19:$AC$160,0) -> #N/A | O45: =RANK(O44,$AD$19:$AD$160,0) -> #N/A | S45: =$A41 -> #N/A | T45: 5
A46: =RANK(P46,$P$16:$P$160,0) -> #N/A | B46: 52 | C46: =VLOOKUP(B46,Уч!$A$2:$L$26,2,FALSE) -> #N/A | D46: =VLOOKUP(B46,Уч!$A$2:$L$26,3,FALSE) -> #N/A | E46: Рез | F46: =VLOOKUP($B46,'100 м 1'!$C$18:$I$86,5,FALSE) -> 10.93 | G46: =VLOOKUP($B46,'длина 2 '!$C$16:$O$54,11,FALSE) -> #N/A | H46: =VLOOKUP($B46,'ядро 2'!$C$16:$K$60,8,FALSE) -> #N/A | I46: =VLOOKUP($B46,'высота 2'!$C$16:$AF$57,13,FALSE) -> #N/A | J46: =VLOOKUP($B46,'4_р'!$C$17:$H$73,5,FALSE) -> 0 | K46: =VLOOKUP($B46,'1cб_р'!$C$17:$I$63,5,FALSE) -> #N/A | L46: =VLOOKUP($B46,Дс_р!$C$16:$K$70,8,FALSE) -> #N/A | M46: =VLOOKUP($B46,Ш_р!$C$15:$AF$69,17,FALSE) -> #N/A | N46: =VLOOKUP($B46,К_р!$C$15:$K$68,8,FALSE) -> #N/A | O46: =VLOOKUP($B46,'15_р'!$C$17:$H$86,5,FALSE) -> 0 | P46: =SUM(F48:O48) -> #N/A | Q46: =LOOKUP(P46,$V$1:$V$7,$W$1:$W$7) -> #N/A | S46: =$A46 -> #N/A | T46: 1
C47: =VLOOKUP(B46,Уч!$A$2:$L$26,5,FALSE) -> #N/A | D47: =VLOOKUP(B46,Уч!$A$2:$L$26,4,FALSE) -> #N/A | E47: Вет | F47: =VLOOKUP($B46,'100 м 1'!$C$18:$I$86,6,FALSE) -> 1 | G47: =VLOOKUP($B46,'длина 2 '!$C$16:$O$54,12,FALSE) -> #N/A | K47: =VLOOKUP($B46,'1cб_р'!$C$17:$I$63,6,FALSE) -> #N/A | S47: =$A46 -> #N/A | T47: 2
C48: =VLOOKUP(B46,Уч!$A$2:$L$26,7,FALSE) -> #N/A | E48: Оч | F48: =VLOOKUP($B46,'100 м 1'!$C$18:$I$86,7,FALSE) -> 876 | G48: =VLOOKUP($B46,'длина 2 '!$C$16:$O$54,13,FALSE) -> #N/A | H48: =VLOOKUP($B46,'ядро 2'!$C$16:$K$60,9,FALSE) -> #N/A | I48: =VLOOKUP($B46,'высота 2'!$C$16:$AF$57,14,FALSE) -> #N/A | J48: =VLOOKUP($B46,'4_р'!$C$17:$H$73,6,FALSE) -> 0 | K48: =VLOOKUP($B46,'1cб_р'!$C$17:$I$63,7,FALSE) -> #N/A | L48: =VLOOKUP($B46,Дс_р!$C$16:$K$70,9,FALSE) -> #N/A | M48: =VLOOKUP($B46,Ш_р!$C$15:$AF$69,18,FALSE) -> #N/A | N48: =VLOOKUP($B46,К_р!$C$15:$K$68,9,FALSE) -> #N/A | O48: =VLOOKUP($B46,'15_р'!$C$17:$H$86,6,FALSE) -> 0 | S48: =$A46 -> #N/A | T48: 3
C49: =VLOOKUP(B46,Уч!$A$2:$L$26,11,FALSE) -> #N/A | E49: Сум | F49: =F48 -> 876 | G49: =F49+G48 -> #N/A | H49: =G49+H48 -> #N/A | I49: =H49+I48 -> #N/A | J49: =SUM($F48:J48) -> #N/A | K49: =SUM($F48:$K48) -> #N/A | L49: =K49+L48 -> #N/A | M49: =L49+M48 -> #N/A | N49: =SUM($F48:$N48) -> #N/A | O49: =SUM($F48:$O48) -> #N/A | S49: =$A46 -> #N/A | T49: 4 | U49: =F49 -> 876 | V49: =G49 -> #N/A | W49: =H49 -> #N/A | X49: =I49 -> #N/A | Y49: =J49 -> #N/A | Z49: =K49 -> #N/A | AA49: =L49 -> #N/A | AB49: =M49 -> #N/A | ... AD49: =O49 -> #N/A
C50: =VLOOKUP(B46,Уч!$A$2:$L$26,12,FALSE) -> #N/A | E50: Мес | F50: =RANK(F49,$U$19:$U$160,0) -> #N/A | G50: =RANK(G49,$V$19:$V$160,0) -> #N/A | H50: =RANK(H49,$W$19:$W$160,0) -> #N/A | I50: =RANK(I49,$X$19:$X$160,0) -> #N/A | J50: =RANK(J49,$Y$19:$Y$160,0) -> #N/A | K50: =RANK(K49,$Z$19:$Z$160,0) -> #N/A | L50: =RANK(L49,$AA$19:$AA$160,0) -> #N/A | M50: =RANK(M49,$AB$19:$AB$150,0) -> #N/A | N50: =RANK(N49,$AC$19:$AC$160,0) -> #N/A | O50: =RANK(O49,$AD$19:$AD$160,0) -> #N/A | S50: =$A46 -> #N/A | T50: 5
A51: =RANK(P51,$P$16:$P$160,0) -> #N/A | B51: 98 | C51: =VLOOKUP(B51,Уч!$A$2:$L$26,2,FALSE) -> Недригайло Данил | D51: =VLOOKUP(B51,Уч!$A$2:$L$26,3,FALSE) -> 21.09.1999 | E51: Рез | F51: =VLOOKUP($B51,'100 м 1'!$C$18:$I$86,5,FALSE) -> 11.13 | G51: =VLOOKUP($B51,'длина 2 '!$C$16:$O$54,11,FALSE) -> #N/A | H51: =VLOOKUP($B51,'ядро 2'!$C$16:$K$60,8,FALSE) -> #N/A | I51: =VLOOKUP($B51,'высота 2'!$C$16:$AF$57,13,FALSE) -> #N/A | J51: =VLOOKUP($B51,'4_р'!$C$17:$H$73,5,FALSE) -> #N/A | K51: =VLOOKUP($B51,'1cб_р'!$C$17:$I$63,5,FALSE) -> #N/A | L51: =VLOOKUP($B51,Дс_р!$C$16:$K$70,8,FALSE) -> #N/A | M51: =VLOOKUP($B51,Ш_р!$C$15:$AF$69,17,FALSE) -> #N/A | N51: =VLOOKUP($B51,К_р!$C$15:$K$68,8,FALSE) -> #N/A | O51: =VLOOKUP($B51,'15_р'!$C$17:$H$86,5,FALSE) -> #N/A | P51: =SUM(F53:O53) -> #N/A | Q51: =LOOKUP(P51,$V$1:$V$7,$W$1:$W$7) -> #N/A | S51: =$A51 -> #N/A | T51: 1 | AF51: 10 | AG51: 8 | AH51: МНГБ | AI51: 5
C52: =VLOOKUP(B51,Уч!$A$2:$L$26,5,FALSE) -> Волгоградская область | D52: =VLOOKUP(B51,Уч!$A$2:$L$26,4,FALSE) -> КМС | E52: Вет | F52: =VLOOKUP($B51,'100 м 1'!$C$18:$I$86,6,FALSE) -> 0 | G52: =VLOOKUP($B51,'длина 2 '!$C$16:$O$54,12,FALSE) -> #N/A | K52: =VLOOKUP($B51,'1cб_р'!$C$17:$I$63,6,FALSE) -> #N/A | S52: =$A51 -> #N/A | T52: 2 | AF52: 11 | AG52: 7
C53: =VLOOKUP(B51,Уч!$A$2:$L$26,7,FALSE) -> ГБУ ВО "СШОР по легкой атлетике", ГАПОУ ВО "УОР имени дважды Героя Советского Союза А.И.Родимцева" | E53: Оч | F53: =VLOOKUP($B51,'100 м 1'!$C$18:$I$86,7,FALSE) -> 832 | G53: =VLOOKUP($B51,'длина 2 '!$C$16:$O$54,13,FALSE) -> #N/A | H53: =VLOOKUP($B51,'ядро 2'!$C$16:$K$60,9,FALSE) -> #N/A | I53: =VLOOKUP($B51,'высота 2'!$C$16:$AF$57,14,FALSE) -> #N/A | J53: =VLOOKUP($B51,'4_р'!$C$17:$H$73,6,FALSE) -> #N/A | K53: =VLOOKUP($B51,'1cб_р'!$C$17:$I$63,7,FALSE) -> #N/A | L53: =VLOOKUP($B51,Дс_р!$C$16:$K$70,9,FALSE) -> #N/A | M53: =VLOOKUP($B51,Ш_р!$C$15:$AF$69,18,FALSE) -> #N/A | N53: =VLOOKUP($B51,К_р!$C$15:$K$68,9,FALSE) -> #N/A | O53: =VLOOKUP($B51,'15_р'!$C$17:$H$86,6,FALSE) -> #N/A | S53: =$A51 -> #N/A | T53: 3 | AF53: 12 | AG53: 6
C54: =VLOOKUP(B51,Уч!$A$2:$L$26,11,FALSE) -> Зацеляпин М.И., Мельников Е.С., Кайдалин В.С., Трофимов Е.В. | E54: Сум | F54: =F53 -> 832 | G54: =F54+G53 -> #N/A | H54: =G54+H53 -> #N/A | I54: =H54+I53 -> #N/A | J54: =SUM($F53:J53) -> #N/A | K54: =SUM($F53:$K53) -> #N/A | L54: =K54+L53 -> #N/A | M54: =L54+M53 -> #N/A | N54: =SUM($F53:$N53) -> #N/A | O54: =SUM($F53:$O53) -> #N/A | S54: =$A51 -> #N/A | T54: 4 | U54: =F54 -> 832 | V54: =G54 -> #N/A | W54: =H54 -> #N/A | X54: =I54 -> #N/A | Y54: =J54 -> #N/A | Z54: =K54 -> #N/A | AA54: =L54 -> #N/A | AB54: =M54 -> #N/A | ... AD54: =O54 -> #N/A | AF54: 13 | AG54: 5
C55: =VLOOKUP(B51,Уч!$A$2:$L$26,12,FALSE) -> 0 | E55: Мес | F55: =RANK(F54,$U$19:$U$160,0) -> #N/A | G55: =RANK(G54,$V$19:$V$160,0) -> #N/A | H55: =RANK(H54,$W$19:$W$160,0) -> #N/A | I55: =RANK(I54,$X$19:$X$160,0) -> #N/A | J55: =RANK(J54,$Y$19:$Y$160,0) -> #N/A | K55: =RANK(K54,$Z$19:$Z$160,0) -> #N/A | L55: =RANK(L54,$AA$19:$AA$160,0) -> #N/A | M55: =RANK(M54,$AB$19:$AB$150,0) -> #N/A | N55: =RANK(N54,$AC$19:$AC$160,0) -> #N/A | O55: =RANK(O54,$AD$19:$AD$160,0) -> #N/A | S55: =$A51 -> #N/A | T55: 5 | AF55: 14 | AG55: 4
A56: =RANK(P56,$P$16:$P$160,0) -> #N/A | B56: 29 | C56: =VLOOKUP(B56,Уч!$A$2:$L$26,2,FALSE) -> #N/A | D56: =VLOOKUP(B56,Уч!$A$2:$L$26,3,FALSE) -> #N/A | E56: Рез | F56: =VLOOKUP($B56,'100 м 1'!$C$18:$I$86,5,FALSE) -> #N/A | G56: =VLOOKUP($B56,'длина 2 '!$C$16:$O$54,11,FALSE) -> #N/A | H56: =VLOOKUP($B56,'ядро 2'!$C$16:$K$60,8,FALSE) -> #N/A | I56: =VLOOKUP($B56,'высота 2'!$C$16:$AF$57,13,FALSE) -> #N/A | J56: =VLOOKUP($B56,'4_р'!$C$17:$H$73,5,FALSE) -> 50.57 | K56: =VLOOKUP($B56,'1cб_р'!$C$17:$I$63,5,FALSE) -> 14.69 | L56: =VLOOKUP($B56,Дс_р!$C$16:$K$70,8,FALSE) -> 42.74 | M56: =VLOOKUP($B56,Ш_р!$C$15:$AF$69,17,FALSE) -> 0 | N56: =VLOOKUP($B56,К_р!$C$15:$K$68,8,FALSE) -> 0 | O56: =VLOOKUP($B56,'15_р'!$C$17:$H$86,5,FALSE) -> #N/A | P56: =SUM(F58:O58) -> #N/A | Q56: =LOOKUP(P56,$V$1:$V$7,$W$1:$W$7) -> #N/A | S56: =$A56 -> #N/A | T56: 1 | AF56: Мес | AG56: Оч | AH56: Бонус | AI56: Оч
C57: =VLOOKUP(B56,Уч!$A$2:$L$26,5,FALSE) -> #N/A | D57: =VLOOKUP(B56,Уч!$A$2:$L$26,4,FALSE) -> #N/A | E57: Вет | F57: =VLOOKUP($B56,'100 м 1'!$C$18:$I$86,6,FALSE) -> #N/A | G57: =VLOOKUP($B56,'длина 2 '!$C$16:$O$54,12,FALSE) -> #N/A | K57: =VLOOKUP($B56,'1cб_р'!$C$17:$I$63,6,FALSE) -> 0 | S57: =$A56 -> #N/A | T57: 2 | AF57: 1 | AG57: 20 | AH57: Взр+мол
C58: =VLOOKUP(B56,Уч!$A$2:$L$26,7) -> #N/A | E58: Оч | F58: =VLOOKUP($B56,'100 м 1'!$C$18:$I$86,7,FALSE) -> #N/A | G58: =VLOOKUP($B56,'длина 2 '!$C$16:$O$54,13,FALSE) -> #N/A | H58: =VLOOKUP($B56,'ядро 2'!$C$16:$K$60,9,FALSE) -> #N/A | I58: =VLOOKUP($B56,'высота 2'!$C$16:$AF$57,14,FALSE) -> #N/A | J58: =VLOOKUP($B56,'4_р'!$C$17:$H$73,6,FALSE) -> 789 | K58: =VLOOKUP($B56,'1cб_р'!$C$17:$I$63,7,FALSE) -> 887 | L58: =VLOOKUP($B56,Дс_р!$C$16:$K$70,9,FALSE) -> 720 | M58: =VLOOKUP($B56,Ш_р!$C$15:$AF$69,18,FALSE) -> 0 | N58: =VLOOKUP($B56,К_р!$C$15:$K$68,9,FALSE) -> 0 | O58: =VLOOKUP($B56,'15_р'!$C$17:$H$86,6,FALSE) -> #N/A | S58: =$A56 -> #N/A | T58: 3 | AF58: 2 | AG58: 17 | AH58: МСМК | AI58: 15
C59: =VLOOKUP(B56,Уч!$A$2:$L$26,11,FALSE) -> #N/A | E59: Сум | F59: =F58 -> #N/A | G59: =F59+G58 -> #N/A | H59: =G59+H58 -> #N/A | I59: =H59+I58 -> #N/A | J59: =SUM($F58:J58) -> #N/A | K59: =SUM($F58:$K58) -> #N/A | L59: =K59+L58 -> #N/A | M59: =L59+M58 -> #N/A | N59: =SUM($F58:$N58) -> #N/A | O59: =SUM($F58:$O58) -> #N/A | S59: =$A56 -> #N/A | T59: 4 | U59: =F59 -> #N/A | V59: =G59 -> #N/A | W59: =H59 -> #N/A | X59: =I59 -> #N/A | Y59: =J59 -> #N/A | Z59: =K59 -> #N/A | AA59: =L59 -> #N/A | AB59: =M59 -> #N/A | ... AD59: =O59 -> #N/A | AF59: 3 | AG59: 15 | AH59: МС | AI59: 5
C60: =VLOOKUP(B56,Уч!$A$2:$L$26,12,FALSE) -> #N/A | E60: Мес | F60: =RANK(F59,$U$19:$U$160,0) -> #N/A | G60: =RANK(G59,$V$19:$V$160,0) -> #N/A | H60: =RANK(H59,$W$19:$W$160,0) -> #N/A | I60: =RANK(I59,$X$19:$X$160,0) -> #N/A | J60: =RANK(J59,$Y$19:$Y$160,0) -> #N/A | K60: =RANK(K59,$Z$19:$Z$160,0) -> #N/A | L60: =RANK(L59,$AA$19:$AA$160,0) -> #N/A | M60: =RANK(M59,$AB$19:$AB$150,0) -> #N/A | N60: =RANK(N59,$AC$19:$AC$160,0) -> #N/A | O60: =RANK(O59,$AD$19:$AD$160,0) -> #N/A | S60: =$A56 -> #N/A | T60: 5 | AF60: 4 | AG60: 14
A61: =RANK(P61,$P$16:$P$160,0) -> #N/A | B61: 88 | C61: =VLOOKUP(B61,Уч!$A$2:$L$26,2,FALSE) -> Башаев Никита | D61: =VLOOKUP(B61,Уч!$A$2:$L$26,3,FALSE) -> 19.07.1997 | E61: Рез | F61: =VLOOKUP($B61,'100 м 1'!$C$18:$I$86,5,FALSE) -> 11.22 | G61: =VLOOKUP($B61,'длина 2 '!$C$16:$O$54,11,FALSE) -> 6.77 | H61: =VLOOKUP($B61,'ядро 2'!$C$16:$K$60,8,FALSE) -> 12.3 | I61: =VLOOKUP($B61,'высота 2'!$C$16:$AF$57,13,FALSE) -> 0 | J61: =VLOOKUP($B61,'4_р'!$C$17:$H$73,5,FALSE) -> #N/A | K61: =VLOOKUP($B61,'1cб_р'!$C$17:$I$63,5,FALSE) -> #N/A | L61: =VLOOKUP($B61,Дс_р!$C$16:$K$70,8,FALSE) -> #N/A | M61: =VLOOKUP($B61,Ш_р!$C$15:$AF$69,17,FALSE) -> #N/A | N61: =VLOOKUP($B61,К_р!$C$15:$K$68,8,FALSE) -> #N/A | O61: =VLOOKUP($B61,'15_р'!$C$17:$H$86,5,FALSE) -> #N/A | P61: =SUM(F63:O63) -> #N/A | Q61: =LOOKUP(P61,$V$1:$V$7,$W$1:$W$7) -> #N/A | S61: =$A61 -> #N/A | T61: 1
C62: =VLOOKUP(B61,Уч!$A$2:$L$26,5,FALSE) -> Челябинская область | D62: =VLOOKUP(B61,Уч!$A$2:$L$26,4,FALSE) -> КМС | E62: Вет | F62: =VLOOKUP($B61,'100 м 1'!$C$18:$I$86,6,FALSE) -> 0.8 | G62: =VLOOKUP($B61,'длина 2 '!$C$16:$O$54,12,FALSE) -> 0.1 | K62: =VLOOKUP($B61,'1cб_р'!$C$17:$I$63,6,FALSE) -> #N/A | S62: =$A61 -> #N/A | T62: 2
C63: =VLOOKUP(B61,Уч!$A$2:$L$26,7) -> ГБФСУ КО "СШОР по легкой атлетике им. В.А.Савенкова", ГАУ КО "ЦП ССК" | E63: Оч | F63: =VLOOKUP($B61,'100 м 1'!$C$18:$I$86,7,FALSE) -> 812 | G63: =VLOOKUP($B61,'длина 2 '!$C$16:$O$54,13,FALSE) -> 0 | H63: =VLOOKUP($B61,'ядро 2'!$C$16:$K$60,9,FALSE) -> 625 | I63: =VLOOKUP($B61,'высота 2'!$C$16:$AF$57,14,FALSE) -> 0 | J63: =VLOOKUP($B61,'4_р'!$C$17:$H$73,6,FALSE) -> #N/A | K63: =VLOOKUP($B61,'1cб_р'!$C$17:$I$63,7,FALSE) -> #N/A | L63: =VLOOKUP($B61,Дс_р!$C$16:$K$70,9,FALSE) -> #N/A | M63: =VLOOKUP($B61,Ш_р!$C$15:$AF$69,18,FALSE) -> #N/A | N63: =VLOOKUP($B61,К_р!$C$15:$K$68,9,FALSE) -> #N/A | O63: =VLOOKUP($B61,'15_р'!$C$17:$H$86,6,FALSE) -> #N/A | S63: =$A61 -> #N/A | T63: 3
C64: =VLOOKUP(B61,Уч!$A$2:$L$26,11,FALSE) -> Пугач С.В., Свистун В.В. | E64: Сум | F64: =F63 -> 812 | G64: =F64+G63 -> 812 | H64: =G64+H63 -> 1437 | I64: =H64+I63 -> 1437 | J64: =SUM($F63:J63) -> #N/A | K64: =SUM($F63:$K63) -> #N/A | L64: =K64+L63 -> #N/A | M64: =L64+M63 -> #N/A | N64: =SUM($F63:$N63) -> #N/A | O64: =SUM($F63:$O63) -> #N/A | S64: =$A61 -> #N/A | T64: 4 | U64: =F64 -> 812 | V64: =G64 -> 812 | W64: =H64 -> 1437 | X64: =I64 -> 1437 | Y64: =J64 -> #N/A | Z64: =K64 -> #N/A | AA64: =L64 -> #N/A | AB64: =M64 -> #N/A | ... AD64: =O64 -> #N/A
C65: =VLOOKUP(B61,Уч!$A$2:$L$26,12,FALSE) -> 0 | E65: Мес | F65: =RANK(F64,$U$19:$U$160,0) -> #N/A | G65: =RANK(G64,$V$19:$V$160,0) -> #N/A | H65: =RANK(H64,$W$19:$W$160,0) -> #N/A | I65: =RANK(I64,$X$19:$X$160,0) -> #N/A | J65: =RANK(J64,$Y$19:$Y$160,0) -> #N/A | K65: =RANK(K64,$Z$19:$Z$160,0) -> #N/A | L65: =RANK(L64,$AA$19:$AA$160,0) -> #N/A | M65: =RANK(M64,$AB$19:$AB$150,0) -> #N/A | N65: =RANK(N64,$AC$19:$AC$160,0) -> #N/A | O65: =RANK(O64,$AD$19:$AD$160,0) -> #N/A | S65: =$A61 -> #N/A | T65: 5
A66: =RANK(P66,$P$16:$P$160,0) -> #N/A | B66: 15 | C66: =VLOOKUP(B66,Уч!$A$2:$L$26,2,FALSE) -> #N/A | D66: =VLOOKUP(B66,Уч!$A$2:$L$26,3,FALSE) -> #N/A | E66: Рез | F66: =VLOOKUP($B66,'100 м 1'!$C$18:$I$86,5,FALSE) -> #N/A | G66: =VLOOKUP($B66,'длина 2 '!$C$16:$O$54,11,FALSE) -> #N/A | H66: =VLOOKUP($B66,'ядро 2'!$C$16:$K$60,8,FALSE) -> #N/A | I66: =VLOOKUP($B66,'высота 2'!$C$16:$AF$57,13,FALSE) -> #N/A | J66: =VLOOKUP($B66,'4_р'!$C$17:$H$73,5,FALSE) -> #N/A | K66: =VLOOKUP($B66,'1cб_р'!$C$17:$I$63,5,FALSE) -> #N/A | L66: =VLOOKUP($B66,Дс_р!$C$16:$K$70,8,FALSE) -> #N/A | M66: =VLOOKUP($B66,Ш_р!$C$15:$AF$69,17,FALSE) -> #N/A | N66: =VLOOKUP($B66,К_р!$C$15:$K$68,8,FALSE) -> #N/A | O66: =VLOOKUP($B66,'15_р'!$C$17:$H$86,5,FALSE) -> 0 | P66: =SUM(F68:O68) -> #N/A | Q66: =LOOKUP(P66,$V$1:$V$7,$W$1:$W$7) -> #N/A | S66: =$A66 -> #N/A | T66: 1
C67: =VLOOKUP(B66,Уч!$A$2:$L$26,5,FALSE) -> #N/A | D67: =VLOOKUP(B66,Уч!$A$2:$L$26,4,FALSE) -> #N/A | E67: Вет | F67: =VLOOKUP($B66,'100 м 1'!$C$18:$I$86,6,FALSE) -> #N/A | G67: =VLOOKUP($B66,'длина 2 '!$C$16:$O$54,12,FALSE) -> #N/A | K67: =VLOOKUP($B66,'1cб_р'!$C$17:$I$63,6,FALSE) -> #N/A | S67: =$A66 -> #N/A | T67: 2
C68: =VLOOKUP(B66,Уч!$A$2:$L$26,7) -> #N/A | E68: Оч | F68: =VLOOKUP($B66,'100 м 1'!$C$18:$I$86,7,FALSE) -> #N/A | G68: =VLOOKUP($B66,'длина 2 '!$C$16:$O$54,13,FALSE) -> #N/A | H68: =VLOOKUP($B66,'ядро 2'!$C$16:$K$60,9,FALSE) -> #N/A | I68: =VLOOKUP($B66,'высота 2'!$C$16:$AF$57,14,FALSE) -> #N/A | J68: =VLOOKUP($B66,'4_р'!$C$17:$H$73,6,FALSE) -> #N/A | K68: =VLOOKUP($B66,'1cб_р'!$C$17:$I$63,7,FALSE) -> #N/A | L68: =VLOOKUP($B66,Дс_р!$C$16:$K$70,9,FALSE) -> #N/A | M68: =VLOOKUP($B66,Ш_р!$C$15:$AF$69,18,FALSE) -> #N/A | N68: =VLOOKUP($B66,К_р!$C$15:$K$68,9,FALSE) -> #N/A | O68: =VLOOKUP($B66,'15_р'!$C$17:$H$86,6,FALSE) -> 0 | S68: =$A66 -> #N/A | T68: 3
C69: =VLOOKUP(B66,Уч!$A$2:$L$26,11,FALSE) -> #N/A | E69: Сум | F69: =F68 -> #N/A | G69: =F69+G68 -> #N/A | H69: =G69+H68 -> #N/A | I69: =H69+I68 -> #N/A | J69: =SUM($F68:J68) -> #N/A | K69: =SUM($F68:$K68) -> #N/A | L69: =K69+L68 -> #N/A | M69: =L69+M68 -> #N/A | N69: =SUM($F68:$N68) -> #N/A | O69: =SUM($F68:$O68) -> #N/A | S69: =$A66 -> #N/A | T69: 4 | U69: =F69 -> #N/A | V69: =G69 -> #N/A | W69: =H69 -> #N/A | X69: =I69 -> #N/A | Y69: =J69 -> #N/A | Z69: =K69 -> #N/A | AA69: =L69 -> #N/A | AB69: =M69 -> #N/A | ... AD69: =O69 -> #N/A
C70: =VLOOKUP(B66,Уч!$A$2:$L$26,12,FALSE) -> #N/A | E70: Мес | F70: =RANK(F69,$U$19:$U$160,0) -> #N/A | G70: =RANK(G69,$V$19:$V$160,0) -> #N/A | H70: =RANK(H69,$W$19:$W$160,0) -> #N/A | I70: =RANK(I69,$X$19:$X$160,0) -> #N/A | J70: =RANK(J69,$Y$19:$Y$160,0) -> #N/A | K70: =RANK(K69,$Z$19:$Z$160,0) -> #N/A | L70: =RANK(L69,$AA$19:$AA$160,0) -> #N/A | M70: =RANK(M69,$AB$19:$AB$150,0) -> #N/A | N70: =RANK(N69,$AC$19:$AC$160,0) -> #N/A | O70: =RANK(O69,$AD$19:$AD$160,0) -> #N/A | S70: =$A66 -> #N/A | T70: 5
A71: =RANK(P71,$P$16:$P$160,0) -> #N/A | B71: 89 | C71: =VLOOKUP(B71,Уч!$A$2:$L$26,2,FALSE) -> #N/A | D71: =VLOOKUP(B71,Уч!$A$2:$L$26,3,FALSE) -> #N/A | E71: Рез | F71: =VLOOKUP($B71,'100 м 1'!$C$18:$I$86,5,FALSE) -> 11.89 | G71: =VLOOKUP($B71,'длина 2 '!$C$16:$O$54,11,FALSE) -> 7.16 | H71: =VLOOKUP($B71,'ядро 2'!$C$16:$K$60,8,FALSE) -> 12.7 | I71: =VLOOKUP($B71,'высота 2'!$C$16:$AF$57,13,FALSE) -> 0 | J71: =VLOOKUP($B71,'4_р'!$C$17:$H$73,5,FALSE) -> #N/A | K71: =VLOOKUP($B71,'1cб_р'!$C$17:$I$63,5,FALSE) -> #N/A | L71: =VLOOKUP($B71,Дс_р!$C$16:$K$70,8,FALSE) -> #N/A | M71: =VLOOKUP($B71,Ш_р!$C$15:$AF$69,17,FALSE) -> #N/A | N71: =VLOOKUP($B71,К_р!$C$15:$K$68,8,FALSE) -> #N/A | O71: =VLOOKUP($B71,'15_р'!$C$17:$H$86,5,FALSE) -> #N/A | P71: =SUM(F73:O73) -> #N/A | Q71: =LOOKUP(P71,$V$1:$V$7,$W$1:$W$7) -> #N/A | R71: лично | S71: =$A71 -> #N/A | T71: 1
C72: =VLOOKUP(B71,Уч!$A$2:$L$26,5,FALSE) -> #N/A | D72: =VLOOKUP(B71,Уч!$A$2:$L$26,4,FALSE) -> #N/A | E72: Вет | F72: =VLOOKUP($B71,'100 м 1'!$C$18:$I$86,6,FALSE) -> 2 | G72: =VLOOKUP($B71,'длина 2 '!$C$16:$O$54,12,FALSE) -> 0.7 | K72: =VLOOKUP($B71,'1cб_р'!$C$17:$I$63,6,FALSE) -> #N/A | S72: =$A71 -> #N/A | T72: 2
C73: =VLOOKUP(B71,Уч!$A$2:$L$26,7) -> ГБФСУ КО "СШОР по легкой атлетике им. В.А.Савенкова", ГАУ КО "ЦП ССК" | E73: Оч | F73: =VLOOKUP($B71,'100 м 1'!$C$18:$I$86,7,FALSE) -> 673 | G73: =VLOOKUP($B71,'длина 2 '!$C$16:$O$54,13,FALSE) -> 0 | H73: =VLOOKUP($B71,'ядро 2'!$C$16:$K$60,9,FALSE) -> 649 | I73: =VLOOKUP($B71,'высота 2'!$C$16:$AF$57,14,FALSE) -> 0 | J73: =VLOOKUP($B71,'4_р'!$C$17:$H$73,6,FALSE) -> #N/A | K73: =VLOOKUP($B71,'1cб_р'!$C$17:$I$63,7,FALSE) -> #N/A | L73: =VLOOKUP($B71,Дс_р!$C$16:$K$70,9,FALSE) -> #N/A | M73: =VLOOKUP($B71,Ш_р!$C$15:$AF$69,18,FALSE) -> #N/A | N73: =VLOOKUP($B71,К_р!$C$15:$K$68,9,FALSE) -> #N/A | O73: =VLOOKUP($B71,'15_р'!$C$17:$H$86,6,FALSE) -> #N/A | S73: =$A71 -> #N/A | T73: 3
C74: =VLOOKUP(B71,Уч!$A$2:$L$26,11,FALSE) -> #N/A | E74: Сум | F74: =F73 -> 673 | G74: =F74+G73 -> 673 | H74: =G74+H73 -> 1322 | I74: =H74+I73 -> 1322 | J74: =SUM($F73:J73) -> #N/A | K74: =SUM($F73:$K73) -> #N/A | L74: =K74+L73 -> #N/A | M74: =L74+M73 -> #N/A | N74: =SUM($F73:$N73) -> #N/A | O74: =SUM($F73:$O73) -> #N/A | S74: =$A71 -> #N/A | T74: 4 | U74: =F74 -> 673 | V74: =G74 -> 673 | W74: =H74 -> 1322 | X74: =I74 -> 1322 | Y74: =J74 -> #N/A | Z74: =K74 -> #N/A | AA74: =L74 -> #N/A | AB74: =M74 -> #N/A | ... AD74: =O74 -> #N/A
C75: =VLOOKUP(B71,Уч!$A$2:$L$26,12,FALSE) -> #N/A | E75: Мес | F75: =RANK(F74,$U$19:$U$160,0) -> #N/A | G75: =RANK(G74,$V$19:$V$160,0) -> #N/A | H75: =RANK(H74,$W$19:$W$160,0) -> #N/A | I75: =RANK(I74,$X$19:$X$160,0) -> #N/A | J75: =RANK(J74,$Y$19:$Y$160,0) -> #N/A | K75: =RANK(K74,$Z$19:$Z$160,0) -> #N/A | L75: =RANK(L74,$AA$19:$AA$160,0) -> #N/A | M75: =RANK(M74,$AB$19:$AB$150,0) -> #N/A | N75: =RANK(N74,$AC$19:$AC$160,0) -> #N/A | O75: =RANK(O74,$AD$19:$AD$160,0) -> #N/A | S75: =$A71 -> #N/A | T75: 5
A76: =RANK(P76,$P$16:$P$160,0) -> #N/A | B76: 36 | C76: =VLOOKUP(B76,Уч!$A$2:$L$26,2,FALSE) -> Королёв Максим | D76: =VLOOKUP(B76,Уч!$A$2:$L$26,3,FALSE) -> 06.01.1988 | E76: Рез | F76: =VLOOKUP($B76,'100 м 1'!$C$18:$I$86,5,FALSE) -> 11.62 | G76: =VLOOKUP($B76,'длина 2 '!$C$16:$O$54,11,FALSE) -> #N/A | H76: =VLOOKUP($B76,'ядро 2'!$C$16:$K$60,8,FALSE) -> #N/A | I76: =VLOOKUP($B76,'высота 2'!$C$16:$AF$57,13,FALSE) -> #N/A | J76: =VLOOKUP($B76,'4_р'!$C$17:$H$73,5,FALSE) -> #N/A | K76: =VLOOKUP($B76,'1cб_р'!$C$17:$I$63,5,FALSE) -> #N/A | L76: =VLOOKUP($B76,Дс_р!$C$16:$K$70,8,FALSE) -> #N/A | M76: =VLOOKUP($B76,Ш_р!$C$15:$AF$69,17,FALSE) -> #N/A | N76: =VLOOKUP($B76,К_р!$C$15:$K$68,8,FALSE) -> #N/A | O76: =VLOOKUP($B76,'15_р'!$C$17:$H$86,5,FALSE) -> #N/A | P76: =SUM(F78:O78) -> #N/A | Q76: =LOOKUP(P76,$V$1:$V$7,$W$1:$W$7) -> #N/A | S76: =$A76 -> #N/A | T76: 1
C77: =VLOOKUP(B76,Уч!$A$2:$L$26,5,FALSE) -> Липецкая область | D77: =VLOOKUP(B76,Уч!$A$2:$L$26,4,FALSE) -> МС | E77: Вет | F77: =VLOOKUP($B76,'100 м 1'!$C$18:$I$86,6,FALSE) -> 0 | G77: =VLOOKUP($B76,'длина 2 '!$C$16:$O$54,12,FALSE) -> #N/A | K77: =VLOOKUP($B76,'1cб_р'!$C$17:$I$63,6,FALSE) -> #N/A | S77: =$A76 -> #N/A | T77: 2
C78: =VLOOKUP(B76,Уч!$A$2:$L$26,7) -> ГБУ ЛО ОК СШОР | E78: Оч | F78: =VLOOKUP($B76,'100 м 1'!$C$18:$I$86,7,FALSE) -> 728 | G78: =VLOOKUP($B76,'длина 2 '!$C$16:$O$54,13,FALSE) -> #N/A | H78: =VLOOKUP($B76,'ядро 2'!$C$16:$K$60,9,FALSE) -> #N/A | I78: =VLOOKUP($B76,'высота 2'!$C$16:$AF$57,14,FALSE) -> #N/A | J78: =VLOOKUP($B76,'4_р'!$C$17:$H$73,6,FALSE) -> #N/A | K78: =VLOOKUP($B76,'1cб_р'!$C$17:$I$63,7,FALSE) -> #N/A | L78: =VLOOKUP($B76,Дс_р!$C$16:$K$70,9,FALSE) -> #N/A | M78: =VLOOKUP($B76,Ш_р!$C$15:$AF$69,18,FALSE) -> #N/A | N78: =VLOOKUP($B76,К_р!$C$15:$K$68,9,FALSE) -> #N/A | O78: =VLOOKUP($B76,'15_р'!$C$17:$H$86,6,FALSE) -> #N/A | S78: =$A76 -> #N/A | T78: 3
C79: =VLOOKUP(B76,Уч!$A$2:$L$26,11,FALSE) -> Стегачёв И.Н., Королева К.В., Фролов С.В. | E79: Сум | F79: =F78 -> 728 | G79: =F79+G78 -> #N/A | H79: =G79+H78 -> #N/A | I79: =H79+I78 -> #N/A | J79: =SUM($F78:J78) -> #N/A | K79: =SUM($F78:$K78) -> #N/A | L79: =K79+L78 -> #N/A | M79: =L79+M78 -> #N/A | N79: =SUM($F78:$N78) -> #N/A | O79: =SUM($F78:$O78) -> #N/A | S79: =$A76 -> #N/A | T79: 4 | U79: =F79 -> 728 | V79: =G79 -> #N/A | W79: =H79 -> #N/A | X79: =I79 -> #N/A | Y79: =J79 -> #N/A | Z79: =K79 -> #N/A | AA79: =L79 -> #N/A | AB79: =M79 -> #N/A | ... AD79: =O79 -> #N/A
C80: =VLOOKUP(B76,Уч!$A$2:$L$26,12,FALSE) -> 0 | E80: Мес | F80: =RANK(F79,$U$19:$U$160,0) -> #N/A | G80: =RANK(G79,$V$19:$V$160,0) -> #N/A | H80: =RANK(H79,$W$19:$W$160,0) -> #N/A | I80: =RANK(I79,$X$19:$X$160,0) -> #N/A | J80: =RANK(J79,$Y$19:$Y$160,0) -> #N/A | K80: =RANK(K79,$Z$19:$Z$160,0) -> #N/A | L80: =RANK(L79,$AA$19:$AA$160,0) -> #N/A | M80: =RANK(M79,$AB$19:$AB$150,0) -> #N/A | N80: =RANK(N79,$AC$19:$AC$160,0) -> #N/A | O80: =RANK(O79,$AD$19:$AD$160,0) -> #N/A | S80: =$A76 -> #N/A | T80: 5
A81: =RANK(P81,$P$16:$P$160,0) -> #N/A | B81: 22 | C81: =VLOOKUP(B81,Уч!$A$2:$L$26,2,FALSE) -> Чернов Евгений | D81: 32964 | E81: Рез | F81: =VLOOKUP($B81,'100 м 1'!$C$18:$I$86,5,FALSE) -> 11.8 | G81: =VLOOKUP($B81,'длина 2 '!$C$16:$O$54,11,FALSE) -> #N/A | H81: =VLOOKUP($B81,'ядро 2'!$C$16:$K$60,8,FALSE) -> #N/A | I81: =VLOOKUP($B81,'высота 2'!$C$16:$AF$57,13,FALSE) -> #N/A | J81: =VLOOKUP($B81,'4_р'!$C$17:$H$73,5,FALSE) -> #N/A | K81: =VLOOKUP($B81,'1cб_р'!$C$17:$I$63,5,FALSE) -> #N/A | L81: =VLOOKUP($B81,Дс_р!$C$16:$K$70,8,FALSE) -> #N/A | M81: =VLOOKUP($B81,Ш_р!$C$15:$AF$69,17,FALSE) -> #N/A | N81: =VLOOKUP($B81,К_р!$C$15:$K$68,8,FALSE) -> #N/A | O81: =VLOOKUP($B81,'15_р'!$C$17:$H$86,5,FALSE) -> 0 | P81: =SUM(F83:O83) -> #N/A | Q81: =LOOKUP(P81,$V$1:$V$7,$W$1:$W$7) -> #N/A | S81: =$A81 -> #N/A | T81: 1
C82: =VLOOKUP(B81,Уч!$A$2:$L$26,5,FALSE) -> Краснодарский край | D82: =VLOOKUP(B81,Уч!$A$2:$L$26,4,FALSE) -> МС | E82: Вет | F82: =VLOOKUP($B81,'100 м 1'!$C$18:$I$86,6,FALSE) -> 0 | G82: =VLOOKUP($B81,'длина 2 '!$C$16:$O$54,12,FALSE) -> #N/A | K82: =VLOOKUP($B81,'1cб_р'!$C$17:$I$63,6,FALSE) -> #N/A | S82: =$A81 -> #N/A | T82: 2
C83: =VLOOKUP(B81,Уч!$A$2:$L$26,7) -> #N/A | E83: Оч | F83: =VLOOKUP($B81,'100 м 1'!$C$18:$I$86,7,FALSE) -> 691 | G83: =VLOOKUP($B81,'длина 2 '!$C$16:$O$54,13,FALSE) -> #N/A | H83: =VLOOKUP($B81,'ядро 2'!$C$16:$K$60,9,FALSE) -> #N/A | I83: =VLOOKUP($B81,'высота 2'!$C$16:$AF$57,14,FALSE) -> #N/A | J83: =VLOOKUP($B81,'4_р'!$C$17:$H$73,6,FALSE) -> #N/A | K83: =VLOOKUP($B81,'1cб_р'!$C$17:$I$63,7,FALSE) -> #N/A | L83: =VLOOKUP($B81,Дс_р!$C$16:$K$70,9,FALSE) -> #N/A | M83: =VLOOKUP($B81,Ш_р!$C$15:$AF$69,18,FALSE) -> #N/A | N83: =VLOOKUP($B81,К_р!$C$15:$K$68,9,FALSE) -> #N/A | O83: =VLOOKUP($B81,'15_р'!$C$17:$H$86,6,FALSE) -> 0 | S83: =$A81 -> #N/A | T83: 3
C84: =VLOOKUP(B81,Уч!$A$2:$L$26,11,FALSE) -> Чернов С.А., Мирошниченко В.И., Чернова Т.С. | E84: Сум | F84: =F83 -> 691 | G84: =F84+G83 -> #N/A | H84: =G84+H83 -> #N/A | I84: =H84+I83 -> #N/A | J84: =SUM($F83:J83) -> #N/A | K84: =SUM($F83:$K83) -> #N/A | L84: =K84+L83 -> #N/A | M84: =L84+M83 -> #N/A | N84: =SUM($F83:$N83) -> #N/A | O84: =SUM($F83:$O83) -> #N/A | S84: =$A81 -> #N/A | T84: 4 | U84: =F84 -> 691 | V84: =G84 -> #N/A | W84: =H84 -> #N/A | X84: =I84 -> #N/A | Y84: =J84 -> #N/A | Z84: =K84 -> #N/A | AA84: =L84 -> #N/A | AB84: =M84 -> #N/A | ... AD84: =O84 -> #N/A
C85: =VLOOKUP(B81,Уч!$A$2:$L$26,12,FALSE) -> 0 | E85: Мес | F85: =RANK(F84,$U$19:$U$160,0) -> #N/A | G85: =RANK(G84,$V$19:$V$160,0) -> #N/A | H85: =RANK(H84,$W$19:$W$160,0) -> #N/A | I85: =RANK(I84,$X$19:$X$160,0) -> #N/A | J85: =RANK(J84,$Y$19:$Y$160,0) -> #N/A | K85: =RANK(K84,$Z$19:$Z$160,0) -> #N/A | L85: =RANK(L84,$AA$19:$AA$160,0) -> #N/A | M85: =RANK(M84,$AB$19:$AB$150,0) -> #N/A | N85: =RANK(N84,$AC$19:$AC$160,0) -> #N/A | O85: =RANK(O84,$AD$19:$AD$160,0) -> #N/A | S85: =$A81 -> #N/A | T85: 5
A86: =RANK(P86,$P$16:$P$160,0) -> #N/A | B86: 105 | C86: =VLOOKUP(B86,Уч!$A$2:$L$26,2,FALSE) -> #N/A | D86: =VLOOKUP(B86,Уч!$A$2:$L$26,3,FALSE) -> #N/A | E86: Рез | F86: =VLOOKUP($B86,'100 м 1'!$C$18:$I$86,5,FALSE) -> #N/A | G86: =VLOOKUP($B86,'длина 2 '!$C$16:$O$54,11,FALSE) -> #N/A | H86: =VLOOKUP($B86,'ядро 2'!$C$16:$K$60,8,FALSE) -> #N/A | I86: =VLOOKUP($B86,'высота 2'!$C$16:$AF$57,13,FALSE) -> #N/A | J86: =VLOOKUP($B86,'4_р'!$C$17:$H$73,5,FALSE) -> #N/A | K86: =VLOOKUP($B86,'1cб_р'!$C$17:$I$63,5,FALSE) -> #N/A | L86: =VLOOKUP($B86,Дс_р!$C$16:$K$70,8,FALSE) -> #N/A | M86: =VLOOKUP($B86,Ш_р!$C$15:$AF$69,17,FALSE) -> #N/A | N86: =VLOOKUP($B86,К_р!$C$15:$K$68,8,FALSE) -> #N/A | O86: =VLOOKUP($B86,'15_р'!$C$17:$H$86,5,FALSE) -> #N/A | P86: =SUM(F88:O88) -> #N/A | Q86: =LOOKUP(P86,$V$1:$V$7,$W$1:$W$7) -> #N/A | S86: =$A86 -> #N/A | T86: 1
C87: =VLOOKUP(B86,Уч!$A$2:$L$26,5,FALSE) -> #N/A | D87: =VLOOKUP(B86,Уч!$A$2:$L$26,4,FALSE) -> #N/A | E87: Вет | F87: =VLOOKUP($B86,'100 м 1'!$C$18:$I$86,6,FALSE) -> #N/A | G87: =VLOOKUP($B86,'длина 2 '!$C$16:$O$54,12,FALSE) -> #N/A | K87: =VLOOKUP($B86,'1cб_р'!$C$17:$I$63,6,FALSE) -> #N/A | S87: =$A86 -> #N/A | T87: 2
C88: =VLOOKUP(B86,Уч!$A$2:$L$26,7) -> ГБФСУ КО "СШОР по легкой атлетике им. В.А.Савенкова", ГАУ КО "ЦП ССК" | E88: Оч | F88: =VLOOKUP($B86,'100 м 1'!$C$18:$I$86,7,FALSE) -> #N/A | G88: =VLOOKUP($B86,'длина 2 '!$C$16:$O$54,13,FALSE) -> #N/A | H88: =VLOOKUP($B86,'ядро 2'!$C$16:$K$60,9,FALSE) -> #N/A | I88: =VLOOKUP($B86,'высота 2'!$C$16:$AF$57,14,FALSE) -> #N/A | J88: =VLOOKUP($B86,'4_р'!$C$17:$H$73,6,FALSE) -> #N/A | K88: =VLOOKUP($B86,'1cб_р'!$C$17:$I$63,7,FALSE) -> #N/A | L88: =VLOOKUP($B86,Дс_р!$C$16:$K$70,9,FALSE) -> #N/A | M88: =VLOOKUP($B86,Ш_р!$C$15:$AF$69,18,FALSE) -> #N/A | N88: =VLOOKUP($B86,К_р!$C$15:$K$68,9,FALSE) -> #N/A | O88: =VLOOKUP($B86,'15_р'!$C$17:$H$86,6,FALSE) -> #N/A | S88: =$A86 -> #N/A | T88: 3
C89: =VLOOKUP(B86,Уч!$A$2:$L$26,11,FALSE) -> #N/A | E89: Сум | F89: =F88 -> #N/A | G89: =F89+G88 -> #N/A | H89: =G89+H88 -> #N/A | I89: =H89+I88 -> #N/A | J89: =SUM($F88:J88) -> #N/A | K89: =SUM($F88:$K88) -> #N/A | L89: =K89+L88 -> #N/A | M89: =L89+M88 -> #N/A | N89: =SUM($F88:$N88) -> #N/A | O89: =SUM($F88:$O88) -> #N/A | S89: =$A86 -> #N/A | T89: 4 | U89: =F89 -> #N/A | V89: =G89 -> #N/A | W89: =H89 -> #N/A | X89: =I89 -> #N/A | Y89: =J89 -> #N/A | Z89: =K89 -> #N/A | AA89: =L89 -> #N/A | AB89: =M89 -> #N/A | ... AD89: =O89 -> #N/A
C90: =VLOOKUP(B86,Уч!$A$2:$L$26,12,FALSE) -> #N/A | E90: Мес | F90: =RANK(F89,$U$19:$U$160,0) -> #N/A | G90: =RANK(G89,$V$19:$V$160,0) -> #N/A | H90: =RANK(H89,$W$19:$W$160,0) -> #N/A | I90: =RANK(I89,$X$19:$X$160,0) -> #N/A | J90: =RANK(J89,$Y$19:$Y$160,0) -> #N/A | K90: =RANK(K89,$Z$19:$Z$160,0) -> #N/A | L90: =RANK(L89,$AA$19:$AA$160,0) -> #N/A | M90: =RANK(M89,$AB$19:$AB$150,0) -> #N/A | N90: =RANK(N89,$AC$19:$AC$160,0) -> #N/A | O90: =RANK(O89,$AD$19:$AD$160,0) -> #N/A | S90: =$A86 -> #N/A | T90: 5
A91: =RANK(P91,$P$16:$P$160,0) -> #N/A | B91: 24 | C91: =VLOOKUP(B91,Уч!$A$2:$L$26,2,FALSE) -> #N/A | D91: =VLOOKUP(B91,Уч!$A$2:$L$26,3,FALSE) -> #N/A | E91: Рез | F91: =VLOOKUP($B91,'100 м 1'!$C$18:$I$86,5,FALSE) -> 11.15 | G91: =VLOOKUP($B91,'длина 2 '!$C$16:$O$54,11,FALSE) -> #N/A | H91: =VLOOKUP($B91,'ядро 2'!$C$16:$K$60,8,FALSE) -> #N/A | I91: =VLOOKUP($B91,'высота 2'!$C$16:$AF$57,13,FALSE) -> #N/A | J91: =VLOOKUP($B91,'4_р'!$C$17:$H$73,5,FALSE) -> 54.8 | K91: =VLOOKUP($B91,'1cб_р'!$C$17:$I$63,5,FALSE) -> 17.36 | L91: =VLOOKUP($B91,Дс_р!$C$16:$K$70,8,FALSE) -> 29.35 | M91: =VLOOKUP($B91,Ш_р!$C$15:$AF$69,17,FALSE) -> 0 | N91: =VLOOKUP($B91,К_р!$C$15:$K$68,8,FALSE) -> 45.16 | O91: =VLOOKUP($B91,'15_р'!$C$17:$H$86,5,FALSE) -> 4:51.71 | P91: =SUM(F93:O93) -> #N/A | Q91: =LOOKUP(P91,$V$1:$V$7,$W$1:$W$7) -> #N/A | S91: =$A91 -> #N/A | T91: 1
C92: =VLOOKUP(B91,Уч!$A$2:$L$26,5,FALSE) -> #N/A | D92: =VLOOKUP(B91,Уч!$A$2:$L$26,4,FALSE) -> #N/A | E92: Вет | F92: =VLOOKUP($B91,'100 м 1'!$C$18:$I$86,6,FALSE) -> 1 | G92: =VLOOKUP($B91,'длина 2 '!$C$16:$O$54,12,FALSE) -> #N/A | K92: =VLOOKUP($B91,'1cб_р'!$C$17:$I$63,6,FALSE) -> 0 | S92: =$A91 -> #N/A | T92: 2
C93: =VLOOKUP(B91,Уч!$A$2:$L$26,7) -> #N/A | E93: Оч | F93: =VLOOKUP($B91,'100 м 1'!$C$18:$I$86,7,FALSE) -> 827 | G93: =VLOOKUP($B91,'длина 2 '!$C$16:$O$54,13,FALSE) -> #N/A | H93: =VLOOKUP($B91,'ядро 2'!$C$16:$K$60,9,FALSE) -> #N/A | I93: =VLOOKUP($B91,'высота 2'!$C$16:$AF$57,14,FALSE) -> #N/A | J93: =VLOOKUP($B91,'4_р'!$C$17:$H$73,6,FALSE) -> 607 | K93: =VLOOKUP($B91,'1cб_р'!$C$17:$I$63,7,FALSE) -> 587 | L93: =VLOOKUP($B91,Дс_р!$C$16:$K$70,9,FALSE) -> 452 | M93: =VLOOKUP($B91,Ш_р!$C$15:$AF$69,18,FALSE) -> 0 | N93: =VLOOKUP($B91,К_р!$C$15:$K$68,9,FALSE) -> 517 | O93: =VLOOKUP($B91,'15_р'!$C$17:$H$86,6,FALSE) -> 608 | S93: =$A91 -> #N/A | T93: 3
C94: =VLOOKUP(B91,Уч!$A$2:$L$26,11,FALSE) -> #N/A | E94: Сум | F94: =F93 -> 827 | G94: =F94+G93 -> #N/A | H94: =G94+H93 -> #N/A | I94: =H94+I93 -> #N/A | J94: =SUM($F93:J93) -> #N/A | K94: =SUM($F93:$K93) -> #N/A | L94: =K94+L93 -> #N/A | M94: =L94+M93 -> #N/A | N94: =SUM($F93:$N93) -> #N/A | O94: =SUM($F93:$O93) -> #N/A | S94: =$A91 -> #N/A | T94: 4 | U94: =F94 -> 827 | V94: =G94 -> #N/A | W94: =H94 -> #N/A | X94: =I94 -> #N/A | Y94: =J94 -> #N/A | Z94: =K94 -> #N/A | AA94: =L94 -> #N/A | AB94: =M94 -> #N/A | ... AD94: =O94 -> #N/A
C95: =VLOOKUP(B91,Уч!$A$2:$L$26,12,FALSE) -> #N/A | E95: Мес | F95: =RANK(F94,$U$19:$U$160,0) -> #N/A | G95: =RANK(G94,$V$19:$V$160,0) -> #N/A | H95: =RANK(H94,$W$19:$W$160,0) -> #N/A | I95: =RANK(I94,$X$19:$X$160,0) -> #N/A | J95: =RANK(J94,$Y$19:$Y$160,0) -> #N/A | K95: =RANK(K94,$Z$19:$Z$160,0) -> #N/A | L95: =RANK(L94,$AA$19:$AA$160,0) -> #N/A | M95: =RANK(M94,$AB$19:$AB$150,0) -> #N/A | N95: =RANK(N94,$AC$19:$AC$160,0) -> #N/A | O95: =RANK(O94,$AD$19:$AD$160,0) -> #N/A | S95: =$A91 -> #N/A | T95: 5
A96: =RANK(P96,$P$16:$P$160,0) -> #N/A | B96: 84 | C96: =VLOOKUP(B96,Уч!$A$2:$L$26,2,FALSE) -> #N/A | D96: =VLOOKUP(B96,Уч!$A$2:$L$26,3,FALSE) -> #N/A | E96: Рез | F96: =VLOOKUP($B96,'100 м 1'!$C$18:$I$86,5,FALSE) -> #N/A | G96: =VLOOKUP($B96,'длина 2 '!$C$16:$O$54,11,FALSE) -> #N/A | H96: =VLOOKUP($B96,'ядро 2'!$C$16:$K$60,8,FALSE) -> #N/A | I96: =VLOOKUP($B96,'высота 2'!$C$16:$AF$57,13,FALSE) -> #N/A | J96: =VLOOKUP($B96,'4_р'!$C$17:$H$73,5,FALSE) -> #N/A | K96: =VLOOKUP($B96,'1cб_р'!$C$17:$I$63,5,FALSE) -> #N/A | L96: =VLOOKUP($B96,Дс_р!$C$16:$K$70,8,FALSE) -> #N/A | M96: =VLOOKUP($B96,Ш_р!$C$15:$AF$69,17,FALSE) -> #N/A | N96: =VLOOKUP($B96,К_р!$C$15:$K$68,8,FALSE) -> #N/A | O96: =VLOOKUP($B96,'15_р'!$C$17:$H$86,5,FALSE) -> #N/A | P96: =SUM(F98:O98) -> #N/A | Q96: =LOOKUP(P96,$V$1:$V$7,$W$1:$W$7) -> #N/A | S96: =$A96 -> #N/A | T96: 1
C97: =VLOOKUP(B96,Уч!$A$2:$L$26,5,FALSE) -> #N/A | D97: =VLOOKUP(B96,Уч!$A$2:$L$26,4,FALSE) -> #N/A | E97: Вет | F97: =VLOOKUP($B96,'100 м 1'!$C$18:$I$86,6,FALSE) -> #N/A | G97: =VLOOKUP($B96,'длина 2 '!$C$16:$O$54,12,FALSE) -> #N/A | K97: =VLOOKUP($B96,'1cб_р'!$C$17:$I$63,6,FALSE) -> #N/A | S97: =$A96 -> #N/A | T97: 2
C98: =VLOOKUP(B96,Уч!$A$2:$L$26,7) -> ГБФСУ КО "СШОР по легкой атлетике им. В.А.Савенкова", ГАУ КО "ЦП ССК" | E98: Оч | F98: =VLOOKUP($B96,'100 м 1'!$C$18:$I$86,7,FALSE) -> #N/A | G98: =VLOOKUP($B96,'длина 2 '!$C$16:$O$54,13,FALSE) -> #N/A | H98: =VLOOKUP($B96,'ядро 2'!$C$16:$K$60,9,FALSE) -> #N/A | I98: =VLOOKUP($B96,'высота 2'!$C$16:$AF$57,14,FALSE) -> #N/A | J98: =VLOOKUP($B96,'4_р'!$C$17:$H$73,6,FALSE) -> #N/A | K98: =VLOOKUP($B96,'1cб_р'!$C$17:$I$63,7,FALSE) -> #N/A | L98: =VLOOKUP($B96,Дс_р!$C$16:$K$70,9,FALSE) -> #N/A | M98: =VLOOKUP($B96,Ш_р!$C$15:$AF$69,18,FALSE) -> #N/A | N98: =VLOOKUP($B96,К_р!$C$15:$K$68,9,FALSE) -> #N/A | O98: =VLOOKUP($B96,'15_р'!$C$17:$H$86,6,FALSE) -> #N/A | S98: =$A96 -> #N/A | T98: 3
C99: =VLOOKUP(B96,Уч!$A$2:$L$26,11,FALSE) -> #N/A | E99: Сум | F99: =F98 -> #N/A | G99: =F99+G98 -> #N/A | H99: =G99+H98 -> #N/A | I99: =H99+I98 -> #N/A | J99: =SUM($F98:J98) -> #N/A | K99: =SUM($F98:$K98) -> #N/A | L99: =K99+L98 -> #N/A | M99: =L99+M98 -> #N/A | N99: =SUM($F98:$N98) -> #N/A | O99: =SUM($F98:$O98) -> #N/A | S99: =$A96 -> #N/A | T99: 4 | U99: =F99 -> #N/A | V99: =G99 -> #N/A | W99: =H99 -> #N/A | X99: =I99 -> #N/A | Y99: =J99 -> #N/A | Z99: =K99 -> #N/A | AA99: =L99 -> #N/A | AB99: =M99 -> #N/A | ... AD99: =O99 -> #N/A
E100: Мес | F100: =RANK(F99,$U$19:$U$160,0) -> #N/A | G100: =RANK(G99,$V$19:$V$160,0) -> #N/A | H100: =RANK(H99,$W$19:$W$160,0) -> #N/A | I100: =RANK(I99,$X$19:$X$160,0) -> #N/A | J100: =RANK(J99,$Y$19:$Y$160,0) -> #N/A | K100: =RANK(K99,$Z$19:$Z$160,0) -> #N/A | L100: =RANK(L99,$AA$19:$AA$160,0) -> #N/A | M100: =RANK(M99,$AB$19:$AB$150,0) -> #N/A | N100: =RANK(N99,$AC$19:$AC$160,0) -> #N/A | O100: =RANK(O99,$AD$19:$AD$160,0) -> #N/A | S100: =$A96 -> #N/A | T100: 5
A101: =RANK(P101,$P$16:$P$160,0) -> #N/A | B101: 106 | C101: =VLOOKUP(B101,Уч!$A$2:$L$26,2,FALSE) -> #N/A | D101: =VLOOKUP(B101,Уч!$A$2:$L$26,3,FALSE) -> #N/A | E101: Рез | F101: =VLOOKUP($B101,'100 м 1'!$C$18:$I$86,5,FALSE) -> #N/A | G101: =VLOOKUP($B101,'длина 2 '!$C$16:$O$54,11,FALSE) -> #N/A | H101: =VLOOKUP($B101,'ядро 2'!$C$16:$K$60,8,FALSE) -> #N/A | I101: =VLOOKUP($B101,'высота 2'!$C$16:$AF$57,13,FALSE) -> #N/A | J101: =VLOOKUP($B101,'4_р'!$C$17:$H$73,5,FALSE) -> #N/A | K101: =VLOOKUP($B101,'1cб_р'!$C$17:$I$63,5,FALSE) -> #N/A | L101: =VLOOKUP($B101,Дс_р!$C$16:$K$70,8,FALSE) -> #N/A | M101: =VLOOKUP($B101,Ш_р!$C$15:$AF$69,17,FALSE) -> #N/A | N101: =VLOOKUP($B101,К_р!$C$15:$K$68,8,FALSE) -> #N/A | O101: =VLOOKUP($B101,'15_р'!$C$17:$H$86,5,FALSE) -> #N/A | P101: =SUM(F103:O103) -> #N/A | Q101: =LOOKUP(P101,$V$1:$V$7,$W$1:$W$7) -> #N/A | S101: =$A101 -> #N/A | T101: 1
C102: =VLOOKUP(B101,Уч!$A$2:$L$26,5,FALSE) -> #N/A | D102: =VLOOKUP(B101,Уч!$A$2:$L$26,4,FALSE) -> #N/A | E102: Вет | F102: =VLOOKUP($B101,'100 м 1'!$C$18:$I$86,6,FALSE) -> #N/A | G102: =VLOOKUP($B101,'длина 2 '!$C$16:$O$54,12,FALSE) -> #N/A | K102: =VLOOKUP($B101,'1cб_р'!$C$17:$I$63,6,FALSE) -> #N/A | S102: =$A101 -> #N/A | T102: 2
...

Sheet READ
A1: Многоборья
A2: Опыт описания работы с таблицами по многоборьям
A3: Прежде всего сохраните данный файл под другим, удобным для Вас, именем
A4: Участники
A5: Участники должны быть расположены в порядке возрастания нагрудных номеров
A6: Расписание
A7: Введите название проводящих организаций, даты, расписание по видам
A8: Виды
A9: Данные вводятся в столбцы выделенные желтым
A10: При распечатке стартового или итогового протокола скрыть столбцы ввода данных (минус на поле вверху)
A11: Открытие этих столбцов (плюс на поле вверху)
A12: При распечатке стартового протокола изменяемые данные на белом фоне дайте белым цветом шрифта
... A21: Сводный пока не работает

Sheet Расп
A1: 04.09.2019 г. | B1: Начало: | C1: Окончание:
A2: бег 100 м | B2: 0.39583333
A3: прыжок в длину | B3: 0.42708333
A4: толкание ядра (7,26 кг) | B4: 0.46875
A5: прыжок в высоту | B5: 0.625
A6: бег 400 м | B6: 0.72916667
A7: 19.05.2019 г.
A8: бег с барьерами 110 м (1,067 м) | B8: 0.41666667
A9: метание диска (2,0 кг) | B9: 0.45138889
A10: прыжок с шестом | B10: 0.52777778
A11: метание копья (800 г) | B11: 0.625
A12: бег 1500 м | B12: 0.76388889
C13: До 23 лет
A14: РМ | B14: 9039 | C14: 8617
A15: РЕ | B15: 9026 | C15: 8617
A16: РР | B16: 8698 | C16: 8365
A21: МИНИСТЕРСТВО СПОРТА РОССИЙСКОЙ ФЕДЕРАЦИИ | G21: кто проводит
A22: ВСЕРОССИЙСКАЯ ФЕДЕРАЦИЯ ЛЕГКОЙ АТЛЕТИКИ
A25: Командный чемпионат России | G25: название
A26: г.Сочи, Адлерский район, стадион "Юность" | G26: где
A27: по многоборью | G27: Вид
A28: Мужчины | G28: Пол
G29: Пол

Sheet Уч
A1: № участ | B1: Фамилия, имя участника | C1: Дата рожд. | D1: Разряд | E1: Команда | F1: инд | H1: Ведомство | I1: Организация | J1: Лично | K1: Тренеры | L1: Тренеры
A2: 36 | B2: Королёв Максим | C2: 06.01.1988 | D2: МС | E2: Липецкая область | F2: М | G2: ГБУ ЛО ОК СШОР | H2: Десятиборье | I2: МС | J2: Липецкая область | K2: Стегачёв И.Н., Королева К.В., Фролов С.В.
A3: 100 | B3: Саранцев Евгений | C3: 05.02.1988 | D3: МСМК | E3: Волгоградская область Санкт-Петербург | F3: М | G3: ГБУ ВО "СШОР по легкой атлетике" | H3: Десятиборье | I3: МСМК | J3: Волгоградская область | K3: Зацеляпин М.И., Трофимов Е.В.
A4: 114 | B4: Новицкий Ярослав | C4: 04.04.1988 | D4: МС | E4: Санкт-Петербург | F4: М | G4: СПб ГБУ ЦОП "ШВСМ по легкой атлетике" | H4: Десятиборье | I4: МС | J4: Санкт-Петербург | K4: Шведова А.В., Дмитриев И.В.
A5: 74 | B5: Лукьяненко Артём | C5: 30.01.1990 | D5: МСМК | E5: Москва Ростовская область | F5: М | G5: ГБУ "ФСО "Юность Москвы" Москомспорта, ГБУ РО "ЦОП №1" | H5: Десятиборье | I5: МСМК | J5: Москва | K5: Желанов С.В., Сретенцев В.В.
A6: 22 | B6: Чернов Евгений | C6: 09.11.1991 | D6: МС | E6: Краснодарский край | F6: М | G6: ГБУ КК "ЦОП по легкой атлетике", ГБУ КК "РЦСП по легкой атлетике" | H6: Десятиборье | I6: МС | J6: Краснодарский край | K6: Чернов С.А., Мирошниченко В.И., Чернова Т.С.
A7: 37 | B7: Гончарук Артём | C7: 07.01.1992 | D7: МС | E7: Ульяновская область | F7: М | G7: МБУ ДО ДЮСШ №6 | H7: Десятиборье | I7: МС | J7: Ульяновская область | K7: Жульков Ю.А.
A8: 75 | B8: Тимшин Сергей | C8: 25.11.1992 | D8: МСМК | E8: Москва Липецкая область | F8: М | G8: ГБУ "ФСО "Юность Москвы" Москомспорта, ГБУ ЛО ОК СШОР | H8: Десятиборье | I8: МСМК | J8: Москва | K8: Радух А.О., Желанов С.В., Филатова Л.А.
A9: 40 | B9: Черкасов Алексей | C9: 22.10.1994 | D9: МС | E9: Кемеровская область Санкт-Петербург | F9: М | G9: МА ФСУ «СШОР по легкой атлетике», ГАУ КО "ЦП ССК", СПб ГБУ ЦОП "ШВСМ по легкой атлетике" | H9: Десятиборье | I9: МС | J9: Кемеровская область | K9: Залевская И.И., Овчинников Ю.В., Полосухин К.А.
A10: 79 | B10: Шестопалов Феликс | C10: 11.03.1996 | D10: МС | E10: Москва Ставропольский край | F10: М | G10: ГБУ "ФСО "Юность Москвы" Москомспорта, ГБУ СК "РЦСП" | H10: Десятиборье | I10: МС | J10: Москва | K10: Мирошниченко В.И., Журавлева Т.В.
A11: 113 | B11: Губанов Андрей | C11: 22.03.1996 | D11: МС | E11: Санкт-Петербург Республика Карелия | F11: М | G11: СПб ГБУ ЦОП "ШВСМ по легкой атлетике" | H11: Десятиборье | I11: МС | J11: Санкт-Петербург | K11: Зноев С.А., Дмитриев И.В., Зноева О.М.
A12: 2 | B12: Игнашев Владимир | C12: 05.10.1996 | D12: МС | E12: Ростовская область | F12: М | G12: ГБУ РО "СШОР №8" г.Ростов-на-Дону | H12: Десятиборье | I12: МС | J12: Ростовская область | K12: Болдырева И.А., Сретенцев В.В.
A13: 41 | B13: Фомичев Андрей | C13: 15.12.1996 | D13: МС | E13: Кемеровская область | F13: М | G13: ГБФСУ КО "СШОР по легкой атлетике им. В.А.Савенкова", ГАУ КО "ЦП ССК" | H13: Десятиборье | I13: МС | J13: Кемеровская область | K13: Хайлов С.Н., Фомичев В.Н.
... A20: 101 | B20: Чернов Виталий | C20: 07.08.1997 | D20: КМС | E20: Волгоградская область | F20: М | G20: ГБУ ВО "СШОР по легкой атлетике", ФГБОУ ВО "ВГАФК" | H20: Десятиборье | I20: КМС | J20: Волгоградская область | K20: Овчинников В.О., Зацеляпин М.И., Трофимов Е.В.
A21: 21 | B21: Гасленко Кирилл | C21: 36317 | D21: 1 | E21: Краснодарский край | F21: М | G21: ГБУ КК "ЦОП №1" | K21: Лияскин А.С., Смирнов В.Ф., Пугач С.В.
A22: 39 | B22: Левковский Андрей | C22: 17.08.1997 | D22: МС | E22: Кемеровская область | F22: М | G22: ГБФСУ КО "СШОР по легкой атлетике им. В.А.Савенкова" | H22: Десятиборье | I22: МС | J22: Кемеровская область | K22: Канашевич А.М., Ермишина Л.И., Ермишин Г.Н.
A23: 43 | B23: Соляков Федор | C23: 08.03.1998 | D23: КМС | E23: Кемеровская область | F23: М | G23: ГБФСУ КО "СШОР по легкой атлетике им. В.А.Савенкова" | H23: Десятиборье | I23: КМС | J23: Кемеровская область | K23: Канашевич А.М., Свистич Л.И.
A24: 98 | B24: Недригайло Данил | C24: 21.09.1999 | D24: КМС | E24: Волгоградская область | F24: М | G24: ГБУ ВО "СШОР по легкой атлетике", ГАПОУ ВО "УОР имени дважды Героя Советского Союза А.И.Родимцева" | H24: Десятиборье | I24: КМС | J24: Волгоградская область | K24: Зацеляпин М.И., Мельников Е.С., Кайдалин В.С., Трофимов Е.В.
A25: 45 | B25: Бочаринский Данила | C25: 12.01.1999 | D25: КМС | E25: Кемеровская область | F25: М | G25: МАФСУ "СШ №7" | H25: Десятиборье | I25: КМС | J25: Кемеровская область | K25: Чернявская Ю.В., Быков И.С., Ляпин И.М.
A26: 116 | B26: Горбачёв Артём | C26: 25.04.1998 | D26: МС | E26: Санкт-Петербург | F26: М | G26: СПб ГБУ ЦОП "ШВСМ по легкой атлетике" | H26: Десятиборье | I26: МС | J26: Санкт-Петербург | K26: Радух А.О., Пасенков А.П., Цимоха А.Г. | L26: ВС
A27: 76 | B27: Елфимов Арсений | C27: 17.09.2001 | D27: КМС | E27: Московская область Ярославская область | F27: М | G27: ГБУ МО "ЦСП ОВС", ГУ ЯО РЦСП, МУ СШОР №2 | H27: Десятиборье | I27: КМС | J27: Московская область | K27: Лободин Л.А., Пивентьев С.А., Скулябин А.Б.
A28: 89 | B28: Кузенков Кирилл | C28: 18.02.1999 | D28: 1 | E28: Челябинская область | F28: М | G28: МБУ СШОР № 2 по легкой атлетике имени Л.Н.Мосеева г.Челябинск | H28: Десятиборье | I28: 1 | J28: Челябинская область | K28: Пугач С.В., Шогин Г.Я.
A29: 78 | B29: Слаква Максим | C29: 10.05.1998 | D29: КМС | E29: Ставропольский край | F29: М | G29: ГБУ "СШОР по легкой атлетике" | H29: Десятиборье | I29: КМС | J29: Ставропольский край | K29: Мирошниченко В.И., Журавлева Т.В.
A30: 44 | B30: Хамедов Игорь | C30: 30.05.1998 | D30: КМС | E30: Кемеровская область | F30: М | G30: МАФСУ "СШ №7" | H30: Десятиборье | I30: КМС | J30: Кемеровская область | K30: Быков И.С., Чернявская Ю.В., Ляпин И.М.
A31: 1 | B31: Переварюха Артём | C31: 21.05.1999 | D31: КМС | E31: Ростовская область | F31: М | G31: ГБУ РО "СШОР №8" г.Ростов-на-Дону | H31: Десятиборье | I31: КМС | J31: Ростовская область | K31: Болдырева И.А.
A32: 77 | B32: Мазикин Алексей | C32: 05.06.1998 | D32: КМС | E32: Ставропольский край | F32: М | G32: ГБУ СК "СШОР по легкой атлетике", СУОР | H32: Десятиборье | I32: КМС | J32: Ставропольский край | K32: Мирошниченко В.И., Журавлева Т.В.
A33: 86 | B33: Белишко Владимир | C33: 06.08.1998 | D33: КМС | E33: Челябинская область | F33: М | G33: МБУ СШОР № 2 по легкой атлетике имени Л.Н.Мосеева г.Челябинск | H33: Десятиборье | I33: КМС | J33: Челябинская область | K33: Пугач С.В.
A34: 71 | B34: Агапов Игорь | C34: 29.10.1998 | D34: КМС | E34: Москва | F34: М | G34: ГБУ "СШОР №44" Москомспорта | H34: Десятиборье | I34: КМС | J34: Москва | K34: Баштанов А.В.
A35: 45 | B35: Бочаринский Данила | C35: 12.01.1999 | D35: КМС | E35: Кемеровская область | F35: М | G35: МАФСУ "СШ №7" | H35: Десятиборье | I35: КМС | J35: Кемеровская область | K35: Чернявская Ю.В., Быков И.С., Ляпин И.М.
A36: 89 | B36: Кузенков Кирилл | C36: 18.02.1999 | D36: 1 | E36: Челябинская область | F36: М | G36: МБУ СШОР № 2 по легкой атлетике имени Л.Н.Мосеева г.Челябинск | H36: Десятиборье | I36: 1 | J36: Челябинская область | K36: Пугач С.В., Шогин Г.Я.
A37: 1 | B37: Переварюха Артём | C37: 21.05.1999 | D37: КМС | E37: Ростовская область | F37: М | G37: ГБУ РО "СШОР №8" г.Ростов-на-Дону | H37: Десятиборье | I37: КМС | J37: Ростовская область | K37: Болдырева И.А.
A38: 21 | B38: Гасленко Кирилл | C38: 36317 | D38: 1 | E38: Краснодарский край | F38: М | G38: ГБУ КК "ЦОП №1" | K38: Лияскин А.С., Смирнов В.Ф., Пугач С.В.
A39: 98 | B39: Недригайло Данил | C39: 21.09.1999 | D39: КМС | E39: Волгоградская область | F39: М | G39: ГБУ ВО "СШОР по легкой атлетике", ГАПОУ ВО "УОР имени дважды Героя Советского Союза А.И.Родимцева" | H39: Десятиборье | I39: КМС | J39: Волгоградская область | K39: Зацеляпин М.И., Мельников Е.С., Кайдалин В.С., Трофимов Е.В.
A40: 76 | B40: Елфимов Арсений | C40: 17.09.2001 | D40: КМС | E40: Московская область Ярославская область | F40: М | G40: ГБУ МО "ЦСП ОВС", ГУ ЯО РЦСП, МУ СШОР №2 | H40: Десятиборье | I40: КМС | J40: Московская область | K40: Лободин Л.А., Пивентьев С.А., Скулябин А.Б.
A41: 107 | B41: Зарипов Раиль | C41: 25.07.1999 | D41: КМС | E41: Республика Татарстан | F41: М | G41: Спортивный клуб "Нефтехимик" ПАО "НКНХ" | H41: Десятиборье | I41: КМС | J41: Республика Татарстан | K41: Носова М.Е., Захарчук Д.Г.
A42: 98 | B42: Недригайло Данил | C42: 21.09.1999 | D42: КМС | E42: Волгоградская область | F42: М | G42: ГБУ ВО "СШОР по легкой атлетике", ГАПОУ ВО "УОР имени дважды Героя Советского Союза А.И.Родимцева" | H42: Десятиборье | I42: КМС | J42: Волгоградская область | K42: Зацеляпин М.И., Мельников Е.С., Кайдалин В.С., Трофимов Е.В.
A43: 76 | B43: Елфимов Арсений | C43: 17.09.2001 | D43: КМС | E43: Московская область Ярославская область | F43: М | G43: ГБУ МО "ЦСП ОВС", ГУ ЯО РЦСП, МУ СШОР №2 | H43: Десятиборье | I43: КМС | J43: Московская область | K43: Лободин Л.А., Пивентьев С.А., Скулябин А.Б.

Sheet М+23
A1: =Расп!$A$21 -> МИНИСТЕРСТВО СПОРТА РОССИЙСКОЙ ФЕДЕРАЦИИ | X1: Очки | Y1: 0 | AC1: 3800 | AD1: 4600 | AE1: 5400 | AF1: 6200 | AG1: 7100 | AH1: 8150 | AJ1: Для | AK1: мол | AL1: 5500
A2: =Расп!$A$22 -> ВСЕРОССИЙСКАЯ ФЕДЕРАЦИЯ ЛЕГКОЙ АТЛЕТИКИ | X2: Разряд | Y2: б/р | Z2: 3ю | AA2: 2ю | AB2: 1ю | AC2: 3 | AD2: 2 | AE2: 1 | AF2: КМС | AG2: МС | AH2: МСМК
A3: =Расп!$A$25 -> Командный чемпионат России | AF3: 1 оч
A4: =Расп!$A$27 -> по многоборью
A5: мужчины и юниоры до 23 лет | X5: Место | Y5: 1 | Z5: 2 | AA5: 3 | AB5: 4 | AC5: 5 | AD5: 6 | AE5: 7 | AF5: 8 | AG5: 9 | AH5: 10 | AI5: 11 | AJ5: 12 | AK5: 13 | AL5: 14 | AM5: 15 | AN5: 16 | AO5: 17
A6: ИТОГОВЫЕ ПРОТОКОЛЫ | X6: Очки | Y6: 20 | Z6: 17 | AA6: 15 | AB6: 14 | AC6: 13 | AD6: 12 | AE6: 11 | AF6: 10 | AG6: 9 | AH6: 8 | AI6: 7 | AJ6: 6 | AK6: 5 | AL6: 4 | AM6: 3 | AN6: 2 | AO6: 0
K7: =Расп!$A$1 -> 04.09.2019 г. | L7: t° +13 вл.86% | Q7: =Расп!$A$7 -> 19.05.2019 г. | R7: t° +13 вл.86%
A8: =Расп!A28 -> Мужчины | C8: Юниоры до 23 лет | K8: =Расп!A2 -> бег 100 м | L8: =Расп!B2 -> 0.39583333 | Q8: =Расп!A8 -> бег с барьерами 110 м (1,067 м) | R8: =Расп!B8 -> 0.41666667 | W8: Скрыть | X8: Бонус | Y8: 1 | Z8: 2 | AA8: 3 | AB8: КМС | AC8: МС | AD8: МСМК
A9: =Расп!$A$14 -> РМ | B9: =Расп!B14 -> 9039 | C9: PM 8617 | K9: =Расп!A3 -> прыжок в длину | L9: =Расп!B3 -> 0.42708333 | Q9: =Расп!A9 -> метание диска (2,0 кг) | R9: =Расп!B9 -> 0.45138889 | W9: при | X9: Очки | Y9: 0 | Z9: 0 | AA9: 0 | AB9: 0 | AC9: 5 | AD9: 15
A10: =Расп!$A$15 -> РЕ | B10: =Расп!B15 -> 9026 | C10: PE 8617 | K10: =Расп!A4 -> толкание ядра (7,26 кг) | L10: =Расп!B4 -> 0.46875 | Q10: =Расп!A10 -> прыжок с шестом | R10: =Расп!B10 -> 0.52777778 | W10: печати
A11: =Расп!$A$16 -> РР | B11: =Расп!B16 -> 8698 | C11: PP 8365 | K11: =Расп!A5 -> прыжок в высоту | L11: =Расп!B5 -> 0.625 | Q11: =Расп!A11 -> метание копья (800 г) | R11: =Расп!B11 -> 0.625 | X11: Мнгб | Y11: 5
A12: =Расп!$A$26 -> г.Сочи, Адлерский район, стадион "Юность" | K12: =Расп!A6 -> бег 400 м | L12: =Расп!B6 -> 0.72916667 | Q12: =Расп!A12 -> бег 1500 м | R12: =Расп!B12 -> 0.76388889
A13: Место | B13: Нагрудный № | C13: Фамилия, имя участника Территория, ФСО, Тренер | D13: Дата рождения Вып-ый раз-д | F13: бег 100 м | G13: прыжок в длину | H13: толкание ядра | I13: прыжок в высоту | J13: бег 400 м | K13: бег с барьерами 110 м | L13: метание диска | M13: прыжок с шестом | N13: метание копья | O13: бег 1500 м | P13: Очки | Q13: Разряд | R13: Командные очки | S13: № | T13: М | U13: П | V13: МЛ | W13: 100 | X13: Длина | Y13: Ядро | Z13: Высота | AA13: 400 | AB13: 110сб | AC13: Диск | AD13: Шест | AE13: Копье | AF13: 1500 | AH13: оч/мес | AI13: оч/раз | AJ13: #
A16: =RANK(P16,$P$16:$P$40,0) -> #N/A | B16: 1 | C16: =VLOOKUP(B16,Уч!$A$2:$L$34,2,FALSE) -> Переварюха Артём | D16: =VLOOKUP(B16,Уч!$A$2:$L$34,3,FALSE) -> 21.05.1999 | E16: Результат | F16: =VLOOKUP($B16,'100 м 1'!$C$18:$I$87,5,FALSE) -> 11.44 | G16: =VLOOKUP($B16,'длина 2 '!$C$16:$O$54,11,FALSE) -> 6.79 | H16: =VLOOKUP($B16,'ядро 2'!$C$16:$K$60,8,FALSE) -> 10.74 | I16: =VLOOKUP($B16,'высота 2'!$C$16:$AF$57,29,FALSE) -> 2 | J16: =VLOOKUP($B16,'4_р'!$C$17:$H$73,5,FALSE) -> #N/A | K16: =VLOOKUP($B16,'1cб_р'!$C$17:$I$67,5,FALSE) -> #N/A | L16: =VLOOKUP($B16,Дс_р!$C$16:$K$70,8,FALSE) -> #N/A | M16: =VLOOKUP($B16,Ш_р!$C$15:$AF$69,29,FALSE) -> #N/A | N16: =VLOOKUP($B16,К_р!$C$15:$K$68,8,FALSE) -> #N/A | O16: =VLOOKUP($B16,'15_р'!$C$17:$H$86,5,FALSE) -> #N/A | P16: =SUM(F18:O18) -> #N/A | Q16: =LOOKUP(P16,Y$1:AH$1,Y$2:AH$2) -> #N/A | R16: =AH16+AI16+5 -> #N/A | S16: =B16 -> 1 | T16: =$A16 -> #N/A | U16: 1 | V16: лич | AH16: =IF(AND(T16>16,P16>=6200),"1",LOOKUP(T16,Y$5:AO$5,Y$6:AO$6)) -> #N/A | AI16: =LOOKUP(Q16,Y$8:AD$8,Y$9:AD$9) -> #N/A | AJ16: 52
C17: =VLOOKUP(B16,Уч!$A$2:$L$34,5,FALSE) -> Ростовская область | D17: =VLOOKUP(B16,Уч!$A$2:$L$34,4,FALSE) -> КМС | E17: Ветер | F17: =VLOOKUP($B16,'100 м 1'!$C$18:$I$87,6,FALSE) -> 0.8 | G17: =VLOOKUP($B16,'длина 2 '!$C$16:$O$54,12,FALSE) -> 0 | K17: =VLOOKUP($B16,'1cб_р'!$C$17:$I$67,6,FALSE) -> #N/A | R17: =CONCATENATE(AH16,"+",AI16,"+",5) -> #N/A | S17: =B16 -> 1 | T17: =$A16 -> #N/A | U17: 2 | V17: лич | AJ17: 52
C18: =VLOOKUP(B16,Уч!$A$2:$L$34,7,FALSE) -> ГБУ РО "СШОР №8" г.Ростов-на-Дону | E18: Очки | F18: =VLOOKUP($B16,'100 м 1'!$C$18:$I$87,7,FALSE) -> 765 | G18: =VLOOKUP($B16,'длина 2 '!$C$16:$O$54,13,FALSE) -> 0 | H18: =VLOOKUP($B16,'ядро 2'!$C$16:$K$60,9,FALSE) -> 530 | I18: =VLOOKUP($B16,'высота 2'!$C$16:$AF$57,30,) -> 0 | J18: =VLOOKUP($B16,'4_р'!$C$17:$H$73,6,FALSE) -> #N/A | K18: =VLOOKUP($B16,'1cб_р'!$C$17:$I$67,7,FALSE) -> #N/A | L18: =VLOOKUP($B16,Дс_р!$C$16:$K$70,9,FALSE) -> #N/A | M18: =VLOOKUP($B16,Ш_р!$C$15:$AF$69,30,FALSE) -> #N/A | N18: =VLOOKUP($B16,К_р!$C$15:$K$68,9,FALSE) -> #N/A | O18: =VLOOKUP($B16,'15_р'!$C$17:$H$86,6,FALSE) -> #N/A | S18: =B16 -> 1 | T18: =$A16 -> #N/A | U18: 3 | V18: лич | AJ18: 52
C19: =VLOOKUP(B16,Уч!$A$2:$L$34,11,FALSE) -> Болдырева И.А. | E19: Сумма очков | F19: =F18 -> 765 | G19: =F19+G18 -> 765 | H19: =G19+H18 -> 1295 | I19: =H19+I18 -> 1295 | J19: =SUM($F18:J18) -> #N/A | K19: =SUM($F18:$K18) -> #N/A | L19: =K19+L18 -> #N/A | M19: =L19+M18 -> #N/A | N19: =SUM($F18:$N18) -> #N/A | O19: =SUM($F18:$O18) -> #N/A | S19: =B16 -> 1 | T19: =$A16 -> #N/A | U19: 4 | V19: лич | W19: =F19 -> 765 | X19: =G19 -> 765 | Y19: =H19 -> 1295 | Z19: =I19 -> 1295 | AA19: =J19 -> #N/A | AB19: =K19 -> #N/A | AC19: =L19 -> #N/A | AD19: =M19 -> #N/A | ... AF19: =O19 -> #N/A | AJ19: 52
C20: =VLOOKUP(B16,Уч!$A$2:$L$34,12,FALSE) -> 0 | E20: Место | F20: =RANK(F19,$W$19:$W$40,0) -> #N/A | G20: =RANK(G19,$X$19:$X$40,0) -> #N/A | H20: =RANK(H19,$Y$19:$Y$40,0) -> #N/A | I20: =RANK(I19,$Z$19:$Z$40,0) -> #N/A | J20: =RANK(J19,$AA$19:$AA$40,0) -> #N/A | K20: =RANK(K19,$AB$19:$AB$40,0) -> #N/A | L20: =RANK(L19,$AC$19:$AC$40,0) -> #N/A | M20: =RANK(M19,$AD$19:$AD$40,0) -> #N/A | N20: =RANK(N19,$AE$19:$AE$40,0) -> #N/A | O20: =RANK(O19,$AF$19:$AF$40,0) -> #N/A | S20: =B16 -> 1 | T20: =$A16 -> #N/A | U20: 5 | V20: лич | AJ20: 52
A21: =RANK(P21,$P$16:$P$40,0) -> #N/A | B21: 2 | C21: =VLOOKUP(B21,Уч!$A$2:$L$34,2,FALSE) -> Игнашев Владимир | D21: =VLOOKUP(B21,Уч!$A$2:$L$34,3,FALSE) -> 05.10.1996 | E21: Результат | F21: =VLOOKUP($B21,'100 м 1'!$C$18:$I$87,5,FALSE) -> 11.13 | G21: =VLOOKUP($B21,'длина 2 '!$C$16:$O$54,11,FALSE) -> #N/A | H21: =VLOOKUP($B21,'ядро 2'!$C$16:$K$60,8,FALSE) -> #N/A | I21: =VLOOKUP($B21,'высота 2'!$C$16:$AF$57,29,FALSE) -> #N/A | J21: =VLOOKUP($B21,'4_р'!$C$17:$H$73,5,FALSE) -> 49.89 | K21: =VLOOKUP($B21,'1cб_р'!$C$17:$I$67,5,FALSE) -> 15.7 | L21: =VLOOKUP($B21,Дс_р!$C$16:$K$70,8,FALSE) -> 32.45 | M21: =VLOOKUP($B21,Ш_р!$C$15:$AF$69,29,FALSE) -> 4 | N21: =VLOOKUP($B21,К_р!$C$15:$K$68,8,FALSE) -> 47.1 | O21: =VLOOKUP($B21,'15_р'!$C$17:$H$86,5,FALSE) -> 4:22.85 | P21: =SUM(F23:O23) -> #N/A | Q21: =LOOKUP(P21,Y$1:AH$1,Y$2:AH$2) -> #N/A | R21: =AH21+AI21+5 -> #N/A | S21: =B21 -> 2 | T21: =$A21 -> #N/A | U21: 1 | V21: =$A21 -> #N/A | AH21: =IF(AND(T21>16,P21>=6200),"1",LOOKUP(T21,Y$5:AO$5,Y$6:AO$6)) -> #N/A | AI21: =LOOKUP(Q21,Y$8:AD$8,Y$9:AD$9) -> #N/A | AJ21: 54
C22: =VLOOKUP(B21,Уч!$A$2:$L$34,5,FALSE) -> Ростовская область | D22: =VLOOKUP(B21,Уч!$A$2:$L$34,4,FALSE) -> МС | E22: Ветер | F22: =VLOOKUP($B21,'100 м 1'!$C$18:$I$87,6,FALSE) -> 0 | G22: =VLOOKUP($B21,'длина 2 '!$C$16:$O$54,12,FALSE) -> #N/A | K22: =VLOOKUP($B21,'1cб_р'!$C$17:$I$67,6,FALSE) -> 0 | R22: =CONCATENATE(AH21,"+",AI21,"+",5) -> #N/A | S22: =B21 -> 2 | T22: =$A21 -> #N/A | U22: 2 | V22: =$A21 -> #N/A | AJ22: 54
C23: =VLOOKUP(B21,Уч!$A$2:$L$34,7,FALSE) -> ГБУ РО "СШОР №8" г.Ростов-на-Дону | E23: Очки | F23: =VLOOKUP($B21,'100 м 1'!$C$18:$I$87,7,FALSE) -> 832 | G23: =VLOOKUP($B21,'длина 2 '!$C$16:$O$54,13,FALSE) -> #N/A | H23: =VLOOKUP($B21,'ядро 2'!$C$16:$K$60,9,FALSE) -> #N/A | I23: =VLOOKUP($B21,'высота 2'!$C$16:$AF$57,30,) -> #N/A | J23: =VLOOKUP($B21,'4_р'!$C$17:$H$73,6,FALSE) -> 820 | K23: =VLOOKUP($B21,'1cб_р'!$C$17:$I$67,7,FALSE) -> 767 | L23: =VLOOKUP($B21,Дс_р!$C$16:$K$70,9,FALSE) -> 513 | M23: =VLOOKUP($B21,Ш_р!$C$15:$AF$69,30,FALSE) -> 617 | N23: =VLOOKUP($B21,К_р!$C$15:$K$68,9,FALSE) -> 546 | O23: =VLOOKUP($B21,'15_р'!$C$17:$H$86,6,FALSE) -> 792 | S23: =B21 -> 2 | T23: =$A21 -> #N/A | U23: 3 | V23: =$A21 -> #N/A | AJ23: 54
C24: =VLOOKUP(B21,Уч!$A$2:$L$34,11,FALSE) -> Болдырева И.А., Сретенцев В.В. | E24: Сумма очков | F24: =F23 -> 832 | G24: =F24+G23 -> #N/A | H24: =G24+H23 -> #N/A | I24: =H24+I23 -> #N/A | J24: =SUM($F23:J23) -> #N/A | K24: =SUM($F23:$K23) -> #N/A | L24: =K24+L23 -> #N/A | M24: =L24+M23 -> #N/A | N24: =SUM($F23:$N23) -> #N/A | O24: =SUM($F23:$O23) -> #N/A | S24: =B21 -> 2 | T24: =$A21 -> #N/A | U24: 4 | V24: =$A21 -> #N/A | W24: =F24 -> 832 | X24: =G24 -> #N/A | Y24: =H24 -> #N/A | Z24: =I24 -> #N/A | AA24: =J24 -> #N/A | AB24: =K24 -> #N/A | AC24: =L24 -> #N/A | AD24: =M24 -> #N/A | ... AF24: =O24 -> #N/A | AJ24: 54
C25: =VLOOKUP(B21,Уч!$A$2:$L$34,12,FALSE) | E25: Место | F25: =RANK(F24,$W$19:$W$40,0) -> #N/A | G25: =RANK(G24,$X$19:$X$40,0) -> #N/A | H25: =RANK(H24,$Y$19:$Y$40,0) -> #N/A | I25: =RANK(I24,$Z$19:$Z$40,0) -> #N/A | J25: =RANK(J24,$AA$19:$AA$40,0) -> #N/A | K25: =RANK(K24,$AB$19:$AB$40,0) -> #N/A | L25: =RANK(L24,$AC$19:$AC$40,0) -> #N/A | M25: =RANK(M24,$AD$19:$AD$40,0) -> #N/A | N25: =RANK(N24,$AE$19:$AE$40,0) -> #N/A | O25: =RANK(O24,$AF$19:$AF$40,0) -> #N/A | S25: =B21 -> 2 | T25: =$A21 -> #N/A | U25: 5 | V25: =$A21 -> #N/A | AJ25: 54
A26: =RANK(P26,$P$16:$P$40,0) -> #N/A | B26: 3 | C26: =VLOOKUP(B26,Уч!$A$2:$L$34,2,FALSE) -> #N/A | D26: =VLOOKUP(B26,Уч!$A$2:$L$34,3,FALSE) -> #N/A | E26: Результат | F26: =VLOOKUP($B26,'100 м 1'!$C$18:$I$87,5,FALSE) -> #N/A | G26: =VLOOKUP($B26,'длина 2 '!$C$16:$O$54,11,FALSE) -> #N/A | H26: =VLOOKUP($B26,'ядро 2'!$C$16:$K$60,8,FALSE) -> #N/A | I26: =VLOOKUP($B26,'высота 2'!$C$16:$AF$57,29,FALSE) -> #N/A | J26: =VLOOKUP($B26,'4_р'!$C$17:$H$73,5,FALSE) -> #N/A | K26: =VLOOKUP($B26,'1cб_р'!$C$17:$I$67,5,FALSE) -> #N/A | L26: =VLOOKUP($B26,Дс_р!$C$16:$K$70,8,FALSE) -> #N/A | M26: =VLOOKUP($B26,Ш_р!$C$15:$AF$69,29,FALSE) -> #N/A | N26: =VLOOKUP($B26,К_р!$C$15:$K$68,8,FALSE) -> #N/A | O26: п.163.2 | P26: =SUM(F28:O28) -> #N/A | Q26: =LOOKUP(P26,Y$1:AH$1,Y$2:AH$2) -> #N/A | R26: =AH26+AI26+5 -> #N/A | S26: =B26 -> 3 | T26: =$A26 -> #N/A | U26: 1 | V26: лич | AH26: =IF(AND(T26>16,P26>=6200),"1",LOOKUP(T26,Y$5:AO$5,Y$6:AO$6)) -> #N/A | AI26: =LOOKUP(Q26,Y$8:AD$8,Y$9:AD$9) -> #N/A | AJ26: 55
C27: =VLOOKUP(B26,Уч!$A$2:$L$34,5,FALSE) -> #N/A | D27: =VLOOKUP(B26,Уч!$A$2:$L$34,4,FALSE) -> #N/A | E27: Ветер | F27: =VLOOKUP($B26,'100 м 1'!$C$18:$I$87,6,FALSE) -> #N/A | G27: =VLOOKUP($B26,'длина 2 '!$C$16:$O$54,12,FALSE) -> #N/A | K27: =VLOOKUP($B26,'1cб_р'!$C$17:$I$67,6,FALSE) -> #N/A | R27: =CONCATENATE(AH26,"+",AI26,"+",5) -> #N/A | S27: =B26 -> 3 | T27: =$A26 -> #N/A | U27: 2 | V27: лич | AJ27: 55
C28: =VLOOKUP(B26,Уч!$A$2:$L$34,7,FALSE) -> #N/A | E28: Очки | F28: =VLOOKUP($B26,'100 м 1'!$C$18:$I$87,7,FALSE) -> #N/A | G28: =VLOOKUP($B26,'длина 2 '!$C$16:$O$54,13,FALSE) -> #N/A | H28: =VLOOKUP($B26,'ядро 2'!$C$16:$K$60,9,FALSE) -> #N/A | I28: =VLOOKUP($B26,'высота 2'!$C$16:$AF$57,30,) -> #N/A | J28: =VLOOKUP($B26,'4_р'!$C$17:$H$73,6,FALSE) -> #N/A | K28: =VLOOKUP($B26,'1cб_р'!$C$17:$I$67,7,FALSE) -> #N/A | L28: =VLOOKUP($B26,Дс_р!$C$16:$K$70,9,FALSE) -> #N/A | M28: =VLOOKUP($B26,Ш_р!$C$15:$AF$69,30,FALSE) -> #N/A | N28: =VLOOKUP($B26,К_р!$C$15:$K$68,9,FALSE) -> #N/A | O28: =VLOOKUP($B26,'15_р'!$C$17:$H$86,6,FALSE) -> #N/A | S28: =B26 -> 3 | T28: =$A26 -> #N/A | U28: 3 | V28: лич | AJ28: 55
C29: =VLOOKUP(B26,Уч!$A$2:$L$34,11,FALSE) -> #N/A | E29: Сумма очков | F29: =F28 -> #N/A | G29: =F29+G28 -> #N/A | H29: =G29+H28 -> #N/A | I29: =H29+I28 -> #N/A | J29: =SUM($F28:J28) -> #N/A | K29: =SUM($F28:$K28) -> #N/A | L29: =K29+L28 -> #N/A | M29: =L29+M28 -> #N/A | N29: =SUM($F28:$N28) -> #N/A | O29: =SUM($F28:$O28) -> #N/A | S29: =B26 -> 3 | T29: =$A26 -> #N/A | U29: 4 | V29: лич | W29: =F29 -> #N/A | X29: =G29 -> #N/A | Y29: =H29 -> #N/A | Z29: =I29 -> #N/A | AA29: =J29 -> #N/A | AB29: =K29 -> #N/A | AC29: =L29 -> #N/A | AD29: =M29 -> #N/A | ... AF29: =O29 -> #N/A | AJ29: 55
C30: =VLOOKUP(B26,Уч!$A$2:$L$34,12,FALSE) -> #N/A | E30: Место | F30: =RANK(F29,$W$19:$W$40,0) -> #N/A | G30: =RANK(G29,$X$19:$X$40,0) -> #N/A | H30: =RANK(H29,$Y$19:$Y$40,0) -> #N/A | I30: =RANK(I29,$Z$19:$Z$40,0) -> #N/A | J30: =RANK(J29,$AA$19:$AA$40,0) -> #N/A | K30: =RANK(K29,$AB$19:$AB$40,0) -> #N/A | L30: =RANK(L29,$AC$19:$AC$40,0) -> #N/A | M30: =RANK(M29,$AD$19:$AD$40,0) -> #N/A | N30: =RANK(N29,$AE$19:$AE$40,0) -> #N/A | O30: =RANK(O29,$AF$19:$AF$40,0) -> #N/A | S30: =B26 -> 3 | T30: =$A26 -> #N/A | U30: 5 | V30: лич | AJ30: 55
A31: =RANK(P31,$P$16:$P$40,0) -> #N/A | B31: 4 | C31: =VLOOKUP(B31,Уч!$A$2:$L$34,2,FALSE) -> #N/A | D31: =VLOOKUP(B31,Уч!$A$2:$L$34,3,FALSE) -> #N/A | E31: Результат | F31: =VLOOKUP($B31,'100 м 1'!$C$18:$I$87,5,FALSE) -> #N/A | G31: =VLOOKUP($B31,'длина 2 '!$C$16:$O$54,11,FALSE) -> #N/A | H31: =VLOOKUP($B31,'ядро 2'!$C$16:$K$60,8,FALSE) -> #N/A | I31: =VLOOKUP($B31,'высота 2'!$C$16:$AF$57,29,FALSE) -> #N/A | J31: =VLOOKUP($B31,'4_р'!$C$17:$H$73,5,FALSE) -> #N/A | K31: =VLOOKUP($B31,'1cб_р'!$C$17:$I$67,5,FALSE) -> #N/A | L31: =VLOOKUP($B31,Дс_р!$C$16:$K$70,8,FALSE) -> #N/A | M31: =VLOOKUP($B31,Ш_р!$C$15:$AF$69,29,FALSE) -> #N/A | N31: =VLOOKUP($B31,К_р!$C$15:$K$68,8,FALSE) -> #N/A | O31: =VLOOKUP($B31,'15_р'!$C$17:$H$86,5,FALSE) -> #N/A | P31: =SUM(F33:O33) -> #N/A | Q31: =LOOKUP(P31,Y$1:AH$1,Y$2:AH$2) -> #N/A | R31: =AH31+AI31+5 -> #N/A | S31: =B31 -> 4 | T31: =$A31 -> #N/A | U31: 1 | V31: =$A31 -> #N/A | AH31: =IF(AND(T31>16,P31>=6200),"1",LOOKUP(T31,Y$5:AO$5,Y$6:AO$6)) -> #N/A | AI31: =LOOKUP(Q31,Y$8:AD$8,Y$9:AD$9) -> #N/A | AJ31: 63
C32: =VLOOKUP(B31,Уч!$A$2:$L$34,5,FALSE) -> #N/A | D32: =VLOOKUP(B31,Уч!$A$2:$L$34,4,FALSE) -> #N/A | E32: Ветер | F32: =VLOOKUP($B31,'100 м 1'!$C$18:$I$87,6,FALSE) -> #N/A | G32: =VLOOKUP($B31,'длина 2 '!$C$16:$O$54,12,FALSE) -> #N/A | K32: =VLOOKUP($B31,'1cб_р'!$C$17:$I$67,6,FALSE) -> #N/A | R32: =CONCATENATE(AH31,"+",AI31,"+",5) -> #N/A | S32: =B31 -> 4 | T32: =$A31 -> #N/A | U32: 2 | V32: =$A31 -> #N/A | AJ32: 63
C33: =VLOOKUP(B31,Уч!$A$2:$L$34,7,FALSE) -> #N/A | E33: Очки | F33: =VLOOKUP($B31,'100 м 1'!$C$18:$I$87,7,FALSE) -> #N/A | G33: =VLOOKUP($B31,'длина 2 '!$C$16:$O$54,13,FALSE) -> #N/A | H33: =VLOOKUP($B31,'ядро 2'!$C$16:$K$60,9,FALSE) -> #N/A | I33: =VLOOKUP($B31,'высота 2'!$C$16:$AF$57,30,) -> #N/A | J33: =VLOOKUP($B31,'4_р'!$C$17:$H$73,6,FALSE) -> #N/A | K33: =VLOOKUP($B31,'1cб_р'!$C$17:$I$67,7,FALSE) -> #N/A | L33: =VLOOKUP($B31,Дс_р!$C$16:$K$70,9,FALSE) -> #N/A | M33: =VLOOKUP($B31,Ш_р!$C$15:$AF$69,30,FALSE) -> #N/A | N33: =VLOOKUP($B31,К_р!$C$15:$K$68,9,FALSE) -> #N/A | O33: =VLOOKUP($B31,'15_р'!$C$17:$H$86,6,FALSE) -> #N/A | S33: =B31 -> 4 | T33: =$A31 -> #N/A | U33: 3 | V33: =$A31 -> #N/A | AJ33: 63
C34: =VLOOKUP(B31,Уч!$A$2:$L$34,11,FALSE) -> #N/A | E34: Сумма очков | F34: =F33 -> #N/A | G34: =F34+G33 -> #N/A | H34: =G34+H33 -> #N/A | I34: =H34+I33 -> #N/A | J34: =SUM($F33:J33) -> #N/A | K34: =SUM($F33:$K33) -> #N/A | L34: =K34+L33 -> #N/A | M34: =L34+M33 -> #N/A | N34: =SUM($F33:$N33) -> #N/A | O34: =SUM($F33:$O33) -> #N/A | S34: =B31 -> 4 | T34: =$A31 -> #N/A | U34: 4 | V34: =$A31 -> #N/A | W34: =F34 -> #N/A | X34: =G34 -> #N/A | Y34: =H34 -> #N/A | Z34: =I34 -> #N/A | AA34: =J34 -> #N/A | AB34: =K34 -> #N/A | AC34: =L34 -> #N/A | AD34: =M34 -> #N/A | ... AF34: =O34 -> #N/A | AJ34: 63
C35: =VLOOKUP(B31,Уч!$A$2:$L$34,12,FALSE) -> #N/A | E35: Место | F35: =RANK(F34,$W$19:$W$40,0) -> #N/A | G35: =RANK(G34,$X$19:$X$40,0) -> #N/A | H35: =RANK(H34,$Y$19:$Y$40,0) -> #N/A | I35: =RANK(I34,$Z$19:$Z$40,0) -> #N/A | J35: =RANK(J34,$AA$19:$AA$40,0) -> #N/A | K35: =RANK(K34,$AB$19:$AB$40,0) -> #N/A | L35: =RANK(L34,$AC$19:$AC$40,0) -> #N/A | M35: =RANK(M34,$AD$19:$AD$40,0) -> #N/A | N35: =RANK(N34,$AE$19:$AE$40,0) -> #N/A | O35: =RANK(O34,$AF$19:$AF$40,0) -> #N/A | S35: =B31 -> 4 | T35: =$A31 -> #N/A | U35: 5 | V35: =$A31 -> #N/A | AJ35: 63
A36: =RANK(P36,$P$16:$P$40,0) -> #N/A | B36: 5 | C36: =VLOOKUP(B36,Уч!$A$2:$L$34,2,FALSE) -> #N/A | D36: =VLOOKUP(B36,Уч!$A$2:$L$34,3,FALSE) -> #N/A | E36: Результат | F36: =VLOOKUP($B36,'100 м 1'!$C$18:$I$87,5,FALSE) -> #N/A | G36: =VLOOKUP($B36,'длина 2 '!$C$16:$O$54,11,FALSE) -> #N/A | H36: =VLOOKUP($B36,'ядро 2'!$C$16:$K$60,8,FALSE) -> #N/A | I36: =VLOOKUP($B36,'высота 2'!$C$16:$AF$57,29,FALSE) -> #N/A | J36: =VLOOKUP($B36,'4_р'!$C$17:$H$73,5,FALSE) -> #N/A | K36: =VLOOKUP($B36,'1cб_р'!$C$17:$I$67,5,FALSE) -> #N/A | L36: =VLOOKUP($B36,Дс_р!$C$16:$K$70,8,FALSE) -> #N/A | M36: =VLOOKUP($B36,Ш_р!$C$15:$AF$69,29,FALSE) -> #N/A | N36: =VLOOKUP($B36,К_р!$C$15:$K$68,8,FALSE) -> #N/A | O36: =VLOOKUP($B36,'15_р'!$C$17:$H$86,5,FALSE) -> #N/A | P36: =SUM(F38:O38) -> #N/A | Q36: =LOOKUP(P36,Y$1:AH$1,Y$2:AH$2) -> #N/A | R36: =AH36+AI36+5 -> #N/A | S36: =B36 -> 5 | T36: =$A36 -> #N/A | U36: 1 | V36: =$A36 -> #N/A | AH36: =IF(AND(T36>16,P36>=6200),"1",LOOKUP(T36,Y$5:AO$5,Y$6:AO$6)) -> #N/A | AI36: =LOOKUP(Q36,Y$8:AD$8,Y$9:AD$9) -> #N/A | AJ36: 96
C37: =VLOOKUP(B36,Уч!$A$2:$L$34,5,FALSE) -> #N/A | D37: =VLOOKUP(B36,Уч!$A$2:$L$34,4,FALSE) -> #N/A | E37: Ветер | F37: =VLOOKUP($B36,'100 м 1'!$C$18:$I$87,6,FALSE) -> #N/A | G37: =VLOOKUP($B36,'длина 2 '!$C$16:$O$54,12,FALSE) -> #N/A | K37: =VLOOKUP($B36,'1cб_р'!$C$17:$I$67,6,FALSE) -> #N/A | R37: =CONCATENATE(AH36,"+",AI36,"+",5) -> #N/A | S37: =B36 -> 5 | T37: =$A36 -> #N/A | U37: 2 | V37: =$A36 -> #N/A | AJ37: 96
C38: =VLOOKUP(B36,Уч!$A$2:$L$34,7,FALSE) -> #N/A | E38: Очки | F38: =VLOOKUP($B36,'100 м 1'!$C$18:$I$87,7,FALSE) -> #N/A | G38: =VLOOKUP($B36,'длина 2 '!$C$16:$O$54,13,FALSE) -> #N/A | H38: =VLOOKUP($B36,'ядро 2'!$C$16:$K$60,9,FALSE) -> #N/A | I38: =VLOOKUP($B36,'высота 2'!$C$16:$AF$57,30,) -> #N/A | J38: =VLOOKUP($B36,'4_р'!$C$17:$H$73,6,FALSE) -> #N/A | K38: =VLOOKUP($B36,'1cб_р'!$C$17:$I$67,7,FALSE) -> #N/A | L38: =VLOOKUP($B36,Дс_р!$C$16:$K$70,9,FALSE) -> #N/A | M38: =VLOOKUP($B36,Ш_р!$C$15:$AF$69,30,FALSE) -> #N/A | N38: =VLOOKUP($B36,К_р!$C$15:$K$68,9,FALSE) -> #N/A | O38: =VLOOKUP($B36,'15_р'!$C$17:$H$86,6,FALSE) -> #N/A | S38: =B36 -> 5 | T38: =$A36 -> #N/A | U38: 3 | V38: =$A36 -> #N/A | AJ38: 96
C39: =VLOOKUP(B36,Уч!$A$2:$L$34,11,FALSE) -> #N/A | E39: Сумма очков | F39: =F38 -> #N/A | G39: =F39+G38 -> #N/A | H39: =G39+H38 -> #N/A | I39: =H39+I38 -> #N/A | J39: =SUM($F38:J38) -> #N/A | K39: =SUM($F38:$K38) -> #N/A | L39: =K39+L38 -> #N/A | M39: =L39+M38 -> #N/A | N39: =SUM($F38:$N38) -> #N/A | O39: =SUM($F38:$O38) -> #N/A | S39: =B36 -> 5 | T39: =$A36 -> #N/A | U39: 4 | V39: =$A36 -> #N/A | W39: =F39 -> #N/A | X39: =G39 -> #N/A | Y39: =H39 -> #N/A | Z39: =I39 -> #N/A | AA39: =J39 -> #N/A | AB39: =K39 -> #N/A | AC39: =L39 -> #N/A | AD39: =M39 -> #N/A | ... AF39: =O39 -> #N/A | AJ39: 96
C40: =VLOOKUP(B36,Уч!$A$2:$L$34,12,FALSE) -> #N/A | E40: Место | F40: =RANK(F39,$W$19:$W$40,0) -> #N/A | G40: =RANK(G39,$X$19:$X$40,0) -> #N/A | H40: =RANK(H39,$Y$19:$Y$40,0) -> #N/A | I40: =RANK(I39,$Z$19:$Z$40,0) -> #N/A | J40: =RANK(J39,$AA$19:$AA$40,0) -> #N/A | K40: =RANK(K39,$AB$19:$AB$40,0) -> #N/A | L40: =RANK(L39,$AC$19:$AC$40,0) -> #N/A | M40: =RANK(M39,$AD$19:$AD$40,0) -> #N/A | N40: =RANK(N39,$AE$19:$AE$40,0) -> #N/A | O40: =RANK(O39,$AF$19:$AF$40,0) -> #N/A | S40: =B36 -> 5 | T40: =$A36 -> #N/A | U40: 5 | V40: =$A36 -> #N/A | AJ40: 96
A41: =RANK(P41,$P$16:$P$150,0) -> #N/A | B41: 21 | C41: =VLOOKUP(B41,Уч!$A$2:$L$34,2,FALSE) -> Гасленко Кирилл | D41: =VLOOKUP(B41,Уч!$A$2:$L$34,3,FALSE) -> 36317 | E41: Результат | F41: =VLOOKUP($B41,'100 м 1'!$C$18:$I$87,5,FALSE) -> 12.07 | G41: =VLOOKUP($B41,'длина 2 '!$C$16:$O$54,11,FALSE) -> 6.98 | H41: =VLOOKUP($B41,'ядро 2'!$C$16:$K$60,8,FALSE) -> 12.02 | I41: =VLOOKUP($B41,'высота 2'!$C$16:$AF$57,29,FALSE) -> 1.76 | J41: =VLOOKUP($B41,'4_р'!$C$17:$H$73,5,FALSE) -> #N/A | K41: =VLOOKUP($B41,'1cб_р'!$C$17:$I$67,5,FALSE) -> 0 | L41: =VLOOKUP($B41,Дс_р!$C$16:$K$70,8,FALSE) -> 0 | M41: =VLOOKUP($B41,Ш_р!$C$15:$AF$69,29,FALSE) -> 0 | N41: =VLOOKUP($B41,К_р!$C$15:$K$68,8,FALSE) -> 0 | O41: =VLOOKUP($B41,'15_р'!$C$17:$H$86,5,FALSE) -> 0 | P41: =SUM(F43:O43) -> #N/A | Q41: =LOOKUP(P41,Y$1:AH$1,Y$2:AH$2) -> #N/A | R41: =AH41+AI41+5 -> #N/A | S41: =B41 -> 21 | T41: =$A41 -> #N/A | U41: 1 | V41: лич | AH41: =IF(AND(T41>16,P41>=6200),"1",LOOKUP(T41,Y$5:AO$5,Y$6:AO$6)) -> #N/A | AI41: =LOOKUP(Q41,Y$8:AD$8,Y$9:AD$9) -> #N/A | AJ41: 97
C42: =VLOOKUP(B41,Уч!$A$2:$L$34,5,FALSE) -> Краснодарский край | D42: =VLOOKUP(B41,Уч!$A$2:$L$34,4,FALSE) -> 1 | E42: Ветер | F42: =VLOOKUP($B41,'100 м 1'!$C$18:$I$87,6,FALSE) -> 2 | G42: =VLOOKUP($B41,'длина 2 '!$C$16:$O$54,12,FALSE) -> -0.6 | K42: =VLOOKUP($B41,'1cб_р'!$C$17:$I$67,6,FALSE) -> 0 | R42: =CONCATENATE(AH41,"+",AI41,"+",5) -> #N/A | S42: =B41 -> 21 | T42: =$A41 -> #N/A | U42: 2 | V42: лич | AJ42: 97
C43: =VLOOKUP(B41,Уч!$A$2:$L$34,7,FALSE) -> ГБУ КК "ЦОП №1" | E43: Очки | F43: =VLOOKUP($B41,'100 м 1'!$C$18:$I$87,7,FALSE) -> 637 | G43: =VLOOKUP($B41,'длина 2 '!$C$16:$O$54,13,FALSE) -> 0 | H43: =VLOOKUP($B41,'ядро 2'!$C$16:$K$60,9,FALSE) -> 608 | I43: =VLOOKUP($B41,'высота 2'!$C$16:$AF$57,30,) -> 0 | J43: =VLOOKUP($B41,'4_р'!$C$17:$H$73,6,FALSE) -> #N/A | K43: =VLOOKUP($B41,'1cб_р'!$C$17:$I$67,7,FALSE) -> 0 | L43: =VLOOKUP($B41,Дс_р!$C$16:$K$70,9,FALSE) -> 0 | M43: =VLOOKUP($B41,Ш_р!$C$15:$AF$69,30,FALSE) -> 0 | N43: =VLOOKUP($B41,К_р!$C$15:$K$68,9,FALSE) -> 0 | O43: =VLOOKUP($B41,'15_р'!$C$17:$H$86,6,FALSE) -> 0 | S43: =B41 -> 21 | T43: =$A41 -> #N/A | U43: 3 | V43: лич | AJ43: 97
C44: =VLOOKUP(B41,Уч!$A$2:$L$34,11,FALSE) -> Лияскин А.С., Смирнов В.Ф., Пугач С.В. | E44: Сумма очков | F44: =F43 -> 637 | G44: =F44+G43 -> 637 | H44: =G44+H43 -> 1245 | I44: =H44+I43 -> 1245 | J44: =SUM($F43:J43) -> #N/A | K44: =SUM($F43:$K43) -> #N/A | L44: =K44+L43 -> #N/A | M44: =L44+M43 -> #N/A | N44: =SUM($F43:$N43) -> #N/A | O44: =SUM($F43:$O43) -> #N/A | S44: =B41 -> 21 | T44: =$A41 -> #N/A | U44: 4 | V44: лич | W44: =F44 -> 637 | X44: =G44 -> 637 | Y44: =H44 -> 1245 | Z44: =I44 -> 1245 | AA44: =J44 -> #N/A | AB44: =K44 -> #N/A | AC44: =L44 -> #N/A | AD44: =M44 -> #N/A | ... AF44: =O44 -> #N/A | AJ44: 97
C45: =VLOOKUP(B41,Уч!$A$2:$L$34,12,FALSE) -> 0 | E45: Место | F45: =RANK(F44,$W$19:$W$150,0) -> #N/A | G45: =RANK(G44,$X$19:$X$150,0) -> #N/A | H45: =RANK(H44,$Y$19:$Y$150,0) -> #N/A | I45: =RANK(I44,$Z$19:$Z$150,0) -> #N/A | J45: =RANK(J44,$AA$19:$AA$150,0) -> #N/A | K45: =RANK(K44,$AB$19:$AB$150,0) -> #N/A | L45: =RANK(L44,$AC$19:$AC$150,0) -> #N/A | M45: =RANK(M44,$AD$19:$AD$150,0) -> #N/A | N45: =RANK(N44,$AE$19:$AE$150,0) -> #N/A | O45: =RANK(O44,$AF$19:$AF$150,0) -> #N/A | S45: =B41 -> 21 | T45: =$A41 -> #N/A | U45: 5 | V45: лич | AJ45: 97
A46: =RANK(P46,$P$16:$P$150,0) -> #N/A | B46: 28 | C46: =VLOOKUP(B46,Уч!$A$2:$L$34,2,FALSE) -> #N/A | D46: =VLOOKUP(B46,Уч!$A$2:$L$34,3,FALSE) -> #N/A | E46: Результат | F46: =VLOOKUP($B46,'100 м 1'!$C$18:$I$87,5,FALSE) -> #N/A | G46: =VLOOKUP($B46,'длина 2 '!$C$16:$O$54,11,FALSE) -> #N/A | H46: =VLOOKUP($B46,'ядро 2'!$C$16:$K$60,8,FALSE) -> #N/A | I46: =VLOOKUP($B46,'высота 2'!$C$16:$AF$57,29,FALSE) -> #N/A | J46: =VLOOKUP($B46,'4_р'!$C$17:$H$73,5,FALSE) -> #N/A | K46: =VLOOKUP($B46,'1cб_р'!$C$17:$I$67,5,FALSE) -> 0 | L46: =VLOOKUP($B46,Дс_р!$C$16:$K$70,8,FALSE) -> 0 | M46: =VLOOKUP($B46,Ш_р!$C$15:$AF$69,29,FALSE) -> 0 | N46: =VLOOKUP($B46,К_р!$C$15:$K$68,8,FALSE) -> 0 | O46: =VLOOKUP($B46,'15_р'!$C$17:$H$86,5,FALSE) -> 0 | P46: =SUM(F48:O48) -> #N/A | Q46: =LOOKUP(P46,Y$1:AH$1,Y$2:AH$2) -> #N/A | R46: =AH46+AI46+5 -> #N/A | S46: =B46 -> 28 | T46: =$A46 -> #N/A | U46: 1 | V46: лич | AH46: =IF(AND(T46>16,P46>=6200),"1",LOOKUP(T46,Y$5:AO$5,Y$6:AO$6)) -> #N/A | AI46: =LOOKUP(Q46,Y$8:AD$8,Y$9:AD$9) -> #N/A | AJ46: 99
C47: =VLOOKUP(B46,Уч!$A$2:$L$34,5,FALSE) -> #N/A | D47: =VLOOKUP(B46,Уч!$A$2:$L$34,4,FALSE) -> #N/A | E47: Ветер | F47: =VLOOKUP($B46,'100 м 1'!$C$18:$I$87,6,FALSE) -> #N/A | G47: =VLOOKUP($B46,'длина 2 '!$C$16:$O$54,12,FALSE) -> #N/A | K47: =VLOOKUP($B46,'1cб_р'!$C$17:$I$67,6,FALSE) -> 0 | R47: =CONCATENATE(AH46,"+",AI46,"+",5) -> #N/A | S47: =B46 -> 28 | T47: =$A46 -> #N/A | U47: 2 | V47: лич | AJ47: 99
C48: =VLOOKUP(B46,Уч!$A$2:$L$34,7,FALSE) -> #N/A | E48: Очки | F48: =VLOOKUP($B46,'100 м 1'!$C$18:$I$87,7,FALSE) -> #N/A | G48: =VLOOKUP($B46,'длина 2 '!$C$16:$O$54,13,FALSE) -> #N/A | H48: =VLOOKUP($B46,'ядро 2'!$C$16:$K$60,9,FALSE) -> #N/A | I48: =VLOOKUP($B46,'высота 2'!$C$16:$AF$57,30,) -> #N/A | J48: =VLOOKUP($B46,'4_р'!$C$17:$H$73,6,FALSE) -> #N/A | K48: =VLOOKUP($B46,'1cб_р'!$C$17:$I$67,7,FALSE) -> 0 | L48: =VLOOKUP($B46,Дс_р!$C$16:$K$70,9,FALSE) -> 0 | M48: =VLOOKUP($B46,Ш_р!$C$15:$AF$69,30,FALSE) -> 0 | N48: =VLOOKUP($B46,К_р!$C$15:$K$68,9,FALSE) -> 0 | O48: =VLOOKUP($B46,'15_р'!$C$17:$H$86,6,FALSE) -> 0 | S48: =B46 -> 28 | T48: =$A46 -> #N/A | U48: 3 | V48: лич | AJ48: 99
C49: =VLOOKUP(B46,Уч!$A$2:$L$34,11,FALSE) -> #N/A | E49: Сумма очков | F49: =F48 -> #N/A | G49: =F49+G48 -> #N/A | H49: =G49+H48 -> #N/A | I49: =H49+I48 -> #N/A | J49: =SUM($F48:J48) -> #N/A | K49: =SUM($F48:$K48) -> #N/A | L49: =K49+L48 -> #N/A | M49: =L49+M48 -> #N/A | N49: =SUM($F48:$N48) -> #N/A | O49: =SUM($F48:$O48) -> #N/A | S49: =B46 -> 28 | T49: =$A46 -> #N/A | U49: 4 | V49: лич | W49: =F49 -> #N/A | X49: =G49 -> #N/A | Y49: =H49 -> #N/A | Z49: =I49 -> #N/A | AA49: =J49 -> #N/A | AB49: =K49 -> #N/A | AC49: =L49 -> #N/A | AD49: =M49 -> #N/A | ... AF49: =O49 -> #N/A | AJ49: 99
C50: =VLOOKUP(B46,Уч!$A$2:$L$34,12,FALSE) -> #N/A | E50: Место | F50: =RANK(F49,$W$19:$W$150,0) -> #N/A | G50: =RANK(G49,$X$19:$X$150,0) -> #N/A | H50: =RANK(H49,$Y$19:$Y$150,0) -> #N/A | I50: =RANK(I49,$Z$19:$Z$150,0) -> #N/A | J50: =RANK(J49,$AA$19:$AA$150,0) -> #N/A | K50: =RANK(K49,$AB$19:$AB$150,0) -> #N/A | L50: =RANK(L49,$AC$19:$AC$150,0) -> #N/A | M50: =RANK(M49,$AD$19:$AD$150,0) -> #N/A | N50: =RANK(N49,$AE$19:$AE$150,0) -> #N/A | O50: =RANK(O49,$AF$19:$AF$150,0) -> #N/A | S50: =B46 -> 28 | T50: =$A46 -> #N/A | U50: 5 | V50: лич | AJ50: 99
A51: =RANK(P51,$P$16:$P$150,0) -> #N/A | B51: 52 | C51: =VLOOKUP(B51,Уч!$A$2:$L$34,2,FALSE) -> #N/A | D51: =VLOOKUP(B51,Уч!$A$2:$L$34,3,FALSE) -> #N/A | E51: Результат | F51: =VLOOKUP($B51,'100 м 1'!$C$18:$I$87,5,FALSE) -> 10.93 | G51: =VLOOKUP($B51,'длина 2 '!$C$16:$O$54,11,FALSE) -> #N/A | H51: =VLOOKUP($B51,'ядро 2'!$C$16:$K$60,8,FALSE) -> #N/A | I51: =VLOOKUP($B51,'высота 2'!$C$16:$AF$57,29,FALSE) -> #N/A | J51: =VLOOKUP($B51,'4_р'!$C$17:$H$73,5,FALSE) -> 0 | K51: =VLOOKUP($B51,'1cб_р'!$C$17:$I$67,5,FALSE) -> #N/A | L51: =VLOOKUP($B51,Дс_р!$C$16:$K$70,8,FALSE) -> #N/A | M51: =VLOOKUP($B51,Ш_р!$C$15:$AF$69,29,FALSE) -> #N/A | N51: =VLOOKUP($B51,К_р!$C$15:$K$68,8,FALSE) -> #N/A | O51: =VLOOKUP($B51,'15_р'!$C$17:$H$86,5,FALSE) -> 0 | P51: =SUM(F53:O53) -> #N/A | Q51: =LOOKUP(P51,Y$1:AH$1,Y$2:AH$2) -> #N/A | R51: =AH51+AI51+5 -> #N/A | S51: =B51 -> 52 | T51: =$A51 -> #N/A | U51: 1 | V51: =$A51 -> #N/A | AH51: =IF(AND(T51>16,P51>=6200),"1",LOOKUP(T51,Y$5:AO$5,Y$6:AO$6)) -> #N/A | AI51: =LOOKUP(Q51,Y$8:AD$8,Y$9:AD$9) -> #N/A | AJ51: 101
C52: =VLOOKUP(B51,Уч!$A$2:$L$34,5,FALSE) -> #N/A | D52: =VLOOKUP(B51,Уч!$A$2:$L$34,4,FALSE) -> #N/A | E52: Ветер | F52: =VLOOKUP($B51,'100 м 1'!$C$18:$I$87,6,FALSE) -> 1 | G52: =VLOOKUP($B51,'длина 2 '!$C$16:$O$54,12,FALSE) -> #N/A | K52: =VLOOKUP($B51,'1cб_р'!$C$17:$I$67,6,FALSE) -> #N/A | R52: =CONCATENATE(AH51,"+",AI51,"+",5) -> #N/A | S52: =B51 -> 52 | T52: =$A51 -> #N/A | U52: 2 | V52: =$A51 -> #N/A | AJ52: 101
C53: =VLOOKUP(B51,Уч!$A$2:$L$34,7,FALSE) -> #N/A | E53: Очки | F53: =VLOOKUP($B51,'100 м 1'!$C$18:$I$87,7,FALSE) -> 876 | G53: =VLOOKUP($B51,'длина 2 '!$C$16:$O$54,13,FALSE) -> #N/A | H53: =VLOOKUP($B51,'ядро 2'!$C$16:$K$60,9,FALSE) -> #N/A | I53: =VLOOKUP($B51,'высота 2'!$C$16:$AF$57,30,) -> #N/A | J53: =VLOOKUP($B51,'4_р'!$C$17:$H$73,6,FALSE) -> 0 | K53: =VLOOKUP($B51,'1cб_р'!$C$17:$I$67,7,FALSE) -> #N/A | L53: =VLOOKUP($B51,Дс_р!$C$16:$K$70,9,FALSE) -> #N/A | M53: =VLOOKUP($B51,Ш_р!$C$15:$AF$69,30,FALSE) -> #N/A | N53: =VLOOKUP($B51,К_р!$C$15:$K$68,9,FALSE) -> #N/A | O53: =VLOOKUP($B51,'15_р'!$C$17:$H$86,6,FALSE) -> 0 | S53: =B51 -> 52 | T53: =$A51 -> #N/A | U53: 3 | V53: =$A51 -> #N/A | AJ53: 101
C54: =VLOOKUP(B51,Уч!$A$2:$L$34,11,FALSE) -> #N/A | E54: Сумма очков | F54: =F53 -> 876 | G54: =F54+G53 -> #N/A | H54: =G54+H53 -> #N/A | I54: =H54+I53 -> #N/A | J54: =SUM($F53:J53) -> #N/A | K54: =SUM($F53:$K53) -> #N/A | L54: =K54+L53 -> #N/A | M54: =L54+M53 -> #N/A | N54: =SUM($F53:$N53) -> #N/A | O54: =SUM($F53:$O53) -> #N/A | S54: =B51 -> 52 | T54: =$A51 -> #N/A | U54: 4 | V54: =$A51 -> #N/A | W54: =F54 -> 876 | X54: =G54 -> #N/A | Y54: =H54 -> #N/A | Z54: =I54 -> #N/A | AA54: =J54 -> #N/A | AB54: =K54 -> #N/A | AC54: =L54 -> #N/A | AD54: =M54 -> #N/A | ... AF54: =O54 -> #N/A | AJ54: 101
C55: =VLOOKUP(B51,Уч!$A$2:$L$34,12,FALSE) -> #N/A | E55: Место | F55: =RANK(F54,$W$19:$W$150,0) -> #N/A | G55: =RANK(G54,$X$19:$X$150,0) -> #N/A | H55: =RANK(H54,$Y$19:$Y$150,0) -> #N/A | I55: =RANK(I54,$Z$19:$Z$150,0) -> #N/A | J55: =RANK(J54,$AA$19:$AA$150,0) -> #N/A | K55: =RANK(K54,$AB$19:$AB$150,0) -> #N/A | L55: =RANK(L54,$AC$19:$AC$150,0) -> #N/A | M55: =RANK(M54,$AD$19:$AD$150,0) -> #N/A | N55: =RANK(N54,$AE$19:$AE$150,0) -> #N/A | O55: =RANK(O54,$AF$19:$AF$150,0) -> #N/A | S55: =B51 -> 52 | T55: =$A51 -> #N/A | U55: 5 | V55: =$A51 -> #N/A | AJ55: 101
A56: =RANK(P56,$P$16:$P$150,0) -> #N/A | B56: 33 | C56: =VLOOKUP(B56,Уч!$A$2:$L$34,2,FALSE) -> #N/A | D56: =VLOOKUP(B56,Уч!$A$2:$L$34,3,FALSE) -> #N/A | E56: Результат | F56: =VLOOKUP($B56,'100 м 1'!$C$18:$I$87,5,FALSE) -> #N/A | G56: =VLOOKUP($B56,'длина 2 '!$C$16:$O$54,11,FALSE) -> #N/A | H56: =VLOOKUP($B56,'ядро 2'!$C$16:$K$60,8,FALSE) -> #N/A | I56: =VLOOKUP($B56,'высота 2'!$C$16:$AF$57,29,FALSE) -> #N/A | J56: =VLOOKUP($B56,'4_р'!$C$17:$H$73,5,FALSE) -> #N/A | K56: =VLOOKUP($B56,'1cб_р'!$C$17:$I$67,5,FALSE) -> #N/A | L56: =VLOOKUP($B56,Дс_р!$C$16:$K$70,8,FALSE) -> #N/A | M56: =VLOOKUP($B56,Ш_р!$C$15:$AF$69,29,FALSE) -> 0 | N56: =VLOOKUP($B56,К_р!$C$15:$K$68,8,FALSE) -> 52.92 | O56: =VLOOKUP($B56,'15_р'!$C$17:$H$86,5,FALSE) -> #N/A | P56: =SUM(F58:O58) -> #N/A | Q56: =LOOKUP(P56,Y$1:AH$1,Y$2:AH$2) -> #N/A | R56: =AH56+AI56+5 -> #N/A | S56: =B56 -> 33 | T56: =$A56 -> #N/A | U56: 1 | V56: лич | AH56: =IF(AND(T56>16,P56>=6200),"1",LOOKUP(T56,Y$5:AO$5,Y$6:AO$6)) -> #N/A | AI56: =LOOKUP(Q56,Y$8:AD$8,Y$9:AD$9) -> #N/A | AJ56: 103
C57: =VLOOKUP(B56,Уч!$A$2:$L$34,5,FALSE) -> #N/A | D57: =VLOOKUP(B56,Уч!$A$2:$L$34,4,FALSE) -> #N/A | E57: Ветер | F57: =VLOOKUP($B56,'100 м 1'!$C$18:$I$87,6,FALSE) -> #N/A | G57: =VLOOKUP($B56,'длина 2 '!$C$16:$O$54,12,FALSE) -> #N/A | K57: =VLOOKUP($B56,'1cб_р'!$C$17:$I$67,6,FALSE) -> #N/A | R57: =CONCATENATE(AH56,"+",AI56,"+",5) -> #N/A | S57: =B56 -> 33 | T57: =$A56 -> #N/A | U57: 2 | V57: лич | AJ57: 103
C58: =VLOOKUP(B56,Уч!$A$2:$L$34,7,FALSE) -> #N/A | E58: Очки | F58: =VLOOKUP($B56,'100 м 1'!$C$18:$I$87,7,FALSE) -> #N/A | G58: =VLOOKUP($B56,'длина 2 '!$C$16:$O$54,13,FALSE) -> #N/A | H58: =VLOOKUP($B56,'ядро 2'!$C$16:$K$60,9,FALSE) -> #N/A | I58: =VLOOKUP($B56,'высота 2'!$C$16:$AF$57,30,) -> #N/A | J58: =VLOOKUP($B56,'4_р'!$C$17:$H$73,6,FALSE) -> #N/A | K58: =VLOOKUP($B56,'1cб_р'!$C$17:$I$67,7,FALSE) -> #N/A | L58: =VLOOKUP($B56,Дс_р!$C$16:$K$70,9,FALSE) -> #N/A | M58: =VLOOKUP($B56,Ш_р!$C$15:$AF$69,30,FALSE) -> 0 | N58: =VLOOKUP($B56,К_р!$C$15:$K$68,9,FALSE) -> 632 | O58: =VLOOKUP($B56,'15_р'!$C$17:$H$86,6,FALSE) -> #N/A | S58: =B56 -> 33 | T58: =$A56 -> #N/A | U58: 3 | V58: лич | AJ58: 103
C59: =VLOOKUP(B56,Уч!$A$2:$L$34,11,FALSE) -> #N/A | E59: Сумма очков | F59: =F58 -> #N/A | G59: =F59+G58 -> #N/A | H59: =G59+H58 -> #N/A | I59: =H59+I58 -> #N/A | J59: =SUM($F58:J58) -> #N/A | K59: =SUM($F58:$K58) -> #N/A | L59: =K59+L58 -> #N/A | M59: =L59+M58 -> #N/A | N59: =SUM($F58:$N58) -> #N/A | O59: =SUM($F58:$O58) -> #N/A | S59: =B56 -> 33 | T59: =$A56 -> #N/A | U59: 4 | V59: лич | W59: =F59 -> #N/A | X59: =G59 -> #N/A | Y59: =H59 -> #N/A | Z59: =I59 -> #N/A | AA59: =J59 -> #N/A | AB59: =K59 -> #N/A | AC59: =L59 -> #N/A | AD59: =M59 -> #N/A | ... AF59: =O59 -> #N/A | AJ59: 103
C60: =VLOOKUP(B56,Уч!$A$2:$L$34,12,FALSE) -> #N/A | E60: Место | F60: =RANK(F59,$W$19:$W$150,0) -> #N/A | G60: =RANK(G59,$X$19:$X$150,0) -> #N/A | H60: =RANK(H59,$Y$19:$Y$150,0) -> #N/A | I60: =RANK(I59,$Z$19:$Z$150,0) -> #N/A | J60: =RANK(J59,$AA$19:$AA$150,0) -> #N/A | K60: =RANK(K59,$AB$19:$AB$150,0) -> #N/A | L60: =RANK(L59,$AC$19:$AC$150,0) -> #N/A | M60: =RANK(M59,$AD$19:$AD$150,0) -> #N/A | N60: =RANK(N59,$AE$19:$AE$150,0) -> #N/A | O60: =RANK(O59,$AF$19:$AF$150,0) -> #N/A | S60: =B56 -> 33 | T60: =$A56 -> #N/A | U60: 5 | V60: лич | AJ60: 103
A61: =RANK(P61,$P$16:$P$150,0) -> #N/A | B61: 53 | C61: =VLOOKUP(B61,Уч!$A$2:$L$34,2,FALSE) -> #N/A | D61: =VLOOKUP(B61,Уч!$A$2:$L$34,3,FALSE) -> #N/A | E61: Результат | F61: =VLOOKUP($B61,'100 м 1'!$C$18:$I$87,5,FALSE) -> 10.91 | G61: =VLOOKUP($B61,'длина 2 '!$C$16:$O$54,11,FALSE) -> #N/A | H61: =VLOOKUP($B61,'ядро 2'!$C$16:$K$60,8,FALSE) -> #N/A | I61: =VLOOKUP($B61,'высота 2'!$C$16:$AF$57,29,FALSE) -> #N/A | J61: =VLOOKUP($B61,'4_р'!$C$17:$H$73,5,FALSE) -> #N/A | K61: =VLOOKUP($B61,'1cб_р'!$C$17:$I$67,5,FALSE) -> #N/A | L61: =VLOOKUP($B61,Дс_р!$C$16:$K$70,8,FALSE) -> #N/A | M61: =VLOOKUP($B61,Ш_р!$C$15:$AF$69,29,FALSE) -> #N/A | N61: =VLOOKUP($B61,К_р!$C$15:$K$68,8,FALSE) -> #N/A | O61: =VLOOKUP($B61,'15_р'!$C$17:$H$86,5,FALSE) -> #N/A | P61: =SUM(F63:O63) -> #N/A | Q61: =LOOKUP(P61,Y$1:AH$1,Y$2:AH$2) -> #N/A | R61: =AH61+AI61+5 -> #N/A | S61: =B61 -> 53 | T61: =$A61 -> #N/A | U61: 1 | V61: =$A61 -> #N/A | AH61: =IF(AND(T61>16,P61>=6200),"1",LOOKUP(T61,Y$5:AO$5,Y$6:AO$6)) -> #N/A | AI61: =LOOKUP(Q61,Y$8:AD$8,Y$9:AD$9) -> #N/A | AJ61: 162
C62: =VLOOKUP(B61,Уч!$A$2:$L$34,5,FALSE) -> #N/A | D62: =VLOOKUP(B61,Уч!$A$2:$L$34,4,FALSE) -> #N/A | E62: Ветер | F62: =VLOOKUP($B61,'100 м 1'!$C$18:$I$87,6,FALSE) -> 1 | G62: =VLOOKUP($B61,'длина 2 '!$C$16:$O$54,12,FALSE) -> #N/A | K62: =VLOOKUP($B61,'1cб_р'!$C$17:$I$67,6,FALSE) -> #N/A | R62: =CONCATENATE(AH61,"+",AI61,"+",5) -> #N/A | S62: =B61 -> 53 | T62: =$A61 -> #N/A | U62: 2 | V62: =$A61 -> #N/A | AJ62: 162
C63: =VLOOKUP(B61,Уч!$A$2:$L$34,7,FALSE) -> #N/A | E63: Очки | F63: =VLOOKUP($B61,'100 м 1'!$C$18:$I$87,7,FALSE) -> 881 | G63: =VLOOKUP($B61,'длина 2 '!$C$16:$O$54,13,FALSE) -> #N/A | H63: =VLOOKUP($B61,'ядро 2'!$C$16:$K$60,9,FALSE) -> #N/A | I63: =VLOOKUP($B61,'высота 2'!$C$16:$AF$57,30,) -> #N/A | J63: =VLOOKUP($B61,'4_р'!$C$17:$H$73,6,FALSE) -> #N/A | K63: =VLOOKUP($B61,'1cб_р'!$C$17:$I$67,7,FALSE) -> #N/A | L63: =VLOOKUP($B61,Дс_р!$C$16:$K$70,9,FALSE) -> #N/A | M63: =VLOOKUP($B61,Ш_р!$C$15:$AF$69,30,FALSE) -> #N/A | N63: =VLOOKUP($B61,К_р!$C$15:$K$68,9,FALSE) -> #N/A | O63: =VLOOKUP($B61,'15_р'!$C$17:$H$86,6,FALSE) -> #N/A | S63: =B61 -> 53 | T63: =$A61 -> #N/A | U63: 3 | V63: =$A61 -> #N/A | AJ63: 162
C64: =VLOOKUP(B61,Уч!$A$2:$L$34,11,FALSE) -> #N/A | E64: Сумма очков | F64: =F63 -> 881 | G64: =F64+G63 -> #N/A | H64: =G64+H63 -> #N/A | I64: =H64+I63 -> #N/A | J64: =SUM($F63:J63) -> #N/A | K64: =SUM($F63:$K63) -> #N/A | L64: =K64+L63 -> #N/A | M64: =L64+M63 -> #N/A | N64: =SUM($F63:$N63) -> #N/A | O64: =SUM($F63:$O63) -> #N/A | S64: =B61 -> 53 | T64: =$A61 -> #N/A | U64: 4 | V64: =$A61 -> #N/A | W64: =F64 -> 881 | X64: =G64 -> #N/A | Y64: =H64 -> #N/A | Z64: =I64 -> #N/A | AA64: =J64 -> #N/A | AB64: =K64 -> #N/A | AC64: =L64 -> #N/A | AD64: =M64 -> #N/A | ... AF64: =O64 -> #N/A | AJ64: 162
C65: =VLOOKUP(B61,Уч!$A$2:$L$34,12,FALSE) -> #N/A | E65: Место | F65: =RANK(F64,$W$19:$W$150,0) -> #N/A | G65: =RANK(G64,$X$19:$X$150,0) -> #N/A | H65: =RANK(H64,$Y$19:$Y$150,0) -> #N/A | I65: =RANK(I64,$Z$19:$Z$150,0) -> #N/A | J65: =RANK(J64,$AA$19:$AA$150,0) -> #N/A | K65: =RANK(K64,$AB$19:$AB$150,0) -> #N/A | L65: =RANK(L64,$AC$19:$AC$150,0) -> #N/A | M65: =RANK(M64,$AD$19:$AD$150,0) -> #N/A | N65: =RANK(N64,$AE$19:$AE$150,0) -> #N/A | O65: =RANK(O64,$AF$19:$AF$150,0) -> #N/A | S65: =B61 -> 53 | T65: =$A61 -> #N/A | U65: 5 | V65: =$A61 -> #N/A | AJ65: 162
A66: =RANK(P66,$P$16:$P$150,0) -> #N/A | B66: 24 | C66: =VLOOKUP(B66,Уч!$A$2:$L$34,2,FALSE) -> #N/A | D66: =VLOOKUP(B66,Уч!$A$2:$L$34,3,FALSE) -> #N/A | E66: Результат | F66: =VLOOKUP($B66,'100 м 1'!$C$18:$I$87,5,FALSE) -> 11.15 | G66: =VLOOKUP($B66,'длина 2 '!$C$16:$O$54,11,FALSE) -> #N/A | H66: =VLOOKUP($B66,'ядро 2'!$C$16:$K$60,8,FALSE) -> #N/A | I66: =VLOOKUP($B66,'высота 2'!$C$16:$AF$57,29,FALSE) -> #N/A | J66: =VLOOKUP($B66,'4_р'!$C$17:$H$73,5,FALSE) -> 54.8 | K66: =VLOOKUP($B66,'1cб_р'!$C$17:$I$67,5,FALSE) -> 17.36 | L66: =VLOOKUP($B66,Дс_р!$C$16:$K$70,8,FALSE) -> 29.35 | M66: =VLOOKUP($B66,Ш_р!$C$15:$AF$69,29,FALSE) -> 0 | N66: =VLOOKUP($B66,К_р!$C$15:$K$68,8,FALSE) -> 45.16 | O66: =VLOOKUP($B66,'15_р'!$C$17:$H$86,5,FALSE) -> 4:51.71 | P66: =SUM(F68:O68) -> #N/A | Q66: =LOOKUP(P66,Y$1:AH$1,Y$2:AH$2) -> #N/A | R66: =AH66+AI66+5 -> #N/A | S66: =B66 -> 24 | T66: =$A66 -> #N/A | U66: 1 | V66: =$A66 -> #N/A | AH66: =IF(AND(T66>16,P66>=6200),"1",LOOKUP(T66,Y$5:AO$5,Y$6:AO$6)) -> #N/A | AI66: =LOOKUP(Q66,Y$8:AD$8,Y$9:AD$9) -> #N/A | AJ66: 180
C67: =VLOOKUP(B66,Уч!$A$2:$L$34,5,FALSE) -> #N/A | D67: =VLOOKUP(B66,Уч!$A$2:$L$34,4,FALSE) -> #N/A | E67: Ветер | F67: =VLOOKUP($B66,'100 м 1'!$C$18:$I$87,6,FALSE) -> 1 | G67: =VLOOKUP($B66,'длина 2 '!$C$16:$O$54,12,FALSE) -> #N/A | K67: =VLOOKUP($B66,'1cб_р'!$C$17:$I$67,6,FALSE) -> 0 | R67: =CONCATENATE(AH66,"+",AI66,"+",5) -> #N/A | S67: =B66 -> 24 | T67: =$A66 -> #N/A | U67: 2 | V67: =$A66 -> #N/A | AJ67: 180
C68: =VLOOKUP(B66,Уч!$A$2:$L$34,7,FALSE) -> #N/A | E68: Очки | F68: =VLOOKUP($B66,'100 м 1'!$C$18:$I$87,7,FALSE) -> 827 | G68: =VLOOKUP($B66,'длина 2 '!$C$16:$O$54,13,FALSE) -> #N/A | H68: =VLOOKUP($B66,'ядро 2'!$C$16:$K$60,9,FALSE) -> #N/A | I68: =VLOOKUP($B66,'высота 2'!$C$16:$AF$57,30,) -> #N/A | J68: =VLOOKUP($B66,'4_р'!$C$17:$H$73,6,FALSE) -> 607 | K68: =VLOOKUP($B66,'1cб_р'!$C$17:$I$67,7,FALSE) -> 587 | L68: =VLOOKUP($B66,Дс_р!$C$16:$K$70,9,FALSE) -> 452 | M68: =VLOOKUP($B66,Ш_р!$C$15:$AF$69,30,FALSE) -> 0 | N68: =VLOOKUP($B66,К_р!$C$15:$K$68,9,FALSE) -> 517 | O68: =VLOOKUP($B66,'15_р'!$C$17:$H$86,6,FALSE) -> 608 | S68: =B66 -> 24 | T68: =$A66 -> #N/A | U68: 3 | V68: =$A66 -> #N/A | AJ68: 180
C69: =VLOOKUP(B66,Уч!$A$2:$L$34,11,FALSE) -> #N/A | E69: Сумма очков | F69: =F68 -> 827 | G69: =F69+G68 -> #N/A | H69: =G69+H68 -> #N/A | I69: =H69+I68 -> #N/A | J69: =SUM($F68:J68) -> #N/A | K69: =SUM($F68:$K68) -> #N/A | L69: =K69+L68 -> #N/A | M69: =L69+M68 -> #N/A | N69: =SUM($F68:$N68) -> #N/A | O69: =SUM($F68:$O68) -> #N/A | S69: =B66 -> 24 | T69: =$A66 -> #N/A | U69: 4 | V69: =$A66 -> #N/A | W69: =F69 -> 827 | X69: =G69 -> #N/A | Y69: =H69 -> #N/A | Z69: =I69 -> #N/A | AA69: =J69 -> #N/A | AB69: =K69 -> #N/A | AC69: =L69 -> #N/A | AD69: =M69 -> #N/A | ... AF69: =O69 -> #N/A | AJ69: 180
C70: =VLOOKUP(B66,Уч!$A$2:$L$34,12,FALSE) -> #N/A | E70: Место | F70: =RANK(F69,$W$19:$W$150,0) -> #N/A | G70: =RANK(G69,$X$19:$X$150,0) -> #N/A | H70: =RANK(H69,$Y$19:$Y$150,0) -> #N/A | I70: =RANK(I69,$Z$19:$Z$150,0) -> #N/A | J70: =RANK(J69,$AA$19:$AA$150,0) -> #N/A | K70: =RANK(K69,$AB$19:$AB$150,0) -> #N/A | L70: =RANK(L69,$AC$19:$AC$150,0) -> #N/A | M70: =RANK(M69,$AD$19:$AD$150,0) -> #N/A | N70: =RANK(N69,$AE$19:$AE$150,0) -> #N/A | O70: =RANK(O69,$AF$19:$AF$150,0) -> #N/A | S70: =B66 -> 24 | T70: =$A66 -> #N/A | U70: 5 | V70: =$A66 -> #N/A | AJ70: 180
A71: =RANK(P71,$P$16:$P$150,0) -> #N/A | B71: 16 | C71: =VLOOKUP(B71,Уч!$A$2:$L$34,2,FALSE) -> #N/A | D71: =VLOOKUP(B71,Уч!$A$2:$L$34,3,FALSE) -> #N/A | E71: Результат | F71: =VLOOKUP($B71,'100 м 1'!$C$18:$I$87,5,FALSE) -> #N/A | G71: =VLOOKUP($B71,'длина 2 '!$C$16:$O$54,11,FALSE) -> #N/A | H71: =VLOOKUP($B71,'ядро 2'!$C$16:$K$60,8,FALSE) -> #N/A | I71: =VLOOKUP($B71,'высота 2'!$C$16:$AF$57,29,FALSE) -> #N/A | J71: =VLOOKUP($B71,'4_р'!$C$17:$H$73,5,FALSE) -> #N/A | K71: =VLOOKUP($B71,'1cб_р'!$C$17:$I$67,5,FALSE) -> #N/A | L71: =VLOOKUP($B71,Дс_р!$C$16:$K$70,8,FALSE) -> #N/A | M71: =VLOOKUP($B71,Ш_р!$C$15:$AF$69,29,FALSE) -> 4.5 | N71: =VLOOKUP($B71,К_р!$C$15:$K$68,8,FALSE) -> #N/A | O71: =VLOOKUP($B71,'15_р'!$C$17:$H$86,5,FALSE) -> #N/A | P71: =SUM(F73:O73) -> #N/A | Q71: =LOOKUP(P71,Y$1:AH$1,Y$2:AH$2) -> #N/A | R71: =AH71+AI71+5 -> #N/A | S71: =B71 -> 16 | T71: =$A71 -> #N/A | U71: 1 | V71: =$A71 -> #N/A | AH71: =IF(AND(T71>16,P71>=6200),"1",LOOKUP(T71,Y$5:AO$5,Y$6:AO$6)) -> #N/A | AI71: =LOOKUP(Q71,Y$8:AD$8,Y$9:AD$9) -> #N/A | AJ71: 315
C72: =VLOOKUP(B71,Уч!$A$2:$L$34,5,FALSE) -> #N/A | D72: =VLOOKUP(B71,Уч!$A$2:$L$34,4,FALSE) -> #N/A | E72: Ветер | F72: =VLOOKUP($B71,'100 м 1'!$C$18:$I$87,6,FALSE) -> #N/A | G72: =VLOOKUP($B71,'длина 2 '!$C$16:$O$54,12,FALSE) -> #N/A | K72: =VLOOKUP($B71,'1cб_р'!$C$17:$I$67,6,FALSE) -> #N/A | R72: =CONCATENATE(AH71,"+",AI71,"+",5) -> #N/A | S72: =B71 -> 16 | T72: =$A71 -> #N/A | U72: 2 | V72: =$A71 -> #N/A | AJ72: 315
C73: =VLOOKUP(B71,Уч!$A$2:$L$34,7,FALSE) -> #N/A | E73: Очки | F73: =VLOOKUP($B71,'100 м 1'!$C$18:$I$87,7,FALSE) -> #N/A | G73: =VLOOKUP($B71,'длина 2 '!$C$16:$O$54,13,FALSE) -> #N/A | H73: =VLOOKUP($B71,'ядро 2'!$C$16:$K$60,9,FALSE) -> #N/A | I73: =VLOOKUP($B71,'высота 2'!$C$16:$AF$57,30,) -> #N/A | J73: =VLOOKUP($B71,'4_р'!$C$17:$H$73,6,FALSE) -> #N/A | K73: =VLOOKUP($B71,'1cб_р'!$C$17:$I$67,7,FALSE) -> #N/A | L73: =VLOOKUP($B71,Дс_р!$C$16:$K$70,9,FALSE) -> #N/A | M73: =VLOOKUP($B71,Ш_р!$C$15:$AF$69,30,FALSE) -> 760 | N73: =VLOOKUP($B71,К_р!$C$15:$K$68,9,FALSE) -> #N/A | O73: =VLOOKUP($B71,'15_р'!$C$17:$H$86,6,FALSE) -> #N/A | S73: =B71 -> 16 | T73: =$A71 -> #N/A | U73: 3 | V73: =$A71 -> #N/A | AJ73: 315
C74: =VLOOKUP(B71,Уч!$A$2:$L$34,11,FALSE) -> #N/A | E74: Сумма очков | F74: =F73 -> #N/A | G74: =F74+G73 -> #N/A | H74: =G74+H73 -> #N/A | I74: =H74+I73 -> #N/A | J74: =SUM($F73:J73) -> #N/A | K74: =SUM($F73:$K73) -> #N/A | L74: =K74+L73 -> #N/A | M74: =L74+M73 -> #N/A | N74: =SUM($F73:$N73) -> #N/A | O74: =SUM($F73:$O73) -> #N/A | S74: =B71 -> 16 | T74: =$A71 -> #N/A | U74: 4 | V74: =$A71 -> #N/A | W74: =F74 -> #N/A | X74: =G74 -> #N/A | Y74: =H74 -> #N/A | Z74: =I74 -> #N/A | AA74: =J74 -> #N/A | AB74: =K74 -> #N/A | AC74: =L74 -> #N/A | AD74: =M74 -> #N/A | ... AF74: =O74 -> #N/A | AJ74: 315
C75: =VLOOKUP(B71,Уч!$A$2:$L$34,12,FALSE) -> #N/A | E75: Место | F75: =RANK(F74,$W$19:$W$150,0) -> #N/A | G75: =RANK(G74,$X$19:$X$150,0) -> #N/A | H75: =RANK(H74,$Y$19:$Y$150,0) -> #N/A | I75: =RANK(I74,$Z$19:$Z$150,0) -> #N/A | J75: =RANK(J74,$AA$19:$AA$150,0) -> #N/A | K75: =RANK(K74,$AB$19:$AB$150,0) -> #N/A | L75: =RANK(L74,$AC$19:$AC$150,0) -> #N/A | M75: =RANK(M74,$AD$19:$AD$150,0) -> #N/A | N75: =RANK(N74,$AE$19:$AE$150,0) -> #N/A | O75: =RANK(O74,$AF$19:$AF$150,0) -> #N/A | S75: =B71 -> 16 | T75: =$A71 -> #N/A | U75: 5 | V75: =$A71 -> #N/A | AJ75: 315
A76: =RANK(P76,$P$16:$P$150,0) -> #N/A | B76: 77 | C76: =VLOOKUP(B76,Уч!$A$2:$L$34,2,FALSE) -> Мазикин Алексей | D76: =VLOOKUP(B76,Уч!$A$2:$L$34,3,FALSE) -> 05.06.1998 | E76: Результат | F76: =VLOOKUP($B76,'100 м 1'!$C$18:$I$87,5,FALSE) -> 12.19 | G76: =VLOOKUP($B76,'длина 2 '!$C$16:$O$54,11,FALSE) -> 7.05 | H76: =VLOOKUP($B76,'ядро 2'!$C$16:$K$60,8,FALSE) -> 11.58 | I76: =VLOOKUP($B76,'высота 2'!$C$16:$AF$57,29,FALSE) -> 2.06 | J76: =VLOOKUP($B76,'4_р'!$C$17:$H$73,5,FALSE) -> #N/A | K76: =VLOOKUP($B76,'1cб_р'!$C$17:$I$67,5,FALSE) -> #N/A | L76: =VLOOKUP($B76,Дс_р!$C$16:$K$70,8,FALSE) -> #N/A | M76: =VLOOKUP($B76,Ш_р!$C$15:$AF$69,29,FALSE) -> #N/A | N76: =VLOOKUP($B76,К_р!$C$15:$K$68,8,FALSE) -> #N/A | O76: =VLOOKUP($B76,'15_р'!$C$17:$H$86,5,FALSE) -> #N/A | P76: =SUM(F78:O78) -> #N/A | Q76: =LOOKUP(P76,Y$1:AH$1,Y$2:AH$2) -> #N/A | R76: =AH76+AI76+5 -> #N/A | S76: =B76 -> 77 | T76: =$A76 -> #N/A | U76: 1 | V76: =$A76 -> #N/A | AH76: =IF(AND(T76>16,P76>=6200),"1",LOOKUP(T76,Y$5:AO$5,Y$6:AO$6)) -> #N/A | AI76: =LOOKUP(Q76,Y$8:AD$8,Y$9:AD$9) -> #N/A | AJ76: 316
C77: =VLOOKUP(B76,Уч!$A$2:$L$34,5,FALSE) -> Ставропольский край | D77: =VLOOKUP(B76,Уч!$A$2:$L$34,4,FALSE) -> КМС | E77: Ветер | F77: =VLOOKUP($B76,'100 м 1'!$C$18:$I$87,6,FALSE) -> 0.8 | G77: =VLOOKUP($B76,'длина 2 '!$C$16:$O$54,12,FALSE) -> 0 | K77: =VLOOKUP($B76,'1cб_р'!$C$17:$I$67,6,FALSE) -> #N/A | R77: =CONCATENATE(AH76,"+",AI76,"+",5) -> #N/A | S77: =B76 -> 77 | T77: =$A76 -> #N/A | U77: 2 | V77: =$A76 -> #N/A | AJ77: 316
C78: =VLOOKUP(B76,Уч!$A$2:$L$34,7,FALSE) -> ГБУ СК "СШОР по легкой атлетике", СУОР | E78: Очки | F78: =VLOOKUP($B76,'100 м 1'!$C$18:$I$87,7,FALSE) -> 614 | G78: =VLOOKUP($B76,'длина 2 '!$C$16:$O$54,13,FALSE) -> 0 | H78: =VLOOKUP($B76,'ядро 2'!$C$16:$K$60,9,FALSE) -> 581 | I78: =VLOOKUP($B76,'высота 2'!$C$16:$AF$57,30,) -> 0 | J78: =VLOOKUP($B76,'4_р'!$C$17:$H$73,6,FALSE) -> #N/A | K78: =VLOOKUP($B76,'1cб_р'!$C$17:$I$67,7,FALSE) -> #N/A | L78: =VLOOKUP($B76,Дс_р!$C$16:$K$70,9,FALSE) -> #N/A | M78: =VLOOKUP($B76,Ш_р!$C$15:$AF$69,30,FALSE) -> #N/A | N78: =VLOOKUP($B76,К_р!$C$15:$K$68,9,FALSE) -> #N/A | O78: =VLOOKUP($B76,'15_р'!$C$17:$H$86,6,FALSE) -> #N/A | S78: =B76 -> 77 | T78: =$A76 -> #N/A | U78: 3 | V78: =$A76 -> #N/A | AJ78: 316
C79: =VLOOKUP(B76,Уч!$A$2:$L$34,11,FALSE) -> Мирошниченко В.И., Журавлева Т.В. | E79: Сумма очков | F79: =F78 -> 614 | G79: =F79+G78 -> 614 | H79: =G79+H78 -> 1195 | I79: =H79+I78 -> 1195 | J79: =SUM($F78:J78) -> #N/A | K79: =SUM($F78:$K78) -> #N/A | L79: =K79+L78 -> #N/A | M79: =L79+M78 -> #N/A | N79: =SUM($F78:$N78) -> #N/A | O79: =SUM($F78:$O78) -> #N/A | S79: =B76 -> 77 | T79: =$A76 -> #N/A | U79: 4 | V79: =$A76 -> #N/A | W79: =F79 -> 614 | X79: =G79 -> 614 | Y79: =H79 -> 1195 | Z79: =I79 -> 1195 | AA79: =J79 -> #N/A | AB79: =K79 -> #N/A | AC79: =L79 -> #N/A | AD79: =M79 -> #N/A | ... AF79: =O79 -> #N/A | AJ79: 316
C80: =VLOOKUP(B76,Уч!$A$2:$L$34,12,FALSE) -> 0 | E80: Место | F80: =RANK(F79,$W$19:$W$150,0) -> #N/A | G80: =RANK(G79,$X$19:$X$150,0) -> #N/A | H80: =RANK(H79,$Y$19:$Y$150,0) -> #N/A | I80: =RANK(I79,$Z$19:$Z$150,0) -> #N/A | J80: =RANK(J79,$AA$19:$AA$150,0) -> #N/A | K80: =RANK(K79,$AB$19:$AB$150,0) -> #N/A | L80: =RANK(L79,$AC$19:$AC$150,0) -> #N/A | M80: =RANK(M79,$AD$19:$AD$150,0) -> #N/A | N80: =RANK(N79,$AE$19:$AE$150,0) -> #N/A | O80: =RANK(O79,$AF$19:$AF$150,0) -> #N/A | S80: =B76 -> 77 | T80: =$A76 -> #N/A | U80: 5 | V80: =$A76 -> #N/A | AJ80: 316
A81: =RANK(P81,$P$16:$P$150,0) -> #N/A | B81: 79 | C81: =VLOOKUP(B81,Уч!$A$2:$L$34,2,FALSE) -> Шестопалов Феликс | D81: =VLOOKUP(B81,Уч!$A$2:$L$34,3,FALSE) -> 11.03.1996 | E81: Результат | F81: =VLOOKUP($B81,'100 м 1'!$C$18:$I$87,5,FALSE) -> 11.13 | G81: =VLOOKUP($B81,'длина 2 '!$C$16:$O$54,11,FALSE) -> #N/A | H81: =VLOOKUP($B81,'ядро 2'!$C$16:$K$60,8,FALSE) -> #N/A | I81: =VLOOKUP($B81,'высота 2'!$C$16:$AF$57,29,FALSE) -> #N/A | J81: =VLOOKUP($B81,'4_р'!$C$17:$H$73,5,FALSE) -> #N/A | K81: =VLOOKUP($B81,'1cб_р'!$C$17:$I$67,5,FALSE) -> #N/A | L81: =VLOOKUP($B81,Дс_р!$C$16:$K$70,8,FALSE) -> #N/A | M81: =VLOOKUP($B81,Ш_р!$C$15:$AF$69,29,FALSE) -> #N/A | N81: =VLOOKUP($B81,К_р!$C$15:$K$68,8,FALSE) -> #N/A | O81: =VLOOKUP($B81,'15_р'!$C$17:$H$86,5,FALSE) -> #N/A | P81: =SUM(F83:O83) -> #N/A | Q81: =LOOKUP(P81,Y$1:AH$1,Y$2:AH$2) -> #N/A | R81: =AH81+AI81+5 -> #N/A | S81: =B81 -> 79 | T81: =$A81 -> #N/A | U81: 1 | V81: лич | AH81: =IF(AND(T81>16,P81>=6200),"1",LOOKUP(T81,Y$5:AO$5,Y$6:AO$6)) -> #N/A | AI81: =LOOKUP(Q81,Y$8:AD$8,Y$9:AD$9) -> #N/A | AJ81: 319
C82: =VLOOKUP(B81,Уч!$A$2:$L$34,5,FALSE) -> Москва Ставропольский край | D82: =VLOOKUP(B81,Уч!$A$2:$L$34,4,FALSE) -> МС | E82: Ветер | F82: =VLOOKUP($B81,'100 м 1'!$C$18:$I$87,6,FALSE) -> 0 | G82: =VLOOKUP($B81,'длина 2 '!$C$16:$O$54,12,FALSE) -> #N/A | K82: =VLOOKUP($B81,'1cб_р'!$C$17:$I$67,6,FALSE) -> #N/A | R82: =CONCATENATE(AH81,"+",AI81,"+",5) -> #N/A | S82: =B81 -> 79 | T82: =$A81 -> #N/A | U82: 2 | V82: лич | AJ82: 319
C83: =VLOOKUP(B81,Уч!$A$2:$L$34,7,FALSE) -> ГБУ "ФСО "Юность Москвы" Москомспорта, ГБУ СК "РЦСП" | E83: Очки | F83: =VLOOKUP($B81,'100 м 1'!$C$18:$I$87,7,FALSE) -> 832 | G83: =VLOOKUP($B81,'длина 2 '!$C$16:$O$54,13,FALSE) -> #N/A | H83: =VLOOKUP($B81,'ядро 2'!$C$16:$K$60,9,FALSE) -> #N/A | I83: =VLOOKUP($B81,'высота 2'!$C$16:$AF$57,30,) -> #N/A | J83: =VLOOKUP($B81,'4_р'!$C$17:$H$73,6,FALSE) -> #N/A | K83: =VLOOKUP($B81,'1cб_р'!$C$17:$I$67,7,FALSE) -> #N/A | L83: =VLOOKUP($B81,Дс_р!$C$16:$K$70,9,FALSE) -> #N/A | M83: =VLOOKUP($B81,Ш_р!$C$15:$AF$69,30,FALSE) -> #N/A | N83: =VLOOKUP($B81,К_р!$C$15:$K$68,9,FALSE) -> #N/A | O83: =VLOOKUP($B81,'15_р'!$C$17:$H$86,6,FALSE) -> #N/A | S83: =B81 -> 79 | T83: =$A81 -> #N/A | U83: 3 | V83: лич | AJ83: 319
C84: =VLOOKUP(B81,Уч!$A$2:$L$34,11,FALSE) -> Мирошниченко В.И., Журавлева Т.В. | E84: Сумма очков | F84: =F83 -> 832 | G84: =F84+G83 -> #N/A | H84: =G84+H83 -> #N/A | I84: =H84+I83 -> #N/A | J84: =SUM($F83:J83) -> #N/A | K84: =SUM($F83:$K83) -> #N/A | L84: =K84+L83 -> #N/A | M84: =L84+M83 -> #N/A | N84: =SUM($F83:$N83) -> #N/A | O84: =SUM($F83:$O83) -> #N/A | S84: =B81 -> 79 | T84: =$A81 -> #N/A | U84: 4 | V84: лич | W84: =F84 -> 832 | X84: =G84 -> #N/A | Y84: =H84 -> #N/A | Z84: =I84 -> #N/A | AA84: =J84 -> #N/A | AB84: =K84 -> #N/A | AC84: =L84 -> #N/A | AD84: =M84 -> #N/A | ... AF84: =O84 -> #N/A | AJ84: 319
C85: =VLOOKUP(B81,Уч!$A$2:$L$34,12,FALSE) -> 0 | E85: Место | F85: =RANK(F84,$W$19:$W$150,0) -> #N/A | G85: =RANK(G84,$X$19:$X$150,0) -> #N/A | H85: =RANK(H84,$Y$19:$Y$150,0) -> #N/A | I85: =RANK(I84,$Z$19:$Z$150,0) -> #N/A | J85: =RANK(J84,$AA$19:$AA$150,0) -> #N/A | K85: =RANK(K84,$AB$19:$AB$150,0) -> #N/A | L85: =RANK(L84,$AC$19:$AC$150,0) -> #N/A | M85: =RANK(M84,$AD$19:$AD$150,0) -> #N/A | N85: =RANK(N84,$AE$19:$AE$150,0) -> #N/A | O85: =RANK(O84,$AF$19:$AF$150,0) -> #N/A | S85: =B81 -> 79 | T85: =$A81 -> #N/A | U85: 5 | V85: лич | AJ85: 319
A86: =RANK(P86,$P$16:$P$150,0) -> #N/A | B86: 15 | C86: =VLOOKUP(B86,Уч!$A$2:$L$34,2,FALSE) -> #N/A | D86: =VLOOKUP(B86,Уч!$A$2:$L$34,3,FALSE) -> #N/A | E86: Результат | F86: =VLOOKUP($B86,'100 м 1'!$C$18:$I$87,5,FALSE) -> #N/A | G86: =VLOOKUP($B86,'длина 2 '!$C$16:$O$54,11,FALSE) -> #N/A | H86: =VLOOKUP($B86,'ядро 2'!$C$16:$K$60,8,FALSE) -> #N/A | I86: =VLOOKUP($B86,'высота 2'!$C$16:$AF$57,29,FALSE) -> #N/A | J86: =VLOOKUP($B86,'4_р'!$C$17:$H$73,5,FALSE) -> #N/A | K86: =VLOOKUP($B86,'1cб_р'!$C$17:$I$67,5,FALSE) -> #N/A | L86: =VLOOKUP($B86,Дс_р!$C$16:$K$70,8,FALSE) -> #N/A | M86: =VLOOKUP($B86,Ш_р!$C$15:$AF$69,29,FALSE) -> #N/A | N86: =VLOOKUP($B86,К_р!$C$15:$K$68,8,FALSE) -> #N/A | O86: =VLOOKUP($B86,'15_р'!$C$17:$H$86,5,FALSE) -> 0 | P86: =SUM(F88:O88) -> #N/A | Q86: =LOOKUP(P86,Y$1:AH$1,Y$2:AH$2) -> #N/A | R86: =AH86+AI86+5 -> #N/A | S86: =B86 -> 15 | T86: =$A86 -> #N/A | U86: 1 | V86: =$A86 -> #N/A | AH86: =IF(AND(T86>16,P86>=6200),"1",LOOKUP(T86,Y$5:AO$5,Y$6:AO$6)) -> #N/A | AI86: =LOOKUP(Q86,Y$8:AD$8,Y$9:AD$9) -> #N/A | AJ86: 334
C87: =VLOOKUP(B86,Уч!$A$2:$L$34,5,FALSE) -> #N/A | D87: =VLOOKUP(B86,Уч!$A$2:$L$34,4,FALSE) -> #N/A | E87: Ветер | F87: =VLOOKUP($B86,'100 м 1'!$C$18:$I$87,6,FALSE) -> #N/A | G87: =VLOOKUP($B86,'длина 2 '!$C$16:$O$54,12,FALSE) -> #N/A | K87: =VLOOKUP($B86,'1cб_р'!$C$17:$I$67,6,FALSE) -> #N/A | R87: =CONCATENATE(AH86,"+",AI86,"+",5) -> #N/A | S87: =B86 -> 15 | T87: =$A86 -> #N/A | U87: 2 | V87: =$A86 -> #N/A | AJ87: 334
C88: =VLOOKUP(B86,Уч!$A$2:$L$34,7,FALSE) -> #N/A | E88: Очки | F88: =VLOOKUP($B86,'100 м 1'!$C$18:$I$87,7,FALSE) -> #N/A | G88: =VLOOKUP($B86,'длина 2 '!$C$16:$O$54,13,FALSE) -> #N/A | H88: =VLOOKUP($B86,'ядро 2'!$C$16:$K$60,9,FALSE) -> #N/A | I88: =VLOOKUP($B86,'высота 2'!$C$16:$AF$57,30,) -> #N/A | J88: =VLOOKUP($B86,'4_р'!$C$17:$H$73,6,FALSE) -> #N/A | K88: =VLOOKUP($B86,'1cб_р'!$C$17:$I$67,7,FALSE) -> #N/A | L88: =VLOOKUP($B86,Дс_р!$C$16:$K$70,9,FALSE) -> #N/A | M88: =VLOOKUP($B86,Ш_р!$C$15:$AF$69,30,FALSE) -> #N/A | N88: =VLOOKUP($B86,К_р!$C$15:$K$68,9,FALSE) -> #N/A | O88: =VLOOKUP($B86,'15_р'!$C$17:$H$86,6,FALSE) -> 0 | S88: =B86 -> 15 | T88: =$A86 -> #N/A | U88: 3 | V88: =$A86 -> #N/A | AJ88: 334
C89: =VLOOKUP(B86,Уч!$A$2:$L$34,11,FALSE) -> #N/A | E89: Сумма очков | F89: =F88 -> #N/A | G89: =F89+G88 -> #N/A | H89: =G89+H88 -> #N/A | I89: =H89+I88 -> #N/A | J89: =SUM($F88:J88) -> #N/A | K89: =SUM($F88:$K88) -> #N/A | L89: =K89+L88 -> #N/A | M89: =L89+M88 -> #N/A | N89: =SUM($F88:$N88) -> #N/A | O89: =SUM($F88:$O88) -> #N/A | S89: =B86 -> 15 | T89: =$A86 -> #N/A | U89: 4 | V89: =$A86 -> #N/A | W89: =F89 -> #N/A | X89: =G89 -> #N/A | Y89: =H89 -> #N/A | Z89: =I89 -> #N/A | AA89: =J89 -> #N/A | AB89: =K89 -> #N/A | AC89: =L89 -> #N/A | AD89: =M89 -> #N/A | ... AF89: =O89 -> #N/A | AJ89: 334
C90: =VLOOKUP(B86,Уч!$A$2:$L$34,12,FALSE) -> #N/A | E90: Место | F90: =RANK(F89,$W$19:$W$150,0) -> #N/A | G90: =RANK(G89,$X$19:$X$150,0) -> #N/A | H90: =RANK(H89,$Y$19:$Y$150,0) -> #N/A | I90: =RANK(I89,$Z$19:$Z$150,0) -> #N/A | J90: =RANK(J89,$AA$19:$AA$150,0) -> #N/A | K90: =RANK(K89,$AB$19:$AB$150,0) -> #N/A | L90: =RANK(L89,$AC$19:$AC$150,0) -> #N/A | M90: =RANK(M89,$AD$19:$AD$150,0) -> #N/A | N90: =RANK(N89,$AE$19:$AE$150,0) -> #N/A | O90: =RANK(O89,$AF$19:$AF$150,0) -> #N/A | S90: =B86 -> 15 | T90: =$A86 -> #N/A | U90: 5 | V90: =$A86 -> #N/A | AJ90: 334
A91: =RANK(P91,$P$16:$P$150,0) -> #N/A | B91: 38 | C91: =VLOOKUP(B91,Уч!$A$2:$L$34,2,FALSE) -> #N/A | D91: =VLOOKUP(B91,Уч!$A$2:$L$34,3,FALSE) -> #N/A | E91: Результат | F91: =VLOOKUP($B91,'100 м 1'!$C$18:$I$87,5,FALSE) -> #N/A | G91: =VLOOKUP($B91,'длина 2 '!$C$16:$O$54,11,FALSE) -> #N/A | H91: =VLOOKUP($B91,'ядро 2'!$C$16:$K$60,8,FALSE) -> #N/A | I91: =VLOOKUP($B91,'высота 2'!$C$16:$AF$57,29,FALSE) -> #N/A | J91: =VLOOKUP($B91,'4_р'!$C$17:$H$73,5,FALSE) -> #N/A | K91: =VLOOKUP($B91,'1cб_р'!$C$17:$I$67,5,FALSE) -> 0 | L91: =VLOOKUP($B91,Дс_р!$C$16:$K$70,8,FALSE) -> 0 | M91: =VLOOKUP($B91,Ш_р!$C$15:$AF$69,29,FALSE) -> 0 | N91: =VLOOKUP($B91,К_р!$C$15:$K$68,8,FALSE) -> 0 | O91: =VLOOKUP($B91,'15_р'!$C$17:$H$86,5,FALSE) -> 0 | P91: =SUM(F93:O93) -> #N/A | Q91: =LOOKUP(P91,Y$1:AH$1,Y$2:AH$2) -> #N/A | R91: =AH91+AI91+5 -> #N/A | S91: =B91 -> 38 | T91: =$A91 -> #N/A | U91: 1 | V91: =$A91 -> #N/A | AH91: =IF(AND(T91>16,P91>=6200),"1",LOOKUP(T91,Y$5:AO$5,Y$6:AO$6)) -> #N/A | AI91: =LOOKUP(Q91,Y$8:AD$8,Y$9:AD$9) -> #N/A | AJ91: 452
C92: =VLOOKUP(B91,Уч!$A$2:$L$34,5,FALSE) -> #N/A | D92: =VLOOKUP(B91,Уч!$A$2:$L$34,4,FALSE) -> #N/A | E92: Ветер | F92: =VLOOKUP($B91,'100 м 1'!$C$18:$I$87,6,FALSE) -> #N/A | G92: =VLOOKUP($B91,'длина 2 '!$C$16:$O$54,12,FALSE) -> #N/A | K92: =VLOOKUP($B91,'1cб_р'!$C$17:$I$67,6,FALSE) -> 0 | R92: =CONCATENATE(AH91,"+",AI91,"+",5) -> #N/A | S92: =B91 -> 38 | T92: =$A91 -> #N/A | U92: 2 | V92: =$A91 -> #N/A | AJ92: 452
C93: =VLOOKUP(B91,Уч!$A$2:$L$34,7,FALSE) -> #N/A | E93: Очки | F93: =VLOOKUP($B91,'100 м 1'!$C$18:$I$87,7,FALSE) -> #N/A | G93: =VLOOKUP($B91,'длина 2 '!$C$16:$O$54,13,FALSE) -> #N/A | H93: =VLOOKUP($B91,'ядро 2'!$C$16:$K$60,9,FALSE) -> #N/A | I93: =VLOOKUP($B91,'высота 2'!$C$16:$AF$57,30,) -> #N/A | J93: =VLOOKUP($B91,'4_р'!$C$17:$H$73,6,FALSE) -> #N/A | K93: =VLOOKUP($B91,'1cб_р'!$C$17:$I$67,7,FALSE) -> 0 | L93: =VLOOKUP($B91,Дс_р!$C$16:$K$70,9,FALSE) -> 0 | M93: =VLOOKUP($B91,Ш_р!$C$15:$AF$69,30,FALSE) -> 0 | N93: =VLOOKUP($B91,К_р!$C$15:$K$68,9,FALSE) -> 0 | O93: =VLOOKUP($B91,'15_р'!$C$17:$H$86,6,FALSE) -> 0 | S93: =B91 -> 38 | T93: =$A91 -> #N/A | U93: 3 | V93: =$A91 -> #N/A | AJ93: 452
C94: =VLOOKUP(B91,Уч!$A$2:$L$34,11,FALSE) -> #N/A | E94: Сумма очков | F94: =F93 -> #N/A | G94: =F94+G93 -> #N/A | H94: =G94+H93 -> #N/A | I94: =H94+I93 -> #N/A | J94: =SUM($F93:J93) -> #N/A | K94: =SUM($F93:$K93) -> #N/A | L94: =K94+L93 -> #N/A | M94: =L94+M93 -> #N/A | N94: =SUM($F93:$N93) -> #N/A | O94: =SUM($F93:$O93) -> #N/A | S94: =B91 -> 38 | T94: =$A91 -> #N/A | U94: 4 | V94: =$A91 -> #N/A | W94: =F94 -> #N/A | X94: =G94 -> #N/A | Y94: =H94 -> #N/A | Z94: =I94 -> #N/A | AA94: =J94 -> #N/A | AB94: =K94 -> #N/A | AC94: =L94 -> #N/A | AD94: =M94 -> #N/A | ... AF94: =O94 -> #N/A | AJ94: 452
C95: =VLOOKUP(B91,Уч!$A$2:$L$34,12,FALSE) -> #N/A | E95: Место | F95: =RANK(F94,$W$19:$W$150,0) -> #N/A | G95: =RANK(G94,$X$19:$X$150,0) -> #N/A | H95: =RANK(H94,$Y$19:$Y$150,0) -> #N/A | I95: =RANK(I94,$Z$19:$Z$150,0) -> #N/A | J95: =RANK(J94,$AA$19:$AA$150,0) -> #N/A | K95: =RANK(K94,$AB$19:$AB$150,0) -> #N/A | L95: =RANK(L94,$AC$19:$AC$150,0) -> #N/A | M95: =RANK(M94,$AD$19:$AD$150,0) -> #N/A | N95: =RANK(N94,$AE$19:$AE$150,0) -> #N/A | O95: =RANK(O94,$AF$19:$AF$150,0) -> #N/A | S95: =B91 -> 38 | T95: =$A91 -> #N/A | U95: 5 | V95: =$A91 -> #N/A | AJ95: 452
A96: =RANK(P96,$P$16:$P$150,0) -> #N/A | B96: 40 | C96: =VLOOKUP(B96,Уч!$A$2:$L$34,2,FALSE) -> Черкасов Алексей | D96: =VLOOKUP(B96,Уч!$A$2:$L$34,3,FALSE) -> 22.10.1994 | E96: Результат | F96: =VLOOKUP($B96,'100 м 1'!$C$18:$I$87,5,FALSE) -> 11.53 | G96: =VLOOKUP($B96,'длина 2 '!$C$16:$O$54,11,FALSE) -> 6.24 | H96: =VLOOKUP($B96,'ядро 2'!$C$16:$K$60,8,FALSE) -> 12.93 | I96: =VLOOKUP($B96,'высота 2'!$C$16:$AF$57,29,FALSE) -> 1.91 | J96: =VLOOKUP($B96,'4_р'!$C$17:$H$73,5,FALSE) -> 52.72 | K96: =VLOOKUP($B96,'1cб_р'!$C$17:$I$67,5,FALSE) -> 15.18 | L96: =VLOOKUP($B96,Дс_р!$C$16:$K$70,8,FALSE) -> 32.73 | M96: =VLOOKUP($B96,Ш_р!$C$15:$AF$69,29,FALSE) -> 0 | N96: =VLOOKUP($B96,К_р!$C$15:$K$68,8,FALSE) -> 53.68 | O96: =VLOOKUP($B96,'15_р'!$C$17:$H$86,5,FALSE) -> 4:56.96 | P96: =SUM(F98:O98) -> 4669 | Q96: =LOOKUP(P96,Y$1:AH$1,Y$2:AH$2) -> 2 | R96: =AH96+AI96+5 -> #N/A | S96: =B96 -> 40 | T96: =$A96 -> #N/A | U96: 1 | V96: лич | AH96: =IF(AND(T96>16,P96>=6200),"1",LOOKUP(T96,Y$5:AO$5,Y$6:AO$6)) -> #N/A | AI96: =LOOKUP(Q96,Y$8:AD$8,Y$9:AD$9) -> 0 | AJ96: 455
C97: =VLOOKUP(B96,Уч!$A$2:$L$34,5,FALSE) -> Кемеровская область Санкт-Петербург | D97: =VLOOKUP(B96,Уч!$A$2:$L$34,4,FALSE) -> МС | E97: Ветер | F97: =VLOOKUP($B96,'100 м 1'!$C$18:$I$87,6,FALSE) -> 0.8 | G97: =VLOOKUP($B96,'длина 2 '!$C$16:$O$54,12,FALSE) -> 0.3 | K97: =VLOOKUP($B96,'1cб_р'!$C$17:$I$67,6,FALSE) -> -1 | R97: =CONCATENATE(AH96,"+",AI96,"+",5) -> #N/A | S97: =B96 -> 40 | T97: =$A96 -> #N/A | U97: 2 | V97: лич | AJ97: 455
C98: =VLOOKUP(B96,Уч!$A$2:$L$34,7,FALSE) -> МА ФСУ «СШОР по легкой атлетике», ГАУ КО "ЦП ССК", СПб ГБУ ЦОП "ШВСМ по легкой атлетике" | E98: Очки | F98: =VLOOKUP($B96,'100 м 1'!$C$18:$I$87,7,FALSE) -> 746 | G98: =VLOOKUP($B96,'длина 2 '!$C$16:$O$54,13,FALSE) -> 0 | H98: =VLOOKUP($B96,'ядро 2'!$C$16:$K$60,9,FALSE) -> 663 | I98: =VLOOKUP($B96,'высота 2'!$C$16:$AF$57,30,) -> 0 | J98: =VLOOKUP($B96,'4_р'!$C$17:$H$73,6,FALSE) -> 694 | K98: =VLOOKUP($B96,'1cб_р'!$C$17:$I$67,7,FALSE) -> 828 | L98: =VLOOKUP($B96,Дс_р!$C$16:$K$70,9,FALSE) -> 518 | M98: =VLOOKUP($B96,Ш_р!$C$15:$AF$69,30,FALSE) -> 0 | N98: =VLOOKUP($B96,К_р!$C$15:$K$68,9,FALSE) -> 643 | O98: =VLOOKUP($B96,'15_р'!$C$17:$H$86,6,FALSE) -> 577 | S98: =B96 -> 40 | T98: =$A96 -> #N/A | U98: 3 | V98: лич | AJ98: 455
C99: =VLOOKUP(B96,Уч!$A$2:$L$34,11,FALSE) -> Залевская И.И., Овчинников Ю.В., Полосухин К.А. | E99: Сумма очков | F99: =F98 -> 746 | G99: =F99+G98 -> 746 | H99: =G99+H98 -> 1409 | I99: =H99+I98 -> 1409 | J99: =SUM($F98:J98) -> 2103 | K99: =SUM($F98:$K98) -> 2931 | L99: =K99+L98 -> 3449 | M99: =L99+M98 -> 3449 | N99: =SUM($F98:$N98) -> 4092 | O99: =SUM($F98:$O98) -> 4669 | S99: =B96 -> 40 | T99: =$A96 -> #N/A | U99: 4 | V99: лич | W99: =F99 -> 746 | X99: =G99 -> 746 | Y99: =H99 -> 1409 | Z99: =I99 -> 1409 | AA99: =J99 -> 2103 | AB99: =K99 -> 2931 | AC99: =L99 -> 3449 | AD99: =M99 -> 3449 | ... AF99: =O99 -> 4669 | AJ99: 455
C100: =VLOOKUP(B96,Уч!$A$2:$L$34,12,FALSE) -> 0 | E100: Место | F100: =RANK(F99,$W$19:$W$150,0) -> #N/A | G100: =RANK(G99,$X$19:$X$150,0) -> #N/A | H100: =RANK(H99,$Y$19:$Y$150,0) -> #N/A | I100: =RANK(I99,$Z$19:$Z$150,0) -> #N/A | J100: =RANK(J99,$AA$19:$AA$150,0) -> #N/A | K100: =RANK(K99,$AB$19:$AB$150,0) -> #N/A | L100: =RANK(L99,$AC$19:$AC$150,0) -> #N/A | M100: =RANK(M99,$AD$19:$AD$150,0) -> #N/A | N100: =RANK(N99,$AE$19:$AE$150,0) -> #N/A | O100: =RANK(O99,$AF$19:$AF$150,0) -> #N/A | S100: =B96 -> 40 | T100: =$A96 -> #N/A | U100: 5 | V100: лич | AJ100: 455
A101: =RANK(P101,$P$16:$P$150,0) -> #N/A | B101: 62 | C101: =VLOOKUP(B101,Уч!$A$2:$L$34,2,FALSE) -> #N/A | D101: =VLOOKUP(B101,Уч!$A$2:$L$34,3,FALSE) -> #N/A | E101: Результат | F101: =VLOOKUP($B101,'100 м 1'!$C$18:$I$87,5,FALSE) -> #N/A | G101: =VLOOKUP($B101,'длина 2 '!$C$16:$O$54,11,FALSE) -> #N/A | H101: =VLOOKUP($B101,'ядро 2'!$C$16:$K$60,8,FALSE) -> #N/A | I101: =VLOOKUP($B101,'высота 2'!$C$16:$AF$57,29,FALSE) -> 1.88 | J101: =VLOOKUP($B101,'4_р'!$C$17:$H$73,5,FALSE) -> #N/A | K101: =VLOOKUP($B101,'1cб_р'!$C$17:$I$67,5,FALSE) -> #N/A | L101: =VLOOKUP($B101,Дс_р!$C$16:$K$70,8,FALSE) -> 0 | M101: =VLOOKUP($B101,Ш_р!$C$15:$AF$69,29,FALSE) -> 0 | N101: =VLOOKUP($B101,К_р!$C$15:$K$68,8,FALSE) -> 0 | O101: =VLOOKUP($B101,'15_р'!$C$17:$H$86,5,FALSE) -> #N/A | P101: =SUM(F103:O103) -> #N/A | Q101: =LOOKUP(P101,Y$1:AH$1,Y$2:AH$2) -> #N/A | R101: =AH101+AI101+5 -> #N/A | S101: =B101 -> 62 | T101: =$A101 -> #N/A | U101: 1 | V101: =$A101 -> #N/A | AH101: =IF(AND(T101>16,P101>=6200),"1",LOOKUP(T101,Y$5:AO$5,Y$6:AO$6)) -> #N/A | AI101: =LOOKUP(Q101,Y$8:AD$8,Y$9:AD$9) -> #N/A | AJ101: 459
C102: =VLOOKUP(B101,Уч!$A$2:$L$34,5,FALSE) -> #N/A | D102: =VLOOKUP(B101,Уч!$A$2:$L$34,4,FALSE) -> #N/A | E102: Ветер | F102: =VLOOKUP($B101,'100 м 1'!$C$18:$I$87,6,FALSE) -> #N/A | G102: =VLOOKUP($B101,'длина 2 '!$C$16:$O$54,12,FALSE) -> #N/A | K102: =VLOOKUP($B101,'1cб_р'!$C$17:$I$67,6,FALSE) -> #N/A | R102: =CONCATENATE(AH101,"+",AI101,"+",5) -> #N/A | S102: =B101 -> 62 | T102: =$A101 -> #N/A | U102: 2 | V102: =$A101 -> #N/A | AJ102: 459
...

Sheet М
A1: =Расп!$A$21 -> МИНИСТЕРСТВО СПОРТА РОССИЙСКОЙ ФЕДЕРАЦИИ | X1: Очки | Y1: 0 | AC1: 3800 | AD1: 4600 | AE1: 5400 | AF1: 6200 | AG1: 7100 | AH1: 8150 | AJ1: Для | AK1: мол | AL1: 5500
A2: =Расп!$A$22 -> ВСЕРОССИЙСКАЯ ФЕДЕРАЦИЯ ЛЕГКОЙ АТЛЕТИКИ | X2: Разряд | Y2: б/р | Z2: 3ю | AA2: 2ю | AB2: 1ю | AC2: 3 | AD2: 2 | AE2: 1 | AF2: КМС | AG2: МС | AH2: МСМК
A3: =Расп!$A$25 -> Командный чемпионат России | AF3: 1 оч
A4: =Расп!$A$27 -> по многоборью
A5: мужчины | X5: Место | Y5: 1 | Z5: 2 | AA5: 3 | AB5: 4 | AC5: 5 | AD5: 6 | AE5: 7 | AF5: 8 | AG5: 9 | AH5: 10 | AI5: 11 | AJ5: 12 | AK5: 13 | AL5: 14 | AM5: 15 | AN5: 16 | AO5: 17
A6: ИТОГОВЫЕ ПРОТОКОЛЫ | X6: Очки | Y6: 20 | Z6: 17 | AA6: 15 | AB6: 14 | AC6: 13 | AD6: 12 | AE6: 11 | AF6: 10 | AG6: 9 | AH6: 8 | AI6: 7 | AJ6: 6 | AK6: 5 | AL6: 4 | AM6: 3 | AN6: 2 | AO6: 0
K7: =Расп!$A$1 -> 04.09.2019 г. | L7: t° +13 вл.86% | Q7: =Расп!$A$7 -> 19.05.2019 г. | R7: t° +13 вл.86%
A8: =Расп!A28 -> Мужчины | K8: =Расп!A2 -> бег 100 м | L8: =Расп!B2 -> 0.39583333 | Q8: =Расп!A8 -> бег с барьерами 110 м (1,067 м) | R8: =Расп!B8 -> 0.41666667 | W8: Скрыть | X8: Бонус | Y8: 1 | Z8: 2 | AA8: 3 | AB8: КМС | AC8: МС | AD8: МСМК
A9: =Расп!$A$14 -> РМ | B9: =Расп!B14 -> 9039 | K9: =Расп!A3 -> прыжок в длину | L9: =Расп!B3 -> 0.42708333 | Q9: =Расп!A9 -> метание диска (2,0 кг) | R9: =Расп!B9 -> 0.45138889 | W9: при | X9: Очки | Y9: 0 | Z9: 0 | AA9: 0 | AB9: 0 | AC9: 5 | AD9: 15
A10: =Расп!$A$15 -> РЕ | B10: =Расп!B15 -> 9026 | K10: =Расп!A4 -> толкание ядра (7,26 кг) | L10: =Расп!B4 -> 0.46875 | Q10: =Расп!A10 -> прыжок с шестом | R10: =Расп!B10 -> 0.52777778 | W10: печати
A11: =Расп!$A$16 -> РР | B11: =Расп!B16 -> 8698 | K11: =Расп!A5 -> прыжок в высоту | L11: =Расп!B5 -> 0.625 | Q11: =Расп!A11 -> метание копья (800 г) | R11: =Расп!B11 -> 0.625 | X11: Мнгб | Y11: 5
A12: =Расп!$A$26 -> г.Сочи, Адлерский район, стадион "Юность" | K12: =Расп!A6 -> бег 400 м | L12: =Расп!B6 -> 0.72916667 | Q12: =Расп!A12 -> бег 1500 м | R12: =Расп!B12 -> 0.76388889
A13: Место | B13: Нагрудный № | C13: Фамилия, имя участника Территория, ФСО, Тренер | D13: Дата рождения Вып-ый раз-д | F13: бег 100 м | G13: прыжок в длину | H13: толкание ядра | I13: прыжок в высоту | J13: бег 400 м | K13: бег с барьерами 110 м | L13: метание диска | M13: прыжок с шестом | N13: метание копья | O13: бег 1500 м | P13: Очки | Q13: Разряд | R13: Командные очки | S13: № | T13: М | U13: П | V13: МЛ | W13: 100 | X13: Длина | Y13: Ядро | Z13: Высота | AA13: 400 | AB13: 110сб | AC13: Диск | AD13: Шест | AE13: Копье | AF13: 1500 | AH13: оч/мес | AI13: оч/раз | AJ13: #
A16: =RANK(P16,$P$16:$P$80,0) -> #N/A | B16: 43 | C16: =VLOOKUP(B16,Уч!$A$2:$L$34,2,FALSE) -> Соляков Федор | D16: =VLOOKUP(B16,Уч!$A$2:$L$34,3,FALSE) -> 08.03.1998 | E16: Результат | F16: =VLOOKUP($B16,'100 м 1'!$C$18:$I$87,5,FALSE) -> 11.78 | G16: =VLOOKUP($B16,'длина 2 '!$C$16:$O$54,11,FALSE) -> 7.04 | H16: =VLOOKUP($B16,'ядро 2'!$C$16:$K$60,8,FALSE) -> 13.33 | I16: =VLOOKUP($B16,'высота 2'!$C$16:$AF$57,29,FALSE) -> 1.82 | J16: =VLOOKUP($B16,'4_р'!$C$17:$H$73,5,FALSE) -> #N/A | K16: =VLOOKUP($B16,'1cб_р'!$C$17:$I$67,5,FALSE) -> #N/A | L16: =VLOOKUP($B16,Дс_р!$C$16:$K$70,8,FALSE) -> #N/A | M16: =VLOOKUP($B16,Ш_р!$C$15:$AF$69,29,FALSE) -> #N/A | N16: =VLOOKUP($B16,К_р!$C$15:$K$68,8,FALSE) -> #N/A | O16: =VLOOKUP($B16,'15_р'!$C$17:$H$86,5,FALSE) -> #N/A | P16: =SUM(F18:O18) -> #N/A | Q16: =LOOKUP(P16,Y$1:AH$1,Y$2:AH$2) -> #N/A | R16: =AH16+AI16+5 -> #N/A | S16: =B16 -> 43 | T16: =$A16 -> #N/A | U16: 1 | V16: =$A16 -> #N/A | AH16: =IF(AND(T16>16,P16>=6200),"1",LOOKUP(T16,Y$5:AO$5,Y$6:AO$6)) -> #N/A | AI16: =LOOKUP(Q16,Y$8:AD$8,Y$9:AD$9) -> #N/A | AJ16: 460
C17: =VLOOKUP(B16,Уч!$A$2:$L$34,5,FALSE) -> Кемеровская область | D17: =VLOOKUP(B16,Уч!$A$2:$L$34,4,FALSE) -> КМС | E17: Ветер | F17: =VLOOKUP($B16,'100 м 1'!$C$18:$I$87,6,FALSE) -> 0.8 | G17: =VLOOKUP($B16,'длина 2 '!$C$16:$O$54,12,FALSE) -> 0 | K17: =VLOOKUP($B16,'1cб_р'!$C$17:$I$67,6,FALSE) -> #N/A | R17: =CONCATENATE(AH16,"+",AI16,"+",5) -> #N/A | S17: =B16 -> 43 | T17: =$A16 -> #N/A | U17: 2 | V17: =$A16 -> #N/A | AJ17: 460
C18: =VLOOKUP(B16,Уч!$A$2:$L$34,7,FALSE) -> ГБФСУ КО "СШОР по легкой атлетике им. В.А.Савенкова" | E18: Очки | F18: =VLOOKUP($B16,'100 м 1'!$C$18:$I$87,7,FALSE) -> 695 | G18: =VLOOKUP($B16,'длина 2 '!$C$16:$O$54,13,FALSE) -> 0 | H18: =VLOOKUP($B16,'ядро 2'!$C$16:$K$60,9,FALSE) -> 687 | I18: =VLOOKUP($B16,'высота 2'!$C$16:$AF$57,30,) -> 0 | J18: =VLOOKUP($B16,'4_р'!$C$17:$H$73,6,FALSE) -> #N/A | K18: =VLOOKUP($B16,'1cб_р'!$C$17:$I$67,7,FALSE) -> #N/A | L18: =VLOOKUP($B16,Дс_р!$C$16:$K$70,9,FALSE) -> #N/A | M18: =VLOOKUP($B16,Ш_р!$C$15:$AF$69,30,FALSE) -> #N/A | N18: =VLOOKUP($B16,К_р!$C$15:$K$68,9,FALSE) -> #N/A | O18: =VLOOKUP($B16,'15_р'!$C$17:$H$86,6,FALSE) -> #N/A | S18: =B16 -> 43 | T18: =$A16 -> #N/A | U18: 3 | V18: =$A16 -> #N/A | AJ18: 460
C19: =VLOOKUP(B16,Уч!$A$2:$L$34,11,FALSE) -> Канашевич А.М., Свистич Л.И. | E19: Сумма очков | F19: =F18 -> 695 | G19: =F19+G18 -> 695 | H19: =G19+H18 -> 1382 | I19: =H19+I18 -> 1382 | J19: =SUM($F18:J18) -> #N/A | K19: =SUM($F18:$K18) -> #N/A | L19: =K19+L18 -> #N/A | M19: =L19+M18 -> #N/A | N19: =SUM($F18:$N18) -> #N/A | O19: =SUM($F18:$O18) -> #N/A | S19: =B16 -> 43 | T19: =$A16 -> #N/A | U19: 4 | V19: =$A16 -> #N/A | W19: =F19 -> 695 | X19: =G19 -> 695 | Y19: =H19 -> 1382 | Z19: =I19 -> 1382 | AA19: =J19 -> #N/A | AB19: =K19 -> #N/A | AC19: =L19 -> #N/A | AD19: =M19 -> #N/A | ... AF19: =O19 -> #N/A | AJ19: 460
C20: =VLOOKUP(B16,Уч!$A$2:$L$34,12,FALSE) -> 0 | E20: Место | F20: =RANK(F19,$W$16:$W$80,0) -> #N/A | G20: =RANK(G19,$X$16:$X$80,0) -> #N/A | H20: =RANK(H19,$Y$16:$Y$80,0) -> #N/A | I20: =RANK(I19,$Z$16:$Z$80,0) -> #N/A | J20: =RANK(J19,$AA$16:$AA$80,0) -> #N/A | K20: =RANK(K19,$AB$16:$AB$80,0) -> #N/A | L20: =RANK(L19,$AC$16:$AC$80,0) -> #N/A | M20: =RANK(M19,$AD$16:$AD$80,0) -> #N/A | N20: =RANK(N19,$AE$16:$AE$80,0) -> #N/A | O20: =RANK(O19,$AF$16:$AF$80,0) -> #N/A | S20: =B16 -> 43 | T20: =$A16 -> #N/A | U20: 5 | V20: =$A16 -> #N/A | AJ20: 460
A21: =RANK(P21,$P$16:$P$80,0) -> #N/A | B21: 25 | C21: =VLOOKUP(B21,Уч!$A$2:$L$34,2,FALSE) -> #N/A | D21: =VLOOKUP(B21,Уч!$A$2:$L$34,3,FALSE) -> #N/A | E21: Результат | F21: =VLOOKUP($B21,'100 м 1'!$C$18:$I$87,5,FALSE) -> 11.3 | G21: =VLOOKUP($B21,'длина 2 '!$C$16:$O$54,11,FALSE) -> #N/A | H21: =VLOOKUP($B21,'ядро 2'!$C$16:$K$60,8,FALSE) -> #N/A | I21: =VLOOKUP($B21,'высота 2'!$C$16:$AF$57,29,FALSE) -> #N/A | J21: =VLOOKUP($B21,'4_р'!$C$17:$H$73,5,FALSE) -> #N/A | K21: =VLOOKUP($B21,'1cб_р'!$C$17:$I$67,5,FALSE) -> #N/A | L21: =VLOOKUP($B21,Дс_р!$C$16:$K$70,8,FALSE) -> #N/A | M21: =VLOOKUP($B21,Ш_р!$C$15:$AF$69,29,FALSE) -> 0 | N21: =VLOOKUP($B21,К_р!$C$15:$K$68,8,FALSE) -> 0 | O21: =VLOOKUP($B21,'15_р'!$C$17:$H$86,5,FALSE) -> #N/A | P21: =SUM(F23:O23) -> #N/A | Q21: =LOOKUP(P21,Y$1:AH$1,Y$2:AH$2) -> #N/A | R21: =AH21+AI21+5 -> #N/A | S21: =B21 -> 25 | T21: =$A21 -> #N/A | U21: 1 | V21: =$A21 -> #N/A | AH21: =IF(AND(T21>16,P21>=6200),"1",LOOKUP(T21,Y$5:AO$5,Y$6:AO$6)) -> #N/A | AI21: =LOOKUP(Q21,Y$8:AD$8,Y$9:AD$9) -> #N/A | AJ21: 505
C22: =VLOOKUP(B21,Уч!$A$2:$L$34,5,FALSE) -> #N/A | D22: =VLOOKUP(B21,Уч!$A$2:$L$34,4,FALSE) -> #N/A | E22: Ветер | F22: =VLOOKUP($B21,'100 м 1'!$C$18:$I$87,6,FALSE) -> 1 | G22: =VLOOKUP($B21,'длина 2 '!$C$16:$O$54,12,FALSE) -> #N/A | K22: =VLOOKUP($B21,'1cб_р'!$C$17:$I$67,6,FALSE) -> #N/A | R22: =CONCATENATE(AH21,"+",AI21,"+",5) -> #N/A | S22: =B21 -> 25 | T22: =$A21 -> #N/A | U22: 2 | V22: =$A21 -> #N/A | AJ22: 505
C23: =VLOOKUP(B21,Уч!$A$2:$L$34,7,FALSE) -> #N/A | E23: Очки | F23: =VLOOKUP($B21,'100 м 1'!$C$18:$I$87,7,FALSE) -> 795 | G23: =VLOOKUP($B21,'длина 2 '!$C$16:$O$54,13,FALSE) -> #N/A | H23: =VLOOKUP($B21,'ядро 2'!$C$16:$K$60,9,FALSE) -> #N/A | I23: =VLOOKUP($B21,'высота 2'!$C$16:$AF$57,30,) -> #N/A | J23: =VLOOKUP($B21,'4_р'!$C$17:$H$73,6,FALSE) -> #N/A | K23: =VLOOKUP($B21,'1cб_р'!$C$17:$I$67,7,FALSE) -> #N/A | L23: =VLOOKUP($B21,Дс_р!$C$16:$K$70,9,FALSE) -> #N/A | M23: =VLOOKUP($B21,Ш_р!$C$15:$AF$69,30,FALSE) -> 0 | N23: =VLOOKUP($B21,К_р!$C$15:$K$68,9,FALSE) -> 0 | O23: =VLOOKUP($B21,'15_р'!$C$17:$H$86,6,FALSE) -> #N/A | S23: =B21 -> 25 | T23: =$A21 -> #N/A | U23: 3 | V23: =$A21 -> #N/A | AJ23: 505
C24: =VLOOKUP(B21,Уч!$A$2:$L$34,11,FALSE) -> #N/A | E24: Сумма очков | F24: =F23 -> 795 | G24: =F24+G23 -> #N/A | H24: =G24+H23 -> #N/A | I24: =H24+I23 -> #N/A | J24: =SUM($F23:J23) -> #N/A | K24: =SUM($F23:$K23) -> #N/A | L24: =K24+L23 -> #N/A | M24: =L24+M23 -> #N/A | N24: =SUM($F23:$N23) -> #N/A | O24: =SUM($F23:$O23) -> #N/A | S24: =B21 -> 25 | T24: =$A21 -> #N/A | U24: 4 | V24: =$A21 -> #N/A | W24: =F24 -> 795 | X24: =G24 -> #N/A | Y24: =H24 -> #N/A | Z24: =I24 -> #N/A | AA24: =J24 -> #N/A | AB24: =K24 -> #N/A | AC24: =L24 -> #N/A | AD24: =M24 -> #N/A | ... AF24: =O24 -> #N/A | AJ24: 505
C25: =VLOOKUP(B21,Уч!$A$2:$L$34,12,FALSE) -> #N/A | E25: Место | F25: =RANK(F24,$W$16:$W$80,0) -> #N/A | G25: =RANK(G24,$X$16:$X$80,0) -> #N/A | H25: =RANK(H24,$Y$16:$Y$80,0) -> #N/A | I25: =RANK(I24,$Z$16:$Z$80,0) -> #N/A | J25: =RANK(J24,$AA$16:$AA$80,0) -> #N/A | K25: =RANK(K24,$AB$16:$AB$80,0) -> #N/A | L25: =RANK(L24,$AC$16:$AC$80,0) -> #N/A | M25: =RANK(M24,$AD$16:$AD$80,0) -> #N/A | N25: =RANK(N24,$AE$16:$AE$80,0) -> #N/A | O25: =RANK(O24,$AF$16:$AF$80,0) -> #N/A | S25: =B21 -> 25 | T25: =$A21 -> #N/A | U25: 5 | V25: =$A21 -> #N/A | AJ25: 505
A26: =RANK(P26,$P$16:$P$80,0) -> #N/A | B26: 10 | C26: =VLOOKUP(B26,Уч!$A$2:$L$34,2,FALSE) -> #N/A | D26: =VLOOKUP(B26,Уч!$A$2:$L$34,3,FALSE) -> #N/A | E26: Результат | F26: =VLOOKUP($B26,'100 м 1'!$C$18:$I$87,5,FALSE) -> #N/A | G26: =VLOOKUP($B26,'длина 2 '!$C$16:$O$54,11,FALSE) -> #N/A | H26: =VLOOKUP($B26,'ядро 2'!$C$16:$K$60,8,FALSE) -> #N/A | I26: =VLOOKUP($B26,'высота 2'!$C$16:$AF$57,29,FALSE) -> #N/A | J26: =VLOOKUP($B26,'4_р'!$C$17:$H$73,5,FALSE) -> #N/A | K26: =VLOOKUP($B26,'1cб_р'!$C$17:$I$67,5,FALSE) -> #N/A | L26: =VLOOKUP($B26,Дс_р!$C$16:$K$70,8,FALSE) -> #N/A | M26: =VLOOKUP($B26,Ш_р!$C$15:$AF$69,29,FALSE) -> #N/A | N26: =VLOOKUP($B26,К_р!$C$15:$K$68,8,FALSE) -> 53.38 | O26: =VLOOKUP($B26,'15_р'!$C$17:$H$86,5,FALSE) -> #N/A | P26: =SUM(F28:O28) -> #N/A | Q26: =LOOKUP(P26,Y$1:AH$1,Y$2:AH$2) -> #N/A | R26: =AH26+AI26+5 -> #N/A | S26: =B26 -> 10 | T26: =$A26 -> #N/A | U26: 1 | V26: =$A26 -> #N/A | AH26: =IF(AND(T26>16,P26>=6200),"1",LOOKUP(T26,Y$5:AO$5,Y$6:AO$6)) -> #N/A | AI26: =LOOKUP(Q26,Y$8:AD$8,Y$9:AD$9) -> #N/A | AJ26: 506
C27: =VLOOKUP(B26,Уч!$A$2:$L$34,5,FALSE) -> #N/A | D27: =VLOOKUP(B26,Уч!$A$2:$L$34,4,FALSE) -> #N/A | E27: Ветер | F27: =VLOOKUP($B26,'100 м 1'!$C$18:$I$87,6,FALSE) -> #N/A | G27: =VLOOKUP($B26,'длина 2 '!$C$16:$O$54,12,FALSE) -> #N/A | K27: =VLOOKUP($B26,'1cб_р'!$C$17:$I$67,6,FALSE) -> #N/A | R27: =CONCATENATE(AH26,"+",AI26,"+",5) -> #N/A | S27: =B26 -> 10 | T27: =$A26 -> #N/A | U27: 2 | V27: =$A26 -> #N/A | AJ27: 506
C28: =VLOOKUP(B26,Уч!$A$2:$L$34,7,FALSE) -> #N/A | E28: Очки | F28: =VLOOKUP($B26,'100 м 1'!$C$18:$I$87,7,FALSE) -> #N/A | G28: =VLOOKUP($B26,'длина 2 '!$C$16:$O$54,13,FALSE) -> #N/A | H28: =VLOOKUP($B26,'ядро 2'!$C$16:$K$60,9,FALSE) -> #N/A | I28: =VLOOKUP($B26,'высота 2'!$C$16:$AF$57,30,) -> #N/A | J28: =VLOOKUP($B26,'4_р'!$C$17:$H$73,6,FALSE) -> #N/A | K28: =VLOOKUP($B26,'1cб_р'!$C$17:$I$67,7,FALSE) -> #N/A | L28: =VLOOKUP($B26,Дс_р!$C$16:$K$70,9,FALSE) -> #N/A | M28: =VLOOKUP($B26,Ш_р!$C$15:$AF$69,30,FALSE) -> #N/A | N28: =VLOOKUP($B26,К_р!$C$15:$K$68,9,FALSE) -> 639 | O28: =VLOOKUP($B26,'15_р'!$C$17:$H$86,6,FALSE) -> #N/A | S28: =B26 -> 10 | T28: =$A26 -> #N/A | U28: 3 | V28: =$A26 -> #N/A | AJ28: 506
C29: =VLOOKUP(B26,Уч!$A$2:$L$34,11,FALSE) -> #N/A | E29: Сумма очков | F29: =F28 -> #N/A | G29: =F29+G28 -> #N/A | H29: =G29+H28 -> #N/A | I29: =H29+I28 -> #N/A | J29: =SUM($F28:J28) -> #N/A | K29: =SUM($F28:$K28) -> #N/A | L29: =K29+L28 -> #N/A | M29: =L29+M28 -> #N/A | N29: =SUM($F28:$N28) -> #N/A | O29: =SUM($F28:$O28) -> #N/A | S29: =B26 -> 10 | T29: =$A26 -> #N/A | U29: 4 | V29: =$A26 -> #N/A | W29: =F29 -> #N/A | X29: =G29 -> #N/A | Y29: =H29 -> #N/A | Z29: =I29 -> #N/A | AA29: =J29 -> #N/A | AB29: =K29 -> #N/A | AC29: =L29 -> #N/A | AD29: =M29 -> #N/A | ... AF29: =O29 -> #N/A | AJ29: 506
C30: =VLOOKUP(B26,Уч!$A$2:$L$34,12,FALSE) -> #N/A | E30: Место | F30: =RANK(F29,$W$16:$W$80,0) -> #N/A | G30: =RANK(G29,$X$16:$X$80,0) -> #N/A | H30: =RANK(H29,$Y$16:$Y$80,0) -> #N/A | I30: =RANK(I29,$Z$16:$Z$80,0) -> #N/A | J30: =RANK(J29,$AA$16:$AA$80,0) -> #N/A | K30: =RANK(K29,$AB$16:$AB$80,0) -> #N/A | L30: =RANK(L29,$AC$16:$AC$80,0) -> #N/A | M30: =RANK(M29,$AD$16:$AD$80,0) -> #N/A | N30: =RANK(N29,$AE$16:$AE$80,0) -> #N/A | O30: =RANK(O29,$AF$16:$AF$80,0) -> #N/A | S30: =B26 -> 10 | T30: =$A26 -> #N/A | U30: 5 | V30: =$A26 -> #N/A | AJ30: 506
A31: =RANK(P31,$P$16:$P$80,0) -> #N/A | B31: 82 | C31: =VLOOKUP(B31,Уч!$A$2:$L$34,2,FALSE) -> #N/A | D31: =VLOOKUP(B31,Уч!$A$2:$L$34,3,FALSE) -> #N/A | E31: Результат | F31: =VLOOKUP($B31,'100 м 1'!$C$18:$I$87,5,FALSE) -> #N/A | G31: =VLOOKUP($B31,'длина 2 '!$C$16:$O$54,11,FALSE) -> #N/A | H31: =VLOOKUP($B31,'ядро 2'!$C$16:$K$60,8,FALSE) -> #N/A | I31: =VLOOKUP($B31,'высота 2'!$C$16:$AF$57,29,FALSE) -> #N/A | J31: =VLOOKUP($B31,'4_р'!$C$17:$H$73,5,FALSE) -> #N/A | K31: =VLOOKUP($B31,'1cб_р'!$C$17:$I$67,5,FALSE) -> #N/A | L31: =VLOOKUP($B31,Дс_р!$C$16:$K$70,8,FALSE) -> #N/A | M31: =VLOOKUP($B31,Ш_р!$C$15:$AF$69,29,FALSE) -> #N/A | N31: =VLOOKUP($B31,К_р!$C$15:$K$68,8,FALSE) -> #N/A | O31: =VLOOKUP($B31,'15_р'!$C$17:$H$86,5,FALSE) -> #N/A | P31: =SUM(F33:O33) -> #N/A | Q31: =LOOKUP(P31,Y$1:AH$1,Y$2:AH$2) -> #N/A | R31: =AH31+AI31+5 -> #N/A | S31: =B31 -> 82 | T31: =$A31 -> #N/A | U31: 1 | V31: =$A31 -> #N/A | AH31: =IF(AND(T31>16,P31>=6200),"1",LOOKUP(T31,Y$5:AO$5,Y$6:AO$6)) -> #N/A | AI31: =LOOKUP(Q31,Y$8:AD$8,Y$9:AD$9) -> #N/A | AJ31: 54
C32: =VLOOKUP(B31,Уч!$A$2:$L$34,5,FALSE) -> #N/A | D32: =VLOOKUP(B31,Уч!$A$2:$L$34,4,FALSE) -> #N/A | E32: Ветер | F32: =VLOOKUP($B31,'100 м 1'!$C$18:$I$87,6,FALSE) -> #N/A | G32: =VLOOKUP($B31,'длина 2 '!$C$16:$O$54,12,FALSE) -> #N/A | K32: =VLOOKUP($B31,'1cб_р'!$C$17:$I$67,6,FALSE) -> #N/A | R32: =CONCATENATE(AH31,"+",AI31,"+",5) -> #N/A | S32: =B31 -> 82 | T32: =$A31 -> #N/A | U32: 2 | V32: =$A31 -> #N/A | AJ32: 54
C33: =VLOOKUP(B31,Уч!$A$2:$L$34,7,FALSE) -> #N/A | E33: Очки | F33: =VLOOKUP($B31,'100 м 1'!$C$18:$I$87,7,FALSE) -> #N/A | G33: =VLOOKUP($B31,'длина 2 '!$C$16:$O$54,13,FALSE) -> #N/A | H33: =VLOOKUP($B31,'ядро 2'!$C$16:$K$60,9,FALSE) -> #N/A | I33: =VLOOKUP($B31,'высота 2'!$C$16:$AF$57,30,) -> #N/A | J33: =VLOOKUP($B31,'4_р'!$C$17:$H$73,6,FALSE) -> #N/A | K33: =VLOOKUP($B31,'1cб_р'!$C$17:$I$67,7,FALSE) -> #N/A | L33: =VLOOKUP($B31,Дс_р!$C$16:$K$70,9,FALSE) -> #N/A | M33: =VLOOKUP($B31,Ш_р!$C$15:$AF$69,30,FALSE) -> #N/A | N33: =VLOOKUP($B31,К_р!$C$15:$K$68,9,FALSE) -> #N/A | O33: =VLOOKUP($B31,'15_р'!$C$17:$H$86,6,FALSE) -> #N/A | S33: =B31 -> 82 | T33: =$A31 -> #N/A | U33: 3 | V33: =$A31 -> #N/A | AJ33: 54
C34: =VLOOKUP(B31,Уч!$A$2:$L$34,11,FALSE) -> #N/A | E34: Сумма очков | F34: =F33 -> #N/A | G34: =F34+G33 -> #N/A | H34: =G34+H33 -> #N/A | I34: =H34+I33 -> #N/A | J34: =SUM($F33:J33) -> #N/A | K34: =SUM($F33:$K33) -> #N/A | L34: =K34+L33 -> #N/A | M34: =L34+M33 -> #N/A | N34: =SUM($F33:$N33) -> #N/A | O34: =SUM($F33:$O33) -> #N/A | S34: =B31 -> 82 | T34: =$A31 -> #N/A | U34: 4 | V34: =$A31 -> #N/A | W34: =F34 -> #N/A | X34: =G34 -> #N/A | Y34: =H34 -> #N/A | Z34: =I34 -> #N/A | AA34: =J34 -> #N/A | AB34: =K34 -> #N/A | AC34: =L34 -> #N/A | AD34: =M34 -> #N/A | ... AF34: =O34 -> #N/A | AJ34: 54
C35: =VLOOKUP(B31,Уч!$A$2:$L$34,12,FALSE) -> #N/A | E35: Место | F35: =RANK(F34,$W$16:$W$80,0) -> #N/A | G35: =RANK(G34,$X$16:$X$80,0) -> #N/A | H35: =RANK(H34,$Y$16:$Y$80,0) -> #N/A | I35: =RANK(I34,$Z$16:$Z$80,0) -> #N/A | J35: =RANK(J34,$AA$16:$AA$80,0) -> #N/A | K35: =RANK(K34,$AB$16:$AB$80,0) -> #N/A | L35: =RANK(L34,$AC$16:$AC$80,0) -> #N/A | M35: =RANK(M34,$AD$16:$AD$80,0) -> #N/A | N35: =RANK(N34,$AE$16:$AE$80,0) -> #N/A | O35: =RANK(O34,$AF$16:$AF$80,0) -> #N/A | S35: =B31 -> 82 | T35: =$A31 -> #N/A | U35: 5 | V35: =$A31 -> #N/A | AJ35: 54
A36: 5 | B36: 33 | C36: =VLOOKUP(B36,Уч!$A$2:$L$34,2,FALSE) -> #N/A | D36: =VLOOKUP(B36,Уч!$A$2:$L$34,3,FALSE) -> #N/A | E36: Результат | F36: =VLOOKUP($B36,'100 м 1'!$C$18:$I$87,5,FALSE) -> #N/A | G36: =VLOOKUP($B36,'длина 2 '!$C$16:$O$54,11,FALSE) -> #N/A | H36: =VLOOKUP($B36,'ядро 2'!$C$16:$K$60,8,FALSE) -> #N/A | I36: =VLOOKUP($B36,'высота 2'!$C$16:$AF$57,29,FALSE) -> #N/A | J36: =VLOOKUP($B36,'4_р'!$C$17:$H$73,5,FALSE) -> #N/A | K36: =VLOOKUP($B36,'1cб_р'!$C$17:$I$67,5,FALSE) -> #N/A | L36: =VLOOKUP($B36,Дс_р!$C$16:$K$70,8,FALSE) -> #N/A | M36: =VLOOKUP($B36,Ш_р!$C$15:$AF$69,29,FALSE) -> 0 | N36: =VLOOKUP($B36,К_р!$C$15:$K$68,8,FALSE) -> 52.92 | O36: =VLOOKUP($B36,'15_р'!$C$17:$H$86,5,FALSE) -> #N/A | P36: =SUM(F38:O38) -> #N/A | Q36: =LOOKUP(P36,Y$1:AH$1,Y$2:AH$2) -> #N/A | R36: =AH36+AI36+5 -> #N/A | S36: =B36 -> 33 | T36: =$A36 -> 5 | U36: 1 | V36: лич | AH36: =IF(AND(T36>16,P36>=6200),"1",LOOKUP(T36,Y$5:AO$5,Y$6:AO$6)) -> #N/A | AI36: =LOOKUP(Q36,Y$8:AD$8,Y$9:AD$9) -> #N/A | AJ36: 103
C37: =VLOOKUP(B36,Уч!$A$2:$L$34,5,FALSE) -> #N/A | D37: =VLOOKUP(B36,Уч!$A$2:$L$34,4,FALSE) -> #N/A | E37: Ветер | F37: =VLOOKUP($B36,'100 м 1'!$C$18:$I$87,6,FALSE) -> #N/A | G37: =VLOOKUP($B36,'длина 2 '!$C$16:$O$54,12,FALSE) -> #N/A | K37: =VLOOKUP($B36,'1cб_р'!$C$17:$I$67,6,FALSE) -> #N/A | R37: =CONCATENATE(AH36,"+",AI36,"+",5) -> #N/A | S37: =B36 -> 33 | T37: =$A36 -> 5 | U37: 2 | V37: лич | AJ37: 103
C38: =VLOOKUP(B36,Уч!$A$2:$L$34,7,FALSE) -> #N/A | E38: Очки | F38: =VLOOKUP($B36,'100 м 1'!$C$18:$I$87,7,FALSE) -> #N/A | G38: =VLOOKUP($B36,'длина 2 '!$C$16:$O$54,13,FALSE) -> #N/A | H38: =VLOOKUP($B36,'ядро 2'!$C$16:$K$60,9,FALSE) -> #N/A | I38: =VLOOKUP($B36,'высота 2'!$C$16:$AF$57,30,) -> #N/A | J38: =VLOOKUP($B36,'4_р'!$C$17:$H$73,6,FALSE) -> #N/A | K38: =VLOOKUP($B36,'1cб_р'!$C$17:$I$67,7,FALSE) -> #N/A | L38: =VLOOKUP($B36,Дс_р!$C$16:$K$70,9,FALSE) -> #N/A | M38: =VLOOKUP($B36,Ш_р!$C$15:$AF$69,30,FALSE) -> 0 | N38: =VLOOKUP($B36,К_р!$C$15:$K$68,9,FALSE) -> 632 | O38: =VLOOKUP($B36,'15_р'!$C$17:$H$86,6,FALSE) -> #N/A | S38: =B36 -> 33 | T38: =$A36 -> 5 | U38: 3 | V38: лич | AJ38: 103
C39: =VLOOKUP(B36,Уч!$A$2:$L$34,11,FALSE) -> #N/A | E39: Сумма очков | F39: =F38 -> #N/A | G39: =F39+G38 -> #N/A | H39: =G39+H38 -> #N/A | I39: =H39+I38 -> #N/A | J39: =SUM($F38:J38) -> #N/A | K39: =SUM($F38:$K38) -> #N/A | L39: =K39+L38 -> #N/A | M39: =L39+M38 -> #N/A | N39: =SUM($F38:$N38) -> #N/A | O39: =SUM($F38:$O38) -> #N/A | S39: =B36 -> 33 | T39: =$A36 -> 5 | U39: 4 | V39: лич | W39: =F39 -> #N/A | X39: =G39 -> #N/A | Y39: =H39 -> #N/A | Z39: =I39 -> #N/A | AA39: =J39 -> #N/A | AB39: =K39 -> #N/A | AC39: =L39 -> #N/A | AD39: =M39 -> #N/A | ... AF39: =O39 -> #N/A | AJ39: 103
C40: =VLOOKUP(B36,Уч!$A$2:$L$34,12,FALSE) -> #N/A | E40: Место | F40: =RANK(F39,$W$16:$W$80,0) -> #N/A | G40: =RANK(G39,$X$16:$X$80,0) -> #N/A | H40: =RANK(H39,$Y$16:$Y$80,0) -> #N/A | I40: =RANK(I39,$Z$16:$Z$80,0) -> #N/A | J40: =RANK(J39,$AA$16:$AA$80,0) -> #N/A | K40: =RANK(K39,$AB$16:$AB$80,0) -> #N/A | L40: =RANK(L39,$AC$16:$AC$80,0) -> #N/A | M40: =RANK(M39,$AD$16:$AD$80,0) -> #N/A | N40: =RANK(N39,$AE$16:$AE$80,0) -> #N/A | O40: =RANK(O39,$AF$16:$AF$80,0) -> #N/A | S40: =B36 -> 33 | T40: =$A36 -> 5 | U40: 5 | V40: лич | AJ40: 103
A41: 6 | B41: 16 | C41: =VLOOKUP(B41,Уч!$A$2:$L$34,2,FALSE) -> #N/A | D41: =VLOOKUP(B41,Уч!$A$2:$L$34,3,FALSE) -> #N/A | E41: Результат | F41: =VLOOKUP($B41,'100 м 1'!$C$18:$I$87,5,FALSE) -> #N/A | G41: =VLOOKUP($B41,'длина 2 '!$C$16:$O$54,11,FALSE) -> #N/A | H41: =VLOOKUP($B41,'ядро 2'!$C$16:$K$60,8,FALSE) -> #N/A | I41: =VLOOKUP($B41,'высота 2'!$C$16:$AF$57,29,FALSE) -> #N/A | J41: =VLOOKUP($B41,'4_р'!$C$17:$H$73,5,FALSE) -> #N/A | K41: =VLOOKUP($B41,'1cб_р'!$C$17:$I$67,5,FALSE) -> #N/A | L41: =VLOOKUP($B41,Дс_р!$C$16:$K$70,8,FALSE) -> #N/A | M41: =VLOOKUP($B41,Ш_р!$C$15:$AF$69,29,FALSE) -> 4.5 | N41: =VLOOKUP($B41,К_р!$C$15:$K$68,8,FALSE) -> #N/A | O41: =VLOOKUP($B41,'15_р'!$C$17:$H$86,5,FALSE) -> #N/A | P41: =SUM(F43:O43) -> #N/A | Q41: =LOOKUP(P41,Y$1:AH$1,Y$2:AH$2) -> #N/A | R41: =AH41+AI41+5 -> #N/A | S41: =B41 -> 16 | T41: =$A41 -> 6 | U41: 1 | V41: =$A41 -> 6 | AH41: =IF(AND(T41>16,P41>=6200),"1",LOOKUP(T41,Y$5:AO$5,Y$6:AO$6)) -> #N/A | AI41: =LOOKUP(Q41,Y$8:AD$8,Y$9:AD$9) -> #N/A | AJ41: 315
C42: =VLOOKUP(B41,Уч!$A$2:$L$34,5,FALSE) -> #N/A | D42: =VLOOKUP(B41,Уч!$A$2:$L$34,4,FALSE) -> #N/A | E42: Ветер | F42: =VLOOKUP($B41,'100 м 1'!$C$18:$I$87,6,FALSE) -> #N/A | G42: =VLOOKUP($B41,'длина 2 '!$C$16:$O$54,12,FALSE) -> #N/A | K42: =VLOOKUP($B41,'1cб_р'!$C$17:$I$67,6,FALSE) -> #N/A | R42: =CONCATENATE(AH41,"+",AI41,"+",5) -> #N/A | S42: =B41 -> 16 | T42: =$A41 -> 6 | U42: 2 | V42: =$A41 -> 6 | AJ42: 315
C43: =VLOOKUP(B41,Уч!$A$2:$L$34,7,FALSE) -> #N/A | E43: Очки | F43: =VLOOKUP($B41,'100 м 1'!$C$18:$I$87,7,FALSE) -> #N/A | G43: =VLOOKUP($B41,'длина 2 '!$C$16:$O$54,13,FALSE) -> #N/A | H43: =VLOOKUP($B41,'ядро 2'!$C$16:$K$60,9,FALSE) -> #N/A | I43: =VLOOKUP($B41,'высота 2'!$C$16:$AF$57,30,) -> #N/A | J43: =VLOOKUP($B41,'4_р'!$C$17:$H$73,6,FALSE) -> #N/A | K43: =VLOOKUP($B41,'1cб_р'!$C$17:$I$67,7,FALSE) -> #N/A | L43: =VLOOKUP($B41,Дс_р!$C$16:$K$70,9,FALSE) -> #N/A | M43: =VLOOKUP($B41,Ш_р!$C$15:$AF$69,30,FALSE) -> 760 | N43: =VLOOKUP($B41,К_р!$C$15:$K$68,9,FALSE) -> #N/A | O43: =VLOOKUP($B41,'15_р'!$C$17:$H$86,6,FALSE) -> #N/A | S43: =B41 -> 16 | T43: =$A41 -> 6 | U43: 3 | V43: =$A41 -> 6 | AJ43: 315
C44: =VLOOKUP(B41,Уч!$A$2:$L$34,11,FALSE) -> #N/A | E44: Сумма очков | F44: =F43 -> #N/A | G44: =F44+G43 -> #N/A | H44: =G44+H43 -> #N/A | I44: =H44+I43 -> #N/A | J44: =SUM($F43:J43) -> #N/A | K44: =SUM($F43:$K43) -> #N/A | L44: =K44+L43 -> #N/A | M44: =L44+M43 -> #N/A | N44: =SUM($F43:$N43) -> #N/A | O44: =SUM($F43:$O43) -> #N/A | S44: =B41 -> 16 | T44: =$A41 -> 6 | U44: 4 | V44: =$A41 -> 6 | W44: =F44 -> #N/A | X44: =G44 -> #N/A | Y44: =H44 -> #N/A | Z44: =I44 -> #N/A | AA44: =J44 -> #N/A | AB44: =K44 -> #N/A | AC44: =L44 -> #N/A | AD44: =M44 -> #N/A | ... AF44: =O44 -> #N/A | AJ44: 315
C45: =VLOOKUP(B41,Уч!$A$2:$L$34,12,FALSE) -> #N/A | E45: Место | F45: =RANK(F44,$W$16:$W$80,0) -> #N/A | G45: =RANK(G44,$X$16:$X$80,0) -> #N/A | H45: =RANK(H44,$Y$16:$Y$80,0) -> #N/A | I45: =RANK(I44,$Z$16:$Z$80,0) -> #N/A | J45: =RANK(J44,$AA$16:$AA$80,0) -> #N/A | K45: =RANK(K44,$AB$16:$AB$80,0) -> #N/A | L45: =RANK(L44,$AC$16:$AC$80,0) -> #N/A | M45: =RANK(M44,$AD$16:$AD$80,0) -> #N/A | N45: =RANK(N44,$AE$16:$AE$80,0) -> #N/A | O45: =RANK(O44,$AF$16:$AF$80,0) -> #N/A | S45: =B41 -> 16 | T45: =$A41 -> 6 | U45: 5 | V45: =$A41 -> 6 | AJ45: 315
