Workbook

Sheet Все (3)
A1: =Расп!$A$21 -> МИНИСТЕРСТВО СПОРТА РОССИЙСКОЙ ФЕДЕРАЦИИ | V1: 0 | W1: б/р
A2: =Расп!$A$22 -> ВСЕРОССИЙСКАЯ ФЕДЕРАЦИЯ ЛЕГКОЙ АТЛЕТИКИ | V2: 3800 | W2: 3
A3: =Расп!$A$23 | V3: 4600 | W3: 2
V4: 5500 | W4: 1
A5: =Расп!$A$25 -> Командный чемпионат России | V5: 6200 | W5: КМС
A6: =Расп!$A$26 -> г.Сочи, Адлерский район, стадион "Юность" | F6: =Расп!$A$1 -> 04.09.2019 г. | K6: =Расп!$A$7 -> 19.05.2019 г. | O6: =Расп!C13 -> До 23 лет | V6: 7000 | W6: МС
F7: =Расп!A2 -> бег 100 м | G7: =Расп!B2 -> 0.39583333 | K7: =Расп!A8 -> бег с барьерами 110 м (1,067 м) | L7: =Расп!B8 -> 0.41666667 | N7: =Расп!$A$14 -> РМ | O7: =Расп!C14 -> 8617 | V7: 8100 | W7: МСМК
C8: =Расп!$A$27 -> по многоборью | F8: =Расп!A3 -> прыжок в длину | G8: =Расп!B3 -> 0.42708333 | K8: =Расп!A9 -> метание диска (2,0 кг) | L8: =Расп!B9 -> 0.45138889 | N8: =Расп!$A$15 -> РЕ | O8: =Расп!C15 -> 8617 | U8: Скрыть
C9: =Расп!A28 -> Мужчины | F9: =Расп!A4 -> толкание ядра (7,26 кг) | G9: =Расп!B4 -> 0.46875 | K9: =Расп!A10 -> прыжок с шестом | L9: =Расп!B10 -> 0.52777778 | N9: =Расп!$A$16 -> РР | O9: =Расп!C16 -> 8365 | U9: при
C10: =Расп!A29 -> 0 | F10: =Расп!A5 -> прыжок в высоту | G10: =Расп!B5 -> 0.625 | K10: =Расп!A11 -> метание копья (800 г) | L10: =Расп!B11 -> 0.625 | U10: печати
C11: ИТОГОВЫЙ ПРОТОКОЛ | F11: =Расп!A6 -> бег 400 м | G11: =Расп!B6 -> 0.72916667 | K11: =Расп!A12 -> бег 1500 м | L11: =Расп!B12 -> 0.76388889
C12: Промежуточные результаы
A13: Мес | B13: № | C13: Фамилия, имя | D13: ДР | F13: 100м | G13: Длина | H13: Ядро | I13: Высота | J13: 400м | K13: 110м с/б | L13: Диск | M13: Шест | N13: Копье | O13: 1500м | P13: Очки | Q13: Разряд | R13: Оч. ком | U13: 100 | V13: Длина | W13: Ядро | X13: Высота | Y13: 400 | Z13: 110сб | AA13: Диск | AB13: Шест | AC13: Копье | AD13: 1500
A16: =RANK(P16,$P$16:$P$165,0) -> #N/A | B16: 34 | C16: =VLOOKUP(B16,Уч!$A$2:$L$26,2,FALSE) -> #N/A | D16: =VLOOKUP(B16,Уч!$A$2:$L$26,3,FALSE) -> #N/A | E16: Рез | F16: =VLOOKUP($B16,'100 м 1'!$C$18:$I$86,5,FALSE) -> #N/A | G16: =VLOOKUP($B16,'длина 2 '!$C$16:$O$54,11,FALSE) -> #N/A | H16: =VLOOKUP($B16,'ядро 2'!$C$16:$K$60,8,FALSE) -> #N/A | I16: =VLOOKUP($B16,'высота 2'!$C$16:$AF$57,23,FALSE) -> #N/A | J16: =VLOOKUP($B16,'4_р'!$C$17:$H$73,5,FALSE) -> #N/A | K16: =VLOOKUP($B16,'1cб_р'!$C$17:$I$63,5,FALSE) -> #N/A | L16: =VLOOKUP($B16,Дс_р!$C$16:$K$70,8,FALSE) -> #N/A | M16: =VLOOKUP($B16,Ш_р!$C$15:$AF$69,17,FALSE) -> #N/A | N16: =VLOOKUP($B16,К_р!$C$15:$K$68,8,FALSE) -> #N/A | O16: =VLOOKUP($B16,'15_р'!$C$17:$H$86,5,FALSE) -> #N/A | P16: =SUM(F18:O18) -> #N/A | Q16: =LOOKUP(P16,$V$1:$V$7,$W$1:$W$7) -> #N/A | S16: =$A16 -> #N/A | T16: 1
C17: =VLOOKUP(B16,Уч!$A$2:$L$26,5,FALSE) -> #N/A | D17: =VLOOKUP(B16,Уч!$A$2:$L$26,4,FALSE) -> #N/A | E17: Вет | F17: =VLOOKUP($B16,'100 м 1'!$C$18:$I$86,6,FALSE) -> #N/A | G17: =VLOOKUP($B16,'длина 2 '!$C$16:$O$54,12,FALSE) -> #N/A | K17: =VLOOKUP($B16,'1cб_р'!$C$17:$I$63,6,FALSE) -> #N/A | S17: =$A16 -> #N/A | T17: 2
C18: =VLOOKUP(B16,Уч!$A$2:$L$26,7,FALSE) -> #N/A | E18: Оч | F18: =VLOOKUP($B16,'100 м 1'!$C$18:$I$86,7,FALSE) -> #N/A | G18: =VLOOKUP($B16,'длина 2 '!$C$16:$O$54,13,FALSE) -> #N/A | H18: =VLOOKUP($B16,'ядро 2'!$C$16:$K$60,9,FALSE) -> #N/A | I18: =VLOOKUP($B16,'высота 2'!$C$16:$AF$57,24,) -> #N/A | J18: =VLOOKUP($B16,'4_р'!$C$17:$H$73,6,FALSE) -> #N/A | K18: =VLOOKUP($B16,'1cб_р'!$C$17:$I$63,7,FALSE) -> #N/A | L18: =VLOOKUP($B16,Дс_р!$C$16:$K$70,9,FALSE) -> #N/A | M18: =VLOOKUP($B16,Ш_р!$C$15:$AF$69,18,FALSE) -> #N/A | N18: =VLOOKUP($B16,К_р!$C$15:$K$68,9,FALSE) -> #N/A | O18: =VLOOKUP($B16,'15_р'!$C$17:$H$86,6,FALSE) -> #N/A | S18: =$A16 -> #N/A | T18: 3
C19: =VLOOKUP(B16,Уч!$A$2:$L$26,11,FALSE) -> #N/A | E19: Сум | F19: =F18 -> #N/A | G19: =F19+G18 -> #N/A | H19: =G19+H18 -> #N/A | I19: =H19+I18 -> #N/A | J19: =SUM($F18:J18) -> #N/A | K19: =SUM($F18:$K18) -> #N/A | L19: =K19+L18 -> #N/A | M19: =L19+M18 -> #N/A | N19: =SUM($F18:$N18) -> #N/A | O19: =SUM($F18:$O18) -> #N/A | S19: =$A16 -> #N/A | T19: 4 | U19: =F19 -> #N/A | V19: =G19 -> #N/A | W19: =H19 -> #N/A | X19: =I19 -> #N/A | Y19: =J19 -> #N/A | Z19: =K19 -> #N/A | AA19: =L19 -> #N/A | AB19: =M19 -> #N/A | ... AD19: =O19 -> #N/A
C20: =VLOOKUP(B16,Уч!$A$2:$L$26,12,FALSE) -> #N/A | E20: Мес | F20: =RANK(F19,$U$19:$U$165,0) -> #N/A | G20: =RANK(G19,$V$19:$V$165,0) -> #N/A | H20: =RANK(H19,$W$19:$W$165,0) -> #N/A | I20: =RANK(I19,$X$19:$X$165,0) -> #N/A | J20: =RANK(J19,$Y$19:$Y$165,0) -> #N/A | K20: =RANK(K19,$Z$19:$Z$165,0) -> #N/A | L20: =RANK(L19,$AA$19:$AA$165,0) -> #N/A | M20: =RANK(M19,$AB$19:$AB$155,0) -> #N/A | N20: =RANK(N19,$AC$19:$AC$165,0) -> #N/A | O20: =RANK(O19,$AD$19:$AD$165,0) -> #N/A | S20: =$A16 -> #N/A | T20: 5
A21: =RANK(P21,$P$16:$P$165,0) -> #N/A | B21: 17 | C21: =VLOOKUP(B21,Уч!$A$2:$L$26,2,FALSE) -> #N/A | D21: =VLOOKUP(B21,Уч!$A$2:$L$26,3,FALSE) -> #N/A | E21: Рез | F21: =VLOOKUP($B21,'100 м 1'!$C$18:$I$86,5,FALSE) -> #N/A | G21: =VLOOKUP($B21,'длина 2 '!$C$16:$O$54,11,FALSE) -> #N/A | H21: =VLOOKUP($B21,'ядро 2'!$C$16:$K$60,8,FALSE) -> #N/A | I21: =VLOOKUP($B21,'высота 2'!$C$16:$AF$57,23,FALSE) -> #N/A | J21: =VLOOKUP($B21,'4_р'!$C$17:$H$73,5,FALSE) -> #N/A | K21: =VLOOKUP($B21,'1cб_р'!$C$17:$I$63,5,FALSE) -> #N/A | L21: =VLOOKUP($B21,Дс_р!$C$16:$K$70,8,FALSE) -> #N/A | M21: =VLOOKUP($B21,Ш_р!$C$15:$AF$69,17,FALSE) -> #N/A | N21: =VLOOKUP($B21,К_р!$C$15:$K$68,8,FALSE) -> #N/A | O21: =VLOOKUP($B21,'15_р'!$C$17:$H$86,5,FALSE) -> #N/A | P21: =SUM(F23:O23) -> #N/A | Q21: =LOOKUP(P21,$V$1:$V$7,$W$1:$W$7) -> #N/A | S21: =$A21 -> #N/A | T21: 1 | AF21: 10 | AG21: 8 | AH21: МНГБ | AI21: 5
C22: =VLOOKUP(B21,Уч!$A$2:$L$26,5,FALSE) -> #N/A | D22: =VLOOKUP(B21,Уч!$A$2:$L$26,4,FALSE) -> #N/A | E22: Вет | F22: =VLOOKUP($B21,'100 м 1'!$C$18:$I$86,6,FALSE) -> #N/A | G22: =VLOOKUP($B21,'длина 2 '!$C$16:$O$54,12,FALSE) -> #N/A | K22: =VLOOKUP($B21,'1cб_р'!$C$17:$I$63,6,FALSE) -> #N/A | S22: =$A21 -> #N/A | T22: 2 | AF22: 11 | AG22: 7
C23: =VLOOKUP(B21,Уч!$A$2:$L$26,7,FALSE) -> #N/A | E23: Оч | F23: =VLOOKUP($B21,'100 м 1'!$C$18:$I$86,7,FALSE) -> #N/A | G23: =VLOOKUP($B21,'длина 2 '!$C$16:$O$54,13,FALSE) -> #N/A | H23: =VLOOKUP($B21,'ядро 2'!$C$16:$K$60,9,FALSE) -> #N/A | I23: =VLOOKUP($B21,'высота 2'!$C$16:$AF$57,24,) -> #N/A | J23: =VLOOKUP($B21,'4_р'!$C$17:$H$73,6,FALSE) -> #N/A | K23: =VLOOKUP($B21,'1cб_р'!$C$17:$I$63,7,FALSE) -> #N/A | L23: =VLOOKUP($B21,Дс_р!$C$16:$K$70,9,FALSE) -> #N/A | M23: =VLOOKUP($B21,Ш_р!$C$15:$AF$69,18,FALSE) -> #N/A | N23: =VLOOKUP($B21,К_р!$C$15:$K$68,9,FALSE) -> #N/A | O23: =VLOOKUP($B21,'15_р'!$C$17:$H$86,6,FALSE) -> #N/A | S23: =$A21 -> #N/A | T23: 3 | AF23: 12 | AG23: 6
C24: =VLOOKUP(B21,Уч!$A$2:$L$26,11,FALSE) -> #N/A | E24: Сум | F24: =F23 -> #N/A | G24: =F24+G23 -> #N/A | H24: =G24+H23 -> #N/A | I24: =H24+I23 -> #N/A | J24: =SUM($F23:J23) -> #N/A | K24: =SUM($F23:$K23) -> #N/A | L24: =K24+L23 -> #N/A | M24: =L24+M23 -> #N/A | N24: =SUM($F23:$N23) -> #N/A | O24: =SUM($F23:$O23) -> #N/A | S24: =$A21 -> #N/A | T24: 4 | U24: =F24 -> #N/A | V24: =G24 -> #N/A | W24: =H24 -> #N/A | X24: =I24 -> #N/A | Y24: =J24 -> #N/A | Z24: =K24 -> #N/A | AA24: =L24 -> #N/A | AB24: =M24 -> #N/A | ... AD24: =O24 -> #N/A | AF24: 13 | AG24: 5
C25: =VLOOKUP(B21,Уч!$A$2:$L$26,12,FALSE) -> #N/A | E25: Мес | F25: =RANK(F24,$U$19:$U$165,0) -> #N/A | G25: =RANK(G24,$V$19:$V$165,0) -> #N/A | H25: =RANK(H24,$W$19:$W$165,0) -> #N/A | I25: =RANK(I24,$X$19:$X$165,0) -> #N/A | J25: =RANK(J24,$Y$19:$Y$165,0) -> #N/A | K25: =RANK(K24,$Z$19:$Z$165,0) -> #N/A | L25: =RANK(L24,$AA$19:$AA$165,0) -> #N/A | M25: =RANK(M24,$AB$19:$AB$155,0) -> #N/A | N25: =RANK(N24,$AC$19:$AC$165,0) -> #N/A | O25: =RANK(O24,$AD$19:$AD$165,0) -> #N/A | S25: =$A21 -> #N/A | T25: 5 | AF25: 14 | AG25: 4
A26: =RANK(P26,$P$16:$P$165,0) -> #N/A | B26: 59 | C26: =VLOOKUP(B26,Уч!$A$2:$L$26,2,FALSE) -> #N/A | D26: =VLOOKUP(B26,Уч!$A$2:$L$26,3,FALSE) -> #N/A | E26: Рез | F26: =VLOOKUP($B26,'100 м 1'!$C$18:$I$86,5,FALSE) -> #N/A | G26: =VLOOKUP($B26,'длина 2 '!$C$16:$O$54,11,FALSE) -> #N/A | H26: =VLOOKUP($B26,'ядро 2'!$C$16:$K$60,8,FALSE) -> #N/A | I26: =VLOOKUP($B26,'высота 2'!$C$16:$AF$57,23,FALSE) -> #N/A | J26: =VLOOKUP($B26,'4_р'!$C$17:$H$73,5,FALSE) -> #N/A | K26: =VLOOKUP($B26,'1cб_р'!$C$17:$I$63,5,FALSE) -> #N/A | L26: =VLOOKUP($B26,Дс_р!$C$16:$K$70,8,FALSE) -> #N/A | M26: =VLOOKUP($B26,Ш_р!$C$15:$AF$69,17,FALSE) -> #N/A | N26: =VLOOKUP($B26,К_р!$C$15:$K$68,8,FALSE) -> #N/A | O26: =VLOOKUP($B26,'15_р'!$C$17:$H$86,5,FALSE) -> #N/A | P26: =SUM(F28:O28) -> #N/A | Q26: =LOOKUP(P26,$V$1:$V$7,$W$1:$W$7) -> #N/A | S26: =$A26 -> #N/A | T26: 1
C27: =VLOOKUP(B26,Уч!$A$2:$L$26,5,FALSE) -> #N/A | D27: =VLOOKUP(B26,Уч!$A$2:$L$26,4,FALSE) -> #N/A | E27: Вет | F27: =VLOOKUP($B26,'100 м 1'!$C$18:$I$86,6,FALSE) -> #N/A | G27: =VLOOKUP($B26,'длина 2 '!$C$16:$O$54,12,FALSE) -> #N/A | K27: =VLOOKUP($B26,'1cб_р'!$C$17:$I$63,6,FALSE) -> #N/A | S27: =$A26 -> #N/A | T27: 2
C28: =VLOOKUP(B26,Уч!$A$2:$L$26,7,FALSE) -> #N/A | E28: Оч | F28: =VLOOKUP($B26,'100 м 1'!$C$18:$I$86,7,FALSE) -> #N/A | G28: =VLOOKUP($B26,'длина 2 '!$C$16:$O$54,13,FALSE) -> #N/A | H28: =VLOOKUP($B26,'ядро 2'!$C$16:$K$60,9,FALSE) -> #N/A | I28: =VLOOKUP($B26,'высота 2'!$C$16:$AF$57,24,) -> #N/A | J28: =VLOOKUP($B26,'4_р'!$C$17:$H$73,6,FALSE) -> #N/A | K28: =VLOOKUP($B26,'1cб_р'!$C$17:$I$63,7,FALSE) -> #N/A | L28: =VLOOKUP($B26,Дс_р!$C$16:$K$70,9,FALSE) -> #N/A | M28: =VLOOKUP($B26,Ш_р!$C$15:$AF$69,18,FALSE) -> #N/A | N28: =VLOOKUP($B26,К_р!$C$15:$K$68,9,FALSE) -> #N/A | O28: =VLOOKUP($B26,'15_р'!$C$17:$H$86,6,FALSE) -> #N/A | S28: =$A26 -> #N/A | T28: 3
C29: =VLOOKUP(B26,Уч!$A$2:$L$26,11,FALSE) -> #N/A | E29: Сум | F29: =F28 -> #N/A | G29: =F29+G28 -> #N/A | H29: =G29+H28 -> #N/A | I29: =H29+I28 -> #N/A | J29: =SUM($F28:J28) -> #N/A | K29: =SUM($F28:$K28) -> #N/A | L29: =K29+L28 -> #N/A | M29: =L29+M28 -> #N/A | N29: =SUM($F28:$N28) -> #N/A | O29: =SUM($F28:$O28) -> #N/A | S29: =$A26 -> #N/A | T29: 4 | U29: =F29 -> #N/A | V29: =G29 -> #N/A | W29: =H29 -> #N/A | X29: =I29 -> #N/A | Y29: =J29 -> #N/A | Z29: =K29 -> #N/A | AA29: =L29 -> #N/A | AB29: =M29 -> #N/A | ... AD29: =O29 -> #N/A
C30: =VLOOKUP(B26,Уч!$A$2:$L$26,12,FALSE) -> #N/A | E30: Мес | F30: =RANK(F29,$U$19:$U$165,0) -> #N/A | G30: =RANK(G29,$V$19:$V$165,0) -> #N/A | H30: =RANK(H29,$W$19:$W$165,0) -> #N/A | I30: =RANK(I29,$X$19:$X$165,0) -> #N/A | J30: =RANK(J29,$Y$19:$Y$165,0) -> #N/A | K30: =RANK(K29,$Z$19:$Z$165,0) -> #N/A | L30: =RANK(L29,$AA$19:$AA$165,0) -> #N/A | M30: =RANK(M29,$AB$19:$AB$155,0) -> #N/A | N30: =RANK(N29,$AC$19:$AC$165,0) -> #N/A | O30: =RANK(O29,$AD$19:$AD$165,0) -> #N/A | S30: =$A26 -> #N/A | T30: 5
A31: =RANK(P31,$P$16:$P$165,0) -> #N/A | B31: 37 | C31: =VLOOKUP(B31,Уч!$A$2:$L$26,2,FALSE) -> Гончарук Артём | D31: =VLOOKUP(B31,Уч!$A$2:$L$26,3,FALSE) -> 07.01.1992 | E31: Рез | F31: =VLOOKUP($B31,'100 м 1'!$C$18:$I$86,5,FALSE) -> 11.13 | G31: =VLOOKUP($B31,'длина 2 '!$C$16:$O$54,11,FALSE) -> #N/A | H31: =VLOOKUP($B31,'ядро 2'!$C$16:$K$60,8,FALSE) -> #N/A | I31: =VLOOKUP($B31,'высота 2'!$C$16:$AF$57,23,FALSE) -> #N/A | J31: =VLOOKUP($B31,'4_р'!$C$17:$H$73,5,FALSE) -> #N/A | K31: =VLOOKUP($B31,'1cб_р'!$C$17:$I$63,5,FALSE) -> #N/A | L31: =VLOOKUP($B31,Дс_р!$C$16:$K$70,8,FALSE) -> #N/A | M31: =VLOOKUP($B31,Ш_р!$C$15:$AF$69,17,FALSE) -> #N/A | N31: =VLOOKUP($B31,К_р!$C$15:$K$68,8,FALSE) -> #N/A | O31: =VLOOKUP($B31,'15_р'!$C$17:$H$86,5,FALSE) -> #N/A | P31: =SUM(F33:O33) -> #N/A | Q31: =LOOKUP(P31,$V$1:$V$7,$W$1:$W$7) -> #N/A | S31: =$A31 -> #N/A | T31: 1
C32: =VLOOKUP(B31,Уч!$A$2:$L$26,5,FALSE) -> Ульяновская область | D32: =VLOOKUP(B31,Уч!$A$2:$L$26,4,FALSE) -> МС | E32: Вет | F32: =VLOOKUP($B31,'100 м 1'!$C$18:$I$86,6,FALSE) -> 0 | G32: =VLOOKUP($B31,'длина 2 '!$C$16:$O$54,12,FALSE) -> #N/A | K32: =VLOOKUP($B31,'1cб_р'!$C$17:$I$63,6,FALSE) -> #N/A | S32: =$A31 -> #N/A | T32: 2
C33: =VLOOKUP(B31,Уч!$A$2:$L$26,7,FALSE) -> МБУ ДО ДЮСШ №6 | E33: Оч | F33: =VLOOKUP($B31,'100 м 1'!$C$18:$I$86,7,FALSE) -> 832 | G33: =VLOOKUP($B31,'длина 2 '!$C$16:$O$54,13,FALSE) -> #N/A | H33: =VLOOKUP($B31,'ядро 2'!$C$16:$K$60,9,FALSE) -> #N/A | I33: =VLOOKUP($B31,'высота 2'!$C$16:$AF$57,24,) -> #N/A | J33: =VLOOKUP($B31,'4_р'!$C$17:$H$73,6,FALSE) -> #N/A | K33: =VLOOKUP($B31,'1cб_р'!$C$17:$I$63,7,FALSE) -> #N/A | L33: =VLOOKUP($B31,Дс_р!$C$16:$K$70,9,FALSE) -> #N/A | M33: =VLOOKUP($B31,Ш_р!$C$15:$AF$69,18,FALSE) -> #N/A | N33: =VLOOKUP($B31,К_р!$C$15:$K$68,9,FALSE) -> #N/A | O33: =VLOOKUP($B31,'15_р'!$C$17:$H$86,6,FALSE) -> #N/A | S33: =$A31 -> #N/A | T33: 3
C34: =VLOOKUP(B31,Уч!$A$2:$L$26,11,FALSE) -> Жульков Ю.А. | E34: Сум | F34: =F33 -> 832 | G34: =F34+G33 -> #N/A | H34: =G34+H33 -> #N/A | I34: =H34+I33 -> #N/A | J34: =SUM($F33:J33) -> #N/A | K34: =SUM($F33:$K33) -> #N/A | L34: =K34+L33 -> #N/A | M34: =L34+M33 -> #N/A | N34: =SUM($F33:$N33) -> #N/A | O34: =SUM($F33:$O33) -> #N/A | S34: =$A31 -> #N/A | T34: 4 | U34: =F34 -> 832 | V34: =G34 -> #N/A | W34: =H34 -> #N/A | X34: =I34 -> #N/A | Y34: =J34 -> #N/A | Z34: =K34 -> #N/A | AA34: =L34 -> #N/A | AB34: =M34 -> #N/A | ... AD34: =O34 -> #N/A
C35: =VLOOKUP(B31,Уч!$A$2:$L$26,12,FALSE) -> 0 | E35: Мес | F35: =RANK(F34,$U$19:$U$165,0) -> #N/A | G35: =RANK(G34,$V$19:$V$165,0) -> #N/A | H35: =RANK(H34,$W$19:$W$165,0) -> #N/A | I35: =RANK(I34,$X$19:$X$165,0) -> #N/A | J35: =RANK(J34,$Y$19:$Y$165,0) -> #N/A | K35: =RANK(K34,$Z$19:$Z$165,0) -> #N/A | L35: =RANK(L34,$AA$19:$AA$165,0) -> #N/A | M35: =RANK(M34,$AB$19:$AB$155,0) -> #N/A | N35: =RANK(N34,$AC$19:$AC$165,0) -> #N/A | O35: =RANK(O34,$AD$19:$AD$165,0) -> #N/A | S35: =$A31 -> #N/A | T35: 5
A36: =RANK(P36,$P$16:$P$165,0) -> #N/A | B36: 18 | C36: =VLOOKUP(B36,Уч!$A$2:$L$26,2,FALSE) -> #N/A | D36: =VLOOKUP(B36,Уч!$A$2:$L$26,3,FALSE) -> #N/A | E36: Рез | F36: =VLOOKUP($B36,'100 м 1'!$C$18:$I$86,5,FALSE) -> #N/A | G36: =VLOOKUP($B36,'длина 2 '!$C$16:$O$54,11,FALSE) -> #N/A | H36: =VLOOKUP($B36,'ядро 2'!$C$16:$K$60,8,FALSE) -> #N/A | I36: =VLOOKUP($B36,'высота 2'!$C$16:$AF$57,23,FALSE) -> #N/A | J36: =VLOOKUP($B36,'4_р'!$C$17:$H$73,5,FALSE) -> #N/A | K36: =VLOOKUP($B36,'1cб_р'!$C$17:$I$63,5,FALSE) -> #N/A | L36: =VLOOKUP($B36,Дс_р!$C$16:$K$70,8,FALSE) -> #N/A | M36: =VLOOKUP($B36,Ш_р!$C$15:$AF$69,17,FALSE) -> #N/A | N36: =VLOOKUP($B36,К_р!$C$15:$K$68,8,FALSE) -> #N/A | O36: =VLOOKUP($B36,'15_р'!$C$17:$H$86,5,FALSE) -> #N/A | P36: =SUM(F38:O38) -> #N/A | Q36: =LOOKUP(P36,$V$1:$V$7,$W$1:$W$7) -> #N/A | S36: =$A36 -> #N/A | T36: 1
C37: =VLOOKUP(B36,Уч!$A$2:$L$26,5,FALSE) -> #N/A | D37: =VLOOKUP(B36,Уч!$A$2:$L$26,4,FALSE) -> #N/A | E37: Вет | F37: =VLOOKUP($B36,'100 м 1'!$C$18:$I$86,6,FALSE) -> #N/A | G37: =VLOOKUP($B36,'длина 2 '!$C$16:$O$54,12,FALSE) -> #N/A | K37: =VLOOKUP($B36,'1cб_р'!$C$17:$I$63,6,FALSE) -> #N/A | S37: =$A36 -> #N/A | T37: 2
C38: =VLOOKUP(B36,Уч!$A$2:$L$26,7,FALSE) -> #N/A | E38: Оч | F38: =VLOOKUP($B36,'100 м 1'!$C$18:$I$86,7,FALSE) -> #N/A | G38: =VLOOKUP($B36,'длина 2 '!$C$16:$O$54,13,FALSE) -> #N/A | H38: =VLOOKUP($B36,'ядро 2'!$C$16:$K$60,9,FALSE) -> #N/A | I38: =VLOOKUP($B36,'высота 2'!$C$16:$AF$57,24,) -> #N/A | J38: =VLOOKUP($B36,'4_р'!$C$17:$H$73,6,FALSE) -> #N/A | K38: =VLOOKUP($B36,'1cб_р'!$C$17:$I$63,7,FALSE) -> #N/A | L38: =VLOOKUP($B36,Дс_р!$C$16:$K$70,9,FALSE) -> #N/A | M38: =VLOOKUP($B36,Ш_р!$C$15:$AF$69,18,FALSE) -> #N/A | N38: =VLOOKUP($B36,К_р!$C$15:$K$68,9,FALSE) -> #N/A | O38: =VLOOKUP($B36,'15_р'!$C$17:$H$86,6,FALSE) -> #N/A | S38: =$A36 -> #N/A | T38: 3
C39: =VLOOKUP(B36,Уч!$A$2:$L$26,11,FALSE) -> #N/A | E39: Сум | F39: =F38 -> #N/A | G39: =F39+G38 -> #N/A | H39: =G39+H38 -> #N/A | I39: =H39+I38 -> #N/A | J39: =SUM($F38:J38) -> #N/A | K39: =SUM($F38:$K38) -> #N/A | L39: =K39+L38 -> #N/A | M39: =L39+M38 -> #N/A | N39: =SUM($F38:$N38) -> #N/A | O39: =SUM($F38:$O38) -> #N/A | S39: =$A36 -> #N/A | T39: 4 | U39: =F39 -> #N/A | V39: =G39 -> #N/A | W39: =H39 -> #N/A | X39: =I39 -> #N/A | Y39: =J39 -> #N/A | Z39: =K39 -> #N/A | AA39: =L39 -> #N/A | AB39: =M39 -> #N/A | ... AD39: =O39 -> #N/A
C40: =VLOOKUP(B36,Уч!$A$2:$L$26,12,FALSE) -> #N/A | E40: Мес | F40: =RANK(F39,$U$19:$U$165,0) -> #N/A | G40: =RANK(G39,$V$19:$V$165,0) -> #N/A | H40: =RANK(H39,$W$19:$W$165,0) -> #N/A | I40: =RANK(I39,$X$19:$X$165,0) -> #N/A | J40: =RANK(J39,$Y$19:$Y$165,0) -> #N/A | K40: =RANK(K39,$Z$19:$Z$165,0) -> #N/A | L40: =RANK(L39,$AA$19:$AA$165,0) -> #N/A | M40: =RANK(M39,$AB$19:$AB$155,0) -> #N/A | N40: =RANK(N39,$AC$19:$AC$165,0) -> #N/A | O40: =RANK(O39,$AD$19:$AD$165,0) -> #N/A | S40: =$A36 -> #N/A | T40: 5
A41: =RANK(P41,$P$16:$P$165,0) -> #N/A | B41: 16 | C41: =VLOOKUP(B41,Уч!$A$2:$L$26,2,FALSE) -> #N/A | D41: 32964 | E41: Рез | F41: =VLOOKUP($B41,'100 м 1'!$C$18:$I$86,5,FALSE) -> #N/A | G41: =VLOOKUP($B41,'длина 2 '!$C$16:$O$54,11,FALSE) -> #N/A | H41: =VLOOKUP($B41,'ядро 2'!$C$16:$K$60,8,FALSE) -> #N/A | I41: =VLOOKUP($B41,'высота 2'!$C$16:$AF$57,23,FALSE) -> #N/A | J41: =VLOOKUP($B41,'4_р'!$C$17:$H$73,5,FALSE) -> #N/A | K41: =VLOOKUP($B41,'1cб_р'!$C$17:$I$63,5,FALSE) -> #N/A | L41: =VLOOKUP($B41,Дс_р!$C$16:$K$70,8,FALSE) -> #N/A | M41: =VLOOKUP($B41,Ш_р!$C$15:$AF$69,17,FALSE) -> 0 | N41: =VLOOKUP($B41,К_р!$C$15:$K$68,8,FALSE) -> #N/A | O41: =VLOOKUP($B41,'15_р'!$C$17:$H$86,5,FALSE) -> #N/A | P41: =SUM(F43:O43) -> #N/A | Q41: =LOOKUP(P41,$V$1:$V$7,$W$1:$W$7) -> #N/A | S41: =$A41 -> #N/A | T41: 1
C42: =VLOOKUP(B41,Уч!$A$2:$L$26,5,FALSE) -> #N/A | D42: =VLOOKUP(B41,Уч!$A$2:$L$26,4,FALSE) -> #N/A | E42: Вет | F42: =VLOOKUP($B41,'100 м 1'!$C$18:$I$86,6,FALSE) -> #N/A | G42: =VLOOKUP($B41,'длина 2 '!$C$16:$O$54,12,FALSE) -> #N/A | K42: =VLOOKUP($B41,'1cб_р'!$C$17:$I$63,6,FALSE) -> #N/A | S42: =$A41 -> #N/A | T42: 2
...

Sheet Все (2)
A1: =Расп!$A$21 -> МИНИСТЕРСТВО СПОРТА РОССИЙСКОЙ ФЕДЕРАЦИИ | V1: 0 | W1: б/р
A2: =Расп!$A$22 -> ВСЕРОССИЙСКАЯ ФЕДЕРАЦИЯ ЛЕГКОЙ АТЛЕТИКИ | V2: 3800 | W2: 3
A3: =Расп!$A$23 | V3: 4600 | W3: 2
V4: 5500 | W4: 1
A5: =Расп!$A$25 -> Командный чемпионат России | V5: 6200 | W5: КМС
A6: =Расп!$A$26 -> г.Сочи, Адлерский район, стадион "Юность" | F6: =Расп!$A$1 -> 04.09.2019 г. | K6: =Расп!$A$7 -> 19.05.2019 г. | O6: =Расп!C13 -> До 23 лет | V6: 7000 | W6: МС
F7: =Расп!A2 -> бег 100 м | G7: =Расп!B2 -> 0.39583333 | K7: =Расп!A8 -> бег с барьерами 110 м (1,067 м) | L7: =Расп!B8 -> 0.41666667 | N7: =Расп!$A$14 -> РМ | O7: =Расп!C14 -> 8617 | V7: 8100 | W7: МСМК
C8: =Расп!$A$27 -> по многоборью | F8: =Расп!A3 -> прыжок в длину | G8: =Расп!B3 -> 0.42708333 | K8: =Расп!A9 -> метание диска (2,0 кг) | L8: =Расп!B9 -> 0.45138889 | N8: =Расп!$A$15 -> РЕ | O8: =Расп!C15 -> 8617 | U8: Скрыть
C9: Юниоры до 23 лет | F9: =Расп!A4 -> толкание ядра (7,26 кг) | G9: =Расп!B4 -> 0.46875 | K9: =Расп!A10 -> прыжок с шестом | L9: =Расп!B10 -> 0.52777778 | N9: =Расп!$A$16 -> РР | O9: =Расп!C16 -> 8365 | U9: при
F10: =Расп!A5 -> прыжок в высоту | G10: =Расп!B5 -> 0.625 | K10: =Расп!A11 -> метание копья (800 г) | L10: =Расп!B11 -> 0.625 | U10: печати
C11: ИТОГОВЫЙ ПРОТОКОЛ | F11: =Расп!A6 -> бег 400 м | G11: =Расп!B6 -> 0.72916667 | K11: =Расп!A12 -> бег 1500 м | L11: =Расп!B12 -> 0.76388889
C12: Промежуточные результаы
A13: Мес | B13: № | C13: Фамилия, имя | D13: ДР | F13: 100м | G13: Длина | H13: Ядро | I13: Высота | J13: 400м | K13: 110м с/б | L13: Диск | M13: Шест | N13: Копье | O13: 1500м | P13: Очки | Q13: Разряд | R13: Оч. ком | U13: 100 | V13: Длина | W13: Ядро | X13: Высота | Y13: 400 | Z13: 110сб | AA13: Диск | AB13: Шест | AC13: Копье | AD13: 1500
A16: =RANK(P16,$P$16:$P$160,0) -> #N/A | B16: 34 | C16: =VLOOKUP(B16,Уч!$A$2:$L$26,2,FALSE) -> #N/A | D16: =VLOOKUP(B16,Уч!$A$2:$L$26,3,FALSE) -> #N/A | E16: Рез | F16: =VLOOKUP($B16,'100 м 1'!$C$18:$I$86,5,FALSE) -> #N/A | G16: =VLOOKUP($B16,'длина 2 '!$C$16:$O$54,11,FALSE) -> #N/A | H16: =VLOOKUP($B16,'ядро 2'!$C$16:$K$60,8,FALSE) -> #N/A | I16: =VLOOKUP($B16,'высота 2'!$C$16:$AF$57,13,FALSE) -> #N/A | J16: =VLOOKUP($B16,'4_р'!$C$17:$H$73,5,FALSE) -> #N/A | K16: =VLOOKUP($B16,'1cб_р'!$C$17:$I$63,5,FALSE) -> #N/A | L16: =VLOOKUP($B16,Дс_р!$C$16:$K$70,8,FALSE) -> #N/A | M16: =VLOOKUP($B16,Ш_р!$C$15:$AF$69,17,FALSE) -> #N/A | N16: =VLOOKUP($B16,К_р!$C$15:$K$68,8,FALSE) -> #N/A | O16: =VLOOKUP($B16,'15_р'!$C$17:$H$86,5,FALSE) -> #N/A | P16: =SUM(F18:O18) -> #N/A | Q16: =LOOKUP(P16,$V$1:$V$7,$W$1:$W$7) -> #N/A | S16: =$A16 -> #N/A | T16: 1
C17: =VLOOKUP(B16,Уч!$A$2:$L$26,5,FALSE) -> #N/A | D17: =VLOOKUP(B16,Уч!$A$2:$L$26,4,FALSE) -> #N/A | E17: Вет | F17: =VLOOKUP($B16,'100 м 1'!$C$18:$I$86,6,FALSE) -> #N/A | G17: =VLOOKUP($B16,'длина 2 '!$C$16:$O$54,12,FALSE) -> #N/A | K17: =VLOOKUP($B16,'1cб_р'!$C$17:$I$63,6,FALSE) -> #N/A | S17: =$A16 -> #N/A | T17: 2
C18: =VLOOKUP(B16,Уч!$A$2:$L$26,7) -> #N/A | E18: Оч | F18: =VLOOKUP($B16,'100 м 1'!$C$18:$I$86,7,FALSE) -> #N/A | G18: =VLOOKUP($B16,'длина 2 '!$C$16:$O$54,13,FALSE) -> #N/A | H18: =VLOOKUP($B16,'ядро 2'!$C$16:$K$60,9,FALSE) -> #N/A | I18: =VLOOKUP($B16,'высота 2'!$C$16:$AF$57,14,FALSE) -> #N/A | J18: =VLOOKUP($B16,'4_р'!$C$17:$H$73,6,FALSE) -> #N/A | K18: =VLOOKUP($B16,'1cб_р'!$C$17:$I$63,7,FALSE) -> #N/A | L18: =VLOOKUP($B16,Дс_р!$C$16:$K$70,9,FALSE) -> #N/A | M18: =VLOOKUP($B16,Ш_р!$C$15:$AF$69,18,FALSE) -> #N/A | N18: =VLOOKUP($B16,К_р!$C$15:$K$68,9,FALSE) -> #N/A | O18: =VLOOKUP($B16,'15_р'!$C$17:$H$86,6,FALSE) -> #N/A | S18: =$A16 -> #N/A | T18: 3
C19: =VLOOKUP(B16,Уч!$A$2:$L$26,11,FALSE) -> #N/A | E19: Сум | F19: =F18 -> #N/A | G19: =F19+G18 -> #N/A | H19: =G19+H18 -> #N/A | I19: =H19+I18 -> #N/A | J19: =SUM($F18:J18) -> #N/A | K19: =SUM($F18:$K18) -> #N/A | L19: =K19+L18 -> #N/A | M19: =L19+M18 -> #N/A | N19: =SUM($F18:$N18) -> #N/A | O19: =SUM($F18:$O18) -> #N/A | S19: =$A16 -> #N/A | T19: 4 | U19: =F19 -> #N/A | V19: =G19 -> #N/A | W19: =H19 -> #N/A | X19: =I19 -> #N/A | Y19: =J19 -> #N/A | Z19: =K19 -> #N/A | AA19: =L19 -> #N/A | AB19: =M19 -> #N/A | ... AD19: =O19 -> #N/A
C20: =VLOOKUP(B16,Уч!$A$2:$L$26,12,FALSE) -> #N/A | E20: Мес | F20: =RANK(F19,$U$19:$U$160,0) -> #N/A | G20: =RANK(G19,$V$19:$V$160,0) -> #N/A | H20: =RANK(H19,$W$19:$W$160,0) -> #N/A | I20: =RANK(I19,$X$19:$X$160,0) -> #N/A | J20: =RANK(J19,$Y$19:$Y$160,0) -> #N/A | K20: =RANK(K19,$Z$19:$Z$160,0) -> #N/A | L20: =RANK(L19,$AA$19:$AA$160,0) -> #N/A | M20: =RANK(M19,$AB$19:$AB$150,0) -> #N/A | N20: =RANK(N19,$AC$19:$AC$160,0) -> #N/A | O20: =RANK(O19,$AD$19:$AD$160,0) -> #N/A | S20: =$A16 -> #N/A | T20: 5
A21: =RANK(P21,$P$16:$P$160,0) -> #N/A | B21: 17 | C21: =VLOOKUP(B21,Уч!$A$2:$L$26,2,FALSE) -> #N/A | D21: =VLOOKUP(B21,Уч!$A$2:$L$26,3,FALSE) -> #N/A | E21: Рез | F21: =VLOOKUP($B21,'100 м 1'!$C$18:$I$86,5,FALSE) -> #N/A | G21: =VLOOKUP($B21,'длина 2 '!$C$16:$O$54,11,FALSE) -> #N/A | H21: =VLOOKUP($B21,'ядро 2'!$C$16:$K$60,8,FALSE) -> #N/A | I21: =VLOOKUP($B21,'высота 2'!$C$16:$AF$57,13,FALSE) -> #N/A | J21: =VLOOKUP($B21,'4_р'!$C$17:$H$73,5,FALSE) -> #N/A | K21: =VLOOKUP($B21,'1cб_р'!$C$17:$I$63,5,FALSE) -> #N/A | L21: =VLOOKUP($B21,Дс_р!$C$16:$K$70,8,FALSE) -> #N/A | M21: =VLOOKUP($B21,Ш_р!$C$15:$AF$69,17,FALSE) -> #N/A | N21: =VLOOKUP($B21,К_р!$C$15:$K$68,8,FALSE) -> #N/A | O21: =VLOOKUP($B21,'15_р'!$C$17:$H$86,5,FALSE) -> #N/A | P21: =SUM(F23:O23) -> #N/A | Q21: =LOOKUP(P21,$V$1:$V$7,$W$1:$W$7) -> #N/A | S21: =$A21 -> #N/A | T21: 1 | AF21: 15 | AG21: 3
C22: =VLOOKUP(B21,Уч!$A$2:$L$26,5,FALSE) -> #N/A | D22: =VLOOKUP(B21,Уч!$A$2:$L$26,4,FALSE) -> #N/A | E22: Вет | F22: =VLOOKUP($B21,'100 м 1'!$C$18:$I$86,6,FALSE) -> #N/A | G22: =VLOOKUP($B21,'длина 2 '!$C$16:$O$54,12,FALSE) -> #N/A | K22: =VLOOKUP($B21,'1cб_р'!$C$17:$I$63,6,FALSE) -> #N/A | S22: =$A21 -> #N/A | T22: 2 | AF22: 16 | AG22: 2
C23: =VLOOKUP(B21,Уч!$A$2:$L$26,7) -> #N/A | E23: Оч | F23: =VLOOKUP($B21,'100 м 1'!$C$18:$I$86,7,FALSE) -> #N/A | G23: =VLOOKUP($B21,'длина 2 '!$C$16:$O$54,13,FALSE) -> #N/A | H23: =VLOOKUP($B21,'ядро 2'!$C$16:$K$60,9,FALSE) -> #N/A | I23: =VLOOKUP($B21,'высота 2'!$C$16:$AF$57,14,FALSE) -> #N/A | J23: =VLOOKUP($B21,'4_р'!$C$17:$H$73,6,FALSE) -> #N/A | K23: =VLOOKUP($B21,'1cб_р'!$C$17:$I$63,7,FALSE) -> #N/A | L23: =VLOOKUP($B21,Дс_р!$C$16:$K$70,9,FALSE) -> #N/A | M23: =VLOOKUP($B21,Ш_р!$C$15:$AF$69,18,FALSE) -> #N/A | N23: =VLOOKUP($B21,К_р!$C$15:$K$68,9,FALSE) -> #N/A | O23: =VLOOKUP($B21,'15_р'!$C$17:$H$86,6,FALSE) -> #N/A | S23: =$A21 -> #N/A | T23: 3 | AF23: КМС | AG23: 1 | AH23: Взр
C24: =VLOOKUP(B21,Уч!$A$2:$L$26,11,FALSE) -> #N/A | E24: Сум | F24: =F23 -> #N/A | G24: =F24+G23 -> #N/A | H24: =G24+H23 -> #N/A | I24: =H24+I23 -> #N/A | J24: =SUM($F23:J23) -> #N/A | K24: =SUM($F23:$K23) -> #N/A | L24: =K24+L23 -> #N/A | M24: =L24+M23 -> #N/A | N24: =SUM($F23:$N23) -> #N/A | O24: =SUM($F23:$O23) -> #N/A | S24: =$A21 -> #N/A | T24: 4 | U24: =F24 -> #N/A | V24: =G24 -> #N/A | W24: =H24 -> #N/A | X24: =I24 -> #N/A | Y24: =J24 -> #N/A | Z24: =K24 -> #N/A | AA24: =L24 -> #N/A | AB24: =M24 -> #N/A | ... AD24: =O24 -> #N/A | AF24: 1 раз | AG24: 1 | AH24: Мол
C25: =VLOOKUP(B21,Уч!$A$2:$L$26,12,FALSE) -> #N/A | E25: Мес | F25: =RANK(F24,$U$19:$U$160,0) -> #N/A | G25: =RANK(G24,$V$19:$V$160,0) -> #N/A | H25: =RANK(H24,$W$19:$W$160,0) -> #N/A | I25: =RANK(I24,$X$19:$X$160,0) -> #N/A | J25: =RANK(J24,$Y$19:$Y$160,0) -> #N/A | K25: =RANK(K24,$Z$19:$Z$160,0) -> #N/A | L25: =RANK(L24,$AA$19:$AA$160,0) -> #N/A | M25: =RANK(M24,$AB$19:$AB$150,0) -> #N/A | N25: =RANK(N24,$AC$19:$AC$160,0) -> #N/A | O25: =RANK(O24,$AD$19:$AD$160,0) -> #N/A | S25: =$A21 -> #N/A | T25: 5 | AF25: 2 раз | AG25: 1 | AH25: Юниор
A26: =RANK(P26,$P$16:$P$160,0) -> #N/A | B26: 59 | C26: =VLOOKUP(B26,Уч!$A$2:$L$26,2,FALSE) -> #N/A | D26: =VLOOKUP(B26,Уч!$A$2:$L$26,3,FALSE) -> #N/A | E26: Рез | F26: =VLOOKUP($B26,'100 м 1'!$C$18:$I$86,5,FALSE) -> #N/A | G26: =VLOOKUP($B26,'длина 2 '!$C$16:$O$54,11,FALSE) -> #N/A | H26: =VLOOKUP($B26,'ядро 2'!$C$16:$K$60,8,FALSE) -> #N/A | I26: =VLOOKUP($B26,'высота 2'!$C$16:$AF$57,13,FALSE) -> #N/A | J26: =VLOOKUP($B26,'4_р'!$C$17:$H$73,5,FALSE) -> #N/A | K26: =VLOOKUP($B26,'1cб_р'!$C$17:$I$63,5,FALSE) -> #N/A | L26: =VLOOKUP($B26,Дс_р!$C$16:$K$70,8,FALSE) -> #N/A | M26: =VLOOKUP($B26,Ш_р!$C$15:$AF$69,17,FALSE) -> #N/A | N26: =VLOOKUP($B26,К_р!$C$15:$K$68,8,FALSE) -> #N/A | O26: =VLOOKUP($B26,'15_р'!$C$17:$H$86,5,FALSE) -> #N/A | P26: =SUM(F28:O28) -> #N/A | Q26: =LOOKUP(P26,$V$1:$V$7,$W$1:$W$7) -> #N/A | S26: =$A26 -> #N/A | T26: 1
C27: =VLOOKUP(B26,Уч!$A$2:$L$26,5,FALSE) -> #N/A | D27: =VLOOKUP(B26,Уч!$A$2:$L$26,4,FALSE) -> #N/A | E27: Вет | F27: =VLOOKUP($B26,'100 м 1'!$C$18:$I$86,6,FALSE) -> #N/A | G27: =VLOOKUP($B26,'длина 2 '!$C$16:$O$54,12,FALSE) -> #N/A | K27: =VLOOKUP($B26,'1cб_р'!$C$17:$I$63,6,FALSE) -> #N/A | S27: =$A26 -> #N/A | T27: 2
C28: =VLOOKUP(B26,Уч!$A$2:$L$26,7) -> МБУ ДО ДЮСШ №6 | E28: Оч | F28: =VLOOKUP($B26,'100 м 1'!$C$18:$I$86,7,FALSE) -> #N/A | G28: =VLOOKUP($B26,'длина 2 '!$C$16:$O$54,13,FALSE) -> #N/A | H28: =VLOOKUP($B26,'ядро 2'!$C$16:$K$60,9,FALSE) -> #N/A | I28: =VLOOKUP($B26,'высота 2'!$C$16:$AF$57,14,FALSE) -> #N/A | J28: =VLOOKUP($B26,'4_р'!$C$17:$H$73,6,FALSE) -> #N/A | K28: =VLOOKUP($B26,'1cб_р'!$C$17:$I$63,7,FALSE) -> #N/A | L28: =VLOOKUP($B26,Дс_р!$C$16:$K$70,9,FALSE) -> #N/A | M28: =VLOOKUP($B26,Ш_р!$C$15:$AF$69,18,FALSE) -> #N/A | N28: =VLOOKUP($B26,К_р!$C$15:$K$68,9,FALSE) -> #N/A | O28: =VLOOKUP($B26,'15_р'!$C$17:$H$86,6,FALSE) -> #N/A | S28: =$A26 -> #N/A | T28: 3
C29: =VLOOKUP(B26,Уч!$A$2:$L$26,11,FALSE) -> #N/A | E29: Сум | F29: =F28 -> #N/A | G29: =F29+G28 -> #N/A | H29: =G29+H28 -> #N/A | I29: =H29+I28 -> #N/A | J29: =SUM($F28:J28) -> #N/A | K29: =SUM($F28:$K28) -> #N/A | L29: =K29+L28 -> #N/A | M29: =L29+M28 -> #N/A | N29: =SUM($F28:$N28) -> #N/A | O29: =SUM($F28:$O28) -> #N/A | S29: =$A26 -> #N/A | T29: 4 | U29: =F29 -> #N/A | V29: =G29 -> #N/A | W29: =H29 -> #N/A | X29: =I29 -> #N/A | Y29: =J29 -> #N/A | Z29: =K29 -> #N/A | AA29: =L29 -> #N/A | AB29: =M29 -> #N/A | ... AD29: =O29 -> #N/A
C30: =VLOOKUP(B26,Уч!$A$2:$L$26,12,FALSE) -> #N/A | E30: Мес | F30: =RANK(F29,$U$19:$U$160,0) -> #N/A | G30: =RANK(G29,$V$19:$V$160,0) -> #N/A | H30: =RANK(H29,$W$19:$W$160,0) -> #N/A | I30: =RANK(I29,$X$19:$X$160,0) -> #N/A | J30: =RANK(J29,$Y$19:$Y$160,0) -> #N/A | K30: =RANK(K29,$Z$19:$Z$160,0) -> #N/A | L30: =RANK(L29,$AA$19:$AA$160,0) -> #N/A | M30: =RANK(M29,$AB$19:$AB$150,0) -> #N/A | N30: =RANK(N29,$AC$19:$AC$160,0) -> #N/A | O30: =RANK(O29,$AD$19:$AD$160,0) -> #N/A | S30: =$A26 -> #N/A | T30: 5
A31: =RANK(P31,$P$16:$P$160,0) -> #N/A | B31: 37 | C31: =VLOOKUP(B31,Уч!$A$2:$L$26,2,FALSE) -> Гончарук Артём | D31: =VLOOKUP(B31,Уч!$A$2:$L$26,3,FALSE) -> 07.01.1992 | E31: Рез | F31: =VLOOKUP($B31,'100 м 1'!$C$18:$I$86,5,FALSE) -> 11.13 | G31: =VLOOKUP($B31,'длина 2 '!$C$16:$O$54,11,FALSE) -> #N/A | H31: =VLOOKUP($B31,'ядро 2'!$C$16:$K$60,8,FALSE) -> #N/A | I31: =VLOOKUP($B31,'высота 2'!$C$16:$AF$57,13,FALSE) -> #N/A | J31: =VLOOKUP($B31,'4_р'!$C$17:$H$73,5,FALSE) -> #N/A | K31: =VLOOKUP($B31,'1cб_р'!$C$17:$I$63,5,FALSE) -> #N/A | L31: =VLOOKUP($B31,Дс_р!$C$16:$K$70,8,FALSE) -> #N/A | M31: =VLOOKUP($B31,Ш_р!$C$15:$AF$69,17,FALSE) -> #N/A | N31: =VLOOKUP($B31,К_р!$C$15:$K$68,8,FALSE) -> #N/A | O31: =VLOOKUP($B31,'15_р'!$C$17:$H$86,5,FALSE) -> #N/A | P31: =SUM(F33:O33) -> #N/A | Q31: =LOOKUP(P31,$V$1:$V$7,$W$1:$W$7) -> #N/A | S31: =$A31 -> #N/A | T31: 1
C32: =VLOOKUP(B31,Уч!$A$2:$L$26,5,FALSE) -> Ульяновская область | D32: =VLOOKUP(B31,Уч!$A$2:$L$26,4,FALSE) -> МС | E32: Вет | F32: =VLOOKUP($B31,'100 м 1'!$C$18:$I$86,6,FALSE) -> 0 | G32: =VLOOKUP($B31,'длина 2 '!$C$16:$O$54,12,FALSE) -> #N/A | K32: =VLOOKUP($B31,'1cб_р'!$C$17:$I$63,6,FALSE) -> #N/A | S32: =$A31 -> #N/A | T32: 2
C33: =VLOOKUP(B31,Уч!$A$2:$L$26,7) -> МБУ ДО ДЮСШ №6 | E33: Оч | F33: =VLOOKUP($B31,'100 м 1'!$C$18:$I$86,7,FALSE) -> 832 | G33: =VLOOKUP($B31,'длина 2 '!$C$16:$O$54,13,FALSE) -> #N/A | H33: =VLOOKUP($B31,'ядро 2'!$C$16:$K$60,9,FALSE) -> #N/A | I33: =VLOOKUP($B31,'высота 2'!$C$16:$AF$57,14,FALSE) -> #N/A | J33: =VLOOKUP($B31,'4_р'!$C$17:$H$73,6,FALSE) -> #N/A | K33: =VLOOKUP($B31,'1cб_р'!$C$17:$I$63,7,FALSE) -> #N/A | L33: =VLOOKUP($B31,Дс_р!$C$16:$K$70,9,FALSE) -> #N/A | M33: =VLOOKUP($B31,Ш_р!$C$15:$AF$69,18,FALSE) -> #N/A | N33: =VLOOKUP($B31,К_р!$C$15:$K$68,9,FALSE) -> #N/A | O33: =VLOOKUP($B31,'15_р'!$C$17:$H$86,6,FALSE) -> #N/A | S33: =$A31 -> #N/A | T33: 3
C34: =VLOOKUP(B31,Уч!$A$2:$L$26,11,FALSE) -> Жульков Ю.А. | E34: Сум | F34: =F33 -> 832 | G34: =F34+G33 -> #N/A | H34: =G34+H33 -> #N/A | I34: =H34+I33 -> #N/A | J34: =SUM($F33:J33) -> #N/A | K34: =SUM($F33:$K33) -> #N/A | L34: =K34+L33 -> #N/A | M34: =L34+M33 -> #N/A | N34: =SUM($F33:$N33) -> #N/A | O34: =SUM($F33:$O33) -> #N/A | S34: =$A31 -> #N/A | T34: 4 | U34: =F34 -> 832 | V34: =G34 -> #N/A | W34: =H34 -> #N/A | X34: =I34 -> #N/A | Y34: =J34 -> #N/A | Z34: =K34 -> #N/A | AA34: =L34 -> #N/A | AB34: =M34 -> #N/A | ... AD34: =O34 -> #N/A
C35: =VLOOKUP(B31,Уч!$A$2:$L$26,12,FALSE) -> 0 | E35: Мес | F35: =RANK(F34,$U$19:$U$160,0) -> #N/A | G35: =RANK(G34,$V$19:$V$160,0) -> #N/A | H35: =RANK(H34,$W$19:$W$160,0) -> #N/A | I35: =RANK(I34,$X$19:$X$160,0) -> #N/A | J35: =RANK(J34,$Y$19:$Y$160,0) -> #N/A | K35: =RANK(K34,$Z$19:$Z$160,0) -> #N/A | L35: =RANK(L34,$AA$19:$AA$160,0) -> #N/A | M35: =RANK(M34,$AB$19:$AB$150,0) -> #N/A | N35: =RANK(N34,$AC$19:$AC$160,0) -> #N/A | O35: =RANK(O34,$AD$19:$AD$160,0) -> #N/A | S35: =$A31 -> #N/A | T35: 5
A36: =RANK(P36,$P$16:$P$160,0) -> #N/A | B36: 18 | C36: =VLOOKUP(B36,Уч!$A$2:$L$26,2,FALSE) -> #N/A | D36: =VLOOKUP(B36,Уч!$A$2:$L$26,3,FALSE) -> #N/A | E36: Рез | F36: =VLOOKUP($B36,'100 м 1'!$C$18:$I$86,5,FALSE) -> #N/A | G36: =VLOOKUP($B36,'длина 2 '!$C$16:$O$54,11,FALSE) -> #N/A | H36: =VLOOKUP($B36,'ядро 2'!$C$16:$K$60,8,FALSE) -> #N/A | I36: =VLOOKUP($B36,'высота 2'!$C$16:$AF$57,13,FALSE) -> #N/A | J36: =VLOOKUP($B36,'4_р'!$C$17:$H$73,5,FALSE) -> #N/A | K36: =VLOOKUP($B36,'1cб_р'!$C$17:$I$63,5,FALSE) -> #N/A | L36: =VLOOKUP($B36,Дс_р!$C$16:$K$70,8,FALSE) -> #N/A | M36: =VLOOKUP($B36,Ш_р!$C$15:$AF$69,17,FALSE) -> #N/A | N36: =VLOOKUP($B36,К_р!$C$15:$K$68,8,FALSE) -> #N/A | O36: =VLOOKUP($B36,'15_р'!$C$17:$H$86,5,FALSE) -> #N/A | P36: =SUM(F38:O38) -> #N/A | Q36: =LOOKUP(P36,$V$1:$V$7,$W$1:$W$7) -> #N/A | S36: =$A36 -> #N/A | T36: 1
C37: =VLOOKUP(B36,Уч!$A$2:$L$26,5,FALSE) -> #N/A | D37: =VLOOKUP(B36,Уч!$A$2:$L$26,4,FALSE) -> #N/A | E37: Вет | F37: =VLOOKUP($B36,'100 м 1'!$C$18:$I$86,6,FALSE) -> #N/A | G37: =VLOOKUP($B36,'длина 2 '!$C$16:$O$54,12,FALSE) -> #N/A | K37: =VLOOKUP($B36,'1cб_р'!$C$17:$I$63,6,FALSE) -> #N/A | S37: =$A36 -> #N/A | T37: 2
C38: =VLOOKUP(B36,Уч!$A$2:$L$26,7) -> #N/A | E38: Оч | F38: =VLOOKUP($B36,'100 м 1'!$C$18:$I$86,7,FALSE) -> #N/A | G38: =VLOOKUP($B36,'длина 2 '!$C$16:$O$54,13,FALSE) -> #N/A | H38: =VLOOKUP($B36,'ядро 2'!$C$16:$K$60,9,FALSE) -> #N/A | I38: =VLOOKUP($B36,'высота 2'!$C$16:$AF$57,14,FALSE) -> #N/A | J38: =VLOOKUP($B36,'4_р'!$C$17:$H$73,6,FALSE) -> #N/A | K38: =VLOOKUP($B36,'1cб_р'!$C$17:$I$63,7,FALSE) -> #N/A | L38: =VLOOKUP($B36,Дс_р!$C$16:$K$70,9,FALSE) -> #N/A | M38: =VLOOKUP($B36,Ш_р!$C$15:$AF$69,18,FALSE) -> #N/A | N38: =VLOOKUP($B36,К_р!$C$15:$K$68,9,FALSE) -> #N/A | O38: =VLOOKUP($B36,'15_р'!$C$17:$H$86,6,FALSE) -> #N/A | S38: =$A36 -> #N/A | T38: 3
C39: =VLOOKUP(B36,Уч!$A$2:$L$26,11,FALSE) -> #N/A | E39: Сум | F39: =F38 -> #N/A | G39: =F39+G38 -> #N/A | H39: =G39+H38 -> #N/A | I39: =H39+I38 -> #N/A | J39: =SUM($F38:J38) -> #N/A | K39: =SUM($F38:$K38) -> #N/A | L39: =K39+L38 -> #N/A | M39: =L39+M38 -> #N/A | N39: =SUM($F38:$N38) -> #N/A | O39: =SUM($F38:$O38) -> #N/A | S39: =$A36 -> #N/A | T39: 4 | U39: =F39 -> #N/A | V39: =G39 -> #N/A | W39: =H39 -> #N/A | X39: =I39 -> #N/A | Y39: =J39 -> #N/A | Z39: =K39 -> #N/A | AA39: =L39 -> #N/A | AB39: =M39 -> #N/A | ... AD39: =O39 -> #N/A
C40: =VLOOKUP(B36,Уч!$A$2:$L$26,12,FALSE) -> #N/A | E40: Мес | F40: =RANK(F39,$U$19:$U$160,0) -> #N/A | G40: =RANK(G39,$V$19:$V$160,0) -> #N/A | H40: =RANK(H39,$W$19:$W$160,0) -> #N/A | I40: =RANK(I39,$X$19:$X$160,0) -> #N/A | J40: =RANK(J39,$Y$19:$Y$160,0) -> #N/A | K40: =RANK(K39,$Z$19:$Z$160,0) -> #N/A | L40: =RANK(L39,$AA$19:$AA$160,0) -> #N/A | M40: =RANK(M39,$AB$19:$AB$150,0) -> #N/A | N40: =RANK(N39,$AC$19:$AC$160,0) -> #N/A | O40: =RANK(O39,$AD$19:$AD$160,0) -> #N/A | S40: =$A36 -> #N/A | T40: 5
A41: =RANK(P41,$P$16:$P$160,0) -> #N/A | B41: 16 | C41: =VLOOKUP(B41,Уч!$A$2:$L$26,2,FALSE) -> #N/A | D41: 32964 | E41: Рез | F41: =VLOOKUP($B41,'100 м 1'!$C$18:$I$86,5,FALSE) -> #N/A | G41: =VLOOKUP($B41,'длина 2 '!$C$16:$O$54,11,FALSE) -> #N/A | H41: =VLOOKUP($B41,'ядро 2'!$C$16:$K$60,8,FALSE) -> #N/A | I41: =VLOOKUP($B41,'высота 2'!$C$16:$AF$57,13,FALSE) -> #N/A | J41: =VLOOKUP($B41,'4_р'!$C$17:$H$73,5,FALSE) -> #N/A | K41: =VLOOKUP($B41,'1cб_р'!$C$17:$I$63,5,FALSE) -> #N/A | L41: =VLOOKUP($B41,Дс_р!$C$16:$K$70,8,FALSE) -> #N/A | M41: =VLOOKUP($B41,Ш_р!$C$15:$AF$69,17,FALSE) -> 0 | N41: =VLOOKUP($B41,К_р!$C$15:$K$68,8,FALSE) -> #N/A | O41: =VLOOKUP($B41,'15_р'!$C$17:$H$86,5,FALSE) -> #N/A | P41: =SUM(F43:O43) -> #N/A | Q41: =LOOKUP(P41,$V$1:$V$7,$W$1:$W$7) -> #N/A | S41: =$A41 -> #N/A | T41: 1
C42: =VLOOKUP(B41,Уч!$A$2:$L$26,5,FALSE) -> #N/A | D42: =VLOOKUP(B41,Уч!$A$2:$L$26,4,FALSE) -> #N/A | E42: Вет | F42: =VLOOKUP($B41,'100 м 1'!$C$18:$I$86,6,FALSE) -> #N/A | G42: =VLOOKUP($B41,'длина 2 '!$C$16:$O$54,12,FALSE) -> #N/A | K42: =VLOOKUP($B41,'1cб_р'!$C$17:$I$63,6,FALSE) -> #N/A | S42: =$A41 -> #N/A | T42: 2
...

Sheet READ
A1: Многоборья
A2: Опыт описания работы с таблицами по многоборьям
A3: Прежде всего сохраните данный файл под другим, удобным для Вас, именем
A4: Участники
A5: Участники должны быть расположены в порядке возрастания нагрудных номеров
A6: Расписание
A7: Введите название проводящих организаций, даты, расписание по видам
A8: Виды
A9: Данные вводятся в столбцы выделенные желтым
A10: При распечатке стартового или итогового протокола скрыть столбцы ввода данных (минус на поле вверху)
A11: Открытие этих столбцов (плюс на поле вверху)
A12: При распечатке стартового протокола изменяемые данные на белом фоне дайте белым цветом шрифта
... A21: Сводный пока не работает

Sheet Расп
A1: 04.09.2019 г. | B1: Начало: | C1: Окончание:
A2: бег 100 м | B2: 0.39583333
A3: прыжок в длину | B3: 0.42708333
A4: толкание ядра (7,26 кг) | B4: 0.46875
A5: прыжок в высоту | B5: 0.625
A6: бег 400 м | B6: 0.72916667
A7: 19.05.2019 г.
A8: бег с барьерами 110 м (1,067 м) | B8: 0.41666667
A9: метание диска (2,0 кг) | B9: 0.45138889
A10: прыжок с шестом | B10: 0.52777778
A11: метание копья (800 г) | B11: 0.625
A12: бег 1500 м | B12: 0.76388889
C13: До 23 лет
A14: РМ | B14: 9039 | C14: 8617
A15: РЕ | B15: 9026 | C15: 8617
A16: РР | B16: 8698 | C16: 8365
A21: МИНИСТЕРСТВО СПОРТА РОССИЙСКОЙ ФЕДЕРАЦИИ | G21: кто проводит
A22: ВСЕРОССИЙСКАЯ ФЕДЕРАЦИЯ ЛЕГКОЙ АТЛЕТИКИ
A25: Командный чемпионат России | G25: название
A26: г.Сочи, Адлерский район, стадион "Юность" | G26: где
A27: по многоборью | G27: Вид
A28: Мужчины | G28: Пол
G29: Пол

Sheet Уч
A1: № участ | B1: Фамилия, имя участника | C1: Дата рожд. | D1: Разряд | E1: Команда | F1: инд | H1: Ведомство | I1: Организация | J1: Лично | K1: Тренеры | L1: Тренеры
A2: 36 | B2: Королёв Максим | C2: 06.01.1988 | D2: МС | E2: Липецкая область | F2: М | G2: ГБУ ЛО ОК СШОР | H2: Десятиборье | I2: МС | J2: Липецкая область | K2: Стегачёв И.Н., Королева К.В., Фролов С.В.
A3: 100 | B3: Саранцев Евгений | C3: 05.02.1988 | D3: МСМК | E3: Волгоградская область Санкт-Петербург | F3: М | G3: ГБУ ВО "СШОР по легкой атлетике" | H3: Десятиборье | I3: МСМК | J3: Волгоградская область | K3: Зацеляпин М.И., Трофимов Е.В.
A4: 114 | B4: Новицкий Ярослав | C4: 04.04.1988 | D4: МС | E4: Санкт-Петербург | F4: М | G4: СПб ГБУ ЦОП "ШВСМ по легкой атлетике" | H4: Десятиборье | I4: МС | J4: Санкт-Петербург | K4: Шведова А.В., Дмитриев И.В.
A5: 74 | B5: Лукьяненко Артём | C5: 30.01.1990 | D5: МСМК | E5: Москва Ростовская область | F5: М | G5: ГБУ "ФСО "Юность Москвы" Москомспорта, ГБУ РО "ЦОП №1" | H5: Десятиборье | I5: МСМК | J5: Москва | K5: Желанов С.В., Сретенцев В.В.
A6: 22 | B6: Чернов Евгений | C6: 09.11.1991 | D6: МС | E6: Краснодарский край | F6: М | G6: ГБУ КК "ЦОП по легкой атлетике", ГБУ КК "РЦСП по легкой атлетике" | H6: Десятиборье | I6: МС | J6: Краснодарский край | K6: Чернов С.А., Мирошниченко В.И., Чернова Т.С.
A7: 37 | B7: Гончарук Артём | C7: 07.01.1992 | D7: МС | E7: Ульяновская область | F7: М | G7: МБУ ДО ДЮСШ №6 | H7: Десятиборье | I7: МС | J7: Ульяновская область | K7: Жульков Ю.А.
A8: 75 | B8: Тимшин Сергей | C8: 25.11.1992 | D8: МСМК | E8: Москва Липецкая область | F8: М | G8: ГБУ "ФСО "Юность Москвы" Москомспорта, ГБУ ЛО ОК СШОР | H8: Десятиборье | I8: МСМК | J8: Москва | K8: Радух А.О., Желанов С.В., Филатова Л.А.
A9: 40 | B9: Черкасов Алексей | C9: 22.10.1994 | D9: МС | E9: Кемеровская область Санкт-Петербург | F9: М | G9: МА ФСУ «СШОР по легкой атлетике», ГАУ КО "ЦП ССК", СПб ГБУ ЦОП "ШВСМ по легкой атлетике" | H9: Десятиборье | I9: МС | J9: Кемеровская область | K9: Залевская И.И., Овчинников Ю.В., Полосухин К.А.
A10: 79 | B10: Шестопалов Феликс | C10: 11.03.1996 | D10: МС | E10: Москва Ставропольский край | F10: М | G10: ГБУ "ФСО "Юность Москвы" Москомспорта, ГБУ СК "РЦСП" | H10: Десятиборье | I10: МС | J10: Москва | K10: Мирошниченко В.И., Журавлева Т.В.
A11: 113 | B11: Губанов Андрей | C11: 22.03.1996 | D11: МС | E11: Санкт-Петербург Республика Карелия | F11: М | G11: СПб ГБУ ЦОП "ШВСМ по легкой атлетике" | H11: Десятиборье | I11: МС | J11: Санкт-Петербург | K11: Зноев С.А., Дмитриев И.В., Зноева О.М.
A12: 2 | B12: Игнашев Владимир | C12: 05.10.1996 | D12: МС | E12: Ростовская область | F12: М | G12: ГБУ РО "СШОР №8" г.Ростов-на-Дону | H12: Десятиборье | I12: МС | J12: Ростовская область | K12: Болдырева И.А., Сретенцев В.В.
A13: 41 | B13: Фомичев Андрей | C13: 15.12.1996 | D13: МС | E13: Кемеровская область | F13: М | G13: ГБФСУ КО "СШОР по легкой атлетике им. В.А.Савенкова", ГАУ КО "ЦП ССК" | H13: Десятиборье | I13: МС | J13: Кемеровская область | K13: Хайлов С.Н., Фомичев В.Н.
... A20: 101 | B20: Чернов Виталий | C20: 07.08.1997 | D20: КМС | E20: Волгоградская область | F20: М | G20: ГБУ ВО "СШОР по легкой атлетике", ФГБОУ ВО "ВГАФК" | H20: Десятиборье | I20: КМС | J20: Волгоградская область | K20: Овчинников В.О., Зацеляпин М.И., Трофимов Е.В.
A21: 21 | B21: Гасленко Кирилл | C21: 36317 | D21: 1 | E21: Краснодарский край | F21: М | G21: ГБУ КК "ЦОП №1" | K21: Лияскин А.С., Смирнов В.Ф., Пугач С.В.
A22: 39 | B22: Левковский Андрей | C22: 17.08.1997 | D22: МС | E22: Кемеровская область | F22: М | G22: ГБФСУ КО "СШОР по легкой атлетике им. В.А.Савенкова" | H22: Десятиборье | I22: МС | J22: Кемеровская область | K22: Канашевич А.М., Ермишина Л.И., Ермишин Г.Н.
A23: 43 | B23: Соляков Федор | C23: 08.03.1998 | D23: КМС | E23: Кемеровская область | F23: М | G23: ГБФСУ КО "СШОР по легкой атлетике им. В.А.Савенкова" | H23: Десятиборье | I23: КМС | J23: Кемеровская область | K23: Канашевич А.М., Свистич Л.И.
A24: 98 | B24: Недригайло Данил | C24: 21.09.1999 | D24: КМС | E24: Волгоградская область | F24: М | G24: ГБУ ВО "СШОР по легкой атлетике", ГАПОУ ВО "УОР имени дважды Героя Советского Союза А.И.Родимцева" | H24: Десятиборье | I24: КМС | J24: Волгоградская область | K24: Зацеляпин М.И., Мельников Е.С., Кайдалин В.С., Трофимов Е.В.
A25: 45 | B25: Бочаринский Данила | C25: 12.01.1999 | D25: КМС | E25: Кемеровская область | F25: М | G25: МАФСУ "СШ №7" | H25: Десятиборье | I25: КМС | J25: Кемеровская область | K25: Чернявская Ю.В., Быков И.С., Ляпин И.М.
A26: 116 | B26: Горбачёв Артём | C26: 25.04.1998 | D26: МС | E26: Санкт-Петербург | F26: М | G26: СПб ГБУ ЦОП "ШВСМ по легкой атлетике" | H26: Десятиборье | I26: МС | J26: Санкт-Петербург | K26: Радух А.О., Пасенков А.П., Цимоха А.Г. | L26: ВС
A27: 76 | B27: Елфимов Арсений | C27: 17.09.2001 | D27: КМС | E27: Московская область Ярославская область | F27: М | G27: ГБУ МО "ЦСП ОВС", ГУ ЯО РЦСП, МУ СШОР №2 | H27: Десятиборье | I27: КМС | J27: Московская область | K27: Лободин Л.А., Пивентьев С.А., Скулябин А.Б.
A28: 89 | B28: Кузенков Кирилл | C28: 18.02.1999 | D28: 1 | E28: Челябинская область | F28: М | G28: МБУ СШОР № 2 по легкой атлетике имени Л.Н.Мосеева г.Челябинск | H28: Десятиборье | I28: 1 | J28: Челябинская область | K28: Пугач С.В., Шогин Г.Я.
A29: 78 | B29: Слаква Максим | C29: 10.05.1998 | D29: КМС | E29: Ставропольский край | F29: М | G29: ГБУ "СШОР по легкой атлетике" | H29: Десятиборье | I29: КМС | J29: Ставропольский край | K29: Мирошниченко В.И., Журавлева Т.В.
A30: 44 | B30: Хамедов Игорь | C30: 30.05.1998 | D30: КМС | E30: Кемеровская область | F30: М | G30: МАФСУ "СШ №7" | H30: Десятиборье | I30: КМС | J30: Кемеровская область | K30: Быков И.С., Чернявская Ю.В., Ляпин И.М.
A31: 1 | B31: Переварюха Артём | C31: 21.05.1999 | D31: КМС | E31: Ростовская область | F31: М | G31: ГБУ РО "СШОР №8" г.Ростов-на-Дону | H31: Десятиборье | I31: КМС | J31: Ростовская область | K31: Болдырева И.А.
A32: 77 | B32: Мазикин Алексей | C32: 05.06.1998 | D32: КМС | E32: Ставропольский край | F32: М | G32: ГБУ СК "СШОР по легкой атлетике", СУОР | H32: Десятиборье | I32: КМС | J32: Ставропольский край | K32: Мирошниченко В.И., Журавлева Т.В.
A33: 86 | B33: Белишко Владимир | C33: 06.08.1998 | D33: КМС | E33: Челябинская область | F33: М | G33: МБУ СШОР № 2 по легкой атлетике имени Л.Н.Мосеева г.Челябинск | H33: Десятиборье | I33: КМС | J33: Челябинская область | K33: Пугач С.В.
A34: 71 | B34: Агапов Игорь | C34: 29.10.1998 | D34: КМС | E34: Москва | F34: М | G34: ГБУ "СШОР №44" Москомспорта | H34: Десятиборье | I34: КМС | J34: Москва | K34: Баштанов А.В.
A35: 45 | B35: Бочаринский Данила | C35: 12.01.1999 | D35: КМС | E35: Кемеровская область | F35: М | G35: МАФСУ "СШ №7" | H35: Десятиборье | I35: КМС | J35: Кемеровская область | K35: Чернявская Ю.В., Быков И.С., Ляпин И.М.
A36: 89 | B36: Кузенков Кирилл | C36: 18.02.1999 | D36: 1 | E36: Челябинская область | F36: М | G36: МБУ СШОР № 2 по легкой атлетике имени Л.Н.Мосеева г.Челябинск | H36: Десятиборье | I36: 1 | J36: Челябинская область | K36: Пугач С.В., Шогин Г.Я.
A37: 1 | B37: Переварюха Артём | C37: 21.05.1999 | D37: КМС | E37: Ростовская область | F37: М | G37: ГБУ РО "СШОР №8" г.Ростов-на-Дону | H37: Десятиборье | I37: КМС | J37: Ростовская область | K37: Болдырева И.А.
A38: 21 | B38: Гасленко Кирилл | C38: 36317 | D38: 1 | E38: Краснодарский край | F38: М | G38: ГБУ КК "ЦОП №1" | K38: Лияскин А.С., Смирнов В.Ф., Пугач С.В.
A39: 98 | B39: Недригайло Данил | C39: 21.09.1999 | D39: КМС | E39: Волгоградская область | F39: М | G39: ГБУ ВО "СШОР по легкой атлетике", ГАПОУ ВО "УОР имени дважды Героя Советского Союза А.И.Родимцева" | H39: Десятиборье | I39: КМС | J39: Волгоградская область | K39: Зацеляпин М.И., Мельников Е.С., Кайдалин В.С., Трофимов Е.В.
A40: 76 | B40: Елфимов Арсений | C40: 17.09.2001 | D40: КМС | E40: Московская область Ярославская область | F40: М | G40: ГБУ МО "ЦСП ОВС", ГУ ЯО РЦСП, МУ СШОР №2 | H40: Десятиборье | I40: КМС | J40: Московская область | K40: Лободин Л.А., Пивентьев С.А., Скулябин А.Б.
A41: 107 | B41: Зарипов Раиль | C41: 25.07.1999 | D41: КМС | E41: Республика Татарстан | F41: М | G41: Спортивный клуб "Нефтехимик" ПАО "НКНХ" | H41: Десятиборье | I41: КМС | J41: Республика Татарстан | K41: Носова М.Е., Захарчук Д.Г.
A42: 98 | B42: Недригайло Данил | C42: 21.09.1999 | D42: КМС | E42: Волгоградская область | F42: М | G42: ГБУ ВО "СШОР по легкой атлетике", ГАПОУ ВО "УОР имени дважды Героя Советского Союза А.И.Родимцева" | H42: Десятиборье | I42: КМС | J42: Волгоградская область | K42: Зацеляпин М.И., Мельников Е.С., Кайдалин В.С., Трофимов Е.В.
A43: 76 | B43: Елфимов Арсений | C43: 17.09.2001 | D43: КМС | E43: Московская область Ярославская область | F43: М | G43: ГБУ МО "ЦСП ОВС", ГУ ЯО РЦСП, МУ СШОР №2 | H43: Десятиборье | I43: КМС | J43: Московская область | K43: Лободин Л.А., Пивентьев С.А., Скулябин А.Б.

Sheet М+23
A1: =Расп!$A$21 -> МИНИСТЕРСТВО СПОРТА РОССИЙСКОЙ ФЕДЕРАЦИИ | X1: Очки | Y1: 0 | AC1: 3800 | AD1: 4600 | AE1: 5400 | AF1: 6200 | AG1: 7100 | AH1: 8150 | AJ1: Для | AK1: мол | AL1: 5500
A2: =Расп!$A$22 -> ВСЕРОССИЙСКАЯ ФЕДЕРАЦИЯ ЛЕГКОЙ АТЛЕТИКИ | X2: Разряд | Y2: б/р | Z2: 3ю | AA2: 2ю | AB2: 1ю | AC2: 3 | AD2: 2 | AE2: 1 | AF2: КМС | AG2: МС | AH2: МСМК
A3: =Расп!$A$25 -> Командный чемпионат России | AF3: 1 оч
A4: =Расп!$A$27 -> по многоборью
A5: мужчины и юниоры до 23 лет | X5: Место | Y5: 1 | Z5: 2 | AA5: 3 | AB5: 4 | AC5: 5 | AD5: 6 | AE5: 7 | AF5: 8 | AG5: 9 | AH5: 10 | AI5: 11 | AJ5: 12 | AK5: 13 | AL5: 14 | AM5: 15 | AN5: 16 | AO5: 17
A6: ИТОГОВЫЕ ПРОТОКОЛЫ | X6: Очки | Y6: 20 | Z6: 17 | AA6: 15 | AB6: 14 | AC6: 13 | AD6: 12 | AE6: 11 | AF6: 10 | AG6: 9 | AH6: 8 | AI6: 7 | AJ6: 6 | AK6: 5 | AL6: 4 | AM6: 3 | AN6: 2 | AO6: 0
K7: =Расп!$A$1 -> 04.09.2019 г. | L7: t° +13 вл.86% | Q7: =Расп!$A$7 -> 19.05.2019 г. | R7: t° +13 вл.86%
A8: =Расп!A28 -> Мужчины | C8: Юниоры до 23 лет | K8: =Расп!A2 -> бег 100 м | L8: =Расп!B2 -> 0.39583333 | Q8: =Расп!A8 -> бег с барьерами 110 м (1,067 м) | R8: =Расп!B8 -> 0.41666667 | W8: Скрыть | X8: Бонус | Y8: 1 | Z8: 2 | AA8: 3 | AB8: КМС | AC8: МС | AD8: МСМК
A9: =Расп!$A$14 -> РМ | B9: =Расп!B14 -> 9039 | C9: PM 8617 | K9: =Расп!A3 -> прыжок в длину | L9: =Расп!B3 -> 0.42708333 | Q9: =Расп!A9 -> метание диска (2,0 кг) | R9: =Расп!B9 -> 0.45138889 | W9: при | X9: Очки | Y9: 0 | Z9: 0 | AA9: 0 | AB9: 0 | AC9: 5 | AD9: 15
A10: =Расп!$A$15 -> РЕ | B10: =Расп!B15 -> 9026 | C10: PE 8617 | K10: =Расп!A4 -> толкание ядра (7,26 кг) | L10: =Расп!B4 -> 0.46875 | Q10: =Расп!A10 -> прыжок с шестом | R10: =Расп!B10 -> 0.52777778 | W10: печати
A11: =Расп!$A$16 -> РР | B11: =Расп!B16 -> 8698 | C11: PP 8365 | K11: =Расп!A5 -> прыжок в высоту | L11: =Расп!B5 -> 0.625 | Q11: =Расп!A11 -> метание копья (800 г) | R11: =Расп!B11 -> 0.625 | X11: Мнгб | Y11: 5
A12: =Расп!$A$26 -> г.Сочи, Адлерский район, стадион "Юность" | K12: =Расп!A6 -> бег 400 м | L12: =Расп!B6 -> 0.72916667 | Q12: =Расп!A12 -> бег 1500 м | R12: =Расп!B12 -> 0.76388889
A13: Место | B13: Нагрудный № | C13: Фамилия, имя участника Территория, ФСО, Тренер | D13: Дата рождения Вып-ый раз-д | F13: бег 100 м | G13: прыжок в длину | H13: толкание ядра | I13: прыжок в высоту | J13: бег 400 м | K13: бег с барьерами 110 м | L13: метание диска | M13: прыжок с шестом | N13: метание копья | O13: бег 1500 м | P13: Очки | Q13: Разряд | R13: Командные очки | S13: № | T13: М | U13: П | V13: МЛ | W13: 100 | X13: Длина | Y13: Ядро | Z13: Высота | AA13: 400 | AB13: 110сб | AC13: Диск | AD13: Шест | AE13: Копье | AF13: 1500 | AH13: оч/мес | AI13: оч/раз | AJ13: #
A16: =RANK(P16,$P$16:$P$40,0) -> #N/A | B16: 1 | C16: =VLOOKUP(B16,Уч!$A$2:$L$34,2,FALSE) -> Переварюха Артём | D16: =VLOOKUP(B16,Уч!$A$2:$L$34,3,FALSE) -> 21.05.1999 | E16: Результат | F16: =VLOOKUP($B16,'100 м 1'!$C$18:$I$87,5,FALSE) -> 11.44 | G16: =VLOOKUP($B16,'длина 2 '!$C$16:$O$54,11,FALSE) -> 6.79 | H16: =VLOOKUP($B16,'ядро 2'!$C$16:$K$60,8,FALSE) -> 10.74 | I16: =VLOOKUP($B16,'высота 2'!$C$16:$AF$57,29,FALSE) -> 2 | J16: =VLOOKUP($B16,'4_р'!$C$17:$H$73,5,FALSE) -> #N/A | K16: =VLOOKUP($B16,'1cб_р'!$C$17:$I$67,5,FALSE) -> #N/A | L16: =VLOOKUP($B16,Дс_р!$C$16:$K$70,8,FALSE) -> #N/A | M16: =VLOOKUP($B16,Ш_р!$C$15:$AF$69,29,FALSE) -> #N/A | N16: =VLOOKUP($B16,К_р!$C$15:$K$68,8,FALSE) -> #N/A | O16: =VLOOKUP($B16,'15_р'!$C$17:$H$86,5,FALSE) -> #N/A | P16: =SUM(F18:O18) -> #N/A | Q16: =LOOKUP(P16,Y$1:AH$1,Y$2:AH$2) -> #N/A | R16: =AH16+AI16+5 -> #N/A | S16: =B16 -> 1 | T16: =$A16 -> #N/A | U16: 1 | V16: лич | AH16: =IF(AND(T16>16,P16>=6200),"1",LOOKUP(T16,Y$5:AO$5,Y$6:AO$6)) -> #N/A | AI16: =LOOKUP(Q16,Y$8:AD$8,Y$9:AD$9) -> #N/A | AJ16: 52
C17: =VLOOKUP(B16,Уч!$A$2:$L$34,5,FALSE) -> Ростовская область | D17: =VLOOKUP(B16,Уч!$A$2:$L$34,4,FALSE) -> КМС | E17: Ветер | F17: =VLOOKUP($B16,'100 м 1'!$C$18:$I$87,6,FALSE) -> 0.8 | G17: =VLOOKUP($B16,'длина 2 '!$C$16:$O$54,12,FALSE) -> 0 | K17: =VLOOKUP($B16,'1cб_р'!$C$17:$I$67,6,FALSE) -> #N/A | R17: =CONCATENATE(AH16,"+",AI16,"+",5) -> #N/A | S17: =B16 -> 1 | T17: =$A16 -> #N/A | U17: 2 | V17: лич | AJ17: 52
C18: =VLOOKUP(B16,Уч!$A$2:$L$34,7,FALSE) -> ГБУ РО "СШОР №8" г.Ростов-на-Дону | E18: Очки | F18: =VLOOKUP($B16,'100 м 1'!$C$18:$I$87,7,FALSE) -> 765 | G18: =VLOOKUP($B16,'длина 2 '!$C$16:$O$54,13,FALSE) -> 0 | H18: =VLOOKUP($B16,'ядро 2'!$C$16:$K$60,9,FALSE) -> 530 | I18: =VLOOKUP($B16,'высота 2'!$C$16:$AF$57,30,) -> 0 | J18: =VLOOKUP($B16,'4_р'!$C$17:$H$73,6,FALSE) -> #N/A | K18: =VLOOKUP($B16,'1cб_р'!$C$17:$I$67,7,FALSE) -> #N/A | L18: =VLOOKUP($B16,Дс_р!$C$16:$K$70,9,FALSE) -> #N/A | M18: =VLOOKUP($B16,Ш_р!$C$15:$AF$69,30,FALSE) -> #N/A | N18: =VLOOKUP($B16,К_р!$C$15:$K$68,9,FALSE) -> #N/A | O18: =VLOOKUP($B16,'15_р'!$C$17:$H$86,6,FALSE) -> #N/A | S18: =B16 -> 1 | T18: =$A16 -> #N/A | U18: 3 | V18: лич | AJ18: 52
C19: =VLOOKUP(B16,Уч!$A$2:$L$34,11,FALSE) -> Болдырева И.А. | E19: Сумма очков | F19: =F18 -> 765 | G19: =F19+G18 -> 765 | H19: =G19+H18 -> 1295 | I19: =H19+I18 -> 1295 | J19: =SUM($F18:J18) -> #N/A | K19: =SUM($F18:$K18) -> #N/A | L19: =K19+L18 -> #N/A | M19: =L19+M18 -> #N/A | N19: =SUM($F18:$N18) -> #N/A | O19: =SUM($F18:$O18) -> #N/A | S19: =B16 -> 1 | T19: =$A16 -> #N/A | U19: 4 | V19: лич | W19: =F19 -> 765 | X19: =G19 -> 765 | Y19: =H19 -> 1295 | Z19: =I19 -> 1295 | AA19: =J19 -> #N/A | AB19: =K19 -> #N/A | AC19: =L19 -> #N/A | AD19: =M19 -> #N/A | ... AF19: =O19 -> #N/A | AJ19: 52
C20: =VLOOKUP(B16,Уч!$A$2:$L$34,12,FALSE) -> 0 | E20: Место | F20: =RANK(F19,$W$19:$W$40,0) -> #N/A | G20: =RANK(G19,$X$19:$X$40,0) -> #N/A | H20: =RANK(H19,$Y$19:$Y$40,0) -> #N/A | I20: =RANK(I19,$Z$19:$Z$40,0) -> #N/A | J20: =RANK(J19,$AA$19:$AA$40,0) -> #N/A | K20: =RANK(K19,$AB$19:$AB$40,0) -> #N/A | L20: =RANK(L19,$AC$19:$AC$40,0) -> #N/A | M20: =RANK(M19,$AD$19:$AD$40,0) -> #N/A | N20: =RANK(N19,$AE$19:$AE$40,0) -> #N/A | O20: =RANK(O19,$AF$19:$AF$40,0) -> #N/A | S20: =B16 -> 1 | T20: =$A16 -> #N/A | U20: 5 | V20: лич | AJ20: 52
A21: =RANK(P21,$P$16:$P$40,0) -> #N/A | B21: 2 | C21: =VLOOKUP(B21,Уч!$A$2:$L$34,2,FALSE) -> Игнашев Владимир | D21: =VLOOKUP(B21,Уч!$A$2:$L$34,3,FALSE) -> 05.10.1996 | E21: Результат | F21: =VLOOKUP($B21,'100 м 1'!$C$18:$I$87,5,FALSE) -> 11.13 | G21: =VLOOKUP($B21,'длина 2 '!$C$16:$O$54,11,FALSE) -> #N/A | H21: =VLOOKUP($B21,'ядро 2'!$C$16:$K$60,8,FALSE) -> #N/A | I21: =VLOOKUP($B21,'высота 2'!$C$16:$AF$57,29,FALSE) -> #N/A | J21: =VLOOKUP($B21,'4_р'!$C$17:$H$73,5,FALSE) -> 49.89 | K21: =VLOOKUP($B21,'1cб_р'!$C$17:$I$67,5,FALSE) -> 15.7 | L21: =VLOOKUP($B21,Дс_р!$C$16:$K$70,8,FALSE) -> 32.45 | M21: =VLOOKUP($B21,Ш_р!$C$15:$AF$69,29,FALSE) -> 4 | N21: =VLOOKUP($B21,К_р!$C$15:$K$68,8,FALSE) -> 47.1 | O21: =VLOOKUP($B21,'15_р'!$C$17:$H$86,5,FALSE) -> 4:22.85 | P21: =SUM(F23:O23) -> #N/A | Q21: =LOOKUP(P21,Y$1:AH$1,Y$2:AH$2) -> #N/A | R21: =AH21+AI21+5 -> #N/A | S21: =B21 -> 2 | T21: =$A21 -> #N/A | U21: 1 | V21: =$A21 -> #N/A | AH21: =IF(AND(T21>16,P21>=6200),"1",LOOKUP(T21,Y$5:AO$5,Y$6:AO$6)) -> #N/A | AI21: =LOOKUP(Q21,Y$8:AD$8,Y$9:AD$9) -> #N/A | AJ21: 54
C22: =VLOOKUP(B21,Уч!$A$2:$L$34,5,FALSE) -> Ростовская область | D22: =VLOOKUP(B21,Уч!$A$2:$L$34,4,FALSE) -> МС | E22: Ветер | F22: =VLOOKUP($B21,'100 м 1'!$C$18:$I$87,6,FALSE) -> 0 | G22: =VLOOKUP($B21,'длина 2 '!$C$16:$O$54,12,FALSE) -> #N/A | K22: =VLOOKUP($B21,'1cб_р'!$C$17:$I$67,6,FALSE) -> 0 | R22: =CONCATENATE(AH21,"+",AI21,"+",5) -> #N/A | S22: =B21 -> 2 | T22: =$A21 -> #N/A | U22: 2 | V22: =$A21 -> #N/A | AJ22: 54
C23: =VLOOKUP(B21,Уч!$A$2:$L$34,7,FALSE) -> ГБУ РО "СШОР №8" г.Ростов-на-Дону | E23: Очки | F23: =VLOOKUP($B21,'100 м 1'!$C$18:$I$87,7,FALSE) -> 832 | G23: =VLOOKUP($B21,'длина 2 '!$C$16:$O$54,13,FALSE) -> #N/A | H23: =VLOOKUP($B21,'ядро 2'!$C$16:$K$60,9,FALSE) -> #N/A | I23: =VLOOKUP($B21,'высота 2'!$C$16:$AF$57,30,) -> #N/A | J23: =VLOOKUP($B21,'4_р'!$C$17:$H$73,6,FALSE) -> 820 | K23: =VLOOKUP($B21,'1cб_р'!$C$17:$I$67,7,FALSE) -> 767 | L23: =VLOOKUP($B21,Дс_р!$C$16:$K$70,9,FALSE) -> 513 | M23: =VLOOKUP($B21,Ш_р!$C$15:$AF$69,30,FALSE) -> 617 | N23: =VLOOKUP($B21,К_р!$C$15:$K$68,9,FALSE) -> 546 | O23: =VLOOKUP($B21,'15_р'!$C$17:$H$86,6,FALSE) -> 792 | S23: =B21 -> 2 | T23: =$A21 -> #N/A | U23: 3 | V23: =$A21 -> #N/A | AJ23: 54
C24: =VLOOKUP(B21,Уч!$A$2:$L$34,11,FALSE) -> Болдырева И.А., Сретенцев В.В. | E24: Сумма очков | F24: =F23 -> 832 | G24: =F24+G23 -> #N/A | H24: =G24+H23 -> #N/A | I24: =H24+I23 -> #N/A | J24: =SUM($F23:J23) -> #N/A | K24: =SUM($F23:$K23) -> #N/A | L24: =K24+L23 -> #N/A | M24: =L24+M23 -> #N/A | N24: =SUM($F23:$N23) -> #N/A | O24: =SUM($F23:$O23) -> #N/A | S24: =B21 -> 2 | T24: =$A21 -> #N/A | U24: 4 | V24: =$A21 -> #N/A | W24: =F24 -> 832 | X24: =G24 -> #N/A | Y24: =H24 -> #N/A | Z24: =I24 -> #N/A | AA24: =J24 -> #N/A | AB24: =K24 -> #N/A | AC24: =L24 -> #N/A | AD24: =M24 -> #N/A | ... AF24: =O24 -> #N/A | AJ24: 54
C25: =VLOOKUP(B21,Уч!$A$2:$L$34,12,FALSE) | E25: Место | F25: =RANK(F24,$W$19:$W$40,0) -> #N/A | G25: =RANK(G24,$X$19:$X$40,0) -> #N/A | H25: =RANK(H24,$Y$19:$Y$40,0) -> #N/A | I25: =RANK(I24,$Z$19:$Z$40,0) -> #N/A | J25: =RANK(J24,$AA$19:$AA$40,0) -> #N/A | K25: =RANK(K24,$AB$19:$AB$40,0) -> #N/A | L25: =RANK(L24,$AC$19:$AC$40,0) -> #N/A | M25: =RANK(M24,$AD$19:$AD$40,0) -> #N/A | N25: =RANK(N24,$AE$19:$AE$40,0) -> #N/A | O25: =RANK(O24,$AF$19:$AF$40,0) -> #N/A | S25: =B21 -> 2 | T25: =$A21 -> #N/A | U25: 5 | V25: =$A21 -> #N/A | AJ25: 54
A26: =RANK(P26,$P$16:$P$40,0) -> #N/A | B26: 3 | C26: =VLOOKUP(B26,Уч!$A$2:$L$34,2,FALSE) -> #N/A | D26: =VLOOKUP(B26,Уч!$A$2:$L$34,3,FALSE) -> #N/A | E26: Результат | F26: =VLOOKUP($B26,'100 м 1'!$C$18:$I$87,5,FALSE) -> #N/A | G26: =VLOOKUP($B26,'длина 2 '!$C$16:$O$54,11,FALSE) -> #N/A | H26: =VLOOKUP($B26,'ядро 2'!$C$16:$K$60,8,FALSE) -> #N/A | I26: =VLOOKUP($B26,'высота 2'!$C$16:$AF$57,29,FALSE) -> #N/A | J26: =VLOOKUP($B26,'4_р'!$C$17:$H$73,5,FALSE) -> #N/A | K26: =VLOOKUP($B26,'1cб_р'!$C$17:$I$67,5,FALSE) -> #N/A | L26: =VLOOKUP($B26,Дс_р!$C$16:$K$70,8,FALSE) -> #N/A | M26: =VLOOKUP($B26,Ш_р!$C$15:$AF$69,29,FALSE) -> #N/A | N26: =VLOOKUP($B26,К_р!$C$15:$K$68,8,FALSE) -> #N/A | O26: п.163.2 | P26: =SUM(F28:O28) -> #N/A | Q26: =LOOKUP(P26,Y$1:AH$1,Y$2:AH$2) -> #N/A | R26: =AH26+AI26+5 -> #N/A | S26: =B26 -> 3 | T26: =$A26 -> #N/A | U26: 1 | V26: лич | AH26: =IF(AND(T26>16,P26>=6200),"1",LOOKUP(T26,Y$5:AO$5,Y$6:AO$6)) -> #N/A | AI26: =LOOKUP(Q26,Y$8:AD$8,Y$9:AD$9) -> #N/A | AJ26: 55
C27: =VLOOKUP(B26,Уч!$A$2:$L$34,5,FALSE) -> #N/A | D27: =VLOOKUP(B26,Уч!$A$2:$L$34,4,FALSE) -> #N/A | E27: Ветер | F27: =VLOOKUP($B26,'100 м 1'!$C$18:$I$87,6,FALSE) -> #N/A | G27: =VLOOKUP($B26,'длина 2 '!$C$16:$O$54,12,FALSE) -> #N/A | K27: =VLOOKUP($B26,'1cб_р'!$C$17:$I$67,6,FALSE) -> #N/A | R27: =CONCATENATE(AH26,"+",AI26,"+",5) -> #N/A | S27: =B26 -> 3 | T27: =$A26 -> #N/A | U27: 2 | V27: лич | AJ27: 55
C28: =VLOOKUP(B26,Уч!$A$2:$L$34,7,FALSE) -> #N/A | E28: Очки | F28: =VLOOKUP($B26,'100 м 1'!$C$18:$I$87,7,FALSE) -> #N/A | G28: =VLOOKUP($B26,'длина 2 '!$C$16:$O$54,13,FALSE) -> #N/A | H28: =VLOOKUP($B26,'ядро 2'!$C$16:$K$60,9,FALSE) -> #N/A | I28: =VLOOKUP($B26,'высота 2'!$C$16:$AF$57,30,) -> #N/A | J28: =VLOOKUP($B26,'4_р'!$C$17:$H$73,6,FALSE) -> #N/A | K28: =VLOOKUP($B26,'1cб_р'!$C$17:$I$67,7,FALSE) -> #N/A | L28: =VLOOKUP($B26,Дс_р!$C$16:$K$70,9,FALSE) -> #N/A | M28: =VLOOKUP($B26,Ш_р!$C$15:$AF$69,30,FALSE) -> #N/A | N28: =VLOOKUP($B26,К_р!$C$15:$K$68,9,FALSE) -> #N/A | O28: =VLOOKUP($B26,'15_р'!$C$17:$H$86,6,FALSE) -> #N/A | S28: =B26 -> 3 | T28: =$A26 -> #N/A | U28: 3 | V28: лич | AJ28: 55
C29: =VLOOKUP(B26,Уч!$A$2:$L$34,11,FALSE) -> #N/A | E29: Сумма очков | F29: =F28 -> #N/A | G29: =F29+G28 -> #N/A | H29: =G29+H28 -> #N/A | I29: =H29+I28 -> #N/A | J29: =SUM($F28:J28) -> #N/A | K29: =SUM($F28:$K28) -> #N/A | L29: =K29+L28 -> #N/A | M29: =L29+M28 -> #N/A | N29: =SUM($F28:$N28) -> #N/A | O29: =SUM($F28:$O28) -> #N/A | S29: =B26 -> 3 | T29: =$A26 -> #N/A | U29: 4 | V29: лич | W29: =F29 -> #N/A | X29: =G29 -> #N/A | Y29: =H29 -> #N/A | Z29: =I29 -> #N/A | AA29: =J29 -> #N/A | AB29: =K29 -> #N/A | AC29: =L29 -> #N/A | AD29: =M29 -> #N/A | ... AF29: =O29 -> #N/A | AJ29: 55
C30: =VLOOKUP(B26,Уч!$A$2:$L$34,12,FALSE) -> #N/A | E30: Место | F30: =RANK(F29,$W$19:$W$40,0) -> #N/A | G30: =RANK(G29,$X$19:$X$40,0) -> #N/A | H30: =RANK(H29,$Y$19:$Y$40,0) -> #N/A | I30: =RANK(I29,$Z$19:$Z$40,0) -> #N/A | J30: =RANK(J29,$AA$19:$AA$40,0) -> #N/A | K30: =RANK(K29,$AB$19:$AB$40,0) -> #N/A | L30: =RANK(L29,$AC$19:$AC$40,0) -> #N/A | M30: =RANK(M29,$AD$19:$AD$40,0) -> #N/A | N30: =RANK(N29,$AE$19:$AE$40,0) -> #N/A | O30: =RANK(O29,$AF$19:$AF$40,0) -> #N/A | S30: =B26 -> 3 | T30: =$A26 -> #N/A | U30: 5 | V30: лич | AJ30: 55
A31: =RANK(P31,$P$16:$P$40,0) -> #N/A | B31: 4 | C31: =VLOOKUP(B31,Уч!$A$2:$L$34,2,FALSE) -> #N/A | D31: =VLOOKUP(B31,Уч!$A$2:$L$34,3,FALSE) -> #N/A | E31: Результат | F31: =VLOOKUP($B31,'100 м 1'!$C$18:$I$87,5,FALSE) -> #N/A | G31: =VLOOKUP($B31,'длина 2 '!$C$16:$O$54,11,FALSE) -> #N/A | H31: =VLOOKUP($B31,'ядро 2'!$C$16:$K$60,8,FALSE) -> #N/A | I31: =VLOOKUP($B31,'высота 2'!$C$16:$AF$57,29,FALSE) -> #N/A | J31: =VLOOKUP($B31,'4_р'!$C$17:$H$73,5,FALSE) -> #N/A | K31: =VLOOKUP($B31,'1cб_р'!$C$17:$I$67,5,FALSE) -> #N/A | L31: =VLOOKUP($B31,Дс_р!$C$16:$K$70,8,FALSE) -> #N/A | M31: =VLOOKUP($B31,Ш_р!$C$15:$AF$69,29,FALSE) -> #N/A | N31: =VLOOKUP($B31,К_р!$C$15:$K$68,8,FALSE) -> #N/A | O31: =VLOOKUP($B31,'15_р'!$C$17:$H$86,5,FALSE) -> #N/A | P31: =SUM(F33:O33) -> #N/A | Q31: =LOOKUP(P31,Y$1:AH$1,Y$2:AH$2) -> #N/A | R31: =AH31+AI31+5 -> #N/A | S31: =B31 -> 4 | T31: =$A31 -> #N/A | U31: 1 | V31: =$A31 -> #N/A | AH31: =IF(AND(T31>16,P31>=6200),"1",LOOKUP(T31,Y$5:AO$5,Y$6:AO$6)) -> #N/A | AI31: =LOOKUP(Q31,Y$8:AD$8,Y$9:AD$9) -> #N/A | AJ31: 63
C32: =VLOOKUP(B31,Уч!$A$2:$L$34,5,FALSE) -> #N/A | D32: =VLOOKUP(B31,Уч!$A$2:$L$34,4,FALSE) -> #N/A | E32: Ветер | F32: =VLOOKUP($B31,'100 м 1'!$C$18:$I$87,6,FALSE) -> #N/A | G32: =VLOOKUP($B31,'длина 2 '!$C$16:$O$54,12,FALSE) -> #N/A | K32: =VLOOKUP($B31,'1cб_р'!$C$17:$I$67,6,FALSE) -> #N/A | R32: =CONCATENATE(AH31,"+",AI31,"+",5) -> #N/A | S32: =B31 -> 4 | T32: =$A31 -> #N/A | U32: 2 | V32: =$A31 -> #N/A | AJ32: 63
