Workbook

Sheet READ
A1: Многоборья
A2: Опыт описания работы с таблицами по многоборьям
A3: Прежде всего сохраните данный файл под другим, удобным для Вас, именем
A4: Участники
A5: Участники должны быть расположены в порядке возрастания нагрудных номеров
A6: Расписание
A7: Введите название проводящих организаций, даты, расписание по видам
A8: Виды
A9: Данные вводятся в столбцы выделенные желтым
A10: При распечатке стартового или итогового протокола скрыть столбцы ввода данных (минус на поле вверху)
A11: Открытие этих столбцов (плюс на поле вверху)
A12: При распечатке стартового протокола изменяемые данные на белом фоне дайте белым цветом шрифта
... A23: Все участники, включая нестартующих, должны быть внесены в стартовые протоколы. Нестартующие печатаются белым шрифтом. Если их не внести, то будет сбой в сводном протоколе.

Sheet Расп
A1: 04.09.2019 г. | B1: Начало: | C1: Окончание:
A2: бег с барьерами 100 м | B2: 0.40972222
A3: прыжок в высоту | B3: 0.44791667
A4: толкание ядра | B4: 0.70833333
A5: бег 200 м | B5: 0.75347222
A6: 19.05.2019 г.
A7: прыжок в длину | B7: 0.41666667
A8: метание копья (600 г) | B8: 0.48958333
A9: бег 800 м | B9: 0.75694444
B13: Женщины | C13: Юниорки до 23 лет
A14: РМ | B14: 7291 | C14: 7001
A15: РЕ | B15: 7032 | C15: 7001
A16: РР | B16: 7007 | C16: 6765
A21: МИНИСТЕРСТВО СПОРТА РОССИЙСКОЙ ФЕДЕРАЦИИ
A22: ВСЕРОССИЙСКАЯ ФЕДЕРАЦИЯ ЛЕГКОЙ АТЛЕТИКИ
A25: Командный чемпионат России
A26: г.Сочи, Адлерский район, стадион "Юность"
A27: по многоборью
A29: по многоборью

Sheet Уч
A1: № участ | B1: Фамилия, имя участника | C1: Дата рожд. | D1: Разряд | E1: Команда | F1: ФО | H1: Ведомство | I1: Организация | J1: Лично | K1: Тренеры | L1: Тренеры
A2: 10 | B2: Лысенко Мария | C2: 12.10.1998 | D2: КМС | E2: Краснодарский край Ставропольский край | F2: Ж | G2: ГБУ КК "РЦСП по легкой атлетике", ГБУ СК "СШОР по легкой атлетике", ГБУ СК "РЦСП" | H2: Семиборье(ж) | I2: КМС | J2: Краснодарский край | K2: Мирошниченко В.И., Журавлева Т.В., Ширяева Г.М.
A3: 9 | B3: Подгорнова Алина | C3: 05.05.1999 | D3: МС | E3: Краснодарский край | F3: Ж | G3: ГБУ КК "ЦОП по легкой атлетике", ГБУ КК "РЦСП по легкой атлетике" | H3: Семиборье(ж) | I3: МС | J3: Краснодарский край | K3: Чернов С.А., Чернова Т.С., Гончарова Е.Н.
A4: 12 | B4: Ермолина Елена | C4: 03.02.1989 | D4: МС | E4: Краснодарский край Республика Адыгея | F4: Ж | G4: ГБУ КК "РЦСП по легкой атлетике", ГБУ РА "ЦСП СК РА" | H4: Семиборье(ж) | I4: МС | J4: Краснодарский край | K4: Суханов С.М., Парфёнова С.О.
A5: 25 | B5: Варламова Анастасия | C5: 02.07.1998 | D5: КМС | E5: Белгородская область | F5: Ж | G5: МАУ "СШОР № 1" г.Старый Оскол | H5: Семиборье(ж) | I5: КМС | J5: Белгородская область | K5: Власов Н.В., Власова А.В.
A6: 23 | B6: Пириева Марина | C6: 16.07.1998 | D6: КМС | E6: ЮФО (К) | F6: Ж | G6: ГБУ РК "СШ №1 г.Симферополь" | H6: Семиборье(ж) | I6: КМС | J6: ЮФО (К) | K6: Леонов О.Н., Копытич А.Л., Копытич Д.Л.
A7: 8 | B7: Бутвина Александра | C7: 14.02.1986 | D7: МСМК | E7: Ростовская область Санкт-Петербург | F7: Ж | G7: ГБУ РО "ЦОП №1", СПб ГБУ ЦОП "ШВСМ по легкой атлетике" | H7: Семиборье(ж) | I7: МСМК | J7: Ростовская область | K7: Есина И.А., Сретенцев В.В., Радух А.О.
A8: 55 | B8: Селезнева Анастасия | C8: 15.04.1997 | D8: МС | E8: Кемеровская область | F8: Ж | G8: ГБФСУ КО "СШОР по легкой атлетике им. В.А.Савенкова" | H8: Семиборье(ж) | I8: МС | J8: Кемеровская область | K8: Муга О.Б., Грибанова С.Р., Канашевич А.М.
A9: 54 | B9: Кругова Елизавета | C9: 07.02.1999 | D9: 1 | E9: Кемеровская область | F9: Ж | G9: МАФСУ "СШ №7" | H9: Семиборье(ж) | I9: 1 | J9: Кемеровская область | K9: Быков И.С., Чернявская Ю.В., Ляпин И.М.
A10: 61 | B10: Ладикан Юлия | C10: 15.04.1999 | D10: КМС | E10: Кемеровская область | F10: Ж | G10: МА ФСУ «СШОР по легкой атлетике» | H10: Семиборье(ж) | I10: КМС | J10: Кемеровская область | K10: Мартынов Н.М.
A11: 56 | B11: Горевая Александра | C11: 13.09.1999 | D11: КМС | E11: Кемеровская область | F11: Ж | G11: ГБФСУ КО "СШОР по легкой атлетике им. В.А.Савенкова", ФГБОУ ВО "Кузбасский государственный технический университет имени Т.Ф.Горбачёва" | H11: Семиборье(ж) | I11: КМС | J11: Кемеровская область | K11: Ермишина Л.И., Ермишин Г.Н.
A12: 64 | B12: Дерган Евгения | C12: 11.04.1994 | D12: КМС | E12: Республика Адыгея | F12: Ж | G12: ГБУ РА "ЦСП СК РА" | H12: Семиборье(ж) | I12: КМС | J12: Республика Адыгея | K12: Суханов С.М., Парфёнова С.О.
A13: 66 | B13: Тынченко Анастасия | C13: 22.06.1996 | D13: КМС | E13: Республика Адыгея | F13: Ж | G13: ФГБОУ ВО "АГУ" | H13: Семиборье(ж) | I13: КМС | J13: Республика Адыгея | K13: Руди Л.С.
... A17: 109 | B17: Солнышкова Юлия | C17: 28.12.1998 | D17: КМС | E17: Республика Татарстан | F17: Ж | G17: ГБПОУ "КАЗУОР" | H17: Семиборье(ж) | I17: КМС | J17: Республика Татарстан | K17: Арбеев О.А.

Sheet Ж+ж23
A1: =Расп!$A$21 -> МИНИСТЕРСТВО СПОРТА РОССИЙСКОЙ ФЕДЕРАЦИИ | Q1: Очки | R1: 0 | T1: 1600 | U1: 2000 | V1: 2700 | W1: 3300 | X1: 3900 | Y1: 4500 | Z1: 5250 | AA1: 6150 | AC1: Для | AD1: мол | AE1: 4000
A2: =Расп!$A$22 -> ВСЕРОССИЙСКАЯ ФЕДЕРАЦИЯ ЛЕГКОЙ АТЛЕТИКИ | Q2: Разряд | R2: б/р | S2: 3ю | T2: 2ю | U2: 1ю | V2: 3 | W2: 2 | X2: 1 | Y2: КМС | Z2: МС | AA2: МСМК
A3: =Расп!$A$25 -> Командный чемпионат России | Y3: 1 оч
A4: =Расп!$A$27 -> по многоборью
A5: женщины и юниорки до 23 лет | Q5: Место | R5: 1 | S5: 2 | T5: 3 | U5: 4 | V5: 5 | W5: 6 | X5: 7 | Y5: 8 | Z5: 9 | AA5: 10 | AB5: 11 | AC5: 12 | AD5: 13 | AE5: 14 | AF5: 15 | AG5: 16 | AH5: 17
A6: ИТОГОВЫЙ ПРОТОКОЛ | Q6: Очки | R6: 20 | S6: 17 | T6: 15 | U6: 14 | V6: 13 | W6: 12 | X6: 11 | Y6: 10 | Z6: 9 | AA6: 8 | AB6: 7 | AC6: 6 | AD6: 5 | AE6: 4 | AF6: 3 | AG6: 2 | AH6: 0
A8: =Расп!B13 -> Женщины | C8: =Расп!C13 -> Юниорки до 23 лет | J8: =Расп!A1 -> 04.09.2019 г. | K8: t° +13 вл.86% | N8: =Расп!A6 -> 19.05.2019 г. | O8: t° +13 вл.86% | P8: Скрыть | Q8: Бонус | R8: 1 | S8: 2 | T8: 3 | U8: КМС | V8: МС | W8: МСМК
A9: =Расп!$A$14 -> РМ | B9: =Расп!B14 -> 7291 | C9: PM 7001 | J9: =Расп!A2 -> бег с барьерами 100 м | K9: =Расп!B2 -> 0.40972222 | N9: =Расп!A7 -> прыжок в длину | O9: =Расп!B7 -> 0.41666667 | P9: при | Q9: Очки | R9: 0 | S9: 0 | T9: 0 | U9: 0 | V9: 5 | W9: 15
A10: =Расп!$A$15 -> РЕ | B10: =Расп!B15 -> 7032 | C10: PE 7001 | J10: =Расп!A3 -> прыжок в высоту | K10: =Расп!B3 -> 0.44791667 | N10: =Расп!A8 -> метание копья (600 г) | O10: =Расп!B8 -> 0.48958333 | P10: печати
A11: =Расп!$A$16 -> РР | B11: =Расп!B16 -> 7007 | C11: PP 6765 | J11: =Расп!A4 -> толкание ядра | K11: =Расп!B4 -> 0.70833333 | N11: =Расп!A9 -> бег 800 м | O11: =Расп!B9 -> 0.75694444 | Q11: Мнгб | R11: 5
A12: =Расп!$A$26 -> г.Сочи, Адлерский район, стадион "Юность" | J12: =Расп!A5 -> бег 200 м | K12: =Расп!B5 -> 0.75347222
A13: Место | B13: Нагрудный № | C13: Фамилия, имя участника Территория, ФСО, Тренер | D13: Дата рождения Вып-ый раз-д | F13: бег с барьерами 100 м | G13: прыжок в высоту | H13: толкание ядра | I13: бег 200 м | J13: прыжок в длину | K13: метание копья | L13: бег 800 м | M13: Очки | N13: Разряд | O13: Командные очки | P13: № | Q13: М | R13: П | S13: МЛ | T13: 100сб | U13: Высота | V13: Ядро | W13: 200 | X13: Длина | Y13: Копье | Z13: 800 | AC13: оч/мес | AD13: оч/раз
A16: =RANK(M16,$M$16:$M$85,0) -> #N/A | B16: 73 | C16: =VLOOKUP(B16,Уч!$A$2:$L$16,2,FALSE) -> #N/A | D16: =VLOOKUP(B16,Уч!$A$2:$L$16,3,FALSE) -> #N/A | E16: Результат | F16: =VLOOKUP($B16,'110 сб '!$C$17:$I$87,5,FALSE) -> #N/A | G16: =VLOOKUP($B16,высота!$C$17:$AF$42,29,FALSE) -> #N/A | H16: =VLOOKUP($B16,ядро!$C$17:$K$43,8,FALSE) -> #N/A | I16: =VLOOKUP($B16,'2_р'!$C$17:$I$68,5,FALSE) -> #N/A | J16: =VLOOKUP($B16,Дл_р!$C$17:$O$43,11,FALSE) -> #N/A | K16: =VLOOKUP($B16,К_р!$C$18:$K$31,8,FALSE) -> #N/A | L16: =VLOOKUP($B16,'8_р'!$C$17:$H$77,5,FALSE) -> #N/A | M16: =SUM(F18:L18) -> #N/A | N16: =LOOKUP(M16,R$1:AA$1,R$2:AA$2) -> #N/A | O16: =AC16+AD16+5 -> #N/A | P16: =B16 -> 73 | Q16: =$A16 -> #N/A | R16: 1 | S16: =$A16 -> #N/A | AC16: =IF(AND(Q16>16,M16>=4600),"1",LOOKUP(Q16,Q$5:AH$5,Q$6:AH$6)) -> #N/A | AD16: =LOOKUP(N16,R$8:W$8,R$9:W$9) -> #N/A | AE16: Для | AF16: мол | AG16: 4000
C17: =VLOOKUP(B16,Уч!$A$2:$L$16,5,FALSE) -> #N/A | D17: =VLOOKUP(B16,Уч!$A$2:$L$16,4,FALSE) -> #N/A | E17: Ветер | F17: =VLOOKUP($B16,'110 сб '!$C$17:$I$87,6,FALSE) -> #N/A | I17: =VLOOKUP($B16,'2_р'!$C$17:$I$68,6,FALSE) -> #N/A | J17: =VLOOKUP($B16,Дл_р!$C$17:$O$43,12,FALSE) -> #N/A | O17: =CONCATENATE(AC16,"+",AD16,"+",5) -> #N/A | P17: =B16 -> 73 | Q17: =$A16 -> #N/A | R17: 2 | S17: =$A16 -> #N/A
C18: =VLOOKUP(B16,Уч!$A$2:$L$16,7,FALSE) -> #N/A | E18: Очки | F18: =VLOOKUP($B16,'110 сб '!$C$17:$I$87,7,FALSE) -> #N/A | G18: =VLOOKUP($B16,высота!$C$17:$AF$42,30,FALSE) -> #N/A | H18: =VLOOKUP($B16,ядро!$C$17:$K$43,9,FALSE) -> #N/A | I18: =VLOOKUP($B16,'2_р'!$C$17:$I$68,7,FALSE) -> #N/A | J18: =VLOOKUP($B16,Дл_р!$C$17:$O$43,13,FALSE) -> #N/A | K18: =VLOOKUP($B16,К_р!$C$18:$K$31,9,FALSE) -> #N/A | L18: =VLOOKUP($B16,'8_р'!$C$17:$H$77,6,FALSE) -> #N/A | P18: =B16 -> 73 | Q18: =$A16 -> #N/A | R18: 3 | S18: =$A16 -> #N/A
C19: =VLOOKUP(B16,Уч!$A$2:$L$16,11,FALSE) -> #N/A | E19: Сумма очков | F19: =F18 -> #N/A | G19: =F19+G18 -> #N/A | H19: =G19+H18 -> #N/A | I19: =H19+I18 -> #N/A | J19: =I19+J18 -> #N/A | K19: =J19+K18 -> #N/A | L19: =K19+L18 -> #N/A | P19: =B16 -> 73 | Q19: =$A16 -> #N/A | R19: 4 | S19: =$A16 -> #N/A | T19: =F19 -> #N/A | U19: =G19 -> #N/A | V19: =H19 -> #N/A | W19: =I19 -> #N/A | X19: =J19 -> #N/A | Y19: =K19 -> #N/A | Z19: =L19 -> #N/A
C20: =VLOOKUP(B16,Уч!$A$2:$L$16,12,FALSE) -> #N/A | E20: Место | F20: =RANK(F19,$T$19:$T$85,0) -> #N/A | G20: =RANK(G19,$U$19:$U$85,0) -> #N/A | H20: =RANK(H19,$V$19:$V$85,0) -> #N/A | I20: =RANK(I19,$W$19:$W$85,0) -> #N/A | J20: =RANK(J19,$X$19:$X$85,0) -> #N/A | K20: =RANK(K19,$Y$19:$Y$85,0) -> #N/A | L20: =RANK(L19,$Z$19:$Z$85,0) -> #N/A | P20: =B16 -> 73 | Q20: =$A16 -> #N/A | R20: 5 | S20: =$A16 -> #N/A
A21: =RANK(M21,$M$16:$M$85,0) -> #N/A | B21: 51 | C21: =VLOOKUP(B21,Уч!$A$2:$L$16,2,FALSE) -> #N/A | D21: =VLOOKUP(B21,Уч!$A$2:$L$16,3,FALSE) -> #N/A | E21: Результат | F21: =VLOOKUP($B21,'110 сб '!$C$17:$I$87,5,FALSE) -> #N/A | G21: =VLOOKUP($B21,высота!$C$17:$AF$42,29,FALSE) -> #N/A | H21: =VLOOKUP($B21,ядро!$C$17:$K$43,8,FALSE) -> #N/A | I21: =VLOOKUP($B21,'2_р'!$C$17:$I$68,5,FALSE) -> #N/A | J21: =VLOOKUP($B21,Дл_р!$C$17:$O$43,11,FALSE) -> #N/A | K21: =VLOOKUP($B21,К_р!$C$18:$K$31,8,FALSE) -> #N/A | L21: =VLOOKUP($B21,'8_р'!$C$17:$H$77,5,FALSE) -> #N/A | M21: =SUM(F23:L23) -> #N/A | N21: =LOOKUP(M21,R$1:AA$1,R$2:AA$2) -> #N/A | O21: =AC21+AD21+5 -> #N/A | P21: =B21 -> 51 | Q21: =$A21 -> #N/A | R21: 1 | S21: =$A21 -> #N/A | AC21: =IF(AND(Q21>16,M21>=4600),"1",LOOKUP(Q21,Q$5:AH$5,Q$6:AH$6)) -> #N/A | AD21: =LOOKUP(N21,R$8:W$8,R$9:W$9) -> #N/A
C22: =VLOOKUP(B21,Уч!$A$2:$L$16,5,FALSE) -> #N/A | D22: =VLOOKUP(B21,Уч!$A$2:$L$16,4,FALSE) -> #N/A | E22: Ветер | F22: =VLOOKUP($B21,'110 сб '!$C$17:$I$87,6,FALSE) -> #N/A | I22: =VLOOKUP($B21,'2_р'!$C$17:$I$68,6,FALSE) -> #N/A | J22: =VLOOKUP($B21,Дл_р!$C$17:$O$43,12,FALSE) -> #N/A | O22: =CONCATENATE(AC21,"+",AD21,"+",5) -> #N/A | P22: =B21 -> 51 | Q22: =$A21 -> #N/A | R22: 2 | S22: =$A21 -> #N/A
C23: =VLOOKUP(B21,Уч!$A$2:$L$16,7,FALSE) -> #N/A | E23: Очки | F23: =VLOOKUP($B21,'110 сб '!$C$17:$I$87,7,FALSE) -> #N/A | G23: =VLOOKUP($B21,высота!$C$17:$AF$42,30,FALSE) -> #N/A | H23: =VLOOKUP($B21,ядро!$C$17:$K$43,9,FALSE) -> #N/A | I23: =VLOOKUP($B21,'2_р'!$C$17:$I$68,7,FALSE) -> #N/A | J23: =VLOOKUP($B21,Дл_р!$C$17:$O$43,13,FALSE) -> #N/A | K23: =VLOOKUP($B21,К_р!$C$18:$K$31,9,FALSE) -> #N/A | L23: =VLOOKUP($B21,'8_р'!$C$17:$H$77,6,FALSE) -> #N/A | P23: =B21 -> 51 | Q23: =$A21 -> #N/A | R23: 3 | S23: =$A21 -> #N/A
C24: =VLOOKUP(B21,Уч!$A$2:$L$16,11,FALSE) -> #N/A | E24: Сумма очков | F24: =F23 -> #N/A | G24: =F24+G23 -> #N/A | H24: =G24+H23 -> #N/A | I24: =H24+I23 -> #N/A | J24: =I24+J23 -> #N/A | K24: =J24+K23 -> #N/A | L24: =K24+L23 -> #N/A | P24: =B21 -> 51 | Q24: =$A21 -> #N/A | R24: 4 | S24: =$A21 -> #N/A | T24: =F24 -> #N/A | U24: =G24 -> #N/A | V24: =H24 -> #N/A | W24: =I24 -> #N/A | X24: =J24 -> #N/A | Y24: =K24 -> #N/A | Z24: =L24 -> #N/A
C25: =VLOOKUP(B21,Уч!$A$2:$L$16,12,FALSE) -> #N/A | E25: Место | F25: =RANK(F24,$T$19:$T$85,0) -> #N/A | G25: =RANK(G24,$U$19:$U$85,0) -> #N/A | H25: =RANK(H24,$V$19:$V$85,0) -> #N/A | I25: =RANK(I24,$W$19:$W$85,0) -> #N/A | J25: =RANK(J24,$X$19:$X$85,0) -> #N/A | K25: =RANK(K24,$Y$19:$Y$85,0) -> #N/A | L25: =RANK(L24,$Z$19:$Z$85,0) -> #N/A | P25: =B21 -> 51 | Q25: =$A21 -> #N/A | R25: 5 | S25: =$A21 -> #N/A
A26: =RANK(M26,$M$16:$M$85,0) -> #N/A | B26: 64 | C26: =VLOOKUP(B26,Уч!$A$2:$L$16,2,FALSE) -> Дерган Евгения | D26: =VLOOKUP(B26,Уч!$A$2:$L$16,3,FALSE) -> 11.04.1994 | E26: Результат | F26: =VLOOKUP($B26,'110 сб '!$C$17:$I$87,5,FALSE) -> 15.87 | G26: =VLOOKUP($B26,высота!$C$17:$AF$42,29,FALSE) -> 1.86 | H26: =VLOOKUP($B26,ядро!$C$17:$K$43,8,FALSE) -> 14.48 | I26: =VLOOKUP($B26,'2_р'!$C$17:$I$68,5,FALSE) -> 26.81 | J26: =VLOOKUP($B26,Дл_р!$C$17:$O$43,11,FALSE) -> 5.3 | K26: =VLOOKUP($B26,К_р!$C$18:$K$31,8,FALSE) -> 38.68 | L26: =VLOOKUP($B26,'8_р'!$C$17:$H$77,5,FALSE) -> 2:32.13 | M26: =SUM(F28:L28) -> 4235 | N26: =LOOKUP(M26,R$1:AA$1,R$2:AA$2) -> 1 | O26: =AC26+AD26+5 -> #N/A | P26: =B26 -> 64 | Q26: =$A26 -> #N/A | R26: 1 | S26: =$A26 -> #N/A | AC26: =IF(AND(Q26>16,M26>=4600),"1",LOOKUP(Q26,Q$5:AH$5,Q$6:AH$6)) -> #N/A | AD26: =LOOKUP(N26,R$8:W$8,R$9:W$9) -> 0
C27: =VLOOKUP(B26,Уч!$A$2:$L$16,5,FALSE) -> Республика Адыгея | D27: =VLOOKUP(B26,Уч!$A$2:$L$16,4,FALSE) -> КМС | E27: Ветер | F27: =VLOOKUP($B26,'110 сб '!$C$17:$I$87,6,FALSE) -> 1.2 | I27: =VLOOKUP($B26,'2_р'!$C$17:$I$68,6,FALSE) -> 1.2 | J27: =VLOOKUP($B26,Дл_р!$C$17:$O$43,12,FALSE) -> -0.1 | O27: =CONCATENATE(AC26,"+",AD26,"+",5) -> #N/A | P27: =B26 -> 64 | Q27: =$A26 -> #N/A | R27: 2 | S27: =$A26 -> #N/A
C28: =VLOOKUP(B26,Уч!$A$2:$L$16,7,FALSE) -> ГБУ РА "ЦСП СК РА" | E28: Очки | F28: =VLOOKUP($B26,'110 сб '!$C$17:$I$87,7,FALSE) -> 730 | G28: =VLOOKUP($B26,высота!$C$17:$AF$42,30,FALSE) -> 0 | H28: =VLOOKUP($B26,ядро!$C$17:$K$43,9,FALSE) -> 826 | I28: =VLOOKUP($B26,'2_р'!$C$17:$I$68,7,FALSE) -> 728 | J28: =VLOOKUP($B26,Дл_р!$C$17:$O$43,13,FALSE) -> 643 | K28: =VLOOKUP($B26,К_р!$C$18:$K$31,9,FALSE) -> 642 | L28: =VLOOKUP($B26,'8_р'!$C$17:$H$77,6,FALSE) -> 666 | P28: =B26 -> 64 | Q28: =$A26 -> #N/A | R28: 3 | S28: =$A26 -> #N/A
C29: =VLOOKUP(B26,Уч!$A$2:$L$16,11,FALSE) -> Суханов С.М., Парфёнова С.О. | E29: Сумма очков | F29: =F28 -> 730 | G29: =F29+G28 -> 730 | H29: =G29+H28 -> 1556 | I29: =H29+I28 -> 2284 | J29: =I29+J28 -> 2927 | K29: =J29+K28 -> 3569 | L29: =K29+L28 -> 4235 | P29: =B26 -> 64 | Q29: =$A26 -> #N/A | R29: 4 | S29: =$A26 -> #N/A | T29: =F29 -> 730 | U29: =G29 -> 730 | V29: =H29 -> 1556 | W29: =I29 -> 2284 | X29: =J29 -> 2927 | Y29: =K29 -> 3569 | Z29: =L29 -> 4235
C30: =VLOOKUP(B26,Уч!$A$2:$L$16,12,FALSE) -> 0 | E30: Место | F30: =RANK(F29,$T$19:$T$85,0) -> #N/A | G30: =RANK(G29,$U$19:$U$85,0) -> #N/A | H30: =RANK(H29,$V$19:$V$85,0) -> #N/A | I30: =RANK(I29,$W$19:$W$85,0) -> #N/A | J30: =RANK(J29,$X$19:$X$85,0) -> #N/A | K30: =RANK(K29,$Y$19:$Y$85,0) -> #N/A | L30: =RANK(L29,$Z$19:$Z$85,0) -> #N/A | P30: =B26 -> 64 | Q30: =$A26 -> #N/A | R30: 5 | S30: =$A26 -> #N/A
A31: =RANK(M31,$M$16:$M$85,0) -> #N/A | B31: 17 | C31: =VLOOKUP(B31,Уч!$A$2:$L$16,2,FALSE) -> #N/A | D31: =VLOOKUP(B31,Уч!$A$2:$L$16,3,FALSE) -> #N/A | E31: Результат | F31: =VLOOKUP($B31,'110 сб '!$C$17:$I$87,5,FALSE) -> #N/A | G31: =VLOOKUP($B31,высота!$C$17:$AF$42,29,FALSE) -> #N/A | H31: =VLOOKUP($B31,ядро!$C$17:$K$43,8,FALSE) -> #N/A | I31: =VLOOKUP($B31,'2_р'!$C$17:$I$68,5,FALSE) -> #N/A | J31: =VLOOKUP($B31,Дл_р!$C$17:$O$43,11,FALSE) -> #N/A | K31: =VLOOKUP($B31,К_р!$C$18:$K$31,8,FALSE) -> #N/A | L31: =VLOOKUP($B31,'8_р'!$C$17:$H$77,5,FALSE) -> #N/A | M31: =SUM(F33:L33) -> #N/A | N31: =LOOKUP(M31,R$1:AA$1,R$2:AA$2) -> #N/A | O31: =AC31+AD31+5 -> #N/A | P31: =B31 -> 17 | Q31: =$A31 -> #N/A | R31: 1 | S31: =$A31 -> #N/A | AC31: =IF(AND(Q31>16,M31>=4600),"1",LOOKUP(Q31,Q$5:AH$5,Q$6:AH$6)) -> #N/A | AD31: =LOOKUP(N31,R$8:W$8,R$9:W$9) -> #N/A
C32: =VLOOKUP(B31,Уч!$A$2:$L$16,5,FALSE) -> #N/A | D32: =VLOOKUP(B31,Уч!$A$2:$L$16,4,FALSE) -> #N/A | E32: Ветер | F32: =VLOOKUP($B31,'110 сб '!$C$17:$I$87,6,FALSE) -> #N/A | I32: =VLOOKUP($B31,'2_р'!$C$17:$I$68,6,FALSE) -> #N/A | J32: =VLOOKUP($B31,Дл_р!$C$17:$O$43,12,FALSE) -> #N/A | O32: =CONCATENATE(AC31,"+",AD31,"+",5) -> #N/A | P32: =B31 -> 17 | Q32: =$A31 -> #N/A | R32: 2 | S32: =$A31 -> #N/A
C33: =VLOOKUP(B31,Уч!$A$2:$L$16,7,FALSE) -> #N/A | E33: Очки | F33: =VLOOKUP($B31,'110 сб '!$C$17:$I$87,7,FALSE) -> #N/A | G33: =VLOOKUP($B31,высота!$C$17:$AF$42,30,FALSE) -> #N/A | H33: =VLOOKUP($B31,ядро!$C$17:$K$43,9,FALSE) -> #N/A | I33: =VLOOKUP($B31,'2_р'!$C$17:$I$68,7,FALSE) -> #N/A | J33: =VLOOKUP($B31,Дл_р!$C$17:$O$43,13,FALSE) -> #N/A | K33: =VLOOKUP($B31,К_р!$C$18:$K$31,9,FALSE) -> #N/A | L33: =VLOOKUP($B31,'8_р'!$C$17:$H$77,6,FALSE) -> #N/A | P33: =B31 -> 17 | Q33: =$A31 -> #N/A | R33: 3 | S33: =$A31 -> #N/A
C34: =VLOOKUP(B31,Уч!$A$2:$L$16,11,FALSE) -> #N/A | E34: Сумма очков | F34: =F33 -> #N/A | G34: =F34+G33 -> #N/A | H34: =G34+H33 -> #N/A | I34: =H34+I33 -> #N/A | J34: =I34+J33 -> #N/A | K34: =J34+K33 -> #N/A | L34: =K34+L33 -> #N/A | P34: =B31 -> 17 | Q34: =$A31 -> #N/A | R34: 4 | S34: =$A31 -> #N/A | T34: =F34 -> #N/A | U34: =G34 -> #N/A | V34: =H34 -> #N/A | W34: =I34 -> #N/A | X34: =J34 -> #N/A | Y34: =K34 -> #N/A | Z34: =L34 -> #N/A
C35: =VLOOKUP(B31,Уч!$A$2:$L$16,12,FALSE) -> #N/A | E35: Место | F35: =RANK(F34,$T$19:$T$85,0) -> #N/A | G35: =RANK(G34,$U$19:$U$85,0) -> #N/A | H35: =RANK(H34,$V$19:$V$85,0) -> #N/A | I35: =RANK(I34,$W$19:$W$85,0) -> #N/A | J35: =RANK(J34,$X$19:$X$85,0) -> #N/A | K35: =RANK(K34,$Y$19:$Y$85,0) -> #N/A | L35: =RANK(L34,$Z$19:$Z$85,0) -> #N/A | P35: =B31 -> 17 | Q35: =$A31 -> #N/A | R35: 5 | S35: =$A31 -> #N/A
A36: =RANK(M36,$M$16:$M$85,0) -> #N/A | B36: 3 | C36: =VLOOKUP(B36,Уч!$A$2:$L$16,2,FALSE) -> #N/A | D36: =VLOOKUP(B36,Уч!$A$2:$L$16,3,FALSE) -> #N/A | E36: Результат | F36: =VLOOKUP($B36,'110 сб '!$C$17:$I$87,5,FALSE) -> #N/A | G36: =VLOOKUP($B36,высота!$C$17:$AF$42,29,FALSE) -> #N/A | H36: =VLOOKUP($B36,ядро!$C$17:$K$43,8,FALSE) -> #N/A | I36: =VLOOKUP($B36,'2_р'!$C$17:$I$68,5,FALSE) -> #N/A | J36: =VLOOKUP($B36,Дл_р!$C$17:$O$43,11,FALSE) -> #N/A | K36: =VLOOKUP($B36,К_р!$C$18:$K$31,8,FALSE) -> #N/A | L36: =VLOOKUP($B36,'8_р'!$C$17:$H$77,5,FALSE) -> #N/A | M36: =SUM(F38:L38) -> #N/A | N36: =LOOKUP(M36,R$1:AA$1,R$2:AA$2) -> #N/A | O36: =AC36+AD36+5 -> #N/A | P36: =B36 -> 3 | Q36: =$A36 -> #N/A | R36: 1 | S36: =$A36 -> #N/A | AC36: =IF(AND(Q36>16,M36>=4600),"1",LOOKUP(Q36,Q$5:AH$5,Q$6:AH$6)) -> #N/A | AD36: =LOOKUP(N36,R$8:W$8,R$9:W$9) -> #N/A
C37: =VLOOKUP(B36,Уч!$A$2:$L$16,5,FALSE) -> #N/A | D37: =VLOOKUP(B36,Уч!$A$2:$L$16,4,FALSE) -> #N/A | E37: Ветер | F37: =VLOOKUP($B36,'110 сб '!$C$17:$I$87,6,FALSE) -> #N/A | I37: =VLOOKUP($B36,'2_р'!$C$17:$I$68,6,FALSE) -> #N/A | J37: =VLOOKUP($B36,Дл_р!$C$17:$O$43,12,FALSE) -> #N/A | O37: =CONCATENATE(AC36,"+",AD36,"+",5) -> #N/A | P37: =B36 -> 3 | Q37: =$A36 -> #N/A | R37: 2 | S37: =$A36 -> #N/A
C38: =VLOOKUP(B36,Уч!$A$2:$L$16,7,FALSE) -> #N/A | E38: Очки | F38: =VLOOKUP($B36,'110 сб '!$C$17:$I$87,7,FALSE) -> #N/A | G38: =VLOOKUP($B36,высота!$C$17:$AF$42,30,FALSE) -> #N/A | H38: =VLOOKUP($B36,ядро!$C$17:$K$43,9,FALSE) -> #N/A | I38: =VLOOKUP($B36,'2_р'!$C$17:$I$68,7,FALSE) -> #N/A | J38: =VLOOKUP($B36,Дл_р!$C$17:$O$43,13,FALSE) -> #N/A | K38: =VLOOKUP($B36,К_р!$C$18:$K$31,9,FALSE) -> #N/A | L38: =VLOOKUP($B36,'8_р'!$C$17:$H$77,6,FALSE) -> #N/A | P38: =B36 -> 3 | Q38: =$A36 -> #N/A | R38: 3 | S38: =$A36 -> #N/A
C39: =VLOOKUP(B36,Уч!$A$2:$L$16,11,FALSE) -> #N/A | E39: Сумма очков | F39: =F38 -> #N/A | G39: =F39+G38 -> #N/A | H39: =G39+H38 -> #N/A | I39: =H39+I38 -> #N/A | J39: =I39+J38 -> #N/A | K39: =J39+K38 -> #N/A | L39: =K39+L38 -> #N/A | P39: =B36 -> 3 | Q39: =$A36 -> #N/A | R39: 4 | S39: =$A36 -> #N/A | T39: =F39 -> #N/A | U39: =G39 -> #N/A | V39: =H39 -> #N/A | W39: =I39 -> #N/A | X39: =J39 -> #N/A | Y39: =K39 -> #N/A | Z39: =L39 -> #N/A
C40: =VLOOKUP(B36,Уч!$A$2:$L$16,12,FALSE) -> #N/A | E40: Место | F40: =RANK(F39,$T$19:$T$85,0) -> #N/A | G40: =RANK(G39,$U$19:$U$85,0) -> #N/A | H40: =RANK(H39,$V$19:$V$85,0) -> #N/A | I40: =RANK(I39,$W$19:$W$85,0) -> #N/A | J40: =RANK(J39,$X$19:$X$85,0) -> #N/A | K40: =RANK(K39,$Y$19:$Y$85,0) -> #N/A | L40: =RANK(L39,$Z$19:$Z$85,0) -> #N/A | P40: =B36 -> 3 | Q40: =$A36 -> #N/A | R40: 5 | S40: =$A36 -> #N/A
A41: =RANK(M41,$M$16:$M$85,0) -> #N/A | B41: 4 | C41: =VLOOKUP(B41,Уч!$A$2:$L$16,2,FALSE) -> #N/A | D41: =VLOOKUP(B41,Уч!$A$2:$L$16,3,FALSE) -> #N/A | E41: Результат | F41: =VLOOKUP($B41,'110 сб '!$C$17:$I$87,5,FALSE) -> #N/A | G41: =VLOOKUP($B41,высота!$C$17:$AF$42,29,FALSE) -> #N/A | H41: =VLOOKUP($B41,ядро!$C$17:$K$43,8,FALSE) -> #N/A | I41: =VLOOKUP($B41,'2_р'!$C$17:$I$68,5,FALSE) -> #N/A | J41: =VLOOKUP($B41,Дл_р!$C$17:$O$43,11,FALSE) -> #N/A | K41: =VLOOKUP($B41,К_р!$C$18:$K$31,8,FALSE) -> #N/A | L41: =VLOOKUP($B41,'8_р'!$C$17:$H$77,5,FALSE) -> #N/A | M41: =SUM(F43:L43) -> #N/A | N41: =LOOKUP(M41,R$1:AA$1,R$2:AA$2) -> #N/A | O41: =AC41+AD41+5 -> #N/A | P41: =B41 -> 4 | Q41: =$A41 -> #N/A | R41: 1 | S41: =$A41 -> #N/A | AC41: =IF(AND(Q41>16,M41>=4600),"1",LOOKUP(Q41,Q$5:AH$5,Q$6:AH$6)) -> #N/A | AD41: =LOOKUP(N41,R$8:W$8,R$9:W$9) -> #N/A
C42: =VLOOKUP(B41,Уч!$A$2:$L$16,5,FALSE) -> #N/A | D42: =VLOOKUP(B41,Уч!$A$2:$L$16,4,FALSE) -> #N/A | E42: Ветер | F42: =VLOOKUP($B41,'110 сб '!$C$17:$I$87,6,FALSE) -> #N/A | I42: =VLOOKUP($B41,'2_р'!$C$17:$I$68,6,FALSE) -> #N/A | J42: =VLOOKUP($B41,Дл_р!$C$17:$O$43,12,FALSE) -> #N/A | O42: =CONCATENATE(AC41,"+",AD41,"+",5) -> #N/A | P42: =B41 -> 4 | Q42: =$A41 -> #N/A | R42: 2 | S42: =$A41 -> #N/A
C43: =VLOOKUP(B41,Уч!$A$2:$L$16,7,FALSE) -> #N/A | E43: Очки | F43: =VLOOKUP($B41,'110 сб '!$C$17:$I$87,7,FALSE) -> #N/A | G43: =VLOOKUP($B41,высота!$C$17:$AF$42,30,FALSE) -> #N/A | H43: =VLOOKUP($B41,ядро!$C$17:$K$43,9,FALSE) -> #N/A | I43: =VLOOKUP($B41,'2_р'!$C$17:$I$68,7,FALSE) -> #N/A | J43: =VLOOKUP($B41,Дл_р!$C$17:$O$43,13,FALSE) -> #N/A | K43: =VLOOKUP($B41,К_р!$C$18:$K$31,9,FALSE) -> #N/A | L43: =VLOOKUP($B41,'8_р'!$C$17:$H$77,6,FALSE) -> #N/A | P43: =B41 -> 4 | Q43: =$A41 -> #N/A | R43: 3 | S43: =$A41 -> #N/A
...

Sheet Ж
A1: =Расп!$A$21 -> МИНИСТЕРСТВО СПОРТА РОССИЙСКОЙ ФЕДЕРАЦИИ | Q1: Очки | R1: 0 | T1: 1600 | U1: 2000 | V1: 2700 | W1: 3300 | X1: 3900 | Y1: 4500 | Z1: 5250 | AA1: 6150 | AC1: Для | AD1: мол | AE1: 4000
A2: =Расп!$A$22 -> ВСЕРОССИЙСКАЯ ФЕДЕРАЦИЯ ЛЕГКОЙ АТЛЕТИКИ | Q2: Разряд | R2: б/р | S2: 3ю | T2: 2ю | U2: 1ю | V2: 3 | W2: 2 | X2: 1 | Y2: КМС | Z2: МС | AA2: МСМК
A3: =Расп!$A$25 -> Командный чемпионат России | Y3: 1 оч
A4: =Расп!$A$27 -> по многоборью
A5: женщины и юниорки до 23 лет | Q5: Место | R5: 1 | S5: 2 | T5: 3 | U5: 4 | V5: 5 | W5: 6 | X5: 7 | Y5: 8 | Z5: 9 | AA5: 10 | AB5: 11 | AC5: 12 | AD5: 13 | AE5: 14 | AF5: 15 | AG5: 16 | AH5: 17
A6: ИТОГОВЫЙ ПРОТОКОЛ | Q6: Очки | R6: 20 | S6: 17 | T6: 15 | U6: 14 | V6: 13 | W6: 12 | X6: 11 | Y6: 10 | Z6: 9 | AA6: 8 | AB6: 7 | AC6: 6 | AD6: 5 | AE6: 4 | AF6: 3 | AG6: 2 | AH6: 0
J8: =Расп!A1 -> 04.09.2019 г. | K8: t° +13 вл.86% | N8: =Расп!A6 -> 19.05.2019 г. | O8: t° +13 вл.86% | P8: Скрыть | Q8: Бонус | R8: 1 | S8: 2 | T8: 3 | U8: КМС | V8: МС | W8: МСМК
A9: =Расп!$A$14 -> РМ | B9: =Расп!B14 -> 7291 | J9: =Расп!A2 -> бег с барьерами 100 м | K9: =Расп!B2 -> 0.40972222 | N9: =Расп!A7 -> прыжок в длину | O9: =Расп!B7 -> 0.41666667 | P9: при | Q9: Очки | R9: 0 | S9: 0 | T9: 0 | U9: 0 | V9: 5 | W9: 15
A10: =Расп!$A$15 -> РЕ | B10: =Расп!B15 -> 7032 | J10: =Расп!A3 -> прыжок в высоту | K10: =Расп!B3 -> 0.44791667 | N10: =Расп!A8 -> метание копья (600 г) | O10: =Расп!B8 -> 0.48958333 | P10: печати
A11: =Расп!$A$16 -> РР | B11: =Расп!B16 -> 7007 | J11: =Расп!A4 -> толкание ядра | K11: =Расп!B4 -> 0.70833333 | N11: =Расп!A9 -> бег 800 м | O11: =Расп!B9 -> 0.75694444 | Q11: Мнгб | R11: 5
A12: =Расп!$A$26 -> г.Сочи, Адлерский район, стадион "Юность" | J12: =Расп!A5 -> бег 200 м | K12: =Расп!B5 -> 0.75347222
A13: Место | B13: Нагрудный № | C13: Фамилия, имя участника Территория, ФСО, Тренер | D13: Дата рождения Вып-ый раз-д | F13: бег с барьерами 100 м | G13: прыжок в высоту | H13: толкание ядра | I13: бег 200 м | J13: прыжок в длину | K13: метание копья | L13: бег 800 м | M13: Очки | N13: Разряд | O13: Командные очки | P13: № | Q13: М | R13: П | S13: МЛ | T13: 100сб | U13: Высота | V13: Ядро | W13: 200 | X13: Длина | Y13: Копье | Z13: 800 | AC13: оч/мес | AD13: оч/раз
A16: =RANK(M16,$M$16:$M$50,0) -> #N/A | B16: 64 | C16: =VLOOKUP(B16,Уч!$A$2:$L$16,2,FALSE) -> Дерган Евгения | D16: =VLOOKUP(B16,Уч!$A$2:$L$16,3,FALSE) -> 11.04.1994 | E16: Результат | F16: =VLOOKUP($B16,'110 сб '!$C$17:$I$87,5,FALSE) -> 15.87 | G16: =VLOOKUP($B16,высота!$C$17:$AF$42,29,FALSE) -> 1.86 | H16: =VLOOKUP($B16,ядро!$C$17:$K$43,8,FALSE) -> 14.48 | I16: =VLOOKUP($B16,'2_р'!$C$17:$I$68,5,FALSE) -> 26.81 | J16: =VLOOKUP($B16,Дл_р!$C$17:$O$43,11,FALSE) -> 5.3 | K16: =VLOOKUP($B16,К_р!$C$18:$K$31,8,FALSE) -> 38.68 | L16: =VLOOKUP($B16,'8_р'!$C$17:$H$77,5,FALSE) -> 2:32.13 | M16: =SUM(F18:L18) -> 4235 | N16: =LOOKUP(M16,R$1:AA$1,R$2:AA$2) -> 1 | O16: =AC16+AD16+5 -> #N/A | P16: =B16 -> 64 | Q16: =$A16 -> #N/A | R16: 1 | S16: =$A16 -> #N/A | AC16: =IF(AND(Q16>16,M16>=4600),"1",LOOKUP(Q16,Q$5:AH$5,Q$6:AH$6)) -> #N/A | AD16: =LOOKUP(N16,R$8:W$8,R$9:W$9) -> 0
C17: =VLOOKUP(B16,Уч!$A$2:$L$16,5,FALSE) -> Республика Адыгея | D17: =VLOOKUP(B16,Уч!$A$2:$L$16,4,FALSE) -> КМС | E17: Ветер | F17: =VLOOKUP($B16,'110 сб '!$C$17:$I$87,6,FALSE) -> 1.2 | I17: =VLOOKUP($B16,'2_р'!$C$17:$I$68,6,FALSE) -> 1.2 | J17: =VLOOKUP($B16,Дл_р!$C$17:$O$43,12,FALSE) -> -0.1 | O17: =CONCATENATE(AC16,"+",AD16,"+",5) -> #N/A | P17: =B16 -> 64 | Q17: =$A16 -> #N/A | R17: 2 | S17: =$A16 -> #N/A
C18: =VLOOKUP(B16,Уч!$A$2:$L$16,7,FALSE) -> ГБУ РА "ЦСП СК РА" | E18: Очки | F18: =VLOOKUP($B16,'110 сб '!$C$17:$I$87,7,FALSE) -> 730 | G18: =VLOOKUP($B16,высота!$C$17:$AF$42,30,FALSE) -> 0 | H18: =VLOOKUP($B16,ядро!$C$17:$K$43,9,FALSE) -> 826 | I18: =VLOOKUP($B16,'2_р'!$C$17:$I$68,7,FALSE) -> 728 | J18: =VLOOKUP($B16,Дл_р!$C$17:$O$43,13,FALSE) -> 643 | K18: =VLOOKUP($B16,К_р!$C$18:$K$31,9,FALSE) -> 642 | L18: =VLOOKUP($B16,'8_р'!$C$17:$H$77,6,FALSE) -> 666 | P18: =B16 -> 64 | Q18: =$A16 -> #N/A | R18: 3 | S18: =$A16 -> #N/A
C19: =VLOOKUP(B16,Уч!$A$2:$L$16,11,FALSE) -> Суханов С.М., Парфёнова С.О. | E19: Сумма очков | F19: =F18 -> 730 | G19: =F19+G18 -> 730 | H19: =G19+H18 -> 1556 | I19: =H19+I18 -> 2284 | J19: =I19+J18 -> 2927 | K19: =J19+K18 -> 3569 | L19: =K19+L18 -> 4235 | P19: =B16 -> 64 | Q19: =$A16 -> #N/A | R19: 4 | S19: =$A16 -> #N/A | T19: =F19 -> 730 | U19: =G19 -> 730 | V19: =H19 -> 1556 | W19: =I19 -> 2284 | X19: =J19 -> 2927 | Y19: =K19 -> 3569 | Z19: =L19 -> 4235
C20: =VLOOKUP(B16,Уч!$A$2:$L$16,12,FALSE) -> 0 | E20: Место | F20: =RANK(F19,$T$19:$T$50,0) -> #N/A | G20: =RANK(G19,$U$19:$U$50,0) -> #N/A | H20: =RANK(H19,$V$19:$V$50,0) -> #N/A | I20: =RANK(I19,$W$19:$W$50,0) -> #N/A | J20: =RANK(J19,$X$19:$X$50,0) -> #N/A | K20: =RANK(K19,$Y$19:$Y$50,0) -> #N/A | L20: =RANK(L19,$Z$19:$Z$50,0) -> #N/A | P20: =B16 -> 64 | Q20: =$A16 -> #N/A | R20: 5 | S20: =$A16 -> #N/A
A21: =RANK(M21,$M$16:$M$50,0) -> #N/A | B21: 26 | C21: =VLOOKUP(B21,Уч!$A$2:$L$16,2,FALSE) -> #N/A | D21: =VLOOKUP(B21,Уч!$A$2:$L$16,3,FALSE) -> #N/A | E21: Результат | F21: =VLOOKUP($B21,'110 сб '!$C$17:$I$87,5,FALSE) -> #N/A | G21: =VLOOKUP($B21,высота!$C$17:$AF$42,29,FALSE) -> #N/A | H21: =VLOOKUP($B21,ядро!$C$17:$K$43,8,FALSE) -> #N/A | I21: =VLOOKUP($B21,'2_р'!$C$17:$I$68,5,FALSE) -> #N/A | J21: =VLOOKUP($B21,Дл_р!$C$17:$O$43,11,FALSE) -> #N/A | K21: =VLOOKUP($B21,К_р!$C$18:$K$31,8,FALSE) -> #N/A | L21: =VLOOKUP($B21,'8_р'!$C$17:$H$77,5,FALSE) -> #N/A | M21: =SUM(F23:L23) -> #N/A | N21: =LOOKUP(M21,R$1:AA$1,R$2:AA$2) -> #N/A | O21: =AC21+AD21+5 -> #N/A | P21: =B21 -> 26 | Q21: =$A21 -> #N/A | R21: 1 | S21: =$A21 -> #N/A | AC21: =IF(AND(Q21>16,M21>=4600),"1",LOOKUP(Q21,Q$5:AH$5,Q$6:AH$6)) -> #N/A | AD21: =LOOKUP(N21,R$8:W$8,R$9:W$9) -> #N/A
C22: =VLOOKUP(B21,Уч!$A$2:$L$16,5,FALSE) -> #N/A | D22: =VLOOKUP(B21,Уч!$A$2:$L$16,4,FALSE) -> #N/A | E22: Ветер | F22: =VLOOKUP($B21,'110 сб '!$C$17:$I$87,6,FALSE) -> #N/A | I22: =VLOOKUP($B21,'2_р'!$C$17:$I$68,6,FALSE) -> #N/A | J22: =VLOOKUP($B21,Дл_р!$C$17:$O$43,12,FALSE) -> #N/A | O22: =CONCATENATE(AC21,"+",AD21,"+",5) -> #N/A | P22: =B21 -> 26 | Q22: =$A21 -> #N/A | R22: 2 | S22: =$A21 -> #N/A
C23: =VLOOKUP(B21,Уч!$A$2:$L$16,7,FALSE) -> #N/A | E23: Очки | F23: =VLOOKUP($B21,'110 сб '!$C$17:$I$87,7,FALSE) -> #N/A | G23: =VLOOKUP($B21,высота!$C$17:$AF$42,30,FALSE) -> #N/A | H23: =VLOOKUP($B21,ядро!$C$17:$K$43,9,FALSE) -> #N/A | I23: =VLOOKUP($B21,'2_р'!$C$17:$I$68,7,FALSE) -> #N/A | J23: =VLOOKUP($B21,Дл_р!$C$17:$O$43,13,FALSE) -> #N/A | K23: =VLOOKUP($B21,К_р!$C$18:$K$31,9,FALSE) -> #N/A | L23: =VLOOKUP($B21,'8_р'!$C$17:$H$77,6,FALSE) -> #N/A | P23: =B21 -> 26 | Q23: =$A21 -> #N/A | R23: 3 | S23: =$A21 -> #N/A
C24: =VLOOKUP(B21,Уч!$A$2:$L$16,11,FALSE) -> #N/A | E24: Сумма очков | F24: =F23 -> #N/A | G24: =F24+G23 -> #N/A | H24: =G24+H23 -> #N/A | I24: =H24+I23 -> #N/A | J24: =I24+J23 -> #N/A | K24: =J24+K23 -> #N/A | L24: =K24+L23 -> #N/A | P24: =B21 -> 26 | Q24: =$A21 -> #N/A | R24: 4 | S24: =$A21 -> #N/A | T24: =F24 -> #N/A | U24: =G24 -> #N/A | V24: =H24 -> #N/A | W24: =I24 -> #N/A | X24: =J24 -> #N/A | Y24: =K24 -> #N/A | Z24: =L24 -> #N/A
C25: =VLOOKUP(B21,Уч!$A$2:$L$16,12,FALSE) -> #N/A | E25: Место | F25: =RANK(F24,$T$19:$T$50,0) -> #N/A | G25: =RANK(G24,$U$19:$U$50,0) -> #N/A | H25: =RANK(H24,$V$19:$V$50,0) -> #N/A | I25: =RANK(I24,$W$19:$W$50,0) -> #N/A | J25: =RANK(J24,$X$19:$X$50,0) -> #N/A | K25: =RANK(K24,$Y$19:$Y$50,0) -> #N/A | L25: =RANK(L24,$Z$19:$Z$50,0) -> #N/A | P25: =B21 -> 26 | Q25: =$A21 -> #N/A | R25: 5 | S25: =$A21 -> #N/A
A26: =RANK(M26,$M$16:$M$50,0) -> #N/A | B26: 73 | C26: =VLOOKUP(B26,Уч!$A$2:$L$16,2,FALSE) -> #N/A | D26: =VLOOKUP(B26,Уч!$A$2:$L$16,3,FALSE) -> #N/A | E26: Результат | F26: =VLOOKUP($B26,'110 сб '!$C$17:$I$87,5,FALSE) -> #N/A | G26: =VLOOKUP($B26,высота!$C$17:$AF$42,29,FALSE) -> #N/A | H26: =VLOOKUP($B26,ядро!$C$17:$K$43,8,FALSE) -> #N/A | I26: =VLOOKUP($B26,'2_р'!$C$17:$I$68,5,FALSE) -> #N/A | J26: =VLOOKUP($B26,Дл_р!$C$17:$O$43,11,FALSE) -> #N/A | K26: =VLOOKUP($B26,К_р!$C$18:$K$31,8,FALSE) -> #N/A | L26: =VLOOKUP($B26,'8_р'!$C$17:$H$77,5,FALSE) -> #N/A | M26: =SUM(F28:L28) -> #N/A | N26: =LOOKUP(M26,R$1:AA$1,R$2:AA$2) -> #N/A | O26: =AC26+AD26+5 -> #N/A | P26: =B26 -> 73 | Q26: =$A26 -> #N/A | R26: 1 | S26: =$A26 -> #N/A | AC26: =IF(AND(Q26>16,M26>=4600),"1",LOOKUP(Q26,Q$5:AH$5,Q$6:AH$6)) -> #N/A | AD26: =LOOKUP(N26,R$8:W$8,R$9:W$9) -> #N/A | AE26: Для | AF26: мол | AG26: 4000
C27: =VLOOKUP(B26,Уч!$A$2:$L$16,5,FALSE) -> #N/A | D27: =VLOOKUP(B26,Уч!$A$2:$L$16,4,FALSE) -> #N/A | E27: Ветер | F27: =VLOOKUP($B26,'110 сб '!$C$17:$I$87,6,FALSE) -> #N/A | I27: =VLOOKUP($B26,'2_р'!$C$17:$I$68,6,FALSE) -> #N/A | J27: =VLOOKUP($B26,Дл_р!$C$17:$O$43,12,FALSE) -> #N/A | O27: =CONCATENATE(AC26,"+",AD26,"+",5) -> #N/A | P27: =B26 -> 73 | Q27: =$A26 -> #N/A | R27: 2 | S27: =$A26 -> #N/A
C28: =VLOOKUP(B26,Уч!$A$2:$L$16,7,FALSE) -> #N/A | E28: Очки | F28: =VLOOKUP($B26,'110 сб '!$C$17:$I$87,7,FALSE) -> #N/A | G28: =VLOOKUP($B26,высота!$C$17:$AF$42,30,FALSE) -> #N/A | H28: =VLOOKUP($B26,ядро!$C$17:$K$43,9,FALSE) -> #N/A | I28: =VLOOKUP($B26,'2_р'!$C$17:$I$68,7,FALSE) -> #N/A | J28: =VLOOKUP($B26,Дл_р!$C$17:$O$43,13,FALSE) -> #N/A | K28: =VLOOKUP($B26,К_р!$C$18:$K$31,9,FALSE) -> #N/A | L28: =VLOOKUP($B26,'8_р'!$C$17:$H$77,6,FALSE) -> #N/A | P28: =B26 -> 73 | Q28: =$A26 -> #N/A | R28: 3 | S28: =$A26 -> #N/A
C29: =VLOOKUP(B26,Уч!$A$2:$L$16,11,FALSE) -> #N/A | E29: Сумма очков | F29: =F28 -> #N/A | G29: =F29+G28 -> #N/A | H29: =G29+H28 -> #N/A | I29: =H29+I28 -> #N/A | J29: =I29+J28 -> #N/A | K29: =J29+K28 -> #N/A | L29: =K29+L28 -> #N/A | P29: =B26 -> 73 | Q29: =$A26 -> #N/A | R29: 4 | S29: =$A26 -> #N/A | T29: =F29 -> #N/A | U29: =G29 -> #N/A | V29: =H29 -> #N/A | W29: =I29 -> #N/A | X29: =J29 -> #N/A | Y29: =K29 -> #N/A | Z29: =L29 -> #N/A
C30: =VLOOKUP(B26,Уч!$A$2:$L$16,12,FALSE) -> #N/A | E30: Место | F30: =RANK(F29,$T$19:$T$50,0) -> #N/A | G30: =RANK(G29,$U$19:$U$50,0) -> #N/A | H30: =RANK(H29,$V$19:$V$50,0) -> #N/A | I30: =RANK(I29,$W$19:$W$50,0) -> #N/A | J30: =RANK(J29,$X$19:$X$50,0) -> #N/A | K30: =RANK(K29,$Y$19:$Y$50,0) -> #N/A | L30: =RANK(L29,$Z$19:$Z$50,0) -> #N/A | P30: =B26 -> 73 | Q30: =$A26 -> #N/A | R30: 5 | S30: =$A26 -> #N/A
A31: =RANK(M31,$M$16:$M$50,0) -> #N/A | B31: 37 | C31: =VLOOKUP(B31,Уч!$A$2:$L$16,2,FALSE) -> #N/A | D31: =VLOOKUP(B31,Уч!$A$2:$L$16,3,FALSE) -> #N/A | E31: Результат | F31: =VLOOKUP($B31,'110 сб '!$C$17:$I$87,5,FALSE) -> #N/A | G31: =VLOOKUP($B31,высота!$C$17:$AF$42,29,FALSE) -> #N/A | H31: =VLOOKUP($B31,ядро!$C$17:$K$43,8,FALSE) -> #N/A | I31: =VLOOKUP($B31,'2_р'!$C$17:$I$68,5,FALSE) -> 24.78 | J31: =VLOOKUP($B31,Дл_р!$C$17:$O$43,11,FALSE) -> 5.92 | K31: =VLOOKUP($B31,К_р!$C$18:$K$31,8,FALSE) -> 39.27 | L31: =VLOOKUP($B31,'8_р'!$C$17:$H$77,5,FALSE) -> 2:16.34 | M31: =SUM(F33:L33) -> #N/A | N31: =LOOKUP(M31,R$1:AA$1,R$2:AA$2) -> #N/A | O31: =AC31+AD31+5 -> #N/A | P31: =B31 -> 37 | Q31: =$A31 -> #N/A | R31: 1 | S31: =$A31 -> #N/A | AC31: =IF(AND(Q31>16,M31>=4600),"1",LOOKUP(Q31,Q$5:AH$5,Q$6:AH$6)) -> #N/A | AD31: =LOOKUP(N31,R$8:W$8,R$9:W$9) -> #N/A
C32: =VLOOKUP(B31,Уч!$A$2:$L$16,5,FALSE) -> #N/A | D32: =VLOOKUP(B31,Уч!$A$2:$L$16,4,FALSE) -> #N/A | E32: Ветер | F32: =VLOOKUP($B31,'110 сб '!$C$17:$I$87,6,FALSE) -> #N/A | I32: =VLOOKUP($B31,'2_р'!$C$17:$I$68,6,FALSE) -> 1.2 | J32: =VLOOKUP($B31,Дл_р!$C$17:$O$43,12,FALSE) -> -1 | O32: =CONCATENATE(AC31,"+",AD31,"+",5) -> #N/A | P32: =B31 -> 37 | Q32: =$A31 -> #N/A | R32: 2 | S32: =$A31 -> #N/A
C33: =VLOOKUP(B31,Уч!$A$2:$L$16,7,FALSE) -> #N/A | E33: Очки | F33: =VLOOKUP($B31,'110 сб '!$C$17:$I$87,7,FALSE) -> #N/A | G33: =VLOOKUP($B31,высота!$C$17:$AF$42,30,FALSE) -> #N/A | H33: =VLOOKUP($B31,ядро!$C$17:$K$43,9,FALSE) -> #N/A | I33: =VLOOKUP($B31,'2_р'!$C$17:$I$68,7,FALSE) -> 907 | J33: =VLOOKUP($B31,Дл_р!$C$17:$O$43,13,FALSE) -> 825 | K33: =VLOOKUP($B31,К_р!$C$18:$K$31,9,FALSE) -> 653 | L33: =VLOOKUP($B31,'8_р'!$C$17:$H$77,6,FALSE) -> 874 | P33: =B31 -> 37 | Q33: =$A31 -> #N/A | R33: 3 | S33: =$A31 -> #N/A
C34: =VLOOKUP(B31,Уч!$A$2:$L$16,11,FALSE) -> #N/A | E34: Сумма очков | F34: =F33 -> #N/A | G34: =F34+G33 -> #N/A | H34: =G34+H33 -> #N/A | I34: =H34+I33 -> #N/A | J34: =I34+J33 -> #N/A | K34: =J34+K33 -> #N/A | L34: =K34+L33 -> #N/A | P34: =B31 -> 37 | Q34: =$A31 -> #N/A | R34: 4 | S34: =$A31 -> #N/A | T34: =F34 -> #N/A | U34: =G34 -> #N/A | V34: =H34 -> #N/A | W34: =I34 -> #N/A | X34: =J34 -> #N/A | Y34: =K34 -> #N/A | Z34: =L34 -> #N/A
C35: =VLOOKUP(B31,Уч!$A$2:$L$16,12,FALSE) -> #N/A | E35: Место | F35: =RANK(F34,$T$19:$T$50,0) -> #N/A | G35: =RANK(G34,$U$19:$U$50,0) -> #N/A | H35: =RANK(H34,$V$19:$V$50,0) -> #N/A | I35: =RANK(I34,$W$19:$W$50,0) -> #N/A | J35: =RANK(J34,$X$19:$X$50,0) -> #N/A | K35: =RANK(K34,$Y$19:$Y$50,0) -> #N/A | L35: =RANK(L34,$Z$19:$Z$50,0) -> #N/A | P35: =B31 -> 37 | Q35: =$A31 -> #N/A | R35: 5 | S35: =$A31 -> #N/A
A36: =RANK(M36,$M$16:$M$50,0) -> #N/A | B36: 17 | C36: =VLOOKUP(B36,Уч!$A$2:$L$16,2,FALSE) -> #N/A | D36: =VLOOKUP(B36,Уч!$A$2:$L$16,3,FALSE) -> #N/A | E36: Результат | F36: =VLOOKUP($B36,'110 сб '!$C$17:$I$87,5,FALSE) -> #N/A | G36: =VLOOKUP($B36,высота!$C$17:$AF$42,29,FALSE) -> #N/A | H36: =VLOOKUP($B36,ядро!$C$17:$K$43,8,FALSE) -> #N/A | I36: =VLOOKUP($B36,'2_р'!$C$17:$I$68,5,FALSE) -> #N/A | J36: =VLOOKUP($B36,Дл_р!$C$17:$O$43,11,FALSE) -> #N/A | K36: =VLOOKUP($B36,К_р!$C$18:$K$31,8,FALSE) -> #N/A | L36: =VLOOKUP($B36,'8_р'!$C$17:$H$77,5,FALSE) -> #N/A | M36: =SUM(F38:L38) -> #N/A | N36: =LOOKUP(M36,R$1:AA$1,R$2:AA$2) -> #N/A | O36: =AC36+AD36+5 -> #N/A | P36: =B36 -> 17 | Q36: =$A36 -> #N/A | R36: 1 | S36: =$A36 -> #N/A | AC36: =IF(AND(Q36>16,M36>=4600),"1",LOOKUP(Q36,Q$5:AH$5,Q$6:AH$6)) -> #N/A | AD36: =LOOKUP(N36,R$8:W$8,R$9:W$9) -> #N/A
C37: =VLOOKUP(B36,Уч!$A$2:$L$16,5,FALSE) -> #N/A | D37: =VLOOKUP(B36,Уч!$A$2:$L$16,4,FALSE) -> #N/A | E37: Ветер | F37: =VLOOKUP($B36,'110 сб '!$C$17:$I$87,6,FALSE) -> #N/A | I37: =VLOOKUP($B36,'2_р'!$C$17:$I$68,6,FALSE) -> #N/A | J37: =VLOOKUP($B36,Дл_р!$C$17:$O$43,12,FALSE) -> #N/A | O37: =CONCATENATE(AC36,"+",AD36,"+",5) -> #N/A | P37: =B36 -> 17 | Q37: =$A36 -> #N/A | R37: 2 | S37: =$A36 -> #N/A
C38: =VLOOKUP(B36,Уч!$A$2:$L$16,7,FALSE) -> #N/A | E38: Очки | F38: =VLOOKUP($B36,'110 сб '!$C$17:$I$87,7,FALSE) -> #N/A | G38: =VLOOKUP($B36,высота!$C$17:$AF$42,30,FALSE) -> #N/A | H38: =VLOOKUP($B36,ядро!$C$17:$K$43,9,FALSE) -> #N/A | I38: =VLOOKUP($B36,'2_р'!$C$17:$I$68,7,FALSE) -> #N/A | J38: =VLOOKUP($B36,Дл_р!$C$17:$O$43,13,FALSE) -> #N/A | K38: =VLOOKUP($B36,К_р!$C$18:$K$31,9,FALSE) -> #N/A | L38: =VLOOKUP($B36,'8_р'!$C$17:$H$77,6,FALSE) -> #N/A | P38: =B36 -> 17 | Q38: =$A36 -> #N/A | R38: 3 | S38: =$A36 -> #N/A
C39: =VLOOKUP(B36,Уч!$A$2:$L$16,11,FALSE) -> #N/A | E39: Сумма очков | F39: =F38 -> #N/A | G39: =F39+G38 -> #N/A | H39: =G39+H38 -> #N/A | I39: =H39+I38 -> #N/A | J39: =I39+J38 -> #N/A | K39: =J39+K38 -> #N/A | L39: =K39+L38 -> #N/A | P39: =B36 -> 17 | Q39: =$A36 -> #N/A | R39: 4 | S39: =$A36 -> #N/A | T39: =F39 -> #N/A | U39: =G39 -> #N/A | V39: =H39 -> #N/A | W39: =I39 -> #N/A | X39: =J39 -> #N/A | Y39: =K39 -> #N/A | Z39: =L39 -> #N/A
C40: =VLOOKUP(B36,Уч!$A$2:$L$16,12,FALSE) -> #N/A | E40: Место | F40: =RANK(F39,$T$19:$T$50,0) -> #N/A | G40: =RANK(G39,$U$19:$U$50,0) -> #N/A | H40: =RANK(H39,$V$19:$V$50,0) -> #N/A | I40: =RANK(I39,$W$19:$W$50,0) -> #N/A | J40: =RANK(J39,$X$19:$X$50,0) -> #N/A | K40: =RANK(K39,$Y$19:$Y$50,0) -> #N/A | L40: =RANK(L39,$Z$19:$Z$50,0) -> #N/A | P40: =B36 -> 17 | Q40: =$A36 -> #N/A | R40: 5 | S40: =$A36 -> #N/A
A41: =RANK(M41,$M$16:$M$50,0) -> #N/A | B41: 49 | C41: =VLOOKUP(B41,Уч!$A$2:$L$16,2,FALSE) -> #N/A | D41: =VLOOKUP(B41,Уч!$A$2:$L$16,3,FALSE) -> #N/A | E41: Результат | F41: =VLOOKUP($B41,'110 сб '!$C$17:$I$87,5,FALSE) -> #N/A | G41: =VLOOKUP($B41,высота!$C$17:$AF$42,29,FALSE) -> #N/A | H41: =VLOOKUP($B41,ядро!$C$17:$K$43,8,FALSE) -> #N/A | I41: =VLOOKUP($B41,'2_р'!$C$17:$I$68,5,FALSE) -> #N/A | J41: справка | L41: =VLOOKUP($B41,'8_р'!$C$17:$H$77,5,FALSE) -> 0 | M41: =SUM(F43:L43) -> #N/A | N41: =LOOKUP(M41,R$1:AA$1,R$2:AA$2) -> #N/A | O41: 0 | P41: =B41 -> 49 | Q41: =$A41 -> #N/A | R41: 1 | S41: =$A41 -> #N/A | AC41: =IF(AND(Q41>16,M41>=4600),"1",LOOKUP(Q41,Q$5:AH$5,Q$6:AH$6)) -> #N/A | AD41: =LOOKUP(N41,R$8:W$8,R$9:W$9) -> #N/A
C42: =VLOOKUP(B41,Уч!$A$2:$L$16,5,FALSE) -> #N/A | D42: =VLOOKUP(B41,Уч!$A$2:$L$16,4,FALSE) -> #N/A | E42: Ветер | F42: =VLOOKUP($B41,'110 сб '!$C$17:$I$87,6,FALSE) -> #N/A | I42: =VLOOKUP($B41,'2_р'!$C$17:$I$68,6,FALSE) -> #N/A | J42: =VLOOKUP($B41,Дл_р!$C$17:$O$43,12,FALSE) -> #N/A | O42: =CONCATENATE(AC41,"+",AD41,"+",5) -> #N/A | P42: =B41 -> 49 | Q42: =$A41 -> #N/A | R42: 2 | S42: =$A41 -> #N/A
C43: =VLOOKUP(B41,Уч!$A$2:$L$16,7,FALSE) -> #N/A | E43: Очки | F43: =VLOOKUP($B41,'110 сб '!$C$17:$I$87,7,FALSE) -> #N/A | G43: =VLOOKUP($B41,высота!$C$17:$AF$42,30,FALSE) -> #N/A | H43: =VLOOKUP($B41,ядро!$C$17:$K$43,9,FALSE) -> #N/A | I43: =VLOOKUP($B41,'2_р'!$C$17:$I$68,7,FALSE) -> #N/A | J43: =VLOOKUP($B41,Дл_р!$C$17:$O$43,13,FALSE) -> #N/A | K43: =VLOOKUP($B41,К_р!$C$18:$K$31,9,FALSE) -> #N/A | L43: =VLOOKUP($B41,'8_р'!$C$17:$H$77,6,FALSE) -> 0 | P43: =B41 -> 49 | Q43: =$A41 -> #N/A | R43: 3 | S43: =$A41 -> #N/A
...

Sheet Ж23
A1: =Расп!$A$21 -> МИНИСТЕРСТВО СПОРТА РОССИЙСКОЙ ФЕДЕРАЦИИ | Q1: Очки | R1: 0 | T1: 1600 | U1: 2000 | V1: 2700 | W1: 3300 | X1: 3900 | Y1: 4500 | Z1: 5250 | AA1: 6150 | AC1: Для | AD1: мол | AE1: 4000
A2: =Расп!$A$22 -> ВСЕРОССИЙСКАЯ ФЕДЕРАЦИЯ ЛЕГКОЙ АТЛЕТИКИ | Q2: Разряд | R2: б/р | S2: 3ю | T2: 2ю | U2: 1ю | V2: 3 | W2: 2 | X2: 1 | Y2: КМС | Z2: МС | AA2: МСМК
A3: =Расп!$A$25 -> Командный чемпионат России | Y3: 1 оч
A4: =Расп!$A$27 -> по многоборью
A5: женщины и юниорки до 23 лет | Q5: Место | R5: 1 | S5: 2 | T5: 3 | U5: 4 | V5: 5 | W5: 6 | X5: 7 | Y5: 8 | Z5: 9 | AA5: 10 | AB5: 11 | AC5: 12 | AD5: 13 | AE5: 14 | AF5: 15 | AG5: 16 | AH5: 17
A6: ИТОГОВЫЙ ПРОТОКОЛ | Q6: Очки | R6: 20 | S6: 17 | T6: 15 | U6: 14 | V6: 13 | W6: 12 | X6: 11 | Y6: 10 | Z6: 9 | AA6: 8 | AB6: 7 | AC6: 6 | AD6: 5 | AE6: 4 | AF6: 3 | AG6: 2 | AH6: 0
A8: =Расп!C13 -> Юниорки до 23 лет | J8: =Расп!A1 -> 04.09.2019 г. | K8: t° +13 вл.86% | N8: =Расп!A6 -> 19.05.2019 г. | O8: t° +13 вл.86% | P8: Скрыть | Q8: Бонус | R8: 1 | S8: 2 | T8: 3 | U8: КМС | V8: МС | W8: МСМК
A9: =Расп!$A$14 -> РМ | B9: =Расп!C14 -> 7001 | J9: =Расп!A2 -> бег с барьерами 100 м | K9: =Расп!B2 -> 0.40972222 | N9: =Расп!A7 -> прыжок в длину | O9: =Расп!B7 -> 0.41666667 | P9: при | Q9: Очки | R9: 0 | S9: 0 | T9: 0 | U9: 0 | V9: 5 | W9: 15
A10: =Расп!$A$15 -> РЕ | B10: =Расп!C15 -> 7001 | J10: =Расп!A3 -> прыжок в высоту | K10: =Расп!B3 -> 0.44791667 | N10: =Расп!A8 -> метание копья (600 г) | O10: =Расп!B8 -> 0.48958333 | P10: печати
A11: =Расп!$A$16 -> РР | B11: =Расп!C16 -> 6765 | J11: =Расп!A4 -> толкание ядра | K11: =Расп!B4 -> 0.70833333 | N11: =Расп!A9 -> бег 800 м | O11: =Расп!B9 -> 0.75694444 | Q11: Мнгб | R11: 5
A12: =Расп!$A$26 -> г.Сочи, Адлерский район, стадион "Юность" | J12: =Расп!A5 -> бег 200 м | K12: =Расп!B5 -> 0.75347222
A13: Место | B13: Нагрудный № | C13: Фамилия, имя участника Территория, ФСО, Тренер | D13: Дата рождения Вып-ый раз-д | F13: бег с барьерами 100 м | G13: прыжок в высоту | H13: толкание ядра | I13: бег 200 м | J13: прыжок в длину | K13: метание копья | L13: бег 800 м | M13: Очки | N13: Разряд | O13: Командные очки | P13: № | Q13: М | R13: П | S13: МЛ | T13: 100сб | U13: Высота | V13: Ядро | W13: 200 | X13: Длина | Y13: Копье | Z13: 800 | AC13: оч/мес | AD13: оч/раз
A16: =RANK(M16,$M$16:$M$50,0) -> #N/A | B16: 23 | C16: =VLOOKUP(B16,Уч!$A$2:$L$16,2,FALSE) -> Пириева Марина | D16: =VLOOKUP(B16,Уч!$A$2:$L$16,3,FALSE) -> 16.07.1998 | E16: Результат | F16: =VLOOKUP($B16,'110 сб '!$C$17:$I$87,5,FALSE) -> 14.67 | G16: =VLOOKUP($B16,высота!$C$17:$AF$42,29,FALSE) -> 1.71 | H16: =VLOOKUP($B16,ядро!$C$17:$K$43,8,FALSE) -> 0 | I16: =VLOOKUP($B16,'2_р'!$C$17:$I$68,5,FALSE) -> #N/A | J16: =VLOOKUP($B16,Дл_р!$C$17:$O$43,11,FALSE) -> #N/A | K16: =VLOOKUP($B16,К_р!$C$18:$K$31,8,FALSE) -> #N/A | L16: =VLOOKUP($B16,'8_р'!$C$17:$H$77,5,FALSE) -> #N/A | M16: =SUM(F18:L18) -> #N/A | N16: =LOOKUP(M16,R$1:AA$1,R$2:AA$2) -> #N/A | O16: =AC16+AD16+5 -> #N/A | P16: =B16 -> 23 | Q16: =$A16 -> #N/A | R16: 1 | S16: =$A16 -> #N/A | AC16: =IF(AND(Q16>16,M16>=4600),"1",LOOKUP(Q16,Q$5:AH$5,Q$6:AH$6)) -> #N/A | AD16: =LOOKUP(N16,R$8:W$8,R$9:W$9) -> #N/A
C17: =VLOOKUP(B16,Уч!$A$2:$L$16,5,FALSE) -> ЮФО (К) | D17: =VLOOKUP(B16,Уч!$A$2:$L$16,4,FALSE) -> КМС | E17: Ветер | F17: =VLOOKUP($B16,'110 сб '!$C$17:$I$87,6,FALSE) -> 0 | I17: =VLOOKUP($B16,'2_р'!$C$17:$I$68,6,FALSE) -> #N/A | J17: =VLOOKUP($B16,Дл_р!$C$17:$O$43,12,FALSE) -> #N/A | O17: =CONCATENATE(AC16,"+",AD16,"+",5) -> #N/A | P17: =B16 -> 23 | Q17: =$A16 -> #N/A | R17: 2 | S17: =$A16 -> #N/A
C18: =VLOOKUP(B16,Уч!$A$2:$L$16,7,FALSE) -> ГБУ РК "СШ №1 г.Симферополь" | E18: Очки | F18: =VLOOKUP($B16,'110 сб '!$C$17:$I$87,7,FALSE) -> 886 | G18: =VLOOKUP($B16,высота!$C$17:$AF$42,30,FALSE) -> 0 | H18: =VLOOKUP($B16,ядро!$C$17:$K$43,9,FALSE) -> 0 | I18: =VLOOKUP($B16,'2_р'!$C$17:$I$68,7,FALSE) -> #N/A | J18: =VLOOKUP($B16,Дл_р!$C$17:$O$43,13,FALSE) -> #N/A | K18: =VLOOKUP($B16,К_р!$C$18:$K$31,9,FALSE) -> #N/A | L18: =VLOOKUP($B16,'8_р'!$C$17:$H$77,6,FALSE) -> #N/A | P18: =B16 -> 23 | Q18: =$A16 -> #N/A | R18: 3 | S18: =$A16 -> #N/A
C19: =VLOOKUP(B16,Уч!$A$2:$L$16,11,FALSE) -> Леонов О.Н., Копытич А.Л., Копытич Д.Л. | E19: Сумма очков | F19: =F18 -> 886 | G19: =F19+G18 -> 886 | H19: =G19+H18 -> 886 | I19: =H19+I18 -> #N/A | J19: =I19+J18 -> #N/A | K19: =J19+K18 -> #N/A | L19: =K19+L18 -> #N/A | P19: =B16 -> 23 | Q19: =$A16 -> #N/A | R19: 4 | S19: =$A16 -> #N/A | T19: =F19 -> 886 | U19: =G19 -> 886 | V19: =H19 -> 886 | W19: =I19 -> #N/A | X19: =J19 -> #N/A | Y19: =K19 -> #N/A | Z19: =L19 -> #N/A
C20: =VLOOKUP(B16,Уч!$A$2:$L$16,12,FALSE) | E20: Место | F20: =RANK(F19,$T$16:$T$50,0) -> #N/A | G20: =RANK(G19,$U$16:$U$50,0) -> #N/A | H20: =RANK(H19,$V$16:$V$50,0) -> #N/A | I20: =RANK(I19,$W$16:$W$50,0) -> #N/A | J20: =RANK(J19,$X$16:$X$50,0) -> #N/A | K20: =RANK(K19,$Y$16:$Y$50,0) -> #N/A | L20: =RANK(L19,$Z$16:$Z$50,0) -> #N/A | P20: =B16 -> 23 | Q20: =$A16 -> #N/A | R20: 5 | S20: =$A16 -> #N/A
A21: =RANK(M21,$M$16:$M$50,0) -> #N/A | B21: 8 | C21: =VLOOKUP(B21,Уч!$A$2:$L$16,2,FALSE) -> Бутвина Александра | D21: =VLOOKUP(B21,Уч!$A$2:$L$16,3,FALSE) -> 14.02.1986 | E21: Результат | F21: =VLOOKUP($B21,'110 сб '!$C$17:$I$87,5,FALSE) -> 14.98 | G21: =VLOOKUP($B21,высота!$C$17:$AF$42,29,FALSE) -> 1.62 | H21: =VLOOKUP($B21,ядро!$C$17:$K$43,8,FALSE) -> 12.17 | I21: =VLOOKUP($B21,'2_р'!$C$17:$I$68,5,FALSE) -> #N/A | J21: =VLOOKUP($B21,Дл_р!$C$17:$O$43,11,FALSE) -> #N/A | K21: =VLOOKUP($B21,К_р!$C$18:$K$31,8,FALSE) -> #N/A | L21: =VLOOKUP($B21,'8_р'!$C$17:$H$77,5,FALSE) -> #N/A | M21: =SUM(F23:L23) -> #N/A | N21: =LOOKUP(M21,R$1:AA$1,R$2:AA$2) -> #N/A | O21: =AC21+AD21+5 -> #N/A | P21: =B21 -> 8 | Q21: =$A21 -> #N/A | R21: 1 | S21: =$A21 -> #N/A | AC21: =IF(AND(Q21>16,M21>=4600),"1",LOOKUP(Q21,Q$5:AH$5,Q$6:AH$6)) -> #N/A | AD21: =LOOKUP(N21,R$8:W$8,R$9:W$9) -> #N/A
C22: =VLOOKUP(B21,Уч!$A$2:$L$16,5,FALSE) -> Ростовская область Санкт-Петербург | D22: =VLOOKUP(B21,Уч!$A$2:$L$16,4,FALSE) -> МСМК | E22: Ветер | F22: =VLOOKUP($B21,'110 сб '!$C$17:$I$87,6,FALSE) -> 0 | I22: =VLOOKUP($B21,'2_р'!$C$17:$I$68,6,FALSE) -> #N/A | J22: =VLOOKUP($B21,Дл_р!$C$17:$O$43,12,FALSE) -> #N/A | O22: =CONCATENATE(AC21,"+",AD21,"+",5) -> #N/A | P22: =B21 -> 8 | Q22: =$A21 -> #N/A | R22: 2 | S22: =$A21 -> #N/A
C23: =VLOOKUP(B21,Уч!$A$2:$L$16,7,FALSE) -> ГБУ РО "ЦОП №1", СПб ГБУ ЦОП "ШВСМ по легкой атлетике" | E23: Очки | F23: =VLOOKUP($B21,'110 сб '!$C$17:$I$87,7,FALSE) -> 844 | G23: =VLOOKUP($B21,высота!$C$17:$AF$42,30,FALSE) -> 0 | H23: =VLOOKUP($B21,ядро!$C$17:$K$43,9,FALSE) -> 672 | I23: =VLOOKUP($B21,'2_р'!$C$17:$I$68,7,FALSE) -> #N/A | J23: =VLOOKUP($B21,Дл_р!$C$17:$O$43,13,FALSE) -> #N/A | K23: =VLOOKUP($B21,К_р!$C$18:$K$31,9,FALSE) -> #N/A | L23: =VLOOKUP($B21,'8_р'!$C$17:$H$77,6,FALSE) -> #N/A | P23: =B21 -> 8 | Q23: =$A21 -> #N/A | R23: 3 | S23: =$A21 -> #N/A
C24: =VLOOKUP(B21,Уч!$A$2:$L$16,11,FALSE) -> Есина И.А., Сретенцев В.В., Радух А.О. | E24: Сумма очков | F24: =F23 -> 844 | G24: =F24+G23 -> 844 | H24: =G24+H23 -> 1516 | I24: =H24+I23 -> #N/A | J24: =I24+J23 -> #N/A | K24: =J24+K23 -> #N/A | L24: =K24+L23 -> #N/A | P24: =B21 -> 8 | Q24: =$A21 -> #N/A | R24: 4 | S24: =$A21 -> #N/A | T24: =F24 -> 844 | U24: =G24 -> 844 | V24: =H24 -> 1516 | W24: =I24 -> #N/A | X24: =J24 -> #N/A | Y24: =K24 -> #N/A | Z24: =L24 -> #N/A
C25: =VLOOKUP(B21,Уч!$A$2:$L$16,12,FALSE) | E25: Место | F25: =RANK(F24,$T$16:$T$50,0) -> #N/A | G25: =RANK(G24,$U$16:$U$50,0) -> #N/A | H25: =RANK(H24,$V$16:$V$50,0) -> #N/A | I25: =RANK(I24,$W$16:$W$50,0) -> #N/A | J25: =RANK(J24,$X$16:$X$50,0) -> #N/A | K25: =RANK(K24,$Y$16:$Y$50,0) -> #N/A | L25: =RANK(L24,$Z$16:$Z$50,0) -> #N/A | P25: =B21 -> 8 | Q25: =$A21 -> #N/A | R25: 5 | S25: =$A21 -> #N/A
A26: =RANK(M26,$M$16:$M$50,0) -> #N/A | B26: 70 | C26: =VLOOKUP(B26,Уч!$A$2:$L$16,2,FALSE) -> #N/A | D26: =VLOOKUP(B26,Уч!$A$2:$L$16,3,FALSE) -> #N/A | E26: Результат | F26: =VLOOKUP($B26,'110 сб '!$C$17:$I$87,5,FALSE) -> #N/A | G26: =VLOOKUP($B26,высота!$C$17:$AF$42,29,FALSE) -> #N/A | H26: =VLOOKUP($B26,ядро!$C$17:$K$43,8,FALSE) -> #N/A | I26: =VLOOKUP($B26,'2_р'!$C$17:$I$68,5,FALSE) -> #N/A | J26: =VLOOKUP($B26,Дл_р!$C$17:$O$43,11,FALSE) -> #N/A | K26: =VLOOKUP($B26,К_р!$C$18:$K$31,8,FALSE) -> #N/A | L26: =VLOOKUP($B26,'8_р'!$C$17:$H$77,5,FALSE) -> #N/A | M26: =SUM(F28:L28) -> #N/A | N26: =LOOKUP(M26,R$1:AA$1,R$2:AA$2) -> #N/A | O26: =AC26+AD26+5 -> #N/A | P26: =B26 -> 70 | Q26: =$A26 -> #N/A | R26: 1 | S26: =$A26 -> #N/A | AC26: =IF(AND(Q26>16,M26>=4600),"1",LOOKUP(Q26,Q$5:AH$5,Q$6:AH$6)) -> #N/A | AD26: =LOOKUP(N26,R$8:W$8,R$9:W$9) -> #N/A
C27: =VLOOKUP(B26,Уч!$A$2:$L$16,5,FALSE) -> #N/A | D27: =VLOOKUP(B26,Уч!$A$2:$L$16,4,FALSE) -> #N/A | E27: Ветер | F27: =VLOOKUP($B26,'110 сб '!$C$17:$I$87,6,FALSE) -> #N/A | I27: =VLOOKUP($B26,'2_р'!$C$17:$I$68,6,FALSE) -> #N/A | J27: =VLOOKUP($B26,Дл_р!$C$17:$O$43,12,FALSE) -> #N/A | O27: =CONCATENATE(AC26,"+",AD26,"+",5) -> #N/A | P27: =B26 -> 70 | Q27: =$A26 -> #N/A | R27: 2 | S27: =$A26 -> #N/A
C28: =VLOOKUP(B26,Уч!$A$2:$L$16,7,FALSE) -> #N/A | E28: Очки | F28: =VLOOKUP($B26,'110 сб '!$C$17:$I$87,7,FALSE) -> #N/A | G28: =VLOOKUP($B26,высота!$C$17:$AF$42,30,FALSE) -> #N/A | H28: =VLOOKUP($B26,ядро!$C$17:$K$43,9,FALSE) -> #N/A | I28: =VLOOKUP($B26,'2_р'!$C$17:$I$68,7,FALSE) -> #N/A | J28: =VLOOKUP($B26,Дл_р!$C$17:$O$43,13,FALSE) -> #N/A | K28: =VLOOKUP($B26,К_р!$C$18:$K$31,9,FALSE) -> #N/A | L28: =VLOOKUP($B26,'8_р'!$C$17:$H$77,6,FALSE) -> #N/A | P28: =B26 -> 70 | Q28: =$A26 -> #N/A | R28: 3 | S28: =$A26 -> #N/A
C29: =VLOOKUP(B26,Уч!$A$2:$L$16,11,FALSE) -> #N/A | E29: Сумма очков | F29: =F28 -> #N/A | G29: =F29+G28 -> #N/A | H29: =G29+H28 -> #N/A | I29: =H29+I28 -> #N/A | J29: =I29+J28 -> #N/A | K29: =J29+K28 -> #N/A | L29: =K29+L28 -> #N/A | P29: =B26 -> 70 | Q29: =$A26 -> #N/A | R29: 4 | S29: =$A26 -> #N/A | T29: =F29 -> #N/A | U29: =G29 -> #N/A | V29: =H29 -> #N/A | W29: =I29 -> #N/A | X29: =J29 -> #N/A | Y29: =K29 -> #N/A | Z29: =L29 -> #N/A
C30: =VLOOKUP(B26,Уч!$A$2:$L$16,12,FALSE) -> #N/A | E30: Место | F30: =RANK(F29,$T$16:$T$50,0) -> #N/A | G30: =RANK(G29,$U$16:$U$50,0) -> #N/A | H30: =RANK(H29,$V$16:$V$50,0) -> #N/A | I30: =RANK(I29,$W$16:$W$50,0) -> #N/A | J30: =RANK(J29,$X$16:$X$50,0) -> #N/A | K30: =RANK(K29,$Y$16:$Y$50,0) -> #N/A | L30: =RANK(L29,$Z$16:$Z$50,0) -> #N/A | P30: =B26 -> 70 | Q30: =$A26 -> #N/A | R30: 5 | S30: =$A26 -> #N/A
A31: 4 | B31: 3 | C31: =VLOOKUP(B31,Уч!$A$2:$L$16,2,FALSE) -> #N/A | D31: =VLOOKUP(B31,Уч!$A$2:$L$16,3,FALSE) -> #N/A | E31: Результат | F31: =VLOOKUP($B31,'110 сб '!$C$17:$I$87,5,FALSE) -> #N/A | G31: =VLOOKUP($B31,высота!$C$17:$AF$42,29,FALSE) -> #N/A | H31: =VLOOKUP($B31,ядро!$C$17:$K$43,8,FALSE) -> #N/A | I31: =VLOOKUP($B31,'2_р'!$C$17:$I$68,5,FALSE) -> #N/A | J31: =VLOOKUP($B31,Дл_р!$C$17:$O$43,11,FALSE) -> #N/A | K31: =VLOOKUP($B31,К_р!$C$18:$K$31,8,FALSE) -> #N/A | L31: =VLOOKUP($B31,'8_р'!$C$17:$H$77,5,FALSE) -> #N/A | M31: =SUM(F33:L33) -> #N/A | N31: =LOOKUP(M31,R$1:AA$1,R$2:AA$2) -> #N/A | O31: =AC31+AD31+5 -> #N/A | P31: =B31 -> 3 | Q31: =$A31 -> 4 | R31: 1 | S31: =$A31 -> 4 | AC31: =IF(AND(Q31>16,M31>=4600),"1",LOOKUP(Q31,Q$5:AH$5,Q$6:AH$6)) -> #N/A | AD31: =LOOKUP(N31,R$8:W$8,R$9:W$9) -> #N/A
C32: =VLOOKUP(B31,Уч!$A$2:$L$16,5,FALSE) -> #N/A | D32: =VLOOKUP(B31,Уч!$A$2:$L$16,4,FALSE) -> #N/A | E32: Ветер | F32: =VLOOKUP($B31,'110 сб '!$C$17:$I$87,6,FALSE) -> #N/A | I32: =VLOOKUP($B31,'2_р'!$C$17:$I$68,6,FALSE) -> #N/A | J32: =VLOOKUP($B31,Дл_р!$C$17:$O$43,12,FALSE) -> #N/A | O32: =CONCATENATE(AC31,"+",AD31,"+",5) -> #N/A | P32: =B31 -> 3 | Q32: =$A31 -> 4 | R32: 2 | S32: =$A31 -> 4
C33: =VLOOKUP(B31,Уч!$A$2:$L$16,7,FALSE) -> #N/A | E33: Очки | F33: =VLOOKUP($B31,'110 сб '!$C$17:$I$87,7,FALSE) -> #N/A | G33: =VLOOKUP($B31,высота!$C$17:$AF$42,30,FALSE) -> #N/A | H33: =VLOOKUP($B31,ядро!$C$17:$K$43,9,FALSE) -> #N/A | I33: =VLOOKUP($B31,'2_р'!$C$17:$I$68,7,FALSE) -> #N/A | J33: =VLOOKUP($B31,Дл_р!$C$17:$O$43,13,FALSE) -> #N/A | K33: =VLOOKUP($B31,К_р!$C$18:$K$31,9,FALSE) -> #N/A | L33: =VLOOKUP($B31,'8_р'!$C$17:$H$77,6,FALSE) -> #N/A | P33: =B31 -> 3 | Q33: =$A31 -> 4 | R33: 3 | S33: =$A31 -> 4
C34: =VLOOKUP(B31,Уч!$A$2:$L$16,11,FALSE) -> #N/A | E34: Сумма очков | F34: =F33 -> #N/A | G34: =F34+G33 -> #N/A | H34: =G34+H33 -> #N/A | I34: =H34+I33 -> #N/A | J34: =I34+J33 -> #N/A | K34: =J34+K33 -> #N/A | L34: =K34+L33 -> #N/A | P34: =B31 -> 3 | Q34: =$A31 -> 4 | R34: 4 | S34: =$A31 -> 4 | T34: =F34 -> #N/A | U34: =G34 -> #N/A | V34: =H34 -> #N/A | W34: =I34 -> #N/A | X34: =J34 -> #N/A | Y34: =K34 -> #N/A | Z34: =L34 -> #N/A
C35: =VLOOKUP(B31,Уч!$A$2:$L$16,12,FALSE) -> #N/A | E35: Место | F35: =RANK(F34,$T$16:$T$50,0) -> #N/A | G35: =RANK(G34,$U$16:$U$50,0) -> #N/A | H35: =RANK(H34,$V$16:$V$50,0) -> #N/A | I35: =RANK(I34,$W$16:$W$50,0) -> #N/A | J35: =RANK(J34,$X$16:$X$50,0) -> #N/A | K35: =RANK(K34,$Y$16:$Y$50,0) -> #N/A | L35: =RANK(L34,$Z$16:$Z$50,0) -> #N/A | P35: =B31 -> 3 | Q35: =$A31 -> 4 | R35: 5 | S35: =$A31 -> 4
A36: 5 | B36: 4 | C36: =VLOOKUP(B36,Уч!$A$2:$L$16,2,FALSE) -> #N/A | D36: =VLOOKUP(B36,Уч!$A$2:$L$16,3,FALSE) -> #N/A | E36: Результат | F36: =VLOOKUP($B36,'110 сб '!$C$17:$I$87,5,FALSE) -> #N/A | G36: =VLOOKUP($B36,высота!$C$17:$AF$42,29,FALSE) -> #N/A | H36: =VLOOKUP($B36,ядро!$C$17:$K$43,8,FALSE) -> #N/A | I36: =VLOOKUP($B36,'2_р'!$C$17:$I$68,5,FALSE) -> #N/A | J36: =VLOOKUP($B36,Дл_р!$C$17:$O$43,11,FALSE) -> #N/A | K36: =VLOOKUP($B36,К_р!$C$18:$K$31,8,FALSE) -> #N/A | L36: =VLOOKUP($B36,'8_р'!$C$17:$H$77,5,FALSE) -> #N/A | M36: =SUM(F38:L38) -> #N/A | N36: =LOOKUP(M36,R$1:AA$1,R$2:AA$2) -> #N/A | O36: 0 | P36: =B36 -> 4 | Q36: =$A36 -> 5 | R36: 1 | S36: =$A36 -> 5 | AC36: =IF(AND(Q36>16,M36>=4600),"1",LOOKUP(Q36,Q$5:AH$5,Q$6:AH$6)) -> #N/A | AD36: =LOOKUP(N36,R$8:W$8,R$9:W$9) -> #N/A
C37: =VLOOKUP(B36,Уч!$A$2:$L$16,5,FALSE) -> #N/A | D37: =VLOOKUP(B36,Уч!$A$2:$L$16,4,FALSE) -> #N/A | E37: Ветер | F37: =VLOOKUP($B36,'110 сб '!$C$17:$I$87,6,FALSE) -> #N/A | I37: =VLOOKUP($B36,'2_р'!$C$17:$I$68,6,FALSE) -> #N/A | J37: =VLOOKUP($B36,Дл_р!$C$17:$O$43,12,FALSE) -> #N/A | O37: =CONCATENATE(AC36,"+",AD36,"+",5) -> #N/A | P37: =B36 -> 4 | Q37: =$A36 -> 5 | R37: 2 | S37: =$A36 -> 5
C38: =VLOOKUP(B36,Уч!$A$2:$L$16,7,FALSE) -> #N/A | E38: Очки | F38: =VLOOKUP($B36,'110 сб '!$C$17:$I$87,7,FALSE) -> #N/A | G38: =VLOOKUP($B36,высота!$C$17:$AF$42,30,FALSE) -> #N/A | H38: =VLOOKUP($B36,ядро!$C$17:$K$43,9,FALSE) -> #N/A | I38: =VLOOKUP($B36,'2_р'!$C$17:$I$68,7,FALSE) -> #N/A | J38: =VLOOKUP($B36,Дл_р!$C$17:$O$43,13,FALSE) -> #N/A | K38: =VLOOKUP($B36,К_р!$C$18:$K$31,9,FALSE) -> #N/A | L38: =VLOOKUP($B36,'8_р'!$C$17:$H$77,6,FALSE) -> #N/A | P38: =B36 -> 4 | Q38: =$A36 -> 5 | R38: 3 | S38: =$A36 -> 5
C39: =VLOOKUP(B36,Уч!$A$2:$L$16,11,FALSE) -> #N/A | E39: Сумма очков | F39: =F38 -> #N/A | G39: =F39+G38 -> #N/A | H39: =G39+H38 -> #N/A | I39: =H39+I38 -> #N/A | J39: =I39+J38 -> #N/A | K39: =J39+K38 -> #N/A | L39: =K39+L38 -> #N/A | P39: =B36 -> 4 | Q39: =$A36 -> 5 | R39: 4 | S39: =$A36 -> 5 | T39: =F39 -> #N/A | U39: =G39 -> #N/A | V39: =H39 -> #N/A | W39: =I39 -> #N/A | X39: =J39 -> #N/A | Y39: =K39 -> #N/A | Z39: =L39 -> #N/A
C40: =VLOOKUP(B36,Уч!$A$2:$L$16,12,FALSE) -> #N/A | E40: Место | F40: =RANK(F39,$T$16:$T$50,0) -> #N/A | G40: =RANK(G39,$U$16:$U$50,0) -> #N/A | H40: =RANK(H39,$V$16:$V$50,0) -> #N/A | I40: =RANK(I39,$W$16:$W$50,0) -> #N/A | J40: =RANK(J39,$X$16:$X$50,0) -> #N/A | K40: =RANK(K39,$Y$16:$Y$50,0) -> #N/A | L40: =RANK(L39,$Z$16:$Z$50,0) -> #N/A | P40: =B36 -> 4 | Q40: =$A36 -> 5 | R40: 5 | S40: =$A36 -> 5
A41: 6 | B41: 51 | C41: =VLOOKUP(B41,Уч!$A$2:$L$16,2,FALSE) -> #N/A | D41: =VLOOKUP(B41,Уч!$A$2:$L$16,3,FALSE) -> #N/A | E41: Результат | F41: =VLOOKUP($B41,'110 сб '!$C$17:$I$87,5,FALSE) -> #N/A | G41: =VLOOKUP($B41,высота!$C$17:$AF$42,29,FALSE) -> #N/A | H41: =VLOOKUP($B41,ядро!$C$17:$K$43,8,FALSE) -> #N/A | I41: =VLOOKUP($B41,'2_р'!$C$17:$I$68,5,FALSE) -> #N/A | J41: =VLOOKUP($B41,Дл_р!$C$17:$O$43,11,FALSE) -> #N/A | K41: =VLOOKUP($B41,К_р!$C$18:$K$31,8,FALSE) -> #N/A | L41: справка | M41: =SUM(F43:L43) -> #N/A | N41: =LOOKUP(M41,R$1:AA$1,R$2:AA$2) -> #N/A | O41: 0 | P41: =B41 -> 51 | Q41: =$A41 -> 6 | R41: 1 | S41: =$A41 -> 6 | AC41: =IF(AND(Q41>16,M41>=4600),"1",LOOKUP(Q41,Q$5:AH$5,Q$6:AH$6)) -> #N/A | AD41: =LOOKUP(N41,R$8:W$8,R$9:W$9) -> #N/A
C42: =VLOOKUP(B41,Уч!$A$2:$L$16,5,FALSE) -> #N/A | D42: =VLOOKUP(B41,Уч!$A$2:$L$16,4,FALSE) -> #N/A | E42: Ветер | F42: =VLOOKUP($B41,'110 сб '!$C$17:$I$87,6,FALSE) -> #N/A | I42: =VLOOKUP($B41,'2_р'!$C$17:$I$68,6,FALSE) -> #N/A | J42: =VLOOKUP($B41,Дл_р!$C$17:$O$43,12,FALSE) -> #N/A | O42: =CONCATENATE(AC41,"+",AD41,"+",5) -> #N/A | P42: =B41 -> 51 | Q42: =$A41 -> 6 | R42: 2 | S42: =$A41 -> 6
C43: =VLOOKUP(B41,Уч!$A$2:$L$16,7,FALSE) -> #N/A | E43: Очки | F43: =VLOOKUP($B41,'110 сб '!$C$17:$I$87,7,FALSE) -> #N/A | G43: =VLOOKUP($B41,высота!$C$17:$AF$42,30,FALSE) -> #N/A | H43: =VLOOKUP($B41,ядро!$C$17:$K$43,9,FALSE) -> #N/A | I43: =VLOOKUP($B41,'2_р'!$C$17:$I$68,7,FALSE) -> #N/A | J43: =VLOOKUP($B41,Дл_р!$C$17:$O$43,13,FALSE) -> #N/A | K43: =VLOOKUP($B41,К_р!$C$18:$K$31,9,FALSE) -> #N/A | P43: =B41 -> 51 | Q43: =$A41 -> 6 | R43: 3 | S43: =$A41 -> 6
...

Sheet 110 сб 
B1: МИНИСТЕРСТВО СПОРТА РОССИЙСКОЙ ФЕДЕРАЦИИ
B2: ВСЕРОССИЙСКАЯ ФЕДЕРАЦИЯ ЛЕГКОЙ АТЛЕТИКИ
B3: Командный чемпионат России
B4: по многоборью
B5: Женщины
B6: СТАРТОВЫЙ ПРОТОКОЛ
B7: бег с барьерами 100 м
B8: 04.09.2019 г. | H8: Начало: | I8: 0.40972222
B9: г.Сочи, Адлерский район, стадион "Юность" | H9: Окончание:
C10: СТАРТОВЫЙ ПРОТОКОЛ | F10: бег с барьерами 100 м
C12: ИТОГОВЫЙ ПРОТОКОЛ | G12: бег с барьерами 100 м
A14: Мес | B14: № дорожки | C14: Нагрудный № | D14: Фамилия, имя участника | E14: Дата рождения | F14: Территория | G14: Результат | H14: Ветер | I14: Очки
D16: Забег 1
A17: 0.92766243 | B17: 1 | D17: #N/A | E17: #N/A | F17: #N/A | G17: 0 | H17: 0 | I17: 0
A18: 0.73544315 | B18: 2 | C18: 54 | D18: Кругова Елизавета | E18: 07.02.1999 | F18: Кемеровская область | G18: 16.15 | H18: 0 | I18: 696
A19: 0.31556834 | B19: 3 | C19: 65 | D19: Каширина Оксана | E19: 13.02.1997 | F19: Республика Адыгея | G19: 14.63 | H19: 0 | I19: 891
A20: 0.33793293 | B20: 4 | C20: 23 | D20: Пириева Марина | E20: 16.07.1998 | F20: ЮФО (К) | G20: 14.67 | H20: 0 | I20: 886
A21: 0.61141746 | B21: 5 | C21: 61 | D21: Ладикан Юлия | E21: 15.04.1999 | F21: Кемеровская область | G21: 0 | H21: 0 | I21: 0
A22: 0.2684888 | B22: 6 | C22: 117 | D22: Бучкина Анна | E22: 10.11.1999 | F22: Санкт-Петербург | G22: 14.95 | H22: 0 | I22: 848
A23: 0.41715538 | B23: 7 | G23: 0 | H23: 0 | I23: 0
A24: 0.90960531 | B24: 8 | D24: #N/A | E24: #N/A | F24: #N/A | G24: 0 | H24: 0 | I24: 0
D26: Забег 2
A27: 0.806583 | B27: 1 | D27: #N/A | E27: #N/A | F27: #N/A | G27: 0 | H27: 0 | I27: 0
A28: 0.78950806 | B28: 2 | C28: 109 | D28: Солнышкова Юлия | E28: 28.12.1998 | F28: Республика Татарстан | G28: 16.48 | H28: 1.2 | I28: 657
A29: 0.62670952 | B29: 3 | C29: 64 | D29: Дерган Евгения | E29: 11.04.1994 | F29: Республика Адыгея | G29: 15.87 | H29: 1.2 | I29: 730
A30: 0.23576804 | B30: 4 | C30: 66 | D30: Тынченко Анастасия | E30: 22.06.1996 | F30: Республика Адыгея | G30: 15.73 | H30: 1.2 | I30: 748
A31: 0.40194509 | B31: 5 | C31: 25 | D31: Варламова Анастасия | E31: 02.07.1998 | F31: Белгородская область | G31: 15.41 | H31: 1.2 | I31: 788
A32: 0.041709052 | B32: 6 | C32: 56 | D32: Горевая Александра | E32: 13.09.1999 | F32: Кемеровская область | G32: 15.04 | H32: 1.2 | I32: 836
A33: 0.28593534 | B33: 7 | G33: 0 | H33: 0 | I33: 0
A34: 0.44207094 | B34: 8 | D34: #N/A | E34: #N/A | F34: #N/A | G34: 0 | H34: 0 | I34: 0
D36: Забег 3
A37: 0.16570434 | B37: 1 | D37: #N/A | E37: #N/A | F37: #N/A | G37: 0 | H37: 0 | I37: 0
A38: 0.93621253 | B38: 2 | C38: 12 | D38: Ермолина Елена | E38: 03.02.1989 | F38: Краснодарский край Республика Адыгея | G38: 14.99 | H38: 0 | I38: 843
A39: 0.50710523 | B39: 3 | C39: 10 | D39: Лысенко Мария | E39: 12.10.1998 | F39: Краснодарский край Ставропольский край | G39: 13.77 | H39: 0 | I39: 1011
A40: 0.0083353148 | B40: 4 | C40: 8 | D40: Бутвина Александра | E40: 14.02.1986 | F40: Ростовская область Санкт-Петербург | G40: 14.98 | H40: 0 | I40: 844
A41: 0.88323075 | B41: 5 | C41: 55 | D41: Селезнева Анастасия | E41: 15.04.1997 | F41: Кемеровская область | G41: 14.27 | H41: 0 | I41: 941
A42: 0.64567485 | B42: 6 | C42: 9 | D42: Подгорнова Алина | E42: 05.05.1999 | F42: Краснодарский край | G42: 14.4 | H42: 0 | I42: 923
A43: 0.44309333 | B43: 7 | C43: 69 | D43: Пшичкина Марина | E43: 08.05.1997 | F43: Москва Пензенская область | G43: 14.4 | H43: 0 | I43: 923
