Workbook

Sheet READ
A1: Многоборья
A2: Опыт описания работы с таблицами по многоборьям
A3: Прежде всего сохраните данный файл под другим, удобным для Вас, именем
A4: Участники
A5: Участники должны быть расположены в порядке возрастания нагрудных номеров
A6: Расписание
A7: Введите название проводящих организаций, даты, расписание по видам
A8: Виды
A9: Данные вводятся в столбцы выделенные желтым
A10: При распечатке стартового или итогового протокола скрыть столбцы ввода данных (минус на поле вверху)
A11: Открытие этих столбцов (плюс на поле вверху)
A12: При распечатке стартового протокола изменяемые данные на белом фоне дайте белым цветом шрифта
... A23: Все участники, включая нестартующих, должны быть внесены в стартовые протоколы. Нестартующие печатаются белым шрифтом. Если их не внести, то будет сбой в сводном протоколе.

Sheet Расп
A1: 04.09.2019 г. | B1: Начало: | C1: Окончание:
A2: бег с барьерами 100 м | B2: 0.40972222
A3: прыжок в высоту | B3: 0.44791667
A4: толкание ядра | B4: 0.70833333
A5: бег 200 м | B5: 0.75347222
A6: 19.05.2019 г.
A7: прыжок в длину | B7: 0.41666667
A8: метание копья (600 г) | B8: 0.48958333
A9: бег 800 м | B9: 0.75694444
B13: Женщины | C13: Юниорки до 23 лет
A14: РМ | B14: 7291 | C14: 7001
A15: РЕ | B15: 7032 | C15: 7001
A16: РР | B16: 7007 | C16: 6765
A21: МИНИСТЕРСТВО СПОРТА РОССИЙСКОЙ ФЕДЕРАЦИИ
A22: ВСЕРОССИЙСКАЯ ФЕДЕРАЦИЯ ЛЕГКОЙ АТЛЕТИКИ
A25: Командный чемпионат России
A26: г.Сочи, Адлерский район, стадион "Юность"
A27: по многоборью
A29: по многоборью

Sheet Уч
A1: № участ | B1: Фамилия, имя участника | C1: Дата рожд. | D1: Разряд | E1: Команда | F1: ФО | H1: Ведомство | I1: Организация | J1: Лично | K1: Тренеры | L1: Тренеры
A2: 10 | B2: Лысенко Мария | C2: 12.10.1998 | D2: КМС | E2: Краснодарский край Ставропольский край | F2: Ж | G2: ГБУ КК "РЦСП по легкой атлетике", ГБУ СК "СШОР по легкой атлетике", ГБУ СК "РЦСП" | H2: Семиборье(ж) | I2: КМС | J2: Краснодарский край | K2: Мирошниченко В.И., Журавлева Т.В., Ширяева Г.М.
A3: 9 | B3: Подгорнова Алина | C3: 05.05.1999 | D3: МС | E3: Краснодарский край | F3: Ж | G3: ГБУ КК "ЦОП по легкой атлетике", ГБУ КК "РЦСП по легкой атлетике" | H3: Семиборье(ж) | I3: МС | J3: Краснодарский край | K3: Чернов С.А., Чернова Т.С., Гончарова Е.Н.
A4: 12 | B4: Ермолина Елена | C4: 03.02.1989 | D4: МС | E4: Краснодарский край Республика Адыгея | F4: Ж | G4: ГБУ КК "РЦСП по легкой атлетике", ГБУ РА "ЦСП СК РА" | H4: Семиборье(ж) | I4: МС | J4: Краснодарский край | K4: Суханов С.М., Парфёнова С.О.
A5: 25 | B5: Варламова Анастасия | C5: 02.07.1998 | D5: КМС | E5: Белгородская область | F5: Ж | G5: МАУ "СШОР № 1" г.Старый Оскол | H5: Семиборье(ж) | I5: КМС | J5: Белгородская область | K5: Власов Н.В., Власова А.В.
A6: 23 | B6: Пириева Марина | C6: 16.07.1998 | D6: КМС | E6: ЮФО (К) | F6: Ж | G6: ГБУ РК "СШ №1 г.Симферополь" | H6: Семиборье(ж) | I6: КМС | J6: ЮФО (К) | K6: Леонов О.Н., Копытич А.Л., Копытич Д.Л.
A7: 8 | B7: Бутвина Александра | C7: 14.02.1986 | D7: МСМК | E7: Ростовская область Санкт-Петербург | F7: Ж | G7: ГБУ РО "ЦОП №1", СПб ГБУ ЦОП "ШВСМ по легкой атлетике" | H7: Семиборье(ж) | I7: МСМК | J7: Ростовская область | K7: Есина И.А., Сретенцев В.В., Радух А.О.
A8: 55 | B8: Селезнева Анастасия | C8: 15.04.1997 | D8: МС | E8: Кемеровская область | F8: Ж | G8: ГБФСУ КО "СШОР по легкой атлетике им. В.А.Савенкова" | H8: Семиборье(ж) | I8: МС | J8: Кемеровская область | K8: Муга О.Б., Грибанова С.Р., Канашевич А.М.
A9: 54 | B9: Кругова Елизавета | C9: 07.02.1999 | D9: 1 | E9: Кемеровская область | F9: Ж | G9: МАФСУ "СШ №7" | H9: Семиборье(ж) | I9: 1 | J9: Кемеровская область | K9: Быков И.С., Чернявская Ю.В., Ляпин И.М.
A10: 61 | B10: Ладикан Юлия | C10: 15.04.1999 | D10: КМС | E10: Кемеровская область | F10: Ж | G10: МА ФСУ «СШОР по легкой атлетике» | H10: Семиборье(ж) | I10: КМС | J10: Кемеровская область | K10: Мартынов Н.М.
A11: 56 | B11: Горевая Александра | C11: 13.09.1999 | D11: КМС | E11: Кемеровская область | F11: Ж | G11: ГБФСУ КО "СШОР по легкой атлетике им. В.А.Савенкова", ФГБОУ ВО "Кузбасский государственный технический университет имени Т.Ф.Горбачёва" | H11: Семиборье(ж) | I11: КМС | J11: Кемеровская область | K11: Ермишина Л.И., Ермишин Г.Н.
A12: 64 | B12: Дерган Евгения | C12: 11.04.1994 | D12: КМС | E12: Республика Адыгея | F12: Ж | G12: ГБУ РА "ЦСП СК РА" | H12: Семиборье(ж) | I12: КМС | J12: Республика Адыгея | K12: Суханов С.М., Парфёнова С.О.
A13: 66 | B13: Тынченко Анастасия | C13: 22.06.1996 | D13: КМС | E13: Республика Адыгея | F13: Ж | G13: ФГБОУ ВО "АГУ" | H13: Семиборье(ж) | I13: КМС | J13: Республика Адыгея | K13: Руди Л.С.
... A17: 109 | B17: Солнышкова Юлия | C17: 28.12.1998 | D17: КМС | E17: Республика Татарстан | F17: Ж | G17: ГБПОУ "КАЗУОР" | H17: Семиборье(ж) | I17: КМС | J17: Республика Татарстан | K17: Арбеев О.А.

Sheet Ж+ж23
A1: =Расп!$A$21 -> МИНИСТЕРСТВО СПОРТА РОССИЙСКОЙ ФЕДЕРАЦИИ | Q1: Очки | R1: 0 | T1: 1600 | U1: 2000 | V1: 2700 | W1: 3300 | X1: 3900 | Y1: 4500 | Z1: 5250 | AA1: 6150 | AC1: Для | AD1: мол | AE1: 4000
A2: =Расп!$A$22 -> ВСЕРОССИЙСКАЯ ФЕДЕРАЦИЯ ЛЕГКОЙ АТЛЕТИКИ | Q2: Разряд | R2: б/р | S2: 3ю | T2: 2ю | U2: 1ю | V2: 3 | W2: 2 | X2: 1 | Y2: КМС | Z2: МС | AA2: МСМК
A3: =Расп!$A$25 -> Командный чемпионат России | Y3: 1 оч
A4: =Расп!$A$27 -> по многоборью
A5: женщины и юниорки до 23 лет | Q5: Место | R5: 1 | S5: 2 | T5: 3 | U5: 4 | V5: 5 | W5: 6 | X5: 7 | Y5: 8 | Z5: 9 | AA5: 10 | AB5: 11 | AC5: 12 | AD5: 13 | AE5: 14 | AF5: 15 | AG5: 16 | AH5: 17
A6: ИТОГОВЫЙ ПРОТОКОЛ | Q6: Очки | R6: 20 | S6: 17 | T6: 15 | U6: 14 | V6: 13 | W6: 12 | X6: 11 | Y6: 10 | Z6: 9 | AA6: 8 | AB6: 7 | AC6: 6 | AD6: 5 | AE6: 4 | AF6: 3 | AG6: 2 | AH6: 0
A8: =Расп!B13 -> Женщины | C8: =Расп!C13 -> Юниорки до 23 лет | J8: =Расп!A1 -> 04.09.2019 г. | K8: t° +13 вл.86% | N8: =Расп!A6 -> 19.05.2019 г. | O8: t° +13 вл.86% | P8: Скрыть | Q8: Бонус | R8: 1 | S8: 2 | T8: 3 | U8: КМС | V8: МС | W8: МСМК
A9: =Расп!$A$14 -> РМ | B9: =Расп!B14 -> 7291 | C9: PM 7001 | J9: =Расп!A2 -> бег с барьерами 100 м | K9: =Расп!B2 -> 0.40972222 | N9: =Расп!A7 -> прыжок в длину | O9: =Расп!B7 -> 0.41666667 | P9: при | Q9: Очки | R9: 0 | S9: 0 | T9: 0 | U9: 0 | V9: 5 | W9: 15
A10: =Расп!$A$15 -> РЕ | B10: =Расп!B15 -> 7032 | C10: PE 7001 | J10: =Расп!A3 -> прыжок в высоту | K10: =Расп!B3 -> 0.44791667 | N10: =Расп!A8 -> метание копья (600 г) | O10: =Расп!B8 -> 0.48958333 | P10: печати
A11: =Расп!$A$16 -> РР | B11: =Расп!B16 -> 7007 | C11: PP 6765 | J11: =Расп!A4 -> толкание ядра | K11: =Расп!B4 -> 0.70833333 | N11: =Расп!A9 -> бег 800 м | O11: =Расп!B9 -> 0.75694444 | Q11: Мнгб | R11: 5
A12: =Расп!$A$26 -> г.Сочи, Адлерский район, стадион "Юность" | J12: =Расп!A5 -> бег 200 м | K12: =Расп!B5 -> 0.75347222
A13: Место | B13: Нагрудный № | C13: Фамилия, имя участника Территория, ФСО, Тренер | D13: Дата рождения Вып-ый раз-д | F13: бег с барьерами 100 м | G13: прыжок в высоту | H13: толкание ядра | I13: бег 200 м | J13: прыжок в длину | K13: метание копья | L13: бег 800 м | M13: Очки | N13: Разряд | O13: Командные очки | P13: № | Q13: М | R13: П | S13: МЛ | T13: 100сб | U13: Высота | V13: Ядро | W13: 200 | X13: Длина | Y13: Копье | Z13: 800 | AC13: оч/мес | AD13: оч/раз
A16: =RANK(M16,$M$16:$M$85,0) -> #N/A | B16: 73 | C16: =VLOOKUP(B16,Уч!$A$2:$L$16,2,FALSE) -> #N/A | D16: =VLOOKUP(B16,Уч!$A$2:$L$16,3,FALSE) -> #N/A | E16: Результат | F16: =VLOOKUP($B16,'110 сб '!$C$17:$I$87,5,FALSE) -> #N/A | G16: =VLOOKUP($B16,высота!$C$17:$AF$42,29,FALSE) -> #N/A | H16: =VLOOKUP($B16,ядро!$C$17:$K$43,8,FALSE) -> #N/A | I16: =VLOOKUP($B16,'2_р'!$C$17:$I$68,5,FALSE) -> #N/A | J16: =VLOOKUP($B16,Дл_р!$C$17:$O$43,11,FALSE) -> #N/A | K16: =VLOOKUP($B16,К_р!$C$18:$K$31,8,FALSE) -> #N/A | L16: =VLOOKUP($B16,'8_р'!$C$17:$H$77,5,FALSE) -> #N/A | M16: =SUM(F18:L18) -> #N/A | N16: =LOOKUP(M16,R$1:AA$1,R$2:AA$2) -> #N/A | O16: =AC16+AD16+5 -> #N/A | P16: =B16 -> 73 | Q16: =$A16 -> #N/A | R16: 1 | S16: =$A16 -> #N/A | AC16: =IF(AND(Q16>16,M16>=4600),"1",LOOKUP(Q16,Q$5:AH$5,Q$6:AH$6)) -> #N/A | AD16: =LOOKUP(N16,R$8:W$8,R$9:W$9) -> #N/A | AE16: Для | AF16: мол | AG16: 4000
C17: =VLOOKUP(B16,Уч!$A$2:$L$16,5,FALSE) -> #N/A | D17: =VLOOKUP(B16,Уч!$A$2:$L$16,4,FALSE) -> #N/A | E17: Ветер | F17: =VLOOKUP($B16,'110 сб '!$C$17:$I$87,6,FALSE) -> #N/A | I17: =VLOOKUP($B16,'2_р'!$C$17:$I$68,6,FALSE) -> #N/A | J17: =VLOOKUP($B16,Дл_р!$C$17:$O$43,12,FALSE) -> #N/A | O17: =CONCATENATE(AC16,"+",AD16,"+",5) -> #N/A | P17: =B16 -> 73 | Q17: =$A16 -> #N/A | R17: 2 | S17: =$A16 -> #N/A
C18: =VLOOKUP(B16,Уч!$A$2:$L$16,7,FALSE) -> #N/A | E18: Очки | F18: =VLOOKUP($B16,'110 сб '!$C$17:$I$87,7,FALSE) -> #N/A | G18: =VLOOKUP($B16,высота!$C$17:$AF$42,30,FALSE) -> #N/A | H18: =VLOOKUP($B16,ядро!$C$17:$K$43,9,FALSE) -> #N/A | I18: =VLOOKUP($B16,'2_р'!$C$17:$I$68,7,FALSE) -> #N/A | J18: =VLOOKUP($B16,Дл_р!$C$17:$O$43,13,FALSE) -> #N/A | K18: =VLOOKUP($B16,К_р!$C$18:$K$31,9,FALSE) -> #N/A | L18: =VLOOKUP($B16,'8_р'!$C$17:$H$77,6,FALSE) -> #N/A | P18: =B16 -> 73 | Q18: =$A16 -> #N/A | R18: 3 | S18: =$A16 -> #N/A
C19: =VLOOKUP(B16,Уч!$A$2:$L$16,11,FALSE) -> #N/A | E19: Сумма очков | F19: =F18 -> #N/A | G19: =F19+G18 -> #N/A | H19: =G19+H18 -> #N/A | I19: =H19+I18 -> #N/A | J19: =I19+J18 -> #N/A | K19: =J19+K18 -> #N/A | L19: =K19+L18 -> #N/A | P19: =B16 -> 73 | Q19: =$A16 -> #N/A | R19: 4 | S19: =$A16 -> #N/A | T19: =F19 -> #N/A | U19: =G19 -> #N/A | V19: =H19 -> #N/A | W19: =I19 -> #N/A | X19: =J19 -> #N/A | Y19: =K19 -> #N/A | Z19: =L19 -> #N/A
C20: =VLOOKUP(B16,Уч!$A$2:$L$16,12,FALSE) -> #N/A | E20: Место | F20: =RANK(F19,$T$19:$T$85,0) -> #N/A | G20: =RANK(G19,$U$19:$U$85,0) -> #N/A | H20: =RANK(H19,$V$19:$V$85,0) -> #N/A | I20: =RANK(I19,$W$19:$W$85,0) -> #N/A | J20: =RANK(J19,$X$19:$X$85,0) -> #N/A | K20: =RANK(K19,$Y$19:$Y$85,0) -> #N/A | L20: =RANK(L19,$Z$19:$Z$85,0) -> #N/A | P20: =B16 -> 73 | Q20: =$A16 -> #N/A | R20: 5 | S20: =$A16 -> #N/A
A21: =RANK(M21,$M$16:$M$85,0) -> #N/A | B21: 51 | C21: =VLOOKUP(B21,Уч!$A$2:$L$16,2,FALSE) -> #N/A | D21: =VLOOKUP(B21,Уч!$A$2:$L$16,3,FALSE) -> #N/A | E21: Результат | F21: =VLOOKUP($B21,'110 сб '!$C$17:$I$87,5,FALSE) -> #N/A | G21: =VLOOKUP($B21,высота!$C$17:$AF$42,29,FALSE) -> #N/A | H21: =VLOOKUP($B21,ядро!$C$17:$K$43,8,FALSE) -> #N/A | I21: =VLOOKUP($B21,'2_р'!$C$17:$I$68,5,FALSE) -> #N/A | J21: =VLOOKUP($B21,Дл_р!$C$17:$O$43,11,FALSE) -> #N/A | K21: =VLOOKUP($B21,К_р!$C$18:$K$31,8,FALSE) -> #N/A | L21: =VLOOKUP($B21,'8_р'!$C$17:$H$77,5,FALSE) -> #N/A | M21: =SUM(F23:L23) -> #N/A | N21: =LOOKUP(M21,R$1:AA$1,R$2:AA$2) -> #N/A | O21: =AC21+AD21+5 -> #N/A | P21: =B21 -> 51 | Q21: =$A21 -> #N/A | R21: 1 | S21: =$A21 -> #N/A | AC21: =IF(AND(Q21>16,M21>=4600),"1",LOOKUP(Q21,Q$5:AH$5,Q$6:AH$6)) -> #N/A | AD21: =LOOKUP(N21,R$8:W$8,R$9:W$9) -> #N/A
C22: =VLOOKUP(B21,Уч!$A$2:$L$16,5,FALSE) -> #N/A | D22: =VLOOKUP(B21,Уч!$A$2:$L$16,4,FALSE) -> #N/A | E22: Ветер | F22: =VLOOKUP($B21,'110 сб '!$C$17:$I$87,6,FALSE) -> #N/A | I22: =VLOOKUP($B21,'2_р'!$C$17:$I$68,6,FALSE) -> #N/A | J22: =VLOOKUP($B21,Дл_р!$C$17:$O$43,12,FALSE) -> #N/A | O22: =CONCATENATE(AC21,"+",AD21,"+",5) -> #N/A | P22: =B21 -> 51 | Q22: =$A21 -> #N/A | R22: 2 | S22: =$A21 -> #N/A
C23: =VLOOKUP(B21,Уч!$A$2:$L$16,7,FALSE) -> #N/A | E23: Очки | F23: =VLOOKUP($B21,'110 сб '!$C$17:$I$87,7,FALSE) -> #N/A | G23: =VLOOKUP($B21,высота!$C$17:$AF$42,30,FALSE) -> #N/A | H23: =VLOOKUP($B21,ядро!$C$17:$K$43,9,FALSE) -> #N/A | I23: =VLOOKUP($B21,'2_р'!$C$17:$I$68,7,FALSE) -> #N/A | J23: =VLOOKUP($B21,Дл_р!$C$17:$O$43,13,FALSE) -> #N/A | K23: =VLOOKUP($B21,К_р!$C$18:$K$31,9,FALSE) -> #N/A | L23: =VLOOKUP($B21,'8_р'!$C$17:$H$77,6,FALSE) -> #N/A | P23: =B21 -> 51 | Q23: =$A21 -> #N/A | R23: 3 | S23: =$A21 -> #N/A
C24: =VLOOKUP(B21,Уч!$A$2:$L$16,11,FALSE) -> #N/A | E24: Сумма очков | F24: =F23 -> #N/A | G24: =F24+G23 -> #N/A | H24: =G24+H23 -> #N/A | I24: =H24+I23 -> #N/A | J24: =I24+J23 -> #N/A | K24: =J24+K23 -> #N/A | L24: =K24+L23 -> #N/A | P24: =B21 -> 51 | Q24: =$A21 -> #N/A | R24: 4 | S24: =$A21 -> #N/A | T24: =F24 -> #N/A | U24: =G24 -> #N/A | V24: =H24 -> #N/A | W24: =I24 -> #N/A | X24: =J24 -> #N/A | Y24: =K24 -> #N/A | Z24: =L24 -> #N/A
C25: =VLOOKUP(B21,Уч!$A$2:$L$16,12,FALSE) -> #N/A | E25: Место | F25: =RANK(F24,$T$19:$T$85,0) -> #N/A | G25: =RANK(G24,$U$19:$U$85,0) -> #N/A | H25: =RANK(H24,$V$19:$V$85,0) -> #N/A | I25: =RANK(I24,$W$19:$W$85,0) -> #N/A | J25: =RANK(J24,$X$19:$X$85,0) -> #N/A | K25: =RANK(K24,$Y$19:$Y$85,0) -> #N/A | L25: =RANK(L24,$Z$19:$Z$85,0) -> #N/A | P25: =B21 -> 51 | Q25: =$A21 -> #N/A | R25: 5 | S25: =$A21 -> #N/A
A26: =RANK(M26,$M$16:$M$85,0) -> #N/A | B26: 64 | C26: =VLOOKUP(B26,Уч!$A$2:$L$16,2,FALSE) -> Дерган Евгения | D26: =VLOOKUP(B26,Уч!$A$2:$L$16,3,FALSE) -> 11.04.1994 | E26: Результат | F26: =VLOOKUP($B26,'110 сб '!$C$17:$I$87,5,FALSE) -> 15.87 | G26: =VLOOKUP($B26,высота!$C$17:$AF$42,29,FALSE) -> 1.86 | H26: =VLOOKUP($B26,ядро!$C$17:$K$43,8,FALSE) -> 14.48 | I26: =VLOOKUP($B26,'2_р'!$C$17:$I$68,5,FALSE) -> 26.81 | J26: =VLOOKUP($B26,Дл_р!$C$17:$O$43,11,FALSE) -> 5.3 | K26: =VLOOKUP($B26,К_р!$C$18:$K$31,8,FALSE) -> 38.68 | L26: =VLOOKUP($B26,'8_р'!$C$17:$H$77,5,FALSE) -> 2:32.13 | M26: =SUM(F28:L28) -> 4235 | N26: =LOOKUP(M26,R$1:AA$1,R$2:AA$2) -> 1 | O26: =AC26+AD26+5 -> #N/A | P26: =B26 -> 64 | Q26: =$A26 -> #N/A | R26: 1 | S26: =$A26 -> #N/A | AC26: =IF(AND(Q26>16,M26>=4600),"1",LOOKUP(Q26,Q$5:AH$5,Q$6:AH$6)) -> #N/A | AD26: =LOOKUP(N26,R$8:W$8,R$9:W$9) -> 0
C27: =VLOOKUP(B26,Уч!$A$2:$L$16,5,FALSE) -> Республика Адыгея | D27: =VLOOKUP(B26,Уч!$A$2:$L$16,4,FALSE) -> КМС | E27: Ветер | F27: =VLOOKUP($B26,'110 сб '!$C$17:$I$87,6,FALSE) -> 1.2 | I27: =VLOOKUP($B26,'2_р'!$C$17:$I$68,6,FALSE) -> 1.2 | J27: =VLOOKUP($B26,Дл_р!$C$17:$O$43,12,FALSE) -> -0.1 | O27: =CONCATENATE(AC26,"+",AD26,"+",5) -> #N/A | P27: =B26 -> 64 | Q27: =$A26 -> #N/A | R27: 2 | S27: =$A26 -> #N/A
C28: =VLOOKUP(B26,Уч!$A$2:$L$16,7,FALSE) -> ГБУ РА "ЦСП СК РА" | E28: Очки | F28: =VLOOKUP($B26,'110 сб '!$C$17:$I$87,7,FALSE) -> 730 | G28: =VLOOKUP($B26,высота!$C$17:$AF$42,30,FALSE) -> 0 | H28: =VLOOKUP($B26,ядро!$C$17:$K$43,9,FALSE) -> 826 | I28: =VLOOKUP($B26,'2_р'!$C$17:$I$68,7,FALSE) -> 728 | J28: =VLOOKUP($B26,Дл_р!$C$17:$O$43,13,FALSE) -> 643 | K28: =VLOOKUP($B26,К_р!$C$18:$K$31,9,FALSE) -> 642 | L28: =VLOOKUP($B26,'8_р'!$C$17:$H$77,6,FALSE) -> 666 | P28: =B26 -> 64 | Q28: =$A26 -> #N/A | R28: 3 | S28: =$A26 -> #N/A
C29: =VLOOKUP(B26,Уч!$A$2:$L$16,11,FALSE) -> Суханов С.М., Парфёнова С.О. | E29: Сумма очков | F29: =F28 -> 730 | G29: =F29+G28 -> 730 | H29: =G29+H28 -> 1556 | I29: =H29+I28 -> 2284 | J29: =I29+J28 -> 2927 | K29: =J29+K28 -> 3569 | L29: =K29+L28 -> 4235 | P29: =B26 -> 64 | Q29: =$A26 -> #N/A | R29: 4 | S29: =$A26 -> #N/A | T29: =F29 -> 730 | U29: =G29 -> 730 | V29: =H29 -> 1556 | W29: =I29 -> 2284 | X29: =J29 -> 2927 | Y29: =K29 -> 3569 | Z29: =L29 -> 4235
C30: =VLOOKUP(B26,Уч!$A$2:$L$16,12,FALSE) -> 0 | E30: Место | F30: =RANK(F29,$T$19:$T$85,0) -> #N/A | G30: =RANK(G29,$U$19:$U$85,0) -> #N/A | H30: =RANK(H29,$V$19:$V$85,0) -> #N/A | I30: =RANK(I29,$W$19:$W$85,0) -> #N/A | J30: =RANK(J29,$X$19:$X$85,0) -> #N/A | K30: =RANK(K29,$Y$19:$Y$85,0) -> #N/A | L30: =RANK(L29,$Z$19:$Z$85,0) -> #N/A | P30: =B26 -> 64 | Q30: =$A26 -> #N/A | R30: 5 | S30: =$A26 -> #N/A
A31: =RANK(M31,$M$16:$M$85,0) -> #N/A | B31: 17 | C31: =VLOOKUP(B31,Уч!$A$2:$L$16,2,FALSE) -> #N/A | D31: =VLOOKUP(B31,Уч!$A$2:$L$16,3,FALSE) -> #N/A | E31: Результат | F31: =VLOOKUP($B31,'110 сб '!$C$17:$I$87,5,FALSE) -> #N/A | G31: =VLOOKUP($B31,высота!$C$17:$AF$42,29,FALSE) -> #N/A | H31: =VLOOKUP($B31,ядро!$C$17:$K$43,8,FALSE) -> #N/A | I31: =VLOOKUP($B31,'2_р'!$C$17:$I$68,5,FALSE) -> #N/A | J31: =VLOOKUP($B31,Дл_р!$C$17:$O$43,11,FALSE) -> #N/A | K31: =VLOOKUP($B31,К_р!$C$18:$K$31,8,FALSE) -> #N/A | L31: =VLOOKUP($B31,'8_р'!$C$17:$H$77,5,FALSE) -> #N/A | M31: =SUM(F33:L33) -> #N/A | N31: =LOOKUP(M31,R$1:AA$1,R$2:AA$2) -> #N/A | O31: =AC31+AD31+5 -> #N/A | P31: =B31 -> 17 | Q31: =$A31 -> #N/A | R31: 1 | S31: =$A31 -> #N/A | AC31: =IF(AND(Q31>16,M31>=4600),"1",LOOKUP(Q31,Q$5:AH$5,Q$6:AH$6)) -> #N/A | AD31: =LOOKUP(N31,R$8:W$8,R$9:W$9) -> #N/A
C32: =VLOOKUP(B31,Уч!$A$2:$L$16,5,FALSE) -> #N/A | D32: =VLOOKUP(B31,Уч!$A$2:$L$16,4,FALSE) -> #N/A | E32: Ветер | F32: =VLOOKUP($B31,'110 сб '!$C$17:$I$87,6,FALSE) -> #N/A | I32: =VLOOKUP($B31,'2_р'!$C$17:$I$68,6,FALSE) -> #N/A | J32: =VLOOKUP($B31,Дл_р!$C$17:$O$43,12,FALSE) -> #N/A | O32: =CONCATENATE(AC31,"+",AD31,"+",5) -> #N/A | P32: =B31 -> 17 | Q32: =$A31 -> #N/A | R32: 2 | S32: =$A31 -> #N/A
C33: =VLOOKUP(B31,Уч!$A$2:$L$16,7,FALSE) -> #N/A | E33: Очки | F33: =VLOOKUP($B31,'110 сб '!$C$17:$I$87,7,FALSE) -> #N/A | G33: =VLOOKUP($B31,высота!$C$17:$AF$42,30,FALSE) -> #N/A | H33: =VLOOKUP($B31,ядро!$C$17:$K$43,9,FALSE) -> #N/A | I33: =VLOOKUP($B31,'2_р'!$C$17:$I$68,7,FALSE) -> #N/A | J33: =VLOOKUP($B31,Дл_р!$C$17:$O$43,13,FALSE) -> #N/A | K33: =VLOOKUP($B31,К_р!$C$18:$K$31,9,FALSE) -> #N/A | L33: =VLOOKUP($B31,'8_р'!$C$17:$H$77,6,FALSE) -> #N/A | P33: =B31 -> 17 | Q33: =$A31 -> #N/A | R33: 3 | S33: =$A31 -> #N/A
C34: =VLOOKUP(B31,Уч!$A$2:$L$16,11,FALSE) -> #N/A | E34: Сумма очков | F34: =F33 -> #N/A | G34: =F34+G33 -> #N/A | H34: =G34+H33 -> #N/A | I34: =H34+I33 -> #N/A | J34: =I34+J33 -> #N/A | K34: =J34+K33 -> #N/A | L34: =K34+L33 -> #N/A | P34: =B31 -> 17 | Q34: =$A31 -> #N/A | R34: 4 | S34: =$A31 -> #N/A | T34: =F34 -> #N/A | U34: =G34 -> #N/A | V34: =H34 -> #N/A | W34: =I34 -> #N/A | X34: =J34 -> #N/A | Y34: =K34 -> #N/A | Z34: =L34 -> #N/A
C35: =VLOOKUP(B31,Уч!$A$2:$L$16,12,FALSE) -> #N/A | E35: Место | F35: =RANK(F34,$T$19:$T$85,0) -> #N/A | G35: =RANK(G34,$U$19:$U$85,0) -> #N/A | H35: =RANK(H34,$V$19:$V$85,0) -> #N/A | I35: =RANK(I34,$W$19:$W$85,0) -> #N/A | J35: =RANK(J34,$X$19:$X$85,0) -> #N/A | K35: =RANK(K34,$Y$19:$Y$85,0) -> #N/A | L35: =RANK(L34,$Z$19:$Z$85,0) -> #N/A | P35: =B31 -> 17 | Q35: =$A31 -> #N/A | R35: 5 | S35: =$A31 -> #N/A
A36: =RANK(M36,$M$16:$M$85,0) -> #N/A | B36: 3 | C36: =VLOOKUP(B36,Уч!$A$2:$L$16,2,FALSE) -> #N/A | D36: =VLOOKUP(B36,Уч!$A$2:$L$16,3,FALSE) -> #N/A | E36: Результат | F36: =VLOOKUP($B36,'110 сб '!$C$17:$I$87,5,FALSE) -> #N/A | G36: =VLOOKUP($B36,высота!$C$17:$AF$42,29,FALSE) -> #N/A | H36: =VLOOKUP($B36,ядро!$C$17:$K$43,8,FALSE) -> #N/A | I36: =VLOOKUP($B36,'2_р'!$C$17:$I$68,5,FALSE) -> #N/A | J36: =VLOOKUP($B36,Дл_р!$C$17:$O$43,11,FALSE) -> #N/A | K36: =VLOOKUP($B36,К_р!$C$18:$K$31,8,FALSE) -> #N/A | L36: =VLOOKUP($B36,'8_р'!$C$17:$H$77,5,FALSE) -> #N/A | M36: =SUM(F38:L38) -> #N/A | N36: =LOOKUP(M36,R$1:AA$1,R$2:AA$2) -> #N/A | O36: =AC36+AD36+5 -> #N/A | P36: =B36 -> 3 | Q36: =$A36 -> #N/A | R36: 1 | S36: =$A36 -> #N/A | AC36: =IF(AND(Q36>16,M36>=4600),"1",LOOKUP(Q36,Q$5:AH$5,Q$6:AH$6)) -> #N/A | AD36: =LOOKUP(N36,R$8:W$8,R$9:W$9) -> #N/A
C37: =VLOOKUP(B36,Уч!$A$2:$L$16,5,FALSE) -> #N/A | D37: =VLOOKUP(B36,Уч!$A$2:$L$16,4,FALSE) -> #N/A | E37: Ветер | F37: =VLOOKUP($B36,'110 сб '!$C$17:$I$87,6,FALSE) -> #N/A | I37: =VLOOKUP($B36,'2_р'!$C$17:$I$68,6,FALSE) -> #N/A | J37: =VLOOKUP($B36,Дл_р!$C$17:$O$43,12,FALSE) -> #N/A | O37: =CONCATENATE(AC36,"+",AD36,"+",5) -> #N/A | P37: =B36 -> 3 | Q37: =$A36 -> #N/A | R37: 2 | S37: =$A36 -> #N/A
C38: =VLOOKUP(B36,Уч!$A$2:$L$16,7,FALSE) -> #N/A | E38: Очки | F38: =VLOOKUP($B36,'110 сб '!$C$17:$I$87,7,FALSE) -> #N/A | G38: =VLOOKUP($B36,высота!$C$17:$AF$42,30,FALSE) -> #N/A | H38: =VLOOKUP($B36,ядро!$C$17:$K$43,9,FALSE) -> #N/A | I38: =VLOOKUP($B36,'2_р'!$C$17:$I$68,7,FALSE) -> #N/A | J38: =VLOOKUP($B36,Дл_р!$C$17:$O$43,13,FALSE) -> #N/A | K38: =VLOOKUP($B36,К_р!$C$18:$K$31,9,FALSE) -> #N/A | L38: =VLOOKUP($B36,'8_р'!$C$17:$H$77,6,FALSE) -> #N/A | P38: =B36 -> 3 | Q38: =$A36 -> #N/A | R38: 3 | S38: =$A36 -> #N/A
C39: =VLOOKUP(B36,Уч!$A$2:$L$16,11,FALSE) -> #N/A | E39: Сумма очков | F39: =F38 -> #N/A | G39: =F39+G38 -> #N/A | H39: =G39+H38 -> #N/A | I39: =H39+I38 -> #N/A | J39: =I39+J38 -> #N/A | K39: =J39+K38 -> #N/A | L39: =K39+L38 -> #N/A | P39: =B36 -> 3 | Q39: =$A36 -> #N/A | R39: 4 | S39: =$A36 -> #N/A | T39: =F39 -> #N/A | U39: =G39 -> #N/A | V39: =H39 -> #N/A | W39: =I39 -> #N/A | X39: =J39 -> #N/A | Y39: =K39 -> #N/A | Z39: =L39 -> #N/A
C40: =VLOOKUP(B36,Уч!$A$2:$L$16,12,FALSE) -> #N/A | E40: Место | F40: =RANK(F39,$T$19:$T$85,0) -> #N/A | G40: =RANK(G39,$U$19:$U$85,0) -> #N/A | H40: =RANK(H39,$V$19:$V$85,0) -> #N/A | I40: =RANK(I39,$W$19:$W$85,0) -> #N/A | J40: =RANK(J39,$X$19:$X$85,0) -> #N/A | K40: =RANK(K39,$Y$19:$Y$85,0) -> #N/A | L40: =RANK(L39,$Z$19:$Z$85,0) -> #N/A | P40: =B36 -> 3 | Q40: =$A36 -> #N/A | R40: 5 | S40: =$A36 -> #N/A
A41: =RANK(M41,$M$16:$M$85,0) -> #N/A | B41: 4 | C41: =VLOOKUP(B41,Уч!$A$2:$L$16,2,FALSE) -> #N/A | D41: =VLOOKUP(B41,Уч!$A$2:$L$16,3,FALSE) -> #N/A | E41: Результат | F41: =VLOOKUP($B41,'110 сб '!$C$17:$I$87,5,FALSE) -> #N/A | G41: =VLOOKUP($B41,высота!$C$17:$AF$42,29,FALSE) -> #N/A | H41: =VLOOKUP($B41,ядро!$C$17:$K$43,8,FALSE) -> #N/A | I41: =VLOOKUP($B41,'2_р'!$C$17:$I$68,5,FALSE) -> #N/A | J41: =VLOOKUP($B41,Дл_р!$C$17:$O$43,11,FALSE) -> #N/A | K41: =VLOOKUP($B41,К_р!$C$18:$K$31,8,FALSE) -> #N/A | L41: =VLOOKUP($B41,'8_р'!$C$17:$H$77,5,FALSE) -> #N/A | M41: =SUM(F43:L43) -> #N/A | N41: =LOOKUP(M41,R$1:AA$1,R$2:AA$2) -> #N/A | O41: =AC41+AD41+5 -> #N/A | P41: =B41 -> 4 | Q41: =$A41 -> #N/A | R41: 1 | S41: =$A41 -> #N/A | AC41: =IF(AND(Q41>16,M41>=4600),"1",LOOKUP(Q41,Q$5:AH$5,Q$6:AH$6)) -> #N/A | AD41: =LOOKUP(N41,R$8:W$8,R$9:W$9) -> #N/A
C42: =VLOOKUP(B41,Уч!$A$2:$L$16,5,FALSE) -> #N/A | D42: =VLOOKUP(B41,Уч!$A$2:$L$16,4,FALSE) -> #N/A | E42: Ветер | F42: =VLOOKUP($B41,'110 сб '!$C$17:$I$87,6,FALSE) -> #N/A | I42: =VLOOKUP($B41,'2_р'!$C$17:$I$68,6,FALSE) -> #N/A | J42: =VLOOKUP($B41,Дл_р!$C$17:$O$43,12,FALSE) -> #N/A | O42: =CONCATENATE(AC41,"+",AD41,"+",5) -> #N/A | P42: =B41 -> 4 | Q42: =$A41 -> #N/A | R42: 2 | S42: =$A41 -> #N/A
C43: =VLOOKUP(B41,Уч!$A$2:$L$16,7,FALSE) -> #N/A | E43: Очки | F43: =VLOOKUP($B41,'110 сб '!$C$17:$I$87,7,FALSE) -> #N/A | G43: =VLOOKUP($B41,высота!$C$17:$AF$42,30,FALSE) -> #N/A | H43: =VLOOKUP($B41,ядро!$C$17:$K$43,9,FALSE) -> #N/A | I43: =VLOOKUP($B41,'2_р'!$C$17:$I$68,7,FALSE) -> #N/A | J43: =VLOOKUP($B41,Дл_р!$C$17:$O$43,13,FALSE) -> #N/A | K43: =VLOOKUP($B41,К_р!$C$18:$K$31,9,FALSE) -> #N/A | L43: =VLOOKUP($B41,'8_р'!$C$17:$H$77,6,FALSE) -> #N/A | P43: =B41 -> 4 | Q43: =$A41 -> #N/A | R43: 3 | S43: =$A41 -> #N/A
C44: =VLOOKUP(B41,Уч!$A$2:$L$16,11,FALSE) -> #N/A | E44: Сумма очков | F44: =F43 -> #N/A | G44: =F44+G43 -> #N/A | H44: =G44+H43 -> #N/A | I44: =H44+I43 -> #N/A | J44: =I44+J43 -> #N/A | K44: =J44+K43 -> #N/A | L44: =K44+L43 -> #N/A | P44: =B41 -> 4 | Q44: =$A41 -> #N/A | R44: 4 | S44: =$A41 -> #N/A | T44: =F44 -> #N/A | U44: =G44 -> #N/A | V44: =H44 -> #N/A | W44: =I44 -> #N/A | X44: =J44 -> #N/A | Y44: =K44 -> #N/A | Z44: =L44 -> #N/A
C45: =VLOOKUP(B41,Уч!$A$2:$L$16,12,FALSE) -> #N/A | E45: Место | F45: =RANK(F44,$T$19:$T$85,0) -> #N/A | G45: =RANK(G44,$U$19:$U$85,0) -> #N/A | H45: =RANK(H44,$V$19:$V$85,0) -> #N/A | I45: =RANK(I44,$W$19:$W$85,0) -> #N/A | J45: =RANK(J44,$X$19:$X$85,0) -> #N/A | K45: =RANK(K44,$Y$19:$Y$85,0) -> #N/A | L45: =RANK(L44,$Z$19:$Z$85,0) -> #N/A | P45: =B41 -> 4 | Q45: =$A41 -> #N/A | R45: 5 | S45: =$A41 -> #N/A
A46: =RANK(M46,$M$16:$M$85,0) -> #N/A | B46: 59 | C46: =VLOOKUP(B46,Уч!$A$2:$L$16,2,FALSE) -> #N/A | D46: =VLOOKUP(B46,Уч!$A$2:$L$16,3,FALSE) -> #N/A | E46: Результат | F46: =VLOOKUP($B46,'110 сб '!$C$17:$I$87,5,FALSE) -> #N/A | G46: =VLOOKUP($B46,высота!$C$17:$AF$42,29,FALSE) -> #N/A | H46: =VLOOKUP($B46,ядро!$C$17:$K$43,8,FALSE) -> #N/A | I46: =VLOOKUP($B46,'2_р'!$C$17:$I$68,5,FALSE) -> #N/A | J46: =VLOOKUP($B46,Дл_р!$C$17:$O$43,11,FALSE) -> #N/A | K46: =VLOOKUP($B46,К_р!$C$18:$K$31,8,FALSE) -> #N/A | L46: =VLOOKUP($B46,'8_р'!$C$17:$H$77,5,FALSE) -> 0 | M46: =SUM(F48:L48) -> #N/A | N46: =LOOKUP(M46,R$1:AA$1,R$2:AA$2) -> #N/A | O46: =AC46+AD46+5 -> #N/A | P46: =B46 -> 59 | Q46: =$A46 -> #N/A | R46: 1 | S46: =$A46 -> #N/A | AC46: =IF(AND(Q46>16,M46>=4600),"1",LOOKUP(Q46,Q$5:AH$5,Q$6:AH$6)) -> #N/A | AD46: =LOOKUP(N46,R$8:W$8,R$9:W$9) -> #N/A
C47: =VLOOKUP(B46,Уч!$A$2:$L$16,5,FALSE) -> #N/A | D47: =VLOOKUP(B46,Уч!$A$2:$L$16,4,FALSE) -> #N/A | E47: Ветер | F47: =VLOOKUP($B46,'110 сб '!$C$17:$I$87,6,FALSE) -> #N/A | I47: =VLOOKUP($B46,'2_р'!$C$17:$I$68,6,FALSE) -> #N/A | J47: =VLOOKUP($B46,Дл_р!$C$17:$O$43,12,FALSE) -> #N/A | O47: =CONCATENATE(AC46,"+",AD46,"+",5) -> #N/A | P47: =B46 -> 59 | Q47: =$A46 -> #N/A | R47: 2 | S47: =$A46 -> #N/A
C48: =VLOOKUP(B46,Уч!$A$2:$L$16,7,FALSE) -> #N/A | E48: Очки | F48: =VLOOKUP($B46,'110 сб '!$C$17:$I$87,7,FALSE) -> #N/A | G48: =VLOOKUP($B46,высота!$C$17:$AF$42,30,FALSE) -> #N/A | H48: =VLOOKUP($B46,ядро!$C$17:$K$43,9,FALSE) -> #N/A | I48: =VLOOKUP($B46,'2_р'!$C$17:$I$68,7,FALSE) -> #N/A | J48: =VLOOKUP($B46,Дл_р!$C$17:$O$43,13,FALSE) -> #N/A | K48: =VLOOKUP($B46,К_р!$C$18:$K$31,9,FALSE) -> #N/A | L48: =VLOOKUP($B46,'8_р'!$C$17:$H$77,6,FALSE) -> 0 | P48: =B46 -> 59 | Q48: =$A46 -> #N/A | R48: 3 | S48: =$A46 -> #N/A
C49: =VLOOKUP(B46,Уч!$A$2:$L$16,11,FALSE) -> #N/A | E49: Сумма очков | F49: =F48 -> #N/A | G49: =F49+G48 -> #N/A | H49: =G49+H48 -> #N/A | I49: =H49+I48 -> #N/A | J49: =I49+J48 -> #N/A | K49: =J49+K48 -> #N/A | L49: =K49+L48 -> #N/A | P49: =B46 -> 59 | Q49: =$A46 -> #N/A | R49: 4 | S49: =$A46 -> #N/A | T49: =F49 -> #N/A | U49: =G49 -> #N/A | V49: =H49 -> #N/A | W49: =I49 -> #N/A | X49: =J49 -> #N/A | Y49: =K49 -> #N/A | Z49: =L49 -> #N/A
C50: =VLOOKUP(B46,Уч!$A$2:$L$16,12,FALSE) -> #N/A | E50: Место | F50: =RANK(F49,$T$19:$T$85,0) -> #N/A | G50: =RANK(G49,$U$19:$U$85,0) -> #N/A | H50: =RANK(H49,$V$19:$V$85,0) -> #N/A | I50: =RANK(I49,$W$19:$W$85,0) -> #N/A | J50: =RANK(J49,$X$19:$X$85,0) -> #N/A | K50: =RANK(K49,$Y$19:$Y$85,0) -> #N/A | L50: =RANK(L49,$Z$19:$Z$85,0) -> #N/A | P50: =B46 -> 59 | Q50: =$A46 -> #N/A | R50: 5 | S50: =$A46 -> #N/A
A51: =RANK(M51,$M$16:$M$85,0) -> #N/A | B51: 8 | C51: =VLOOKUP(B51,Уч!$A$2:$L$16,2,FALSE) -> Бутвина Александра | D51: =VLOOKUP(B51,Уч!$A$2:$L$16,3,FALSE) -> 14.02.1986 | E51: Результат | F51: =VLOOKUP($B51,'110 сб '!$C$17:$I$87,5,FALSE) -> 14.98 | G51: =VLOOKUP($B51,высота!$C$17:$AF$42,29,FALSE) -> 1.62 | H51: =VLOOKUP($B51,ядро!$C$17:$K$43,8,FALSE) -> 12.17 | I51: =VLOOKUP($B51,'2_р'!$C$17:$I$68,5,FALSE) -> #N/A | J51: =VLOOKUP($B51,Дл_р!$C$17:$O$43,11,FALSE) -> #N/A | K51: =VLOOKUP($B51,К_р!$C$18:$K$31,8,FALSE) -> #N/A | L51: =VLOOKUP($B51,'8_р'!$C$17:$H$77,5,FALSE) -> #N/A | M51: =SUM(F53:L53) -> #N/A | N51: =LOOKUP(M51,R$1:AA$1,R$2:AA$2) -> #N/A | O51: =AC51+AD51+5 -> #N/A | P51: =B51 -> 8 | Q51: =$A51 -> #N/A | R51: 1 | S51: =$A51 -> #N/A | AC51: =IF(AND(Q51>16,M51>=4600),"1",LOOKUP(Q51,Q$5:AH$5,Q$6:AH$6)) -> #N/A | AD51: =LOOKUP(N51,R$8:W$8,R$9:W$9) -> #N/A
C52: =VLOOKUP(B51,Уч!$A$2:$L$16,5,FALSE) -> Ростовская область Санкт-Петербург | D52: =VLOOKUP(B51,Уч!$A$2:$L$16,4,FALSE) -> МСМК | E52: Ветер | F52: =VLOOKUP($B51,'110 сб '!$C$17:$I$87,6,FALSE) -> 0 | I52: =VLOOKUP($B51,'2_р'!$C$17:$I$68,6,FALSE) -> #N/A | J52: =VLOOKUP($B51,Дл_р!$C$17:$O$43,12,FALSE) -> #N/A | O52: =CONCATENATE(AC51,"+",AD51,"+",5) -> #N/A | P52: =B51 -> 8 | Q52: =$A51 -> #N/A | R52: 2 | S52: =$A51 -> #N/A
C53: =VLOOKUP(B51,Уч!$A$2:$L$16,7,FALSE) -> ГБУ РО "ЦОП №1", СПб ГБУ ЦОП "ШВСМ по легкой атлетике" | E53: Очки | F53: =VLOOKUP($B51,'110 сб '!$C$17:$I$87,7,FALSE) -> 844 | G53: =VLOOKUP($B51,высота!$C$17:$AF$42,30,FALSE) -> 0 | H53: =VLOOKUP($B51,ядро!$C$17:$K$43,9,FALSE) -> 672 | I53: =VLOOKUP($B51,'2_р'!$C$17:$I$68,7,FALSE) -> #N/A | J53: =VLOOKUP($B51,Дл_р!$C$17:$O$43,13,FALSE) -> #N/A | K53: =VLOOKUP($B51,К_р!$C$18:$K$31,9,FALSE) -> #N/A | L53: =VLOOKUP($B51,'8_р'!$C$17:$H$77,6,FALSE) -> #N/A | P53: =B51 -> 8 | Q53: =$A51 -> #N/A | R53: 3 | S53: =$A51 -> #N/A
C54: =VLOOKUP(B51,Уч!$A$2:$L$16,11,FALSE) -> Есина И.А., Сретенцев В.В., Радух А.О. | E54: Сумма очков | F54: =F53 -> 844 | G54: =F54+G53 -> 844 | H54: =G54+H53 -> 1516 | I54: =H54+I53 -> #N/A | J54: =I54+J53 -> #N/A | K54: =J54+K53 -> #N/A | L54: =K54+L53 -> #N/A | P54: =B51 -> 8 | Q54: =$A51 -> #N/A | R54: 4 | S54: =$A51 -> #N/A | T54: =F54 -> 844 | U54: =G54 -> 844 | V54: =H54 -> 1516 | W54: =I54 -> #N/A | X54: =J54 -> #N/A | Y54: =K54 -> #N/A | Z54: =L54 -> #N/A
C55: =VLOOKUP(B51,Уч!$A$2:$L$16,12,FALSE) | E55: Место | F55: =RANK(F54,$T$19:$T$85,0) -> #N/A | G55: =RANK(G54,$U$19:$U$85,0) -> #N/A | H55: =RANK(H54,$V$19:$V$85,0) -> #N/A | I55: =RANK(I54,$W$19:$W$85,0) -> #N/A | J55: =RANK(J54,$X$19:$X$85,0) -> #N/A | K55: =RANK(K54,$Y$19:$Y$85,0) -> #N/A | L55: =RANK(L54,$Z$19:$Z$85,0) -> #N/A | P55: =B51 -> 8 | Q55: =$A51 -> #N/A | R55: 5 | S55: =$A51 -> #N/A
A56: =RANK(M56,$M$16:$M$85,0) -> #N/A | B56: 37 | C56: =VLOOKUP(B56,Уч!$A$2:$L$16,2,FALSE) -> #N/A | D56: =VLOOKUP(B56,Уч!$A$2:$L$16,3,FALSE) -> #N/A | E56: Результат | F56: =VLOOKUP($B56,'110 сб '!$C$17:$I$87,5,FALSE) -> #N/A | G56: =VLOOKUP($B56,высота!$C$17:$AF$42,29,FALSE) -> #N/A | H56: =VLOOKUP($B56,ядро!$C$17:$K$43,8,FALSE) -> #N/A | I56: =VLOOKUP($B56,'2_р'!$C$17:$I$68,5,FALSE) -> 24.78 | J56: =VLOOKUP($B56,Дл_р!$C$17:$O$43,11,FALSE) -> 5.92 | K56: =VLOOKUP($B56,К_р!$C$18:$K$31,8,FALSE) -> 39.27 | L56: =VLOOKUP($B56,'8_р'!$C$17:$H$77,5,FALSE) -> 2:16.34 | M56: =SUM(F58:L58) -> #N/A | N56: =LOOKUP(M56,R$1:AA$1,R$2:AA$2) -> #N/A | O56: =AC56+AD56+5 -> #N/A | P56: =B56 -> 37 | Q56: =$A56 -> #N/A | R56: 1 | S56: =$A56 -> #N/A | AC56: =IF(AND(Q56>16,M56>=4600),"1",LOOKUP(Q56,Q$5:AH$5,Q$6:AH$6)) -> #N/A | AD56: =LOOKUP(N56,R$8:W$8,R$9:W$9) -> #N/A
C57: =VLOOKUP(B56,Уч!$A$2:$L$16,5,FALSE) -> #N/A | D57: =VLOOKUP(B56,Уч!$A$2:$L$16,4,FALSE) -> #N/A | E57: Ветер | F57: =VLOOKUP($B56,'110 сб '!$C$17:$I$87,6,FALSE) -> #N/A | I57: =VLOOKUP($B56,'2_р'!$C$17:$I$68,6,FALSE) -> 1.2 | J57: =VLOOKUP($B56,Дл_р!$C$17:$O$43,12,FALSE) -> -1 | O57: =CONCATENATE(AC56,"+",AD56,"+",5) -> #N/A | P57: =B56 -> 37 | Q57: =$A56 -> #N/A | R57: 2 | S57: =$A56 -> #N/A
C58: =VLOOKUP(B56,Уч!$A$2:$L$16,7,FALSE) -> #N/A | E58: Очки | F58: =VLOOKUP($B56,'110 сб '!$C$17:$I$87,7,FALSE) -> #N/A | G58: =VLOOKUP($B56,высота!$C$17:$AF$42,30,FALSE) -> #N/A | H58: =VLOOKUP($B56,ядро!$C$17:$K$43,9,FALSE) -> #N/A | I58: =VLOOKUP($B56,'2_р'!$C$17:$I$68,7,FALSE) -> 907 | J58: =VLOOKUP($B56,Дл_р!$C$17:$O$43,13,FALSE) -> 825 | K58: =VLOOKUP($B56,К_р!$C$18:$K$31,9,FALSE) -> 653 | L58: =VLOOKUP($B56,'8_р'!$C$17:$H$77,6,FALSE) -> 874 | P58: =B56 -> 37 | Q58: =$A56 -> #N/A | R58: 3 | S58: =$A56 -> #N/A
C59: =VLOOKUP(B56,Уч!$A$2:$L$16,11,FALSE) -> #N/A | E59: Сумма очков | F59: =F58 -> #N/A | G59: =F59+G58 -> #N/A | H59: =G59+H58 -> #N/A | I59: =H59+I58 -> #N/A | J59: =I59+J58 -> #N/A | K59: =J59+K58 -> #N/A | L59: =K59+L58 -> #N/A | P59: =B56 -> 37 | Q59: =$A56 -> #N/A | R59: 4 | S59: =$A56 -> #N/A | T59: =F59 -> #N/A | U59: =G59 -> #N/A | V59: =H59 -> #N/A | W59: =I59 -> #N/A | X59: =J59 -> #N/A | Y59: =K59 -> #N/A | Z59: =L59 -> #N/A
C60: =VLOOKUP(B56,Уч!$A$2:$L$16,12,FALSE) -> #N/A | E60: Место | F60: =RANK(F59,$T$19:$T$85,0) -> #N/A | G60: =RANK(G59,$U$19:$U$85,0) -> #N/A | H60: =RANK(H59,$V$19:$V$85,0) -> #N/A | I60: =RANK(I59,$W$19:$W$85,0) -> #N/A | J60: =RANK(J59,$X$19:$X$85,0) -> #N/A | K60: =RANK(K59,$Y$19:$Y$85,0) -> #N/A | L60: =RANK(L59,$Z$19:$Z$85,0) -> #N/A | P60: =B56 -> 37 | Q60: =$A56 -> #N/A | R60: 5 | S60: =$A56 -> #N/A
A61: =RANK(M61,$M$16:$M$85,0) -> #N/A | B61: 70 | C61: =VLOOKUP(B61,Уч!$A$2:$L$16,2,FALSE) -> #N/A | D61: =VLOOKUP(B61,Уч!$A$2:$L$16,3,FALSE) -> #N/A | E61: Результат | F61: =VLOOKUP($B61,'110 сб '!$C$17:$I$87,5,FALSE) -> #N/A | G61: =VLOOKUP($B61,высота!$C$17:$AF$42,29,FALSE) -> #N/A | H61: =VLOOKUP($B61,ядро!$C$17:$K$43,8,FALSE) -> #N/A | I61: =VLOOKUP($B61,'2_р'!$C$17:$I$68,5,FALSE) -> #N/A | J61: =VLOOKUP($B61,Дл_р!$C$17:$O$43,11,FALSE) -> #N/A | K61: =VLOOKUP($B61,К_р!$C$18:$K$31,8,FALSE) -> #N/A | L61: =VLOOKUP($B61,'8_р'!$C$17:$H$77,5,FALSE) -> #N/A | M61: =SUM(F63:L63) -> #N/A | N61: =LOOKUP(M61,R$1:AA$1,R$2:AA$2) -> #N/A | O61: =AC61+AD61+5 -> #N/A | P61: =B61 -> 70 | Q61: =$A61 -> #N/A | R61: 1 | S61: =$A61 -> #N/A | AC61: =IF(AND(Q61>16,M61>=4600),"1",LOOKUP(Q61,Q$5:AH$5,Q$6:AH$6)) -> #N/A | AD61: =LOOKUP(N61,R$8:W$8,R$9:W$9) -> #N/A
C62: =VLOOKUP(B61,Уч!$A$2:$L$16,5,FALSE) -> #N/A | D62: =VLOOKUP(B61,Уч!$A$2:$L$16,4,FALSE) -> #N/A | E62: Ветер | F62: =VLOOKUP($B61,'110 сб '!$C$17:$I$87,6,FALSE) -> #N/A | I62: =VLOOKUP($B61,'2_р'!$C$17:$I$68,6,FALSE) -> #N/A | J62: =VLOOKUP($B61,Дл_р!$C$17:$O$43,12,FALSE) -> #N/A | O62: =CONCATENATE(AC61,"+",AD61,"+",5) -> #N/A | P62: =B61 -> 70 | Q62: =$A61 -> #N/A | R62: 2 | S62: =$A61 -> #N/A
C63: =VLOOKUP(B61,Уч!$A$2:$L$16,7,FALSE) -> #N/A | E63: Очки | F63: =VLOOKUP($B61,'110 сб '!$C$17:$I$87,7,FALSE) -> #N/A | G63: =VLOOKUP($B61,высота!$C$17:$AF$42,30,FALSE) -> #N/A | H63: =VLOOKUP($B61,ядро!$C$17:$K$43,9,FALSE) -> #N/A | I63: =VLOOKUP($B61,'2_р'!$C$17:$I$68,7,FALSE) -> #N/A | J63: =VLOOKUP($B61,Дл_р!$C$17:$O$43,13,FALSE) -> #N/A | K63: =VLOOKUP($B61,К_р!$C$18:$K$31,9,FALSE) -> #N/A | L63: =VLOOKUP($B61,'8_р'!$C$17:$H$77,6,FALSE) -> #N/A | P63: =B61 -> 70 | Q63: =$A61 -> #N/A | R63: 3 | S63: =$A61 -> #N/A
C64: =VLOOKUP(B61,Уч!$A$2:$L$16,11,FALSE) -> #N/A | E64: Сумма очков | F64: =F63 -> #N/A | G64: =F64+G63 -> #N/A | H64: =G64+H63 -> #N/A | I64: =H64+I63 -> #N/A | J64: =I64+J63 -> #N/A | K64: =J64+K63 -> #N/A | L64: =K64+L63 -> #N/A | P64: =B61 -> 70 | Q64: =$A61 -> #N/A | R64: 4 | S64: =$A61 -> #N/A | T64: =F64 -> #N/A | U64: =G64 -> #N/A | V64: =H64 -> #N/A | W64: =I64 -> #N/A | X64: =J64 -> #N/A | Y64: =K64 -> #N/A | Z64: =L64 -> #N/A
C65: =VLOOKUP(B61,Уч!$A$2:$L$16,12,FALSE) -> #N/A | E65: Место | F65: =RANK(F64,$T$19:$T$85,0) -> #N/A | G65: =RANK(G64,$U$19:$U$85,0) -> #N/A | H65: =RANK(H64,$V$19:$V$85,0) -> #N/A | I65: =RANK(I64,$W$19:$W$85,0) -> #N/A | J65: =RANK(J64,$X$19:$X$85,0) -> #N/A | K65: =RANK(K64,$Y$19:$Y$85,0) -> #N/A | L65: =RANK(L64,$Z$19:$Z$85,0) -> #N/A | P65: =B61 -> 70 | Q65: =$A61 -> #N/A | R65: 5 | S65: =$A61 -> #N/A
A66: =RANK(M66,$M$16:$M$85,0) -> #N/A | B66: 26 | C66: =VLOOKUP(B66,Уч!$A$2:$L$16,2,FALSE) -> #N/A | D66: =VLOOKUP(B66,Уч!$A$2:$L$16,3,FALSE) -> #N/A | E66: Результат | F66: =VLOOKUP($B66,'110 сб '!$C$17:$I$87,5,FALSE) -> #N/A | G66: =VLOOKUP($B66,высота!$C$17:$AF$42,29,FALSE) -> #N/A | H66: =VLOOKUP($B66,ядро!$C$17:$K$43,8,FALSE) -> #N/A | I66: =VLOOKUP($B66,'2_р'!$C$17:$I$68,5,FALSE) -> #N/A | J66: =VLOOKUP($B66,Дл_р!$C$17:$O$43,11,FALSE) -> #N/A | K66: =VLOOKUP($B66,К_р!$C$18:$K$31,8,FALSE) -> #N/A | L66: =VLOOKUP($B66,'8_р'!$C$17:$H$77,5,FALSE) -> #N/A | M66: =SUM(F68:L68) -> #N/A | N66: =LOOKUP(M66,R$1:AA$1,R$2:AA$2) -> #N/A | O66: =AC66+AD66+5 -> #N/A | P66: =B66 -> 26 | Q66: =$A66 -> #N/A | R66: 1 | S66: =$A66 -> #N/A | AC66: =IF(AND(Q66>16,M66>=4600),"1",LOOKUP(Q66,Q$5:AH$5,Q$6:AH$6)) -> #N/A | AD66: =LOOKUP(N66,R$8:W$8,R$9:W$9) -> #N/A
C67: =VLOOKUP(B66,Уч!$A$2:$L$16,5,FALSE) -> #N/A | D67: =VLOOKUP(B66,Уч!$A$2:$L$16,4,FALSE) -> #N/A | E67: Ветер | F67: =VLOOKUP($B66,'110 сб '!$C$17:$I$87,6,FALSE) -> #N/A | I67: =VLOOKUP($B66,'2_р'!$C$17:$I$68,6,FALSE) -> #N/A | J67: =VLOOKUP($B66,Дл_р!$C$17:$O$43,12,FALSE) -> #N/A | O67: =CONCATENATE(AC66,"+",AD66,"+",5) -> #N/A | P67: =B66 -> 26 | Q67: =$A66 -> #N/A | R67: 2 | S67: =$A66 -> #N/A
C68: =VLOOKUP(B66,Уч!$A$2:$L$16,7,FALSE) -> #N/A | E68: Очки | F68: =VLOOKUP($B66,'110 сб '!$C$17:$I$87,7,FALSE) -> #N/A | G68: =VLOOKUP($B66,высота!$C$17:$AF$42,30,FALSE) -> #N/A | H68: =VLOOKUP($B66,ядро!$C$17:$K$43,9,FALSE) -> #N/A | I68: =VLOOKUP($B66,'2_р'!$C$17:$I$68,7,FALSE) -> #N/A | J68: =VLOOKUP($B66,Дл_р!$C$17:$O$43,13,FALSE) -> #N/A | K68: =VLOOKUP($B66,К_р!$C$18:$K$31,9,FALSE) -> #N/A | L68: =VLOOKUP($B66,'8_р'!$C$17:$H$77,6,FALSE) -> #N/A | P68: =B66 -> 26 | Q68: =$A66 -> #N/A | R68: 3 | S68: =$A66 -> #N/A
C69: =VLOOKUP(B66,Уч!$A$2:$L$16,11,FALSE) -> #N/A | E69: Сумма очков | F69: =F68 -> #N/A | G69: =F69+G68 -> #N/A | H69: =G69+H68 -> #N/A | I69: =H69+I68 -> #N/A | J69: =I69+J68 -> #N/A | K69: =J69+K68 -> #N/A | L69: =K69+L68 -> #N/A | P69: =B66 -> 26 | Q69: =$A66 -> #N/A | R69: 4 | S69: =$A66 -> #N/A | T69: =F69 -> #N/A | U69: =G69 -> #N/A | V69: =H69 -> #N/A | W69: =I69 -> #N/A | X69: =J69 -> #N/A | Y69: =K69 -> #N/A | Z69: =L69 -> #N/A
C70: =VLOOKUP(B66,Уч!$A$2:$L$16,12,FALSE) -> #N/A | E70: Место | F70: =RANK(F69,$T$19:$T$85,0) -> #N/A | G70: =RANK(G69,$U$19:$U$85,0) -> #N/A | H70: =RANK(H69,$V$19:$V$85,0) -> #N/A | I70: =RANK(I69,$W$19:$W$85,0) -> #N/A | J70: =RANK(J69,$X$19:$X$85,0) -> #N/A | K70: =RANK(K69,$Y$19:$Y$85,0) -> #N/A | L70: =RANK(L69,$Z$19:$Z$85,0) -> #N/A | P70: =B66 -> 26 | Q70: =$A66 -> #N/A | R70: 5 | S70: =$A66 -> #N/A
A71: =RANK(M71,$M$16:$M$85,0) -> #N/A | B71: 23 | C71: =VLOOKUP(B71,Уч!$A$2:$L$16,2,FALSE) -> Пириева Марина | D71: =VLOOKUP(B71,Уч!$A$2:$L$16,3,FALSE) -> 16.07.1998 | E71: Результат | F71: =VLOOKUP($B71,'110 сб '!$C$17:$I$87,5,FALSE) -> 14.67 | G71: =VLOOKUP($B71,высота!$C$17:$AF$42,29,FALSE) -> 1.71 | H71: =VLOOKUP($B71,ядро!$C$17:$K$43,8,FALSE) -> 0 | I71: =VLOOKUP($B71,'2_р'!$C$17:$I$68,5,FALSE) -> #N/A | J71: =VLOOKUP($B71,Дл_р!$C$17:$O$43,11,FALSE) -> #N/A | K71: =VLOOKUP($B71,К_р!$C$18:$K$31,8,FALSE) -> #N/A | L71: =VLOOKUP($B71,'8_р'!$C$17:$H$77,5,FALSE) -> #N/A | M71: =SUM(F73:L73) -> #N/A | N71: =LOOKUP(M71,R$1:AA$1,R$2:AA$2) -> #N/A | O71: =AC71+AD71+5 -> #N/A | P71: =B71 -> 23 | Q71: =$A71 -> #N/A | R71: 1 | S71: =$A71 -> #N/A | AC71: =IF(AND(Q71>16,M71>=4600),"1",LOOKUP(Q71,Q$5:AH$5,Q$6:AH$6)) -> #N/A | AD71: =LOOKUP(N71,R$8:W$8,R$9:W$9) -> #N/A
C72: =VLOOKUP(B71,Уч!$A$2:$L$16,5,FALSE) -> ЮФО (К) | D72: =VLOOKUP(B71,Уч!$A$2:$L$16,4,FALSE) -> КМС | E72: Ветер | F72: =VLOOKUP($B71,'110 сб '!$C$17:$I$87,6,FALSE) -> 0 | I72: =VLOOKUP($B71,'2_р'!$C$17:$I$68,6,FALSE) -> #N/A | J72: =VLOOKUP($B71,Дл_р!$C$17:$O$43,12,FALSE) -> #N/A | O72: =CONCATENATE(AC71,"+",AD71,"+",5) -> #N/A | P72: =B71 -> 23 | Q72: =$A71 -> #N/A | R72: 2 | S72: =$A71 -> #N/A
C73: =VLOOKUP(B71,Уч!$A$2:$L$16,7,FALSE) -> ГБУ РК "СШ №1 г.Симферополь" | E73: Очки | F73: =VLOOKUP($B71,'110 сб '!$C$17:$I$87,7,FALSE) -> 886 | G73: =VLOOKUP($B71,высота!$C$17:$AF$42,30,FALSE) -> 0 | H73: =VLOOKUP($B71,ядро!$C$17:$K$43,9,FALSE) -> 0 | I73: =VLOOKUP($B71,'2_р'!$C$17:$I$68,7,FALSE) -> #N/A | J73: =VLOOKUP($B71,Дл_р!$C$17:$O$43,13,FALSE) -> #N/A | K73: =VLOOKUP($B71,К_р!$C$18:$K$31,9,FALSE) -> #N/A | L73: =VLOOKUP($B71,'8_р'!$C$17:$H$77,6,FALSE) -> #N/A | P73: =B71 -> 23 | Q73: =$A71 -> #N/A | R73: 3 | S73: =$A71 -> #N/A
C74: =VLOOKUP(B71,Уч!$A$2:$L$16,11,FALSE) -> Леонов О.Н., Копытич А.Л., Копытич Д.Л. | E74: Сумма очков | F74: =F73 -> 886 | G74: =F74+G73 -> 886 | H74: =G74+H73 -> 886 | I74: =H74+I73 -> #N/A | J74: =I74+J73 -> #N/A | K74: =J74+K73 -> #N/A | L74: =K74+L73 -> #N/A | P74: =B71 -> 23 | Q74: =$A71 -> #N/A | R74: 4 | S74: =$A71 -> #N/A | T74: =F74 -> 886 | U74: =G74 -> 886 | V74: =H74 -> 886 | W74: =I74 -> #N/A | X74: =J74 -> #N/A | Y74: =K74 -> #N/A | Z74: =L74 -> #N/A
C75: =VLOOKUP(B71,Уч!$A$2:$L$16,12,FALSE) | E75: Место | F75: =RANK(F74,$T$19:$T$85,0) -> #N/A | G75: =RANK(G74,$U$19:$U$85,0) -> #N/A | H75: =RANK(H74,$V$19:$V$85,0) -> #N/A | I75: =RANK(I74,$W$19:$W$85,0) -> #N/A | J75: =RANK(J74,$X$19:$X$85,0) -> #N/A | K75: =RANK(K74,$Y$19:$Y$85,0) -> #N/A | L75: =RANK(L74,$Z$19:$Z$85,0) -> #N/A | P75: =B71 -> 23 | Q75: =$A71 -> #N/A | R75: 5 | S75: =$A71 -> #N/A
A76: =RANK(M76,$M$16:$M$85,0) -> #N/A | B76: 42 | C76: =VLOOKUP(B76,Уч!$A$2:$L$16,2,FALSE) -> #N/A | D76: =VLOOKUP(B76,Уч!$A$2:$L$16,3,FALSE) -> #N/A | E76: Результат | F76: =VLOOKUP($B76,'110 сб '!$C$17:$I$87,5,FALSE) -> #N/A | G76: =VLOOKUP($B76,высота!$C$17:$AF$42,29,FALSE) -> #N/A | H76: =VLOOKUP($B76,ядро!$C$17:$K$43,8,FALSE) -> #N/A | I76: =VLOOKUP($B76,'2_р'!$C$17:$I$68,5,FALSE) -> 0 | J76: =VLOOKUP($B76,Дл_р!$C$17:$O$43,11,FALSE) -> #N/A | K76: =VLOOKUP($B76,К_р!$C$18:$K$31,8,FALSE) -> #N/A | L76: =VLOOKUP($B76,'8_р'!$C$17:$H$77,5,FALSE) -> 0 | M76: =SUM(F78:L78) -> #N/A | N76: =LOOKUP(M76,R$1:AA$1,R$2:AA$2) -> #N/A | O76: =AC76+AD76+5 -> #N/A | P76: =B76 -> 42 | Q76: =$A76 -> #N/A | R76: 1 | S76: =$A76 -> #N/A | AC76: =IF(AND(Q76>16,M76>=4600),"1",LOOKUP(Q76,Q$5:AH$5,Q$6:AH$6)) -> #N/A | AD76: =LOOKUP(N76,R$8:W$8,R$9:W$9) -> #N/A
C77: =VLOOKUP(B76,Уч!$A$2:$L$16,5,FALSE) -> #N/A | D77: =VLOOKUP(B76,Уч!$A$2:$L$16,4,FALSE) -> #N/A | E77: Ветер | F77: =VLOOKUP($B76,'110 сб '!$C$17:$I$87,6,FALSE) -> #N/A | I77: =VLOOKUP($B76,'2_р'!$C$17:$I$68,6,FALSE) -> 0 | J77: =VLOOKUP($B76,Дл_р!$C$17:$O$43,12,FALSE) -> #N/A | O77: =CONCATENATE(AC76,"+",AD76,"+",5) -> #N/A | P77: =B76 -> 42 | Q77: =$A76 -> #N/A | R77: 2 | S77: =$A76 -> #N/A
C78: =VLOOKUP(B76,Уч!$A$2:$L$16,7,FALSE) -> #N/A | E78: Очки | F78: =VLOOKUP($B76,'110 сб '!$C$17:$I$87,7,FALSE) -> #N/A | G78: =VLOOKUP($B76,высота!$C$17:$AF$42,30,FALSE) -> #N/A | H78: =VLOOKUP($B76,ядро!$C$17:$K$43,9,FALSE) -> #N/A | I78: =VLOOKUP($B76,'2_р'!$C$17:$I$68,7,FALSE) -> 0 | J78: =VLOOKUP($B76,Дл_р!$C$17:$O$43,13,FALSE) -> #N/A | K78: =VLOOKUP($B76,К_р!$C$18:$K$31,9,FALSE) -> #N/A | L78: =VLOOKUP($B76,'8_р'!$C$17:$H$77,6,FALSE) -> 0 | P78: =B76 -> 42 | Q78: =$A76 -> #N/A | R78: 3 | S78: =$A76 -> #N/A
C79: =VLOOKUP(B76,Уч!$A$2:$L$16,11,FALSE) -> #N/A | E79: Сумма очков | F79: =F78 -> #N/A | G79: =F79+G78 -> #N/A | H79: =G79+H78 -> #N/A | I79: =H79+I78 -> #N/A | J79: =I79+J78 -> #N/A | K79: =J79+K78 -> #N/A | L79: =K79+L78 -> #N/A | P79: =B76 -> 42 | Q79: =$A76 -> #N/A | R79: 4 | S79: =$A76 -> #N/A | T79: =F79 -> #N/A | U79: =G79 -> #N/A | V79: =H79 -> #N/A | W79: =I79 -> #N/A | X79: =J79 -> #N/A | Y79: =K79 -> #N/A | Z79: =L79 -> #N/A
C80: =VLOOKUP(B76,Уч!$A$2:$L$16,12,FALSE) -> #N/A | E80: Место | F80: =RANK(F79,$T$19:$T$85,0) -> #N/A | G80: =RANK(G79,$U$19:$U$85,0) -> #N/A | H80: =RANK(H79,$V$19:$V$85,0) -> #N/A | I80: =RANK(I79,$W$19:$W$85,0) -> #N/A | J80: =RANK(J79,$X$19:$X$85,0) -> #N/A | K80: =RANK(K79,$Y$19:$Y$85,0) -> #N/A | L80: =RANK(L79,$Z$19:$Z$85,0) -> #N/A | P80: =B76 -> 42 | Q80: =$A76 -> #N/A | R80: 5 | S80: =$A76 -> #N/A
A81: =RANK(M81,$M$16:$M$85,0) -> #N/A | B81: 49 | C81: =VLOOKUP(B81,Уч!$A$2:$L$16,2,FALSE) -> #N/A | D81: =VLOOKUP(B81,Уч!$A$2:$L$16,3,FALSE) -> #N/A | E81: Результат | F81: =VLOOKUP($B81,'110 сб '!$C$17:$I$87,5,FALSE) -> #N/A | G81: =VLOOKUP($B81,высота!$C$17:$AF$42,29,FALSE) -> #N/A | H81: =VLOOKUP($B81,ядро!$C$17:$K$43,8,FALSE) -> #N/A | I81: =VLOOKUP($B81,'2_р'!$C$17:$I$68,5,FALSE) -> #N/A | J81: =VLOOKUP($B81,Дл_р!$C$17:$O$43,11,FALSE) -> #N/A | K81: =VLOOKUP($B81,К_р!$C$18:$K$31,8,FALSE) -> #N/A | L81: =VLOOKUP($B81,'8_р'!$C$17:$H$77,5,FALSE) -> 0 | M81: =SUM(F83:L83) -> #N/A | N81: =LOOKUP(M81,R$1:AA$1,R$2:AA$2) -> #N/A | O81: =AC81+AD81+5 -> #N/A | P81: =B81 -> 49 | Q81: =$A81 -> #N/A | R81: 1 | S81: =$A81 -> #N/A | AC81: =IF(AND(Q81>16,M81>=4600),"1",LOOKUP(Q81,Q$5:AH$5,Q$6:AH$6)) -> #N/A | AD81: =LOOKUP(N81,R$8:W$8,R$9:W$9) -> #N/A
C82: =VLOOKUP(B81,Уч!$A$2:$L$16,5,FALSE) -> #N/A | D82: =VLOOKUP(B81,Уч!$A$2:$L$16,4,FALSE) -> #N/A | E82: Ветер | F82: =VLOOKUP($B81,'110 сб '!$C$17:$I$87,6,FALSE) -> #N/A | I82: =VLOOKUP($B81,'2_р'!$C$17:$I$68,6,FALSE) -> #N/A | J82: =VLOOKUP($B81,Дл_р!$C$17:$O$43,12,FALSE) -> #N/A | O82: =CONCATENATE(AC81,"+",AD81,"+",5) -> #N/A | P82: =B81 -> 49 | Q82: =$A81 -> #N/A | R82: 2 | S82: =$A81 -> #N/A
C83: =VLOOKUP(B81,Уч!$A$2:$L$16,7,FALSE) -> #N/A | E83: Очки | F83: =VLOOKUP($B81,'110 сб '!$C$17:$I$87,7,FALSE) -> #N/A | G83: =VLOOKUP($B81,высота!$C$17:$AF$42,30,FALSE) -> #N/A | H83: =VLOOKUP($B81,ядро!$C$17:$K$43,9,FALSE) -> #N/A | I83: =VLOOKUP($B81,'2_р'!$C$17:$I$68,7,FALSE) -> #N/A | J83: =VLOOKUP($B81,Дл_р!$C$17:$O$43,13,FALSE) -> #N/A | K83: =VLOOKUP($B81,К_р!$C$18:$K$31,9,FALSE) -> #N/A | L83: =VLOOKUP($B81,'8_р'!$C$17:$H$77,6,FALSE) -> 0 | P83: =B81 -> 49 | Q83: =$A81 -> #N/A | R83: 3 | S83: =$A81 -> #N/A
C84: =VLOOKUP(B81,Уч!$A$2:$L$16,11,FALSE) -> #N/A | E84: Сумма очков | F84: =F83 -> #N/A | G84: =F84+G83 -> #N/A | H84: =G84+H83 -> #N/A | I84: =H84+I83 -> #N/A | J84: =I84+J83 -> #N/A | K84: =J84+K83 -> #N/A | L84: =K84+L83 -> #N/A | P84: =B81 -> 49 | Q84: =$A81 -> #N/A | R84: 4 | S84: =$A81 -> #N/A | T84: =F84 -> #N/A | U84: =G84 -> #N/A | V84: =H84 -> #N/A | W84: =I84 -> #N/A | X84: =J84 -> #N/A | Y84: =K84 -> #N/A | Z84: =L84 -> #N/A
C85: =VLOOKUP(B81,Уч!$A$2:$L$16,12,FALSE) -> #N/A | E85: Место | F85: =RANK(F84,$T$19:$T$85,0) -> #N/A | G85: =RANK(G84,$U$19:$U$85,0) -> #N/A | H85: =RANK(H84,$V$19:$V$85,0) -> #N/A | I85: =RANK(I84,$W$19:$W$85,0) -> #N/A | J85: =RANK(J84,$X$19:$X$85,0) -> #N/A | K85: =RANK(K84,$Y$19:$Y$85,0) -> #N/A | L85: =RANK(L84,$Z$19:$Z$85,0) -> #N/A | P85: =B81 -> 49 | Q85: =$A81 -> #N/A | R85: 5 | S85: =$A81 -> #N/A
A86: =RANK(M86,$M$16:$M$85,0) -> #N/A | B86: 1362 | C86: =VLOOKUP(B86,Уч!$A$2:$L$16,2,FALSE) -> #N/A | D86: =VLOOKUP(B86,Уч!$A$2:$L$16,3,FALSE) -> #N/A | E86: Рез | F86: =VLOOKUP($B86,'110 сб '!$C$17:$I$87,5,FALSE) -> #N/A | G86: =VLOOKUP($B86,высота!$C$17:$AF$42,29,FALSE) -> #N/A | H86: =VLOOKUP($B86,ядро!$C$17:$K$43,8,FALSE) -> #N/A | I86: =VLOOKUP($B86,'2_р'!$C$17:$I$68,5,FALSE) -> #N/A | J86: =VLOOKUP($B86,Дл_р!$C$17:$O$43,11,FALSE) -> #N/A | K86: =VLOOKUP($B86,К_р!$C$18:$K$31,8,FALSE) -> #N/A | L86: =VLOOKUP($B86,'8_р'!$C$17:$H$77,5,FALSE) -> 0 | M86: =SUM(F88:L88) -> #N/A | N86: =LOOKUP(M86,R$1:AA$1,R$2:AA$2) -> #N/A | O86: =AC86+AD86+5 -> #N/A | P86: =B86 -> 1362 | Q86: =$A86 -> #N/A | R86: 1 | S86: =$A86 -> #N/A | AC86: =IF(AND(Q86>16,M86>=4600),"1",LOOKUP(Q86,Q$5:AH$5,Q$6:AH$6)) -> #N/A | AD86: =LOOKUP(N86,R$8:W$8,R$9:W$9) -> #N/A
C87: =VLOOKUP(B86,Уч!$A$2:$L$16,5,FALSE) -> #N/A | D87: =VLOOKUP(B86,Уч!$A$2:$L$16,4,FALSE) -> #N/A | E87: Вет | F87: =VLOOKUP($B86,'110 сб '!$C$17:$I$87,6,FALSE) -> #N/A | I87: =VLOOKUP($B86,'2_р'!$C$17:$I$68,6,FALSE) -> #N/A | J87: =VLOOKUP($B86,Дл_р!$C$17:$O$43,12,FALSE) -> #N/A | O87: =CONCATENATE(AC86,"+",AD86,"+",5) -> #N/A | P87: =B86 -> 1362 | Q87: =$A86 -> #N/A | R87: 2 | S87: =$A86 -> #N/A
C88: =VLOOKUP(B86,Уч!$A$2:$L$16,7,FALSE) -> #N/A | E88: Оч | F88: =VLOOKUP($B86,'110 сб '!$C$17:$I$87,7,FALSE) -> #N/A | G88: =VLOOKUP($B86,высота!$C$17:$AF$42,30,FALSE) -> #N/A | H88: =VLOOKUP($B86,ядро!$C$17:$K$43,9,FALSE) -> #N/A | I88: =VLOOKUP($B86,'2_р'!$C$17:$I$68,7,FALSE) -> #N/A | J88: =VLOOKUP($B86,Дл_р!$C$17:$O$43,13,FALSE) -> #N/A | K88: =VLOOKUP($B86,К_р!$C$18:$K$31,9,FALSE) -> #N/A | L88: =VLOOKUP($B86,'8_р'!$C$17:$H$77,6,FALSE) -> 0 | P88: =B86 -> 1362 | Q88: =$A86 -> #N/A | R88: 3 | S88: =$A86 -> #N/A
C89: =VLOOKUP(B86,Уч!$A$2:$L$16,11,FALSE) -> #N/A | E89: Сум | F89: =F88 -> #N/A | G89: =F89+G88 -> #N/A | H89: =G89+H88 -> #N/A | I89: =H89+I88 -> #N/A | J89: =I89+J88 -> #N/A | K89: =J89+K88 -> #N/A | L89: =K89+L88 -> #N/A | P89: =B86 -> 1362 | Q89: =$A86 -> #N/A | R89: 4 | S89: =$A86 -> #N/A | T89: =F89 -> #N/A | U89: =G89 -> #N/A | V89: =H89 -> #N/A | W89: =I89 -> #N/A | X89: =J89 -> #N/A | Y89: =K89 -> #N/A | Z89: =L89 -> #N/A
C90: =VLOOKUP(B86,Уч!$A$2:$L$16,12,FALSE) -> #N/A | E90: Мес | F90: =RANK(F89,$T$19:$T$85,0) -> #N/A | G90: =RANK(G89,$U$19:$U$85,0) -> #N/A | H90: =RANK(H89,$V$19:$V$85,0) -> #N/A | I90: =RANK(I89,$W$19:$W$85,0) -> #N/A | J90: =RANK(J89,$X$19:$X$85,0) -> #N/A | K90: =RANK(K89,$Y$19:$Y$85,0) -> #N/A | L90: =RANK(L89,$Z$19:$Z$85,0) -> #N/A | P90: =B86 -> 1362 | Q90: =$A86 -> #N/A | R90: 5 | S90: =$A86 -> #N/A
A91: =RANK(M91,$M$16:$M$85,0) -> #N/A | B91: 1363 | C91: =VLOOKUP(B91,Уч!$A$2:$L$16,2,FALSE) -> #N/A | D91: =VLOOKUP(B91,Уч!$A$2:$L$16,3,FALSE) -> #N/A | E91: Рез | F91: =VLOOKUP($B91,'110 сб '!$C$17:$I$87,5,FALSE) -> #N/A | G91: =VLOOKUP($B91,высота!$C$17:$AF$42,29,FALSE) -> #N/A | H91: =VLOOKUP($B91,ядро!$C$17:$K$43,8,FALSE) -> #N/A | I91: =VLOOKUP($B91,'2_р'!$C$17:$I$68,5,FALSE) -> #N/A | J91: =VLOOKUP($B91,Дл_р!$C$17:$O$43,11,FALSE) -> #N/A | K91: =VLOOKUP($B91,К_р!$C$18:$K$31,8,FALSE) -> #N/A | L91: =VLOOKUP($B91,'8_р'!$C$17:$H$77,5,FALSE) -> #N/A | M91: =SUM(F93:L93) -> #N/A | N91: =LOOKUP(M91,R$1:AA$1,R$2:AA$2) -> #N/A | O91: =AC91+AD91+5 -> #N/A | P91: =B91 -> 1363 | Q91: =$A91 -> #N/A | R91: 1 | S91: =$A91 -> #N/A | AC91: =IF(AND(Q91>16,M91>=4600),"1",LOOKUP(Q91,Q$5:AH$5,Q$6:AH$6)) -> #N/A | AD91: =LOOKUP(N91,R$8:W$8,R$9:W$9) -> #N/A
C92: =VLOOKUP(B91,Уч!$A$2:$L$16,5,FALSE) -> #N/A | D92: =VLOOKUP(B91,Уч!$A$2:$L$16,4,FALSE) -> #N/A | E92: Вет | F92: =VLOOKUP($B91,'110 сб '!$C$17:$I$87,6,FALSE) -> #N/A | I92: =VLOOKUP($B91,'2_р'!$C$17:$I$68,6,FALSE) -> #N/A | J92: =VLOOKUP($B91,Дл_р!$C$17:$O$43,12,FALSE) -> #N/A | O92: =CONCATENATE(AC91,"+",AD91,"+",5) -> #N/A | P92: =B91 -> 1363 | Q92: =$A91 -> #N/A | R92: 2 | S92: =$A91 -> #N/A
C93: =VLOOKUP(B91,Уч!$A$2:$L$16,7,FALSE) -> #N/A | E93: Оч | F93: =VLOOKUP($B91,'110 сб '!$C$17:$I$87,7,FALSE) -> #N/A | G93: =VLOOKUP($B91,высота!$C$17:$AF$42,30,FALSE) -> #N/A | H93: =VLOOKUP($B91,ядро!$C$17:$K$43,9,FALSE) -> #N/A | I93: =VLOOKUP($B91,'2_р'!$C$17:$I$68,7,FALSE) -> #N/A | J93: =VLOOKUP($B91,Дл_р!$C$17:$O$43,13,FALSE) -> #N/A | K93: =VLOOKUP($B91,К_р!$C$18:$K$31,9,FALSE) -> #N/A | L93: =VLOOKUP($B91,'8_р'!$C$17:$H$77,6,FALSE) -> #N/A | P93: =B91 -> 1363 | Q93: =$A91 -> #N/A | R93: 3 | S93: =$A91 -> #N/A
C94: =VLOOKUP(B91,Уч!$A$2:$L$16,11,FALSE) -> #N/A | E94: Сум | F94: =F93 -> #N/A | G94: =F94+G93 -> #N/A | H94: =G94+H93 -> #N/A | I94: =H94+I93 -> #N/A | J94: =I94+J93 -> #N/A | K94: =J94+K93 -> #N/A | L94: =K94+L93 -> #N/A | P94: =B91 -> 1363 | Q94: =$A91 -> #N/A | R94: 4 | S94: =$A91 -> #N/A | T94: =F94 -> #N/A | U94: =G94 -> #N/A | V94: =H94 -> #N/A | W94: =I94 -> #N/A | X94: =J94 -> #N/A | Y94: =K94 -> #N/A | Z94: =L94 -> #N/A
C95: =VLOOKUP(B91,Уч!$A$2:$L$16,12,FALSE) -> #N/A | E95: Мес | F95: =RANK(F94,$T$19:$T$85,0) -> #N/A | G95: =RANK(G94,$U$19:$U$85,0) -> #N/A | H95: =RANK(H94,$V$19:$V$85,0) -> #N/A | I95: =RANK(I94,$W$19:$W$85,0) -> #N/A | J95: =RANK(J94,$X$19:$X$85,0) -> #N/A | K95: =RANK(K94,$Y$19:$Y$85,0) -> #N/A | L95: =RANK(L94,$Z$19:$Z$85,0) -> #N/A | P95: =B91 -> 1363 | Q95: =$A91 -> #N/A | R95: 5 | S95: =$A91 -> #N/A
A96: =RANK(M96,$M$16:$M$85,0) -> #N/A | B96: 1372 | C96: =VLOOKUP(B96,Уч!$A$2:$L$16,2,FALSE) -> #N/A | D96: =VLOOKUP(B96,Уч!$A$2:$L$16,3,FALSE) -> #N/A | E96: Рез | F96: =VLOOKUP($B96,'110 сб '!$C$17:$I$87,5,FALSE) -> #N/A | G96: =VLOOKUP($B96,высота!$C$17:$AF$42,29,FALSE) -> #N/A | H96: =VLOOKUP($B96,ядро!$C$17:$K$43,8,FALSE) -> #N/A | I96: =VLOOKUP($B96,'2_р'!$C$17:$I$68,5,FALSE) -> #N/A | J96: =VLOOKUP($B96,Дл_р!$C$17:$O$43,11,FALSE) -> #N/A | K96: =VLOOKUP($B96,К_р!$C$18:$K$31,8,FALSE) -> #N/A | L96: =VLOOKUP($B96,'8_р'!$C$17:$H$77,5,FALSE) -> #N/A | M96: =SUM(F98:L98) -> #N/A | N96: =LOOKUP(M96,R$1:AA$1,R$2:AA$2) -> #N/A | O96: =AC96+AD96+5 -> #N/A | P96: =B96 -> 1372 | Q96: =$A96 -> #N/A | R96: 1 | S96: =$A96 -> #N/A | AC96: =IF(AND(Q96>16,M96>=4600),"1",LOOKUP(Q96,Q$5:AH$5,Q$6:AH$6)) -> #N/A | AD96: =LOOKUP(N96,R$8:W$8,R$9:W$9) -> #N/A
C97: =VLOOKUP(B96,Уч!$A$2:$L$16,5,FALSE) -> #N/A | D97: =VLOOKUP(B96,Уч!$A$2:$L$16,4,FALSE) -> #N/A | E97: Вет | F97: =VLOOKUP($B96,'110 сб '!$C$17:$I$87,6,FALSE) -> #N/A | I97: =VLOOKUP($B96,'2_р'!$C$17:$I$68,6,FALSE) -> #N/A | J97: =VLOOKUP($B96,Дл_р!$C$17:$O$43,12,FALSE) -> #N/A | O97: =CONCATENATE(AC96,"+",AD96,"+",5) -> #N/A | P97: =B96 -> 1372 | Q97: =$A96 -> #N/A | R97: 2 | S97: =$A96 -> #N/A
C98: =VLOOKUP(B96,Уч!$A$2:$L$16,7,FALSE) -> #N/A | E98: Оч | F98: =VLOOKUP($B96,'110 сб '!$C$17:$I$87,7,FALSE) -> #N/A | G98: =VLOOKUP($B96,высота!$C$17:$AF$42,30,FALSE) -> #N/A | H98: =VLOOKUP($B96,ядро!$C$17:$K$43,9,FALSE) -> #N/A | I98: =VLOOKUP($B96,'2_р'!$C$17:$I$68,7,FALSE) -> #N/A | J98: =VLOOKUP($B96,Дл_р!$C$17:$O$43,13,FALSE) -> #N/A | K98: =VLOOKUP($B96,К_р!$C$18:$K$31,9,FALSE) -> #N/A | L98: =VLOOKUP($B96,'8_р'!$C$17:$H$77,6,FALSE) -> #N/A | P98: =B96 -> 1372 | Q98: =$A96 -> #N/A | R98: 3 | S98: =$A96 -> #N/A
C99: =VLOOKUP(B96,Уч!$A$2:$L$16,11,FALSE) -> #N/A | E99: Сум | F99: =F98 -> #N/A | G99: =F99+G98 -> #N/A | H99: =G99+H98 -> #N/A | I99: =H99+I98 -> #N/A | J99: =I99+J98 -> #N/A | K99: =J99+K98 -> #N/A | L99: =K99+L98 -> #N/A | P99: =B96 -> 1372 | Q99: =$A96 -> #N/A | R99: 4 | S99: =$A96 -> #N/A | T99: =F99 -> #N/A | U99: =G99 -> #N/A | V99: =H99 -> #N/A | W99: =I99 -> #N/A | X99: =J99 -> #N/A | Y99: =K99 -> #N/A | Z99: =L99 -> #N/A
C100: =VLOOKUP(B96,Уч!$A$2:$L$16,12,FALSE) -> #N/A | E100: Мес | F100: =RANK(F99,$T$19:$T$85,0) -> #N/A | G100: =RANK(G99,$U$19:$U$85,0) -> #N/A | H100: =RANK(H99,$V$19:$V$85,0) -> #N/A | I100: =RANK(I99,$W$19:$W$85,0) -> #N/A | J100: =RANK(J99,$X$19:$X$85,0) -> #N/A | K100: =RANK(K99,$Y$19:$Y$85,0) -> #N/A | L100: =RANK(L99,$Z$19:$Z$85,0) -> #N/A | P100: =B96 -> 1372 | Q100: =$A96 -> #N/A | R100: 5 | S100: =$A96 -> #N/A
A101: =RANK(M101,$M$16:$M$85,0) -> #N/A | B101: 1375 | C101: =VLOOKUP(B101,Уч!$A$2:$L$16,2,FALSE) -> #N/A | D101: =VLOOKUP(B101,Уч!$A$2:$L$16,3,FALSE) -> #N/A | E101: Рез | F101: =VLOOKUP($B101,'110 сб '!$C$17:$I$87,5,FALSE) -> #N/A | G101: =VLOOKUP($B101,высота!$C$17:$AF$42,29,FALSE) -> #N/A | H101: =VLOOKUP($B101,ядро!$C$17:$K$43,8,FALSE) -> #N/A | I101: =VLOOKUP($B101,'2_р'!$C$17:$I$68,5,FALSE) -> #N/A | J101: =VLOOKUP($B101,Дл_р!$C$17:$O$43,11,FALSE) -> #N/A | K101: =VLOOKUP($B101,К_р!$C$18:$K$31,8,FALSE) -> #N/A | L101: =VLOOKUP($B101,'8_р'!$C$17:$H$77,5,FALSE) -> 0 | M101: =SUM(F103:L103) -> #N/A | N101: =LOOKUP(M101,R$1:AA$1,R$2:AA$2) -> #N/A | O101: =AC101+AD101+5 -> #N/A | P101: =B101 -> 1375 | Q101: =$A101 -> #N/A | R101: 1 | S101: =$A101 -> #N/A | AC101: =IF(AND(Q101>16,M101>=4600),"1",LOOKUP(Q101,Q$5:AH$5,Q$6:AH$6)) -> #N/A | AD101: =LOOKUP(N101,R$8:W$8,R$9:W$9) -> #N/A
C102: =VLOOKUP(B101,Уч!$A$2:$L$16,5,FALSE) -> #N/A | D102: =VLOOKUP(B101,Уч!$A$2:$L$16,4,FALSE) -> #N/A | E102: Вет | F102: =VLOOKUP($B101,'110 сб '!$C$17:$I$87,6,FALSE) -> #N/A | I102: =VLOOKUP($B101,'2_р'!$C$17:$I$68,6,FALSE) -> #N/A | J102: =VLOOKUP($B101,Дл_р!$C$17:$O$43,12,FALSE) -> #N/A | O102: =CONCATENATE(AC101,"+",AD101,"+",5) -> #N/A | P102: =B101 -> 1375 | Q102: =$A101 -> #N/A | R102: 2 | S102: =$A101 -> #N/A
C103: =VLOOKUP(B101,Уч!$A$2:$L$16,7,FALSE) -> #N/A | E103: Оч | F103: =VLOOKUP($B101,'110 сб '!$C$17:$I$87,7,FALSE) -> #N/A | G103: =VLOOKUP($B101,высота!$C$17:$AF$42,30,FALSE) -> #N/A | H103: =VLOOKUP($B101,ядро!$C$17:$K$43,9,FALSE) -> #N/A | I103: =VLOOKUP($B101,'2_р'!$C$17:$I$68,7,FALSE) -> #N/A | J103: =VLOOKUP($B101,Дл_р!$C$17:$O$43,13,FALSE) -> #N/A | K103: =VLOOKUP($B101,К_р!$C$18:$K$31,9,FALSE) -> #N/A | L103: =VLOOKUP($B101,'8_р'!$C$17:$H$77,6,FALSE) -> 0 | P103: =B101 -> 1375 | Q103: =$A101 -> #N/A | R103: 3 | S103: =$A101 -> #N/A
...

Sheet Ж
A1: =Расп!$A$21 -> МИНИСТЕРСТВО СПОРТА РОССИЙСКОЙ ФЕДЕРАЦИИ | Q1: Очки | R1: 0 | T1: 1600 | U1: 2000 | V1: 2700 | W1: 3300 | X1: 3900 | Y1: 4500 | Z1: 5250 | AA1: 6150 | AC1: Для | AD1: мол | AE1: 4000
A2: =Расп!$A$22 -> ВСЕРОССИЙСКАЯ ФЕДЕРАЦИЯ ЛЕГКОЙ АТЛЕТИКИ | Q2: Разряд | R2: б/р | S2: 3ю | T2: 2ю | U2: 1ю | V2: 3 | W2: 2 | X2: 1 | Y2: КМС | Z2: МС | AA2: МСМК
A3: =Расп!$A$25 -> Командный чемпионат России | Y3: 1 оч
A4: =Расп!$A$27 -> по многоборью
A5: женщины и юниорки до 23 лет | Q5: Место | R5: 1 | S5: 2 | T5: 3 | U5: 4 | V5: 5 | W5: 6 | X5: 7 | Y5: 8 | Z5: 9 | AA5: 10 | AB5: 11 | AC5: 12 | AD5: 13 | AE5: 14 | AF5: 15 | AG5: 16 | AH5: 17
A6: ИТОГОВЫЙ ПРОТОКОЛ | Q6: Очки | R6: 20 | S6: 17 | T6: 15 | U6: 14 | V6: 13 | W6: 12 | X6: 11 | Y6: 10 | Z6: 9 | AA6: 8 | AB6: 7 | AC6: 6 | AD6: 5 | AE6: 4 | AF6: 3 | AG6: 2 | AH6: 0
J8: =Расп!A1 -> 04.09.2019 г. | K8: t° +13 вл.86% | N8: =Расп!A6 -> 19.05.2019 г. | O8: t° +13 вл.86% | P8: Скрыть | Q8: Бонус | R8: 1 | S8: 2 | T8: 3 | U8: КМС | V8: МС | W8: МСМК
A9: =Расп!$A$14 -> РМ | B9: =Расп!B14 -> 7291 | J9: =Расп!A2 -> бег с барьерами 100 м | K9: =Расп!B2 -> 0.40972222 | N9: =Расп!A7 -> прыжок в длину | O9: =Расп!B7 -> 0.41666667 | P9: при | Q9: Очки | R9: 0 | S9: 0 | T9: 0 | U9: 0 | V9: 5 | W9: 15
A10: =Расп!$A$15 -> РЕ | B10: =Расп!B15 -> 7032 | J10: =Расп!A3 -> прыжок в высоту | K10: =Расп!B3 -> 0.44791667 | N10: =Расп!A8 -> метание копья (600 г) | O10: =Расп!B8 -> 0.48958333 | P10: печати
A11: =Расп!$A$16 -> РР | B11: =Расп!B16 -> 7007 | J11: =Расп!A4 -> толкание ядра | K11: =Расп!B4 -> 0.70833333 | N11: =Расп!A9 -> бег 800 м | O11: =Расп!B9 -> 0.75694444 | Q11: Мнгб | R11: 5
A12: =Расп!$A$26 -> г.Сочи, Адлерский район, стадион "Юность" | J12: =Расп!A5 -> бег 200 м | K12: =Расп!B5 -> 0.75347222
A13: Место | B13: Нагрудный № | C13: Фамилия, имя участника Территория, ФСО, Тренер | D13: Дата рождения Вып-ый раз-д | F13: бег с барьерами 100 м | G13: прыжок в высоту | H13: толкание ядра | I13: бег 200 м | J13: прыжок в длину | K13: метание копья | L13: бег 800 м | M13: Очки | N13: Разряд | O13: Командные очки | P13: № | Q13: М | R13: П | S13: МЛ | T13: 100сб | U13: Высота | V13: Ядро | W13: 200 | X13: Длина | Y13: Копье | Z13: 800 | AC13: оч/мес | AD13: оч/раз
A16: =RANK(M16,$M$16:$M$50,0) -> #N/A | B16: 64 | C16: =VLOOKUP(B16,Уч!$A$2:$L$16,2,FALSE) -> Дерган Евгения | D16: =VLOOKUP(B16,Уч!$A$2:$L$16,3,FALSE) -> 11.04.1994 | E16: Результат | F16: =VLOOKUP($B16,'110 сб '!$C$17:$I$87,5,FALSE) -> 15.87 | G16: =VLOOKUP($B16,высота!$C$17:$AF$42,29,FALSE) -> 1.86 | H16: =VLOOKUP($B16,ядро!$C$17:$K$43,8,FALSE) -> 14.48 | I16: =VLOOKUP($B16,'2_р'!$C$17:$I$68,5,FALSE) -> 26.81 | J16: =VLOOKUP($B16,Дл_р!$C$17:$O$43,11,FALSE) -> 5.3 | K16: =VLOOKUP($B16,К_р!$C$18:$K$31,8,FALSE) -> 38.68 | L16: =VLOOKUP($B16,'8_р'!$C$17:$H$77,5,FALSE) -> 2:32.13 | M16: =SUM(F18:L18) -> 4235 | N16: =LOOKUP(M16,R$1:AA$1,R$2:AA$2) -> 1 | O16: =AC16+AD16+5 -> #N/A | P16: =B16 -> 64 | Q16: =$A16 -> #N/A | R16: 1 | S16: =$A16 -> #N/A | AC16: =IF(AND(Q16>16,M16>=4600),"1",LOOKUP(Q16,Q$5:AH$5,Q$6:AH$6)) -> #N/A | AD16: =LOOKUP(N16,R$8:W$8,R$9:W$9) -> 0
C17: =VLOOKUP(B16,Уч!$A$2:$L$16,5,FALSE) -> Республика Адыгея | D17: =VLOOKUP(B16,Уч!$A$2:$L$16,4,FALSE) -> КМС | E17: Ветер | F17: =VLOOKUP($B16,'110 сб '!$C$17:$I$87,6,FALSE) -> 1.2 | I17: =VLOOKUP($B16,'2_р'!$C$17:$I$68,6,FALSE) -> 1.2 | J17: =VLOOKUP($B16,Дл_р!$C$17:$O$43,12,FALSE) -> -0.1 | O17: =CONCATENATE(AC16,"+",AD16,"+",5) -> #N/A | P17: =B16 -> 64 | Q17: =$A16 -> #N/A | R17: 2 | S17: =$A16 -> #N/A
C18: =VLOOKUP(B16,Уч!$A$2:$L$16,7,FALSE) -> ГБУ РА "ЦСП СК РА" | E18: Очки | F18: =VLOOKUP($B16,'110 сб '!$C$17:$I$87,7,FALSE) -> 730 | G18: =VLOOKUP($B16,высота!$C$17:$AF$42,30,FALSE) -> 0 | H18: =VLOOKUP($B16,ядро!$C$17:$K$43,9,FALSE) -> 826 | I18: =VLOOKUP($B16,'2_р'!$C$17:$I$68,7,FALSE) -> 728 | J18: =VLOOKUP($B16,Дл_р!$C$17:$O$43,13,FALSE) -> 643 | K18: =VLOOKUP($B16,К_р!$C$18:$K$31,9,FALSE) -> 642 | L18: =VLOOKUP($B16,'8_р'!$C$17:$H$77,6,FALSE) -> 666 | P18: =B16 -> 64 | Q18: =$A16 -> #N/A | R18: 3 | S18: =$A16 -> #N/A
C19: =VLOOKUP(B16,Уч!$A$2:$L$16,11,FALSE) -> Суханов С.М., Парфёнова С.О. | E19: Сумма очков | F19: =F18 -> 730 | G19: =F19+G18 -> 730 | H19: =G19+H18 -> 1556 | I19: =H19+I18 -> 2284 | J19: =I19+J18 -> 2927 | K19: =J19+K18 -> 3569 | L19: =K19+L18 -> 4235 | P19: =B16 -> 64 | Q19: =$A16 -> #N/A | R19: 4 | S19: =$A16 -> #N/A | T19: =F19 -> 730 | U19: =G19 -> 730 | V19: =H19 -> 1556 | W19: =I19 -> 2284 | X19: =J19 -> 2927 | Y19: =K19 -> 3569 | Z19: =L19 -> 4235
C20: =VLOOKUP(B16,Уч!$A$2:$L$16,12,FALSE) -> 0 | E20: Место | F20: =RANK(F19,$T$19:$T$50,0) -> #N/A | G20: =RANK(G19,$U$19:$U$50,0) -> #N/A | H20: =RANK(H19,$V$19:$V$50,0) -> #N/A | I20: =RANK(I19,$W$19:$W$50,0) -> #N/A | J20: =RANK(J19,$X$19:$X$50,0) -> #N/A | K20: =RANK(K19,$Y$19:$Y$50,0) -> #N/A | L20: =RANK(L19,$Z$19:$Z$50,0) -> #N/A | P20: =B16 -> 64 | Q20: =$A16 -> #N/A | R20: 5 | S20: =$A16 -> #N/A
A21: =RANK(M21,$M$16:$M$50,0) -> #N/A | B21: 26 | C21: =VLOOKUP(B21,Уч!$A$2:$L$16,2,FALSE) -> #N/A | D21: =VLOOKUP(B21,Уч!$A$2:$L$16,3,FALSE) -> #N/A | E21: Результат | F21: =VLOOKUP($B21,'110 сб '!$C$17:$I$87,5,FALSE) -> #N/A | G21: =VLOOKUP($B21,высота!$C$17:$AF$42,29,FALSE) -> #N/A | H21: =VLOOKUP($B21,ядро!$C$17:$K$43,8,FALSE) -> #N/A | I21: =VLOOKUP($B21,'2_р'!$C$17:$I$68,5,FALSE) -> #N/A | J21: =VLOOKUP($B21,Дл_р!$C$17:$O$43,11,FALSE) -> #N/A | K21: =VLOOKUP($B21,К_р!$C$18:$K$31,8,FALSE) -> #N/A | L21: =VLOOKUP($B21,'8_р'!$C$17:$H$77,5,FALSE) -> #N/A | M21: =SUM(F23:L23) -> #N/A | N21: =LOOKUP(M21,R$1:AA$1,R$2:AA$2) -> #N/A | O21: =AC21+AD21+5 -> #N/A | P21: =B21 -> 26 | Q21: =$A21 -> #N/A | R21: 1 | S21: =$A21 -> #N/A | AC21: =IF(AND(Q21>16,M21>=4600),"1",LOOKUP(Q21,Q$5:AH$5,Q$6:AH$6)) -> #N/A | AD21: =LOOKUP(N21,R$8:W$8,R$9:W$9) -> #N/A
C22: =VLOOKUP(B21,Уч!$A$2:$L$16,5,FALSE) -> #N/A | D22: =VLOOKUP(B21,Уч!$A$2:$L$16,4,FALSE) -> #N/A | E22: Ветер | F22: =VLOOKUP($B21,'110 сб '!$C$17:$I$87,6,FALSE) -> #N/A | I22: =VLOOKUP($B21,'2_р'!$C$17:$I$68,6,FALSE) -> #N/A | J22: =VLOOKUP($B21,Дл_р!$C$17:$O$43,12,FALSE) -> #N/A | O22: =CONCATENATE(AC21,"+",AD21,"+",5) -> #N/A | P22: =B21 -> 26 | Q22: =$A21 -> #N/A | R22: 2 | S22: =$A21 -> #N/A
C23: =VLOOKUP(B21,Уч!$A$2:$L$16,7,FALSE) -> #N/A | E23: Очки | F23: =VLOOKUP($B21,'110 сб '!$C$17:$I$87,7,FALSE) -> #N/A | G23: =VLOOKUP($B21,высота!$C$17:$AF$42,30,FALSE) -> #N/A | H23: =VLOOKUP($B21,ядро!$C$17:$K$43,9,FALSE) -> #N/A | I23: =VLOOKUP($B21,'2_р'!$C$17:$I$68,7,FALSE) -> #N/A | J23: =VLOOKUP($B21,Дл_р!$C$17:$O$43,13,FALSE) -> #N/A | K23: =VLOOKUP($B21,К_р!$C$18:$K$31,9,FALSE) -> #N/A | L23: =VLOOKUP($B21,'8_р'!$C$17:$H$77,6,FALSE) -> #N/A | P23: =B21 -> 26 | Q23: =$A21 -> #N/A | R23: 3 | S23: =$A21 -> #N/A
C24: =VLOOKUP(B21,Уч!$A$2:$L$16,11,FALSE) -> #N/A | E24: Сумма очков | F24: =F23 -> #N/A | G24: =F24+G23 -> #N/A | H24: =G24+H23 -> #N/A | I24: =H24+I23 -> #N/A | J24: =I24+J23 -> #N/A | K24: =J24+K23 -> #N/A | L24: =K24+L23 -> #N/A | P24: =B21 -> 26 | Q24: =$A21 -> #N/A | R24: 4 | S24: =$A21 -> #N/A | T24: =F24 -> #N/A | U24: =G24 -> #N/A | V24: =H24 -> #N/A | W24: =I24 -> #N/A | X24: =J24 -> #N/A | Y24: =K24 -> #N/A | Z24: =L24 -> #N/A
C25: =VLOOKUP(B21,Уч!$A$2:$L$16,12,FALSE) -> #N/A | E25: Место | F25: =RANK(F24,$T$19:$T$50,0) -> #N/A | G25: =RANK(G24,$U$19:$U$50,0) -> #N/A | H25: =RANK(H24,$V$19:$V$50,0) -> #N/A | I25: =RANK(I24,$W$19:$W$50,0) -> #N/A | J25: =RANK(J24,$X$19:$X$50,0) -> #N/A | K25: =RANK(K24,$Y$19:$Y$50,0) -> #N/A | L25: =RANK(L24,$Z$19:$Z$50,0) -> #N/A | P25: =B21 -> 26 | Q25: =$A21 -> #N/A | R25: 5 | S25: =$A21 -> #N/A
A26: =RANK(M26,$M$16:$M$50,0) -> #N/A | B26: 73 | C26: =VLOOKUP(B26,Уч!$A$2:$L$16,2,FALSE) -> #N/A | D26: =VLOOKUP(B26,Уч!$A$2:$L$16,3,FALSE) -> #N/A | E26: Результат | F26: =VLOOKUP($B26,'110 сб '!$C$17:$I$87,5,FALSE) -> #N/A | G26: =VLOOKUP($B26,высота!$C$17:$AF$42,29,FALSE) -> #N/A | H26: =VLOOKUP($B26,ядро!$C$17:$K$43,8,FALSE) -> #N/A | I26: =VLOOKUP($B26,'2_р'!$C$17:$I$68,5,FALSE) -> #N/A | J26: =VLOOKUP($B26,Дл_р!$C$17:$O$43,11,FALSE) -> #N/A | K26: =VLOOKUP($B26,К_р!$C$18:$K$31,8,FALSE) -> #N/A | L26: =VLOOKUP($B26,'8_р'!$C$17:$H$77,5,FALSE) -> #N/A | M26: =SUM(F28:L28) -> #N/A | N26: =LOOKUP(M26,R$1:AA$1,R$2:AA$2) -> #N/A | O26: =AC26+AD26+5 -> #N/A | P26: =B26 -> 73 | Q26: =$A26 -> #N/A | R26: 1 | S26: =$A26 -> #N/A | AC26: =IF(AND(Q26>16,M26>=4600),"1",LOOKUP(Q26,Q$5:AH$5,Q$6:AH$6)) -> #N/A | AD26: =LOOKUP(N26,R$8:W$8,R$9:W$9) -> #N/A | AE26: Для | AF26: мол | AG26: 4000
C27: =VLOOKUP(B26,Уч!$A$2:$L$16,5,FALSE) -> #N/A | D27: =VLOOKUP(B26,Уч!$A$2:$L$16,4,FALSE) -> #N/A | E27: Ветер | F27: =VLOOKUP($B26,'110 сб '!$C$17:$I$87,6,FALSE) -> #N/A | I27: =VLOOKUP($B26,'2_р'!$C$17:$I$68,6,FALSE) -> #N/A | J27: =VLOOKUP($B26,Дл_р!$C$17:$O$43,12,FALSE) -> #N/A | O27: =CONCATENATE(AC26,"+",AD26,"+",5) -> #N/A | P27: =B26 -> 73 | Q27: =$A26 -> #N/A | R27: 2 | S27: =$A26 -> #N/A
C28: =VLOOKUP(B26,Уч!$A$2:$L$16,7,FALSE) -> #N/A | E28: Очки | F28: =VLOOKUP($B26,'110 сб '!$C$17:$I$87,7,FALSE) -> #N/A | G28: =VLOOKUP($B26,высота!$C$17:$AF$42,30,FALSE) -> #N/A | H28: =VLOOKUP($B26,ядро!$C$17:$K$43,9,FALSE) -> #N/A | I28: =VLOOKUP($B26,'2_р'!$C$17:$I$68,7,FALSE) -> #N/A | J28: =VLOOKUP($B26,Дл_р!$C$17:$O$43,13,FALSE) -> #N/A | K28: =VLOOKUP($B26,К_р!$C$18:$K$31,9,FALSE) -> #N/A | L28: =VLOOKUP($B26,'8_р'!$C$17:$H$77,6,FALSE) -> #N/A | P28: =B26 -> 73 | Q28: =$A26 -> #N/A | R28: 3 | S28: =$A26 -> #N/A
C29: =VLOOKUP(B26,Уч!$A$2:$L$16,11,FALSE) -> #N/A | E29: Сумма очков | F29: =F28 -> #N/A | G29: =F29+G28 -> #N/A | H29: =G29+H28 -> #N/A | I29: =H29+I28 -> #N/A | J29: =I29+J28 -> #N/A | K29: =J29+K28 -> #N/A | L29: =K29+L28 -> #N/A | P29: =B26 -> 73 | Q29: =$A26 -> #N/A | R29: 4 | S29: =$A26 -> #N/A | T29: =F29 -> #N/A | U29: =G29 -> #N/A | V29: =H29 -> #N/A | W29: =I29 -> #N/A | X29: =J29 -> #N/A | Y29: =K29 -> #N/A | Z29: =L29 -> #N/A
C30: =VLOOKUP(B26,Уч!$A$2:$L$16,12,FALSE) -> #N/A | E30: Место | F30: =RANK(F29,$T$19:$T$50,0) -> #N/A | G30: =RANK(G29,$U$19:$U$50,0) -> #N/A | H30: =RANK(H29,$V$19:$V$50,0) -> #N/A | I30: =RANK(I29,$W$19:$W$50,0) -> #N/A | J30: =RANK(J29,$X$19:$X$50,0) -> #N/A | K30: =RANK(K29,$Y$19:$Y$50,0) -> #N/A | L30: =RANK(L29,$Z$19:$Z$50,0) -> #N/A | P30: =B26 -> 73 | Q30: =$A26 -> #N/A | R30: 5 | S30: =$A26 -> #N/A
A31: =RANK(M31,$M$16:$M$50,0) -> #N/A | B31: 37 | C31: =VLOOKUP(B31,Уч!$A$2:$L$16,2,FALSE) -> #N/A | D31: =VLOOKUP(B31,Уч!$A$2:$L$16,3,FALSE) -> #N/A | E31: Результат | F31: =VLOOKUP($B31,'110 сб '!$C$17:$I$87,5,FALSE) -> #N/A | G31: =VLOOKUP($B31,высота!$C$17:$AF$42,29,FALSE) -> #N/A | H31: =VLOOKUP($B31,ядро!$C$17:$K$43,8,FALSE) -> #N/A | I31: =VLOOKUP($B31,'2_р'!$C$17:$I$68,5,FALSE) -> 24.78 | J31: =VLOOKUP($B31,Дл_р!$C$17:$O$43,11,FALSE) -> 5.92 | K31: =VLOOKUP($B31,К_р!$C$18:$K$31,8,FALSE) -> 39.27 | L31: =VLOOKUP($B31,'8_р'!$C$17:$H$77,5,FALSE) -> 2:16.34 | M31: =SUM(F33:L33) -> #N/A | N31: =LOOKUP(M31,R$1:AA$1,R$2:AA$2) -> #N/A | O31: =AC31+AD31+5 -> #N/A | P31: =B31 -> 37 | Q31: =$A31 -> #N/A | R31: 1 | S31: =$A31 -> #N/A | AC31: =IF(AND(Q31>16,M31>=4600),"1",LOOKUP(Q31,Q$5:AH$5,Q$6:AH$6)) -> #N/A | AD31: =LOOKUP(N31,R$8:W$8,R$9:W$9) -> #N/A
C32: =VLOOKUP(B31,Уч!$A$2:$L$16,5,FALSE) -> #N/A | D32: =VLOOKUP(B31,Уч!$A$2:$L$16,4,FALSE) -> #N/A | E32: Ветер | F32: =VLOOKUP($B31,'110 сб '!$C$17:$I$87,6,FALSE) -> #N/A | I32: =VLOOKUP($B31,'2_р'!$C$17:$I$68,6,FALSE) -> 1.2 | J32: =VLOOKUP($B31,Дл_р!$C$17:$O$43,12,FALSE) -> -1 | O32: =CONCATENATE(AC31,"+",AD31,"+",5) -> #N/A | P32: =B31 -> 37 | Q32: =$A31 -> #N/A | R32: 2 | S32: =$A31 -> #N/A
C33: =VLOOKUP(B31,Уч!$A$2:$L$16,7,FALSE) -> #N/A | E33: Очки | F33: =VLOOKUP($B31,'110 сб '!$C$17:$I$87,7,FALSE) -> #N/A | G33: =VLOOKUP($B31,высота!$C$17:$AF$42,30,FALSE) -> #N/A | H33: =VLOOKUP($B31,ядро!$C$17:$K$43,9,FALSE) -> #N/A | I33: =VLOOKUP($B31,'2_р'!$C$17:$I$68,7,FALSE) -> 907 | J33: =VLOOKUP($B31,Дл_р!$C$17:$O$43,13,FALSE) -> 825 | K33: =VLOOKUP($B31,К_р!$C$18:$K$31,9,FALSE) -> 653 | L33: =VLOOKUP($B31,'8_р'!$C$17:$H$77,6,FALSE) -> 874 | P33: =B31 -> 37 | Q33: =$A31 -> #N/A | R33: 3 | S33: =$A31 -> #N/A
C34: =VLOOKUP(B31,Уч!$A$2:$L$16,11,FALSE) -> #N/A | E34: Сумма очков | F34: =F33 -> #N/A | G34: =F34+G33 -> #N/A | H34: =G34+H33 -> #N/A | I34: =H34+I33 -> #N/A | J34: =I34+J33 -> #N/A | K34: =J34+K33 -> #N/A | L34: =K34+L33 -> #N/A | P34: =B31 -> 37 | Q34: =$A31 -> #N/A | R34: 4 | S34: =$A31 -> #N/A | T34: =F34 -> #N/A | U34: =G34 -> #N/A | V34: =H34 -> #N/A | W34: =I34 -> #N/A | X34: =J34 -> #N/A | Y34: =K34 -> #N/A | Z34: =L34 -> #N/A
C35: =VLOOKUP(B31,Уч!$A$2:$L$16,12,FALSE) -> #N/A | E35: Место | F35: =RANK(F34,$T$19:$T$50,0) -> #N/A | G35: =RANK(G34,$U$19:$U$50,0) -> #N/A | H35: =RANK(H34,$V$19:$V$50,0) -> #N/A | I35: =RANK(I34,$W$19:$W$50,0) -> #N/A | J35: =RANK(J34,$X$19:$X$50,0) -> #N/A | K35: =RANK(K34,$Y$19:$Y$50,0) -> #N/A | L35: =RANK(L34,$Z$19:$Z$50,0) -> #N/A | P35: =B31 -> 37 | Q35: =$A31 -> #N/A | R35: 5 | S35: =$A31 -> #N/A
A36: =RANK(M36,$M$16:$M$50,0) -> #N/A | B36: 17 | C36: =VLOOKUP(B36,Уч!$A$2:$L$16,2,FALSE) -> #N/A | D36: =VLOOKUP(B36,Уч!$A$2:$L$16,3,FALSE) -> #N/A | E36: Результат | F36: =VLOOKUP($B36,'110 сб '!$C$17:$I$87,5,FALSE) -> #N/A | G36: =VLOOKUP($B36,высота!$C$17:$AF$42,29,FALSE) -> #N/A | H36: =VLOOKUP($B36,ядро!$C$17:$K$43,8,FALSE) -> #N/A | I36: =VLOOKUP($B36,'2_р'!$C$17:$I$68,5,FALSE) -> #N/A | J36: =VLOOKUP($B36,Дл_р!$C$17:$O$43,11,FALSE) -> #N/A | K36: =VLOOKUP($B36,К_р!$C$18:$K$31,8,FALSE) -> #N/A | L36: =VLOOKUP($B36,'8_р'!$C$17:$H$77,5,FALSE) -> #N/A | M36: =SUM(F38:L38) -> #N/A | N36: =LOOKUP(M36,R$1:AA$1,R$2:AA$2) -> #N/A | O36: =AC36+AD36+5 -> #N/A | P36: =B36 -> 17 | Q36: =$A36 -> #N/A | R36: 1 | S36: =$A36 -> #N/A | AC36: =IF(AND(Q36>16,M36>=4600),"1",LOOKUP(Q36,Q$5:AH$5,Q$6:AH$6)) -> #N/A | AD36: =LOOKUP(N36,R$8:W$8,R$9:W$9) -> #N/A
C37: =VLOOKUP(B36,Уч!$A$2:$L$16,5,FALSE) -> #N/A | D37: =VLOOKUP(B36,Уч!$A$2:$L$16,4,FALSE) -> #N/A | E37: Ветер | F37: =VLOOKUP($B36,'110 сб '!$C$17:$I$87,6,FALSE) -> #N/A | I37: =VLOOKUP($B36,'2_р'!$C$17:$I$68,6,FALSE) -> #N/A | J37: =VLOOKUP($B36,Дл_р!$C$17:$O$43,12,FALSE) -> #N/A | O37: =CONCATENATE(AC36,"+",AD36,"+",5) -> #N/A | P37: =B36 -> 17 | Q37: =$A36 -> #N/A | R37: 2 | S37: =$A36 -> #N/A
C38: =VLOOKUP(B36,Уч!$A$2:$L$16,7,FALSE) -> #N/A | E38: Очки | F38: =VLOOKUP($B36,'110 сб '!$C$17:$I$87,7,FALSE) -> #N/A | G38: =VLOOKUP($B36,высота!$C$17:$AF$42,30,FALSE) -> #N/A | H38: =VLOOKUP($B36,ядро!$C$17:$K$43,9,FALSE) -> #N/A | I38: =VLOOKUP($B36,'2_р'!$C$17:$I$68,7,FALSE) -> #N/A | J38: =VLOOKUP($B36,Дл_р!$C$17:$O$43,13,FALSE) -> #N/A | K38: =VLOOKUP($B36,К_р!$C$18:$K$31,9,FALSE) -> #N/A | L38: =VLOOKUP($B36,'8_р'!$C$17:$H$77,6,FALSE) -> #N/A | P38: =B36 -> 17 | Q38: =$A36 -> #N/A | R38: 3 | S38: =$A36 -> #N/A
C39: =VLOOKUP(B36,Уч!$A$2:$L$16,11,FALSE) -> #N/A | E39: Сумма очков | F39: =F38 -> #N/A | G39: =F39+G38 -> #N/A | H39: =G39+H38 -> #N/A | I39: =H39+I38 -> #N/A | J39: =I39+J38 -> #N/A | K39: =J39+K38 -> #N/A | L39: =K39+L38 -> #N/A | P39: =B36 -> 17 | Q39: =$A36 -> #N/A | R39: 4 | S39: =$A36 -> #N/A | T39: =F39 -> #N/A | U39: =G39 -> #N/A | V39: =H39 -> #N/A | W39: =I39 -> #N/A | X39: =J39 -> #N/A | Y39: =K39 -> #N/A | Z39: =L39 -> #N/A
C40: =VLOOKUP(B36,Уч!$A$2:$L$16,12,FALSE) -> #N/A | E40: Место | F40: =RANK(F39,$T$19:$T$50,0) -> #N/A | G40: =RANK(G39,$U$19:$U$50,0) -> #N/A | H40: =RANK(H39,$V$19:$V$50,0) -> #N/A | I40: =RANK(I39,$W$19:$W$50,0) -> #N/A | J40: =RANK(J39,$X$19:$X$50,0) -> #N/A | K40: =RANK(K39,$Y$19:$Y$50,0) -> #N/A | L40: =RANK(L39,$Z$19:$Z$50,0) -> #N/A | P40: =B36 -> 17 | Q40: =$A36 -> #N/A | R40: 5 | S40: =$A36 -> #N/A
A41: =RANK(M41,$M$16:$M$50,0) -> #N/A | B41: 49 | C41: =VLOOKUP(B41,Уч!$A$2:$L$16,2,FALSE) -> #N/A | D41: =VLOOKUP(B41,Уч!$A$2:$L$16,3,FALSE) -> #N/A | E41: Результат | F41: =VLOOKUP($B41,'110 сб '!$C$17:$I$87,5,FALSE) -> #N/A | G41: =VLOOKUP($B41,высота!$C$17:$AF$42,29,FALSE) -> #N/A | H41: =VLOOKUP($B41,ядро!$C$17:$K$43,8,FALSE) -> #N/A | I41: =VLOOKUP($B41,'2_р'!$C$17:$I$68,5,FALSE) -> #N/A | J41: справка | L41: =VLOOKUP($B41,'8_р'!$C$17:$H$77,5,FALSE) -> 0 | M41: =SUM(F43:L43) -> #N/A | N41: =LOOKUP(M41,R$1:AA$1,R$2:AA$2) -> #N/A | O41: 0 | P41: =B41 -> 49 | Q41: =$A41 -> #N/A | R41: 1 | S41: =$A41 -> #N/A | AC41: =IF(AND(Q41>16,M41>=4600),"1",LOOKUP(Q41,Q$5:AH$5,Q$6:AH$6)) -> #N/A | AD41: =LOOKUP(N41,R$8:W$8,R$9:W$9) -> #N/A
C42: =VLOOKUP(B41,Уч!$A$2:$L$16,5,FALSE) -> #N/A | D42: =VLOOKUP(B41,Уч!$A$2:$L$16,4,FALSE) -> #N/A | E42: Ветер | F42: =VLOOKUP($B41,'110 сб '!$C$17:$I$87,6,FALSE) -> #N/A | I42: =VLOOKUP($B41,'2_р'!$C$17:$I$68,6,FALSE) -> #N/A | J42: =VLOOKUP($B41,Дл_р!$C$17:$O$43,12,FALSE) -> #N/A | O42: =CONCATENATE(AC41,"+",AD41,"+",5) -> #N/A | P42: =B41 -> 49 | Q42: =$A41 -> #N/A | R42: 2 | S42: =$A41 -> #N/A
C43: =VLOOKUP(B41,Уч!$A$2:$L$16,7,FALSE) -> #N/A | E43: Очки | F43: =VLOOKUP($B41,'110 сб '!$C$17:$I$87,7,FALSE) -> #N/A | G43: =VLOOKUP($B41,высота!$C$17:$AF$42,30,FALSE) -> #N/A | H43: =VLOOKUP($B41,ядро!$C$17:$K$43,9,FALSE) -> #N/A | I43: =VLOOKUP($B41,'2_р'!$C$17:$I$68,7,FALSE) -> #N/A | J43: =VLOOKUP($B41,Дл_р!$C$17:$O$43,13,FALSE) -> #N/A | K43: =VLOOKUP($B41,К_р!$C$18:$K$31,9,FALSE) -> #N/A | L43: =VLOOKUP($B41,'8_р'!$C$17:$H$77,6,FALSE) -> 0 | P43: =B41 -> 49 | Q43: =$A41 -> #N/A | R43: 3 | S43: =$A41 -> #N/A
C44: =VLOOKUP(B41,Уч!$A$2:$L$16,11,FALSE) -> #N/A | E44: Сумма очков | F44: =F43 -> #N/A | G44: =F44+G43 -> #N/A | H44: =G44+H43 -> #N/A | I44: =H44+I43 -> #N/A | J44: =I44+J43 -> #N/A | K44: =J44+K43 -> #N/A | L44: =K44+L43 -> #N/A | P44: =B41 -> 49 | Q44: =$A41 -> #N/A | R44: 4 | S44: =$A41 -> #N/A | T44: =F44 -> #N/A | U44: =G44 -> #N/A | V44: =H44 -> #N/A | W44: =I44 -> #N/A | X44: =J44 -> #N/A | Y44: =K44 -> #N/A | Z44: =L44 -> #N/A
C45: =VLOOKUP(B41,Уч!$A$2:$L$16,12,FALSE) -> #N/A | E45: Место | F45: =RANK(F44,$T$19:$T$50,0) -> #N/A | G45: =RANK(G44,$U$19:$U$50,0) -> #N/A | H45: =RANK(H44,$V$19:$V$50,0) -> #N/A | I45: =RANK(I44,$W$19:$W$50,0) -> #N/A | J45: =RANK(J44,$X$19:$X$50,0) -> #N/A | K45: =RANK(K44,$Y$19:$Y$50,0) -> #N/A | L45: =RANK(L44,$Z$19:$Z$50,0) -> #N/A | P45: =B41 -> 49 | Q45: =$A41 -> #N/A | R45: 5 | S45: =$A41 -> #N/A
A46: =RANK(M46,$M$16:$M$50,0) -> #N/A | B46: 42 | C46: =VLOOKUP(B46,Уч!$A$2:$L$16,2,FALSE) -> #N/A | D46: =VLOOKUP(B46,Уч!$A$2:$L$16,3,FALSE) -> #N/A | E46: Результат | F46: =VLOOKUP($B46,'110 сб '!$C$17:$I$87,5,FALSE) -> #N/A | G46: справка | I46: =VLOOKUP($B46,'2_р'!$C$17:$I$68,5,FALSE) -> 0 | J46: =VLOOKUP($B46,Дл_р!$C$17:$O$43,11,FALSE) -> #N/A | K46: =VLOOKUP($B46,К_р!$C$18:$K$31,8,FALSE) -> #N/A | L46: =VLOOKUP($B46,'8_р'!$C$17:$H$77,5,FALSE) -> 0 | M46: =SUM(F48:L48) -> #N/A | N46: =LOOKUP(M46,R$1:AA$1,R$2:AA$2) -> #N/A | O46: 0 | P46: =B46 -> 42 | Q46: =$A46 -> #N/A | R46: 1 | S46: =$A46 -> #N/A | AC46: =IF(AND(Q46>16,M46>=4600),"1",LOOKUP(Q46,Q$5:AH$5,Q$6:AH$6)) -> #N/A | AD46: =LOOKUP(N46,R$8:W$8,R$9:W$9) -> #N/A
C47: =VLOOKUP(B46,Уч!$A$2:$L$16,5,FALSE) -> #N/A | D47: =VLOOKUP(B46,Уч!$A$2:$L$16,4,FALSE) -> #N/A | E47: Ветер | F47: =VLOOKUP($B46,'110 сб '!$C$17:$I$87,6,FALSE) -> #N/A | I47: =VLOOKUP($B46,'2_р'!$C$17:$I$68,6,FALSE) -> 0 | J47: =VLOOKUP($B46,Дл_р!$C$17:$O$43,12,FALSE) -> #N/A | O47: =CONCATENATE(AC46,"+",AD46,"+",5) -> #N/A | P47: =B46 -> 42 | Q47: =$A46 -> #N/A | R47: 2 | S47: =$A46 -> #N/A
C48: =VLOOKUP(B46,Уч!$A$2:$L$16,7,FALSE) -> #N/A | E48: Очки | F48: =VLOOKUP($B46,'110 сб '!$C$17:$I$87,7,FALSE) -> #N/A | G48: =VLOOKUP($B46,высота!$C$17:$AF$42,30,FALSE) -> #N/A | H48: =VLOOKUP($B46,ядро!$C$17:$K$43,9,FALSE) -> #N/A | I48: =VLOOKUP($B46,'2_р'!$C$17:$I$68,7,FALSE) -> 0 | J48: =VLOOKUP($B46,Дл_р!$C$17:$O$43,13,FALSE) -> #N/A | K48: =VLOOKUP($B46,К_р!$C$18:$K$31,9,FALSE) -> #N/A | L48: =VLOOKUP($B46,'8_р'!$C$17:$H$77,6,FALSE) -> 0 | P48: =B46 -> 42 | Q48: =$A46 -> #N/A | R48: 3 | S48: =$A46 -> #N/A
C49: =VLOOKUP(B46,Уч!$A$2:$L$16,11,FALSE) -> #N/A | E49: Сумма очков | F49: =F48 -> #N/A | G49: =F49+G48 -> #N/A | H49: =G49+H48 -> #N/A | I49: =H49+I48 -> #N/A | J49: =I49+J48 -> #N/A | K49: =J49+K48 -> #N/A | L49: =K49+L48 -> #N/A | P49: =B46 -> 42 | Q49: =$A46 -> #N/A | R49: 4 | S49: =$A46 -> #N/A | T49: =F49 -> #N/A | U49: =G49 -> #N/A | V49: =H49 -> #N/A | W49: =I49 -> #N/A | X49: =J49 -> #N/A | Y49: =K49 -> #N/A | Z49: =L49 -> #N/A
C50: =VLOOKUP(B46,Уч!$A$2:$L$16,12,FALSE) -> #N/A | E50: Место | F50: =RANK(F49,$T$19:$T$50,0) -> #N/A | G50: =RANK(G49,$U$19:$U$50,0) -> #N/A | H50: =RANK(H49,$V$19:$V$50,0) -> #N/A | I50: =RANK(I49,$W$19:$W$50,0) -> #N/A | J50: =RANK(J49,$X$19:$X$50,0) -> #N/A | K50: =RANK(K49,$Y$19:$Y$50,0) -> #N/A | L50: =RANK(L49,$Z$19:$Z$50,0) -> #N/A | P50: =B46 -> 42 | Q50: =$A46 -> #N/A | R50: 5 | S50: =$A46 -> #N/A
A51: =RANK(M51,$M$16:$M$50,0) -> #N/A | B51: 1362 | C51: =VLOOKUP(B51,Уч!$A$2:$L$16,2,FALSE) -> #N/A | D51: =VLOOKUP(B51,Уч!$A$2:$L$16,3,FALSE) -> #N/A | E51: Рез | F51: =VLOOKUP($B51,'110 сб '!$C$17:$I$87,5,FALSE) -> #N/A | G51: =VLOOKUP($B51,высота!$C$17:$AF$42,29,FALSE) -> #N/A | H51: =VLOOKUP($B51,ядро!$C$17:$K$43,8,FALSE) -> #N/A | I51: =VLOOKUP($B51,'2_р'!$C$17:$I$68,5,FALSE) -> #N/A | J51: =VLOOKUP($B51,Дл_р!$C$17:$O$43,11,FALSE) -> #N/A | K51: =VLOOKUP($B51,К_р!$C$18:$K$31,8,FALSE) -> #N/A | L51: =VLOOKUP($B51,'8_р'!$C$17:$H$77,5,FALSE) -> 0 | M51: =SUM(F53:L53) -> #N/A | N51: =LOOKUP(M51,R$1:AA$1,R$2:AA$2) -> #N/A | O51: =AC51+AD51+5 -> #N/A | P51: =B51 -> 1362 | Q51: =$A51 -> #N/A | R51: 1 | S51: =$A51 -> #N/A | AC51: =IF(AND(Q51>16,M51>=4600),"1",LOOKUP(Q51,Q$5:AH$5,Q$6:AH$6)) -> #N/A | AD51: =LOOKUP(N51,R$8:W$8,R$9:W$9) -> #N/A
C52: =VLOOKUP(B51,Уч!$A$2:$L$16,5,FALSE) -> #N/A | D52: =VLOOKUP(B51,Уч!$A$2:$L$16,4,FALSE) -> #N/A | E52: Вет | F52: =VLOOKUP($B51,'110 сб '!$C$17:$I$87,6,FALSE) -> #N/A | I52: =VLOOKUP($B51,'2_р'!$C$17:$I$68,6,FALSE) -> #N/A | J52: =VLOOKUP($B51,Дл_р!$C$17:$O$43,12,FALSE) -> #N/A | O52: =CONCATENATE(AC51,"+",AD51,"+",5) -> #N/A | P52: =B51 -> 1362 | Q52: =$A51 -> #N/A | R52: 2 | S52: =$A51 -> #N/A
C53: =VLOOKUP(B51,Уч!$A$2:$L$16,7,FALSE) -> #N/A | E53: Оч | F53: =VLOOKUP($B51,'110 сб '!$C$17:$I$87,7,FALSE) -> #N/A | G53: =VLOOKUP($B51,высота!$C$17:$AF$42,30,FALSE) -> #N/A | H53: =VLOOKUP($B51,ядро!$C$17:$K$43,9,FALSE) -> #N/A | I53: =VLOOKUP($B51,'2_р'!$C$17:$I$68,7,FALSE) -> #N/A | J53: =VLOOKUP($B51,Дл_р!$C$17:$O$43,13,FALSE) -> #N/A | K53: =VLOOKUP($B51,К_р!$C$18:$K$31,9,FALSE) -> #N/A | L53: =VLOOKUP($B51,'8_р'!$C$17:$H$77,6,FALSE) -> 0 | P53: =B51 -> 1362 | Q53: =$A51 -> #N/A | R53: 3 | S53: =$A51 -> #N/A
C54: =VLOOKUP(B51,Уч!$A$2:$L$16,11,FALSE) -> #N/A | E54: Сум | F54: =F53 -> #N/A | G54: =F54+G53 -> #N/A | H54: =G54+H53 -> #N/A | I54: =H54+I53 -> #N/A | J54: =I54+J53 -> #N/A | K54: =J54+K53 -> #N/A | L54: =K54+L53 -> #N/A | P54: =B51 -> 1362 | Q54: =$A51 -> #N/A | R54: 4 | S54: =$A51 -> #N/A | T54: =F54 -> #N/A | U54: =G54 -> #N/A | V54: =H54 -> #N/A | W54: =I54 -> #N/A | X54: =J54 -> #N/A | Y54: =K54 -> #N/A | Z54: =L54 -> #N/A
C55: =VLOOKUP(B51,Уч!$A$2:$L$16,12,FALSE) -> #N/A | E55: Мес | F55: =RANK(F54,$T$19:$T$50,0) -> #N/A | G55: =RANK(G54,$U$19:$U$50,0) -> #N/A | H55: =RANK(H54,$V$19:$V$50,0) -> #N/A | I55: =RANK(I54,$W$19:$W$50,0) -> #N/A | J55: =RANK(J54,$X$19:$X$50,0) -> #N/A | K55: =RANK(K54,$Y$19:$Y$50,0) -> #N/A | L55: =RANK(L54,$Z$19:$Z$50,0) -> #N/A | P55: =B51 -> 1362 | Q55: =$A51 -> #N/A | R55: 5 | S55: =$A51 -> #N/A
A56: =RANK(M56,$M$16:$M$50,0) -> #N/A | B56: 1363 | C56: =VLOOKUP(B56,Уч!$A$2:$L$16,2,FALSE) -> #N/A | D56: =VLOOKUP(B56,Уч!$A$2:$L$16,3,FALSE) -> #N/A | E56: Рез | F56: =VLOOKUP($B56,'110 сб '!$C$17:$I$87,5,FALSE) -> #N/A | G56: =VLOOKUP($B56,высота!$C$17:$AF$42,29,FALSE) -> #N/A | H56: =VLOOKUP($B56,ядро!$C$17:$K$43,8,FALSE) -> #N/A | I56: =VLOOKUP($B56,'2_р'!$C$17:$I$68,5,FALSE) -> #N/A | J56: =VLOOKUP($B56,Дл_р!$C$17:$O$43,11,FALSE) -> #N/A | K56: =VLOOKUP($B56,К_р!$C$18:$K$31,8,FALSE) -> #N/A | L56: =VLOOKUP($B56,'8_р'!$C$17:$H$77,5,FALSE) -> #N/A | M56: =SUM(F58:L58) -> #N/A | N56: =LOOKUP(M56,R$1:AA$1,R$2:AA$2) -> #N/A | O56: =AC56+AD56+5 -> #N/A | P56: =B56 -> 1363 | Q56: =$A56 -> #N/A | R56: 1 | S56: =$A56 -> #N/A | AC56: =IF(AND(Q56>16,M56>=4600),"1",LOOKUP(Q56,Q$5:AH$5,Q$6:AH$6)) -> #N/A | AD56: =LOOKUP(N56,R$8:W$8,R$9:W$9) -> #N/A
C57: =VLOOKUP(B56,Уч!$A$2:$L$16,5,FALSE) -> #N/A | D57: =VLOOKUP(B56,Уч!$A$2:$L$16,4,FALSE) -> #N/A | E57: Вет | F57: =VLOOKUP($B56,'110 сб '!$C$17:$I$87,6,FALSE) -> #N/A | I57: =VLOOKUP($B56,'2_р'!$C$17:$I$68,6,FALSE) -> #N/A | J57: =VLOOKUP($B56,Дл_р!$C$17:$O$43,12,FALSE) -> #N/A | O57: =CONCATENATE(AC56,"+",AD56,"+",5) -> #N/A | P57: =B56 -> 1363 | Q57: =$A56 -> #N/A | R57: 2 | S57: =$A56 -> #N/A
C58: =VLOOKUP(B56,Уч!$A$2:$L$16,7,FALSE) -> #N/A | E58: Оч | F58: =VLOOKUP($B56,'110 сб '!$C$17:$I$87,7,FALSE) -> #N/A | G58: =VLOOKUP($B56,высота!$C$17:$AF$42,30,FALSE) -> #N/A | H58: =VLOOKUP($B56,ядро!$C$17:$K$43,9,FALSE) -> #N/A | I58: =VLOOKUP($B56,'2_р'!$C$17:$I$68,7,FALSE) -> #N/A | J58: =VLOOKUP($B56,Дл_р!$C$17:$O$43,13,FALSE) -> #N/A | K58: =VLOOKUP($B56,К_р!$C$18:$K$31,9,FALSE) -> #N/A | L58: =VLOOKUP($B56,'8_р'!$C$17:$H$77,6,FALSE) -> #N/A | P58: =B56 -> 1363 | Q58: =$A56 -> #N/A | R58: 3 | S58: =$A56 -> #N/A
C59: =VLOOKUP(B56,Уч!$A$2:$L$16,11,FALSE) -> #N/A | E59: Сум | F59: =F58 -> #N/A | G59: =F59+G58 -> #N/A | H59: =G59+H58 -> #N/A | I59: =H59+I58 -> #N/A | J59: =I59+J58 -> #N/A | K59: =J59+K58 -> #N/A | L59: =K59+L58 -> #N/A | P59: =B56 -> 1363 | Q59: =$A56 -> #N/A | R59: 4 | S59: =$A56 -> #N/A | T59: =F59 -> #N/A | U59: =G59 -> #N/A | V59: =H59 -> #N/A | W59: =I59 -> #N/A | X59: =J59 -> #N/A | Y59: =K59 -> #N/A | Z59: =L59 -> #N/A
C60: =VLOOKUP(B56,Уч!$A$2:$L$16,12,FALSE) -> #N/A | E60: Мес | F60: =RANK(F59,$T$19:$T$50,0) -> #N/A | G60: =RANK(G59,$U$19:$U$50,0) -> #N/A | H60: =RANK(H59,$V$19:$V$50,0) -> #N/A | I60: =RANK(I59,$W$19:$W$50,0) -> #N/A | J60: =RANK(J59,$X$19:$X$50,0) -> #N/A | K60: =RANK(K59,$Y$19:$Y$50,0) -> #N/A | L60: =RANK(L59,$Z$19:$Z$50,0) -> #N/A | P60: =B56 -> 1363 | Q60: =$A56 -> #N/A | R60: 5 | S60: =$A56 -> #N/A
A61: =RANK(M61,$M$16:$M$50,0) -> #N/A | B61: 1372 | C61: =VLOOKUP(B61,Уч!$A$2:$L$16,2,FALSE) -> #N/A | D61: =VLOOKUP(B61,Уч!$A$2:$L$16,3,FALSE) -> #N/A | E61: Рез | F61: =VLOOKUP($B61,'110 сб '!$C$17:$I$87,5,FALSE) -> #N/A | G61: =VLOOKUP($B61,высота!$C$17:$AF$42,29,FALSE) -> #N/A | H61: =VLOOKUP($B61,ядро!$C$17:$K$43,8,FALSE) -> #N/A | I61: =VLOOKUP($B61,'2_р'!$C$17:$I$68,5,FALSE) -> #N/A | J61: =VLOOKUP($B61,Дл_р!$C$17:$O$43,11,FALSE) -> #N/A | K61: =VLOOKUP($B61,К_р!$C$18:$K$31,8,FALSE) -> #N/A | L61: =VLOOKUP($B61,'8_р'!$C$17:$H$77,5,FALSE) -> #N/A | M61: =SUM(F63:L63) -> #N/A | N61: =LOOKUP(M61,R$1:AA$1,R$2:AA$2) -> #N/A | O61: =AC61+AD61+5 -> #N/A | P61: =B61 -> 1372 | Q61: =$A61 -> #N/A | R61: 1 | S61: =$A61 -> #N/A | AC61: =IF(AND(Q61>16,M61>=4600),"1",LOOKUP(Q61,Q$5:AH$5,Q$6:AH$6)) -> #N/A | AD61: =LOOKUP(N61,R$8:W$8,R$9:W$9) -> #N/A
C62: =VLOOKUP(B61,Уч!$A$2:$L$16,5,FALSE) -> #N/A | D62: =VLOOKUP(B61,Уч!$A$2:$L$16,4,FALSE) -> #N/A | E62: Вет | F62: =VLOOKUP($B61,'110 сб '!$C$17:$I$87,6,FALSE) -> #N/A | I62: =VLOOKUP($B61,'2_р'!$C$17:$I$68,6,FALSE) -> #N/A | J62: =VLOOKUP($B61,Дл_р!$C$17:$O$43,12,FALSE) -> #N/A | O62: =CONCATENATE(AC61,"+",AD61,"+",5) -> #N/A | P62: =B61 -> 1372 | Q62: =$A61 -> #N/A | R62: 2 | S62: =$A61 -> #N/A
C63: =VLOOKUP(B61,Уч!$A$2:$L$16,7,FALSE) -> #N/A | E63: Оч | F63: =VLOOKUP($B61,'110 сб '!$C$17:$I$87,7,FALSE) -> #N/A | G63: =VLOOKUP($B61,высота!$C$17:$AF$42,30,FALSE) -> #N/A | H63: =VLOOKUP($B61,ядро!$C$17:$K$43,9,FALSE) -> #N/A | I63: =VLOOKUP($B61,'2_р'!$C$17:$I$68,7,FALSE) -> #N/A | J63: =VLOOKUP($B61,Дл_р!$C$17:$O$43,13,FALSE) -> #N/A | K63: =VLOOKUP($B61,К_р!$C$18:$K$31,9,FALSE) -> #N/A | L63: =VLOOKUP($B61,'8_р'!$C$17:$H$77,6,FALSE) -> #N/A | P63: =B61 -> 1372 | Q63: =$A61 -> #N/A | R63: 3 | S63: =$A61 -> #N/A
C64: =VLOOKUP(B61,Уч!$A$2:$L$16,11,FALSE) -> #N/A | E64: Сум | F64: =F63 -> #N/A | G64: =F64+G63 -> #N/A | H64: =G64+H63 -> #N/A | I64: =H64+I63 -> #N/A | J64: =I64+J63 -> #N/A | K64: =J64+K63 -> #N/A | L64: =K64+L63 -> #N/A | P64: =B61 -> 1372 | Q64: =$A61 -> #N/A | R64: 4 | S64: =$A61 -> #N/A | T64: =F64 -> #N/A | U64: =G64 -> #N/A | V64: =H64 -> #N/A | W64: =I64 -> #N/A | X64: =J64 -> #N/A | Y64: =K64 -> #N/A | Z64: =L64 -> #N/A
C65: =VLOOKUP(B61,Уч!$A$2:$L$16,12,FALSE) -> #N/A | E65: Мес | F65: =RANK(F64,$T$19:$T$50,0) -> #N/A | G65: =RANK(G64,$U$19:$U$50,0) -> #N/A | H65: =RANK(H64,$V$19:$V$50,0) -> #N/A | I65: =RANK(I64,$W$19:$W$50,0) -> #N/A | J65: =RANK(J64,$X$19:$X$50,0) -> #N/A | K65: =RANK(K64,$Y$19:$Y$50,0) -> #N/A | L65: =RANK(L64,$Z$19:$Z$50,0) -> #N/A | P65: =B61 -> 1372 | Q65: =$A61 -> #N/A | R65: 5 | S65: =$A61 -> #N/A
A66: =RANK(M66,$M$16:$M$50,0) -> #N/A | B66: 1375 | C66: =VLOOKUP(B66,Уч!$A$2:$L$16,2,FALSE) -> #N/A | D66: =VLOOKUP(B66,Уч!$A$2:$L$16,3,FALSE) -> #N/A | E66: Рез | F66: =VLOOKUP($B66,'110 сб '!$C$17:$I$87,5,FALSE) -> #N/A | G66: =VLOOKUP($B66,высота!$C$17:$AF$42,29,FALSE) -> #N/A | H66: =VLOOKUP($B66,ядро!$C$17:$K$43,8,FALSE) -> #N/A | I66: =VLOOKUP($B66,'2_р'!$C$17:$I$68,5,FALSE) -> #N/A | J66: =VLOOKUP($B66,Дл_р!$C$17:$O$43,11,FALSE) -> #N/A | K66: =VLOOKUP($B66,К_р!$C$18:$K$31,8,FALSE) -> #N/A | L66: =VLOOKUP($B66,'8_р'!$C$17:$H$77,5,FALSE) -> 0 | M66: =SUM(F68:L68) -> #N/A | N66: =LOOKUP(M66,R$1:AA$1,R$2:AA$2) -> #N/A | O66: =AC66+AD66+5 -> #N/A | P66: =B66 -> 1375 | Q66: =$A66 -> #N/A | R66: 1 | S66: =$A66 -> #N/A | AC66: =IF(AND(Q66>16,M66>=4600),"1",LOOKUP(Q66,Q$5:AH$5,Q$6:AH$6)) -> #N/A | AD66: =LOOKUP(N66,R$8:W$8,R$9:W$9) -> #N/A
C67: =VLOOKUP(B66,Уч!$A$2:$L$16,5,FALSE) -> #N/A | D67: =VLOOKUP(B66,Уч!$A$2:$L$16,4,FALSE) -> #N/A | E67: Вет | F67: =VLOOKUP($B66,'110 сб '!$C$17:$I$87,6,FALSE) -> #N/A | I67: =VLOOKUP($B66,'2_р'!$C$17:$I$68,6,FALSE) -> #N/A | J67: =VLOOKUP($B66,Дл_р!$C$17:$O$43,12,FALSE) -> #N/A | O67: =CONCATENATE(AC66,"+",AD66,"+",5) -> #N/A | P67: =B66 -> 1375 | Q67: =$A66 -> #N/A | R67: 2 | S67: =$A66 -> #N/A
C68: =VLOOKUP(B66,Уч!$A$2:$L$16,7,FALSE) -> #N/A | E68: Оч | F68: =VLOOKUP($B66,'110 сб '!$C$17:$I$87,7,FALSE) -> #N/A | G68: =VLOOKUP($B66,высота!$C$17:$AF$42,30,FALSE) -> #N/A | H68: =VLOOKUP($B66,ядро!$C$17:$K$43,9,FALSE) -> #N/A | I68: =VLOOKUP($B66,'2_р'!$C$17:$I$68,7,FALSE) -> #N/A | J68: =VLOOKUP($B66,Дл_р!$C$17:$O$43,13,FALSE) -> #N/A | K68: =VLOOKUP($B66,К_р!$C$18:$K$31,9,FALSE) -> #N/A | L68: =VLOOKUP($B66,'8_р'!$C$17:$H$77,6,FALSE) -> 0 | P68: =B66 -> 1375 | Q68: =$A66 -> #N/A | R68: 3 | S68: =$A66 -> #N/A
C69: =VLOOKUP(B66,Уч!$A$2:$L$16,11,FALSE) -> #N/A | E69: Сум | F69: =F68 -> #N/A | G69: =F69+G68 -> #N/A | H69: =G69+H68 -> #N/A | I69: =H69+I68 -> #N/A | J69: =I69+J68 -> #N/A | K69: =J69+K68 -> #N/A | L69: =K69+L68 -> #N/A | P69: =B66 -> 1375 | Q69: =$A66 -> #N/A | R69: 4 | S69: =$A66 -> #N/A | T69: =F69 -> #N/A | U69: =G69 -> #N/A | V69: =H69 -> #N/A | W69: =I69 -> #N/A | X69: =J69 -> #N/A | Y69: =K69 -> #N/A | Z69: =L69 -> #N/A
C70: =VLOOKUP(B66,Уч!$A$2:$L$16,12,FALSE) -> #N/A | E70: Мес | F70: =RANK(F69,$T$19:$T$50,0) -> #N/A | G70: =RANK(G69,$U$19:$U$50,0) -> #N/A | H70: =RANK(H69,$V$19:$V$50,0) -> #N/A | I70: =RANK(I69,$W$19:$W$50,0) -> #N/A | J70: =RANK(J69,$X$19:$X$50,0) -> #N/A | K70: =RANK(K69,$Y$19:$Y$50,0) -> #N/A | L70: =RANK(L69,$Z$19:$Z$50,0) -> #N/A | P70: =B66 -> 1375 | Q70: =$A66 -> #N/A | R70: 5 | S70: =$A66 -> #N/A
A71: =RANK(M71,$M$16:$M$50,0) -> #N/A | B71: 1379 | C71: =VLOOKUP(B71,Уч!$A$2:$L$16,2,FALSE) -> #N/A | D71: =VLOOKUP(B71,Уч!$A$2:$L$16,3,FALSE) -> #N/A | E71: Рез | F71: =VLOOKUP($B71,'110 сб '!$C$17:$I$87,5,FALSE) -> #N/A | G71: =VLOOKUP($B71,высота!$C$17:$AF$42,29,FALSE) -> #N/A | H71: =VLOOKUP($B71,ядро!$C$17:$K$43,8,FALSE) -> #N/A | I71: =VLOOKUP($B71,'2_р'!$C$17:$I$68,5,FALSE) -> #N/A | J71: =VLOOKUP($B71,Дл_р!$C$17:$O$43,11,FALSE) -> #N/A | K71: =VLOOKUP($B71,К_р!$C$18:$K$31,8,FALSE) -> #N/A | L71: =VLOOKUP($B71,'8_р'!$C$17:$H$77,5,FALSE) -> #N/A | M71: =SUM(F73:L73) -> #N/A | N71: =LOOKUP(M71,R$1:AA$1,R$2:AA$2) -> #N/A | O71: =AC71+AD71+5 -> #N/A | P71: =B71 -> 1379 | Q71: =$A71 -> #N/A | R71: 1 | S71: =$A71 -> #N/A | AC71: =IF(AND(Q71>16,M71>=4600),"1",LOOKUP(Q71,Q$5:AH$5,Q$6:AH$6)) -> #N/A | AD71: =LOOKUP(N71,R$8:W$8,R$9:W$9) -> #N/A
C72: =VLOOKUP(B71,Уч!$A$2:$L$16,5,FALSE) -> #N/A | D72: =VLOOKUP(B71,Уч!$A$2:$L$16,4,FALSE) -> #N/A | E72: Вет | F72: =VLOOKUP($B71,'110 сб '!$C$17:$I$87,6,FALSE) -> #N/A | I72: =VLOOKUP($B71,'2_р'!$C$17:$I$68,6,FALSE) -> #N/A | J72: =VLOOKUP($B71,Дл_р!$C$17:$O$43,12,FALSE) -> #N/A | O72: =CONCATENATE(AC71,"+",AD71,"+",5) -> #N/A | P72: =B71 -> 1379 | Q72: =$A71 -> #N/A | R72: 2 | S72: =$A71 -> #N/A
C73: =VLOOKUP(B71,Уч!$A$2:$L$16,7,FALSE) -> #N/A | E73: Оч | F73: =VLOOKUP($B71,'110 сб '!$C$17:$I$87,7,FALSE) -> #N/A | G73: =VLOOKUP($B71,высота!$C$17:$AF$42,30,FALSE) -> #N/A | H73: =VLOOKUP($B71,ядро!$C$17:$K$43,9,FALSE) -> #N/A | I73: =VLOOKUP($B71,'2_р'!$C$17:$I$68,7,FALSE) -> #N/A | J73: =VLOOKUP($B71,Дл_р!$C$17:$O$43,13,FALSE) -> #N/A | K73: =VLOOKUP($B71,К_р!$C$18:$K$31,9,FALSE) -> #N/A | L73: =VLOOKUP($B71,'8_р'!$C$17:$H$77,6,FALSE) -> #N/A | P73: =B71 -> 1379 | Q73: =$A71 -> #N/A | R73: 3 | S73: =$A71 -> #N/A
C74: =VLOOKUP(B71,Уч!$A$2:$L$16,11,FALSE) -> #N/A | E74: Сум | F74: =F73 -> #N/A | G74: =F74+G73 -> #N/A | H74: =G74+H73 -> #N/A | I74: =H74+I73 -> #N/A | J74: =I74+J73 -> #N/A | K74: =J74+K73 -> #N/A | L74: =K74+L73 -> #N/A | P74: =B71 -> 1379 | Q74: =$A71 -> #N/A | R74: 4 | S74: =$A71 -> #N/A | T74: =F74 -> #N/A | U74: =G74 -> #N/A | V74: =H74 -> #N/A | W74: =I74 -> #N/A | X74: =J74 -> #N/A | Y74: =K74 -> #N/A | Z74: =L74 -> #N/A
C75: =VLOOKUP(B71,Уч!$A$2:$L$16,12,FALSE) -> #N/A | E75: Мес | F75: =RANK(F74,$T$19:$T$50,0) -> #N/A | G75: =RANK(G74,$U$19:$U$50,0) -> #N/A | H75: =RANK(H74,$V$19:$V$50,0) -> #N/A | I75: =RANK(I74,$W$19:$W$50,0) -> #N/A | J75: =RANK(J74,$X$19:$X$50,0) -> #N/A | K75: =RANK(K74,$Y$19:$Y$50,0) -> #N/A | L75: =RANK(L74,$Z$19:$Z$50,0) -> #N/A | P75: =B71 -> 1379 | Q75: =$A71 -> #N/A | R75: 5 | S75: =$A71 -> #N/A
A76: =RANK(M76,$M$16:$M$50,0) -> #N/A | B76: 1380 | C76: =VLOOKUP(B76,Уч!$A$2:$L$16,2,FALSE) -> #N/A | D76: =VLOOKUP(B76,Уч!$A$2:$L$16,3,FALSE) -> #N/A | E76: Рез | F76: =VLOOKUP($B76,'110 сб '!$C$17:$I$87,5,FALSE) -> #N/A | G76: =VLOOKUP($B76,высота!$C$17:$AF$42,29,FALSE) -> #N/A | H76: =VLOOKUP($B76,ядро!$C$17:$K$43,8,FALSE) -> #N/A | I76: =VLOOKUP($B76,'2_р'!$C$17:$I$68,5,FALSE) -> #N/A | J76: =VLOOKUP($B76,Дл_р!$C$17:$O$43,11,FALSE) -> #N/A | K76: =VLOOKUP($B76,К_р!$C$18:$K$31,8,FALSE) -> #N/A | L76: =VLOOKUP($B76,'8_р'!$C$17:$H$77,5,FALSE) -> #N/A | M76: =SUM(F78:L78) -> #N/A | N76: =LOOKUP(M76,R$1:AA$1,R$2:AA$2) -> #N/A | O76: =AC76+AD76+5 -> #N/A | P76: =B76 -> 1380 | Q76: =$A76 -> #N/A | R76: 1 | S76: =$A76 -> #N/A | AC76: =IF(AND(Q76>16,M76>=4600),"1",LOOKUP(Q76,Q$5:AH$5,Q$6:AH$6)) -> #N/A | AD76: =LOOKUP(N76,R$8:W$8,R$9:W$9) -> #N/A
C77: =VLOOKUP(B76,Уч!$A$2:$L$16,5,FALSE) -> #N/A | D77: =VLOOKUP(B76,Уч!$A$2:$L$16,4,FALSE) -> #N/A | E77: Вет | F77: =VLOOKUP($B76,'110 сб '!$C$17:$I$87,6,FALSE) -> #N/A | I77: =VLOOKUP($B76,'2_р'!$C$17:$I$68,6,FALSE) -> #N/A | J77: =VLOOKUP($B76,Дл_р!$C$17:$O$43,12,FALSE) -> #N/A | O77: =CONCATENATE(AC76,"+",AD76,"+",5) -> #N/A | P77: =B76 -> 1380 | Q77: =$A76 -> #N/A | R77: 2 | S77: =$A76 -> #N/A
C78: =VLOOKUP(B76,Уч!$A$2:$L$16,7,FALSE) -> #N/A | E78: Оч | F78: =VLOOKUP($B76,'110 сб '!$C$17:$I$87,7,FALSE) -> #N/A | G78: =VLOOKUP($B76,высота!$C$17:$AF$42,30,FALSE) -> #N/A | H78: =VLOOKUP($B76,ядро!$C$17:$K$43,9,FALSE) -> #N/A | I78: =VLOOKUP($B76,'2_р'!$C$17:$I$68,7,FALSE) -> #N/A | J78: =VLOOKUP($B76,Дл_р!$C$17:$O$43,13,FALSE) -> #N/A | K78: =VLOOKUP($B76,К_р!$C$18:$K$31,9,FALSE) -> #N/A | L78: =VLOOKUP($B76,'8_р'!$C$17:$H$77,6,FALSE) -> #N/A | P78: =B76 -> 1380 | Q78: =$A76 -> #N/A | R78: 3 | S78: =$A76 -> #N/A
C79: =VLOOKUP(B76,Уч!$A$2:$L$16,11,FALSE) -> #N/A | E79: Сум | F79: =F78 -> #N/A | G79: =F79+G78 -> #N/A | H79: =G79+H78 -> #N/A | I79: =H79+I78 -> #N/A | J79: =I79+J78 -> #N/A | K79: =J79+K78 -> #N/A | L79: =K79+L78 -> #N/A | P79: =B76 -> 1380 | Q79: =$A76 -> #N/A | R79: 4 | S79: =$A76 -> #N/A | T79: =F79 -> #N/A | U79: =G79 -> #N/A | V79: =H79 -> #N/A | W79: =I79 -> #N/A | X79: =J79 -> #N/A | Y79: =K79 -> #N/A | Z79: =L79 -> #N/A
C80: =VLOOKUP(B76,Уч!$A$2:$L$16,12,FALSE) -> #N/A | E80: Мес | F80: =RANK(F79,$T$19:$T$50,0) -> #N/A | G80: =RANK(G79,$U$19:$U$50,0) -> #N/A | H80: =RANK(H79,$V$19:$V$50,0) -> #N/A | I80: =RANK(I79,$W$19:$W$50,0) -> #N/A | J80: =RANK(J79,$X$19:$X$50,0) -> #N/A | K80: =RANK(K79,$Y$19:$Y$50,0) -> #N/A | L80: =RANK(L79,$Z$19:$Z$50,0) -> #N/A | P80: =B76 -> 1380 | Q80: =$A76 -> #N/A | R80: 5 | S80: =$A76 -> #N/A
A81: =RANK(M81,$M$16:$M$50,0) -> #N/A | B81: 1416 | C81: =VLOOKUP(B81,Уч!$A$2:$L$16,2,FALSE) -> #N/A | D81: =VLOOKUP(B81,Уч!$A$2:$L$16,3,FALSE) -> #N/A | E81: Рез | F81: =VLOOKUP($B81,'110 сб '!$C$17:$I$87,5,FALSE) -> #N/A | G81: =VLOOKUP($B81,высота!$C$17:$AF$42,29,FALSE) -> #N/A | H81: =VLOOKUP($B81,ядро!$C$17:$K$43,8,FALSE) -> 0 | I81: =VLOOKUP($B81,'2_р'!$C$17:$I$68,5,FALSE) -> #N/A | J81: =VLOOKUP($B81,Дл_р!$C$17:$O$43,11,FALSE) -> #N/A | K81: =VLOOKUP($B81,К_р!$C$18:$K$31,8,FALSE) -> #N/A | L81: =VLOOKUP($B81,'8_р'!$C$17:$H$77,5,FALSE) -> #N/A | M81: =SUM(F83:L83) -> #N/A | N81: =LOOKUP(M81,R$1:AA$1,R$2:AA$2) -> #N/A | O81: =AC81+AD81+5 -> #N/A | P81: =B81 -> 1416 | Q81: =$A81 -> #N/A | R81: 1 | S81: =$A81 -> #N/A | AC81: =IF(AND(Q81>16,M81>=4600),"1",LOOKUP(Q81,Q$5:AH$5,Q$6:AH$6)) -> #N/A | AD81: =LOOKUP(N81,R$8:W$8,R$9:W$9) -> #N/A
C82: =VLOOKUP(B81,Уч!$A$2:$L$16,5,FALSE) -> #N/A | D82: =VLOOKUP(B81,Уч!$A$2:$L$16,4,FALSE) -> #N/A | E82: Вет | F82: =VLOOKUP($B81,'110 сб '!$C$17:$I$87,6,FALSE) -> #N/A | I82: =VLOOKUP($B81,'2_р'!$C$17:$I$68,6,FALSE) -> #N/A | J82: =VLOOKUP($B81,Дл_р!$C$17:$O$43,12,FALSE) -> #N/A | O82: =CONCATENATE(AC81,"+",AD81,"+",5) -> #N/A | P82: =B81 -> 1416 | Q82: =$A81 -> #N/A | R82: 2 | S82: =$A81 -> #N/A
C83: =VLOOKUP(B81,Уч!$A$2:$L$16,7,FALSE) -> #N/A | E83: Оч | F83: =VLOOKUP($B81,'110 сб '!$C$17:$I$87,7,FALSE) -> #N/A | G83: =VLOOKUP($B81,высота!$C$17:$AF$42,30,FALSE) -> #N/A | H83: =VLOOKUP($B81,ядро!$C$17:$K$43,9,FALSE) -> 0 | I83: =VLOOKUP($B81,'2_р'!$C$17:$I$68,7,FALSE) -> #N/A | J83: =VLOOKUP($B81,Дл_р!$C$17:$O$43,13,FALSE) -> #N/A | K83: =VLOOKUP($B81,К_р!$C$18:$K$31,9,FALSE) -> #N/A | L83: =VLOOKUP($B81,'8_р'!$C$17:$H$77,6,FALSE) -> #N/A | P83: =B81 -> 1416 | Q83: =$A81 -> #N/A | R83: 3 | S83: =$A81 -> #N/A
C84: =VLOOKUP(B81,Уч!$A$2:$L$16,11,FALSE) -> #N/A | E84: Сум | F84: =F83 -> #N/A | G84: =F84+G83 -> #N/A | H84: =G84+H83 -> #N/A | I84: =H84+I83 -> #N/A | J84: =I84+J83 -> #N/A | K84: =J84+K83 -> #N/A | L84: =K84+L83 -> #N/A | P84: =B81 -> 1416 | Q84: =$A81 -> #N/A | R84: 4 | S84: =$A81 -> #N/A | T84: =F84 -> #N/A | U84: =G84 -> #N/A | V84: =H84 -> #N/A | W84: =I84 -> #N/A | X84: =J84 -> #N/A | Y84: =K84 -> #N/A | Z84: =L84 -> #N/A
C85: =VLOOKUP(B81,Уч!$A$2:$L$16,12,FALSE) -> #N/A | E85: Мес | F85: =RANK(F84,$T$19:$T$50,0) -> #N/A | G85: =RANK(G84,$U$19:$U$50,0) -> #N/A | H85: =RANK(H84,$V$19:$V$50,0) -> #N/A | I85: =RANK(I84,$W$19:$W$50,0) -> #N/A | J85: =RANK(J84,$X$19:$X$50,0) -> #N/A | K85: =RANK(K84,$Y$19:$Y$50,0) -> #N/A | L85: =RANK(L84,$Z$19:$Z$50,0) -> #N/A | P85: =B81 -> 1416 | Q85: =$A81 -> #N/A | R85: 5 | S85: =$A81 -> #N/A
A86: =RANK(M86,$M$16:$M$50,0) -> #N/A | B86: 1367 | C86: =VLOOKUP(B86,Уч!$A$2:$L$16,2,FALSE) -> #N/A | D86: =VLOOKUP(B86,Уч!$A$2:$L$16,3,FALSE) -> #N/A | E86: Рез | F86: =VLOOKUP($B86,'110 сб '!$C$17:$I$87,5,FALSE) -> #N/A | G86: =VLOOKUP($B86,высота!$C$17:$AF$42,29,FALSE) -> #N/A | H86: =VLOOKUP($B86,ядро!$C$17:$K$43,8,FALSE) -> #N/A | I86: =VLOOKUP($B86,'2_р'!$C$17:$I$68,5,FALSE) -> #N/A | J86: =VLOOKUP($B86,Дл_р!$C$17:$O$43,11,FALSE) -> #N/A | K86: =VLOOKUP($B86,К_р!$C$18:$K$31,8,FALSE) -> #N/A | L86: =VLOOKUP($B86,'8_р'!$C$17:$H$77,5,FALSE) -> #N/A | M86: =SUM(F88:L88) -> #N/A | N86: =LOOKUP(M86,R$1:AA$1,R$2:AA$2) -> #N/A | O86: =AC86+AD86+5 -> #N/A | P86: =B86 -> 1367 | Q86: =$A86 -> #N/A | R86: 1 | S86: =$A86 -> #N/A | AC86: =IF(AND(Q86>16,M86>=4600),"1",LOOKUP(Q86,Q$5:AH$5,Q$6:AH$6)) -> #N/A | AD86: =LOOKUP(N86,R$8:W$8,R$9:W$9) -> #N/A
C87: =VLOOKUP(B86,Уч!$A$2:$L$16,5,FALSE) -> #N/A | D87: =VLOOKUP(B86,Уч!$A$2:$L$16,4,FALSE) -> #N/A | E87: Вет | F87: =VLOOKUP($B86,'110 сб '!$C$17:$I$87,6,FALSE) -> #N/A | I87: =VLOOKUP($B86,'2_р'!$C$17:$I$68,6,FALSE) -> #N/A | J87: =VLOOKUP($B86,Дл_р!$C$17:$O$43,12,FALSE) -> #N/A | O87: =CONCATENATE(AC86,"+",AD86,"+",5) -> #N/A | P87: =B86 -> 1367 | Q87: =$A86 -> #N/A | R87: 2 | S87: =$A86 -> #N/A
C88: =VLOOKUP(B86,Уч!$A$2:$L$16,7,FALSE) -> #N/A | E88: Оч | F88: =VLOOKUP($B86,'110 сб '!$C$17:$I$87,7,FALSE) -> #N/A | G88: =VLOOKUP($B86,высота!$C$17:$AF$42,30,FALSE) -> #N/A | H88: =VLOOKUP($B86,ядро!$C$17:$K$43,9,FALSE) -> #N/A | I88: =VLOOKUP($B86,'2_р'!$C$17:$I$68,7,FALSE) -> #N/A | J88: =VLOOKUP($B86,Дл_р!$C$17:$O$43,13,FALSE) -> #N/A | K88: =VLOOKUP($B86,К_р!$C$18:$K$31,9,FALSE) -> #N/A | L88: =VLOOKUP($B86,'8_р'!$C$17:$H$77,6,FALSE) -> #N/A | P88: =B86 -> 1367 | Q88: =$A86 -> #N/A | R88: 3 | S88: =$A86 -> #N/A
C89: =VLOOKUP(B86,Уч!$A$2:$L$16,11,FALSE) -> #N/A | E89: Сум | F89: =F88 -> #N/A | G89: =F89+G88 -> #N/A | H89: =G89+H88 -> #N/A | I89: =H89+I88 -> #N/A | J89: =I89+J88 -> #N/A | K89: =J89+K88 -> #N/A | L89: =K89+L88 -> #N/A | P89: =B86 -> 1367 | Q89: =$A86 -> #N/A | R89: 4 | S89: =$A86 -> #N/A | T89: =F89 -> #N/A | U89: =G89 -> #N/A | V89: =H89 -> #N/A | W89: =I89 -> #N/A | X89: =J89 -> #N/A | Y89: =K89 -> #N/A | Z89: =L89 -> #N/A
C90: =VLOOKUP(B86,Уч!$A$2:$L$16,12,FALSE) -> #N/A | E90: Мес | F90: =RANK(F89,$T$19:$T$50,0) -> #N/A | G90: =RANK(G89,$U$19:$U$50,0) -> #N/A | H90: =RANK(H89,$V$19:$V$50,0) -> #N/A | I90: =RANK(I89,$W$19:$W$50,0) -> #N/A | J90: =RANK(J89,$X$19:$X$50,0) -> #N/A | K90: =RANK(K89,$Y$19:$Y$50,0) -> #N/A | L90: =RANK(L89,$Z$19:$Z$50,0) -> #N/A | P90: =B86 -> 1367 | Q90: =$A86 -> #N/A | R90: 5 | S90: =$A86 -> #N/A
C92: Главный судья | H92: П.Ф. Безъязычный ВК Краснодар
C94: Главный секретарь | H94: Е.Ю. Клочкова ВК Волгоград
A95: 22 | C95: =VLOOKUP(B95,Уч!$A$2:$L$18,2,FALSE) -> #N/A | D95: =VLOOKUP(B95,Уч!$A$2:$L$18,3,FALSE) -> #N/A | E95: Рез | F95: =VLOOKUP($B95,'110 сб '!$C$17:$I$87,5,FALSE) -> #N/A | G95: =VLOOKUP($B95,высота!$C$17:$AF$42,17,FALSE) -> #N/A | H95: =VLOOKUP($B95,ядро!$C$17:$K$43,8,FALSE) -> #N/A | I95: =VLOOKUP($B95,'2_р'!$C$17:$I$68,5,FALSE) -> #N/A | J95: =VLOOKUP($B95,Дл_р!$C$17:$O$43,11,FALSE) -> #N/A | K95: =VLOOKUP($B95,К_р!$C$18:$K$31,8,FALSE) -> #N/A | L95: =VLOOKUP($B95,'8_р'!$C$17:$H$77,5,FALSE) -> #N/A | M95: Не явка | Q95: =$A95 -> 22 | R95: 1
C96: =VLOOKUP(B95,Уч!$A$2:$L$18,5,FALSE) -> #N/A | D96: =VLOOKUP(B95,Уч!$A$2:$L$18,4,FALSE) -> #N/A | E96: Оч | F96: =VLOOKUP($B95,'110 сб '!$C$17:$I$87,7,FALSE) -> #N/A | G96: =VLOOKUP($B95,высота!$C$17:$AF$42,18,FALSE) -> #N/A | H96: =VLOOKUP($B95,ядро!$C$17:$K$43,9,FALSE) -> #N/A | I96: =VLOOKUP($B95,'2_р'!$C$17:$I$68,7,FALSE) -> #N/A | J96: =VLOOKUP($B95,Дл_р!$C$17:$O$43,13,FALSE) -> #N/A | K96: =VLOOKUP($B95,К_р!$C$18:$K$31,9,FALSE) -> #N/A | L96: =VLOOKUP($B95,'8_р'!$C$17:$H$77,6,FALSE) -> #N/A | Q96: =$A95 -> 22 | R96: 2
C97: =VLOOKUP(B95,Уч!$A$2:$L$18,7,FALSE) -> #N/A | E97: Сум | F97: =F96 -> #N/A | G97: =F97+G96 -> #N/A | H97: =G97+H96 -> #N/A | I97: =H97+I96 -> #N/A | J97: =I97+J96 -> #N/A | K97: =J97+K96 -> #N/A | L97: =K97+L96 -> #N/A | Q97: =$A95 -> 22 | R97: 3 | T97: =F97 -> #N/A | U97: =G97 -> #N/A | V97: =H97 -> #N/A | W97: =I97 -> #N/A | X97: =J97 -> #N/A | Y97: =K97 -> #N/A | Z97: =L97 -> #N/A
C98: =VLOOKUP(B95,Уч!$A$2:$L$18,11,FALSE) -> #N/A | E98: Мес | F98: =RANK(F97,$T$19:$T$60,0) -> #N/A | G98: =RANK(G97,$U$19:$U$60,0) -> #N/A | H98: =RANK(H97,$V$19:$V$60,0) -> #N/A | I98: =RANK(I97,$W$19:$W$60,0) -> #N/A | J98: =RANK(J97,$X$19:$X$60,0) -> #N/A | K98: =RANK(K97,$Y$19:$Y$60,0) -> #N/A | L98: =RANK(L97,$Z$19:$Z$60,0) -> #N/A | Q98: =$A95 -> 22 | R98: 4
A99: 23 | C99: =VLOOKUP(B99,Уч!$A$2:$L$18,2,FALSE) -> #N/A | D99: =VLOOKUP(B99,Уч!$A$2:$L$18,3,FALSE) -> #N/A | E99: Рез | F99: =VLOOKUP($B99,'110 сб '!$C$17:$I$87,5,FALSE) -> #N/A | G99: =VLOOKUP($B99,высота!$C$17:$AF$42,17,FALSE) -> #N/A | H99: =VLOOKUP($B99,ядро!$C$17:$K$43,8,FALSE) -> #N/A | I99: =VLOOKUP($B99,'2_р'!$C$17:$I$68,5,FALSE) -> #N/A | J99: =VLOOKUP($B99,Дл_р!$C$17:$O$43,11,FALSE) -> #N/A | K99: =VLOOKUP($B99,К_р!$C$18:$K$31,8,FALSE) -> #N/A | L99: =VLOOKUP($B99,'8_р'!$C$17:$H$77,5,FALSE) -> #N/A | M99: Не явка | Q99: =$A99 -> 23 | R99: 1
C100: =VLOOKUP(B99,Уч!$A$2:$L$18,5,FALSE) -> #N/A | D100: =VLOOKUP(B99,Уч!$A$2:$L$18,4,FALSE) -> #N/A | E100: Оч | F100: =VLOOKUP($B99,'110 сб '!$C$17:$I$87,7,FALSE) -> #N/A | G100: =VLOOKUP($B99,высота!$C$17:$AF$42,18,FALSE) -> #N/A | H100: =VLOOKUP($B99,ядро!$C$17:$K$43,9,FALSE) -> #N/A | I100: =VLOOKUP($B99,'2_р'!$C$17:$I$68,7,FALSE) -> #N/A | J100: =VLOOKUP($B99,Дл_р!$C$17:$O$43,13,FALSE) -> #N/A | K100: =VLOOKUP($B99,К_р!$C$18:$K$31,9,FALSE) -> #N/A | L100: =VLOOKUP($B99,'8_р'!$C$17:$H$77,6,FALSE) -> #N/A | Q100: =$A99 -> 23 | R100: 2
C101: =VLOOKUP(B99,Уч!$A$2:$L$18,7,FALSE) -> #N/A | E101: Сум | F101: =F100 -> #N/A | G101: =F101+G100 -> #N/A | H101: =G101+H100 -> #N/A | I101: =H101+I100 -> #N/A | J101: =I101+J100 -> #N/A | K101: =J101+K100 -> #N/A | L101: =K101+L100 -> #N/A | Q101: =$A99 -> 23 | R101: 3 | T101: =F101 -> #N/A | U101: =G101 -> #N/A | V101: =H101 -> #N/A | W101: =I101 -> #N/A | X101: =J101 -> #N/A | Y101: =K101 -> #N/A | Z101: =L101 -> #N/A
C102: =VLOOKUP(B99,Уч!$A$2:$L$18,11,FALSE) -> #N/A | E102: Мес | F102: =RANK(F101,$T$19:$T$60,0) -> #N/A | G102: =RANK(G101,$U$19:$U$60,0) -> #N/A | H102: =RANK(H101,$V$19:$V$60,0) -> #N/A | I102: =RANK(I101,$W$19:$W$60,0) -> #N/A | J102: =RANK(J101,$X$19:$X$60,0) -> #N/A | K102: =RANK(K101,$Y$19:$Y$60,0) -> #N/A | L102: =RANK(L101,$Z$19:$Z$60,0) -> #N/A | Q102: =$A99 -> 23 | R102: 4

Sheet Ж23
A1: =Расп!$A$21 -> МИНИСТЕРСТВО СПОРТА РОССИЙСКОЙ ФЕДЕРАЦИИ | Q1: Очки | R1: 0 | T1: 1600 | U1: 2000 | V1: 2700 | W1: 3300 | X1: 3900 | Y1: 4500 | Z1: 5250 | AA1: 6150 | AC1: Для | AD1: мол | AE1: 4000
A2: =Расп!$A$22 -> ВСЕРОССИЙСКАЯ ФЕДЕРАЦИЯ ЛЕГКОЙ АТЛЕТИКИ | Q2: Разряд | R2: б/р | S2: 3ю | T2: 2ю | U2: 1ю | V2: 3 | W2: 2 | X2: 1 | Y2: КМС | Z2: МС | AA2: МСМК
A3: =Расп!$A$25 -> Командный чемпионат России | Y3: 1 оч
A4: =Расп!$A$27 -> по многоборью
A5: женщины и юниорки до 23 лет | Q5: Место | R5: 1 | S5: 2 | T5: 3 | U5: 4 | V5: 5 | W5: 6 | X5: 7 | Y5: 8 | Z5: 9 | AA5: 10 | AB5: 11 | AC5: 12 | AD5: 13 | AE5: 14 | AF5: 15 | AG5: 16 | AH5: 17
A6: ИТОГОВЫЙ ПРОТОКОЛ | Q6: Очки | R6: 20 | S6: 17 | T6: 15 | U6: 14 | V6: 13 | W6: 12 | X6: 11 | Y6: 10 | Z6: 9 | AA6: 8 | AB6: 7 | AC6: 6 | AD6: 5 | AE6: 4 | AF6: 3 | AG6: 2 | AH6: 0
A8: =Расп!C13 -> Юниорки до 23 лет | J8: =Расп!A1 -> 04.09.2019 г. | K8: t° +13 вл.86% | N8: =Расп!A6 -> 19.05.2019 г. | O8: t° +13 вл.86% | P8: Скрыть | Q8: Бонус | R8: 1 | S8: 2 | T8: 3 | U8: КМС | V8: МС | W8: МСМК
A9: =Расп!$A$14 -> РМ | B9: =Расп!C14 -> 7001 | J9: =Расп!A2 -> бег с барьерами 100 м | K9: =Расп!B2 -> 0.40972222 | N9: =Расп!A7 -> прыжок в длину | O9: =Расп!B7 -> 0.41666667 | P9: при | Q9: Очки | R9: 0 | S9: 0 | T9: 0 | U9: 0 | V9: 5 | W9: 15
A10: =Расп!$A$15 -> РЕ | B10: =Расп!C15 -> 7001 | J10: =Расп!A3 -> прыжок в высоту | K10: =Расп!B3 -> 0.44791667 | N10: =Расп!A8 -> метание копья (600 г) | O10: =Расп!B8 -> 0.48958333 | P10: печати
A11: =Расп!$A$16 -> РР | B11: =Расп!C16 -> 6765 | J11: =Расп!A4 -> толкание ядра | K11: =Расп!B4 -> 0.70833333 | N11: =Расп!A9 -> бег 800 м | O11: =Расп!B9 -> 0.75694444 | Q11: Мнгб | R11: 5
A12: =Расп!$A$26 -> г.Сочи, Адлерский район, стадион "Юность" | J12: =Расп!A5 -> бег 200 м | K12: =Расп!B5 -> 0.75347222
A13: Место | B13: Нагрудный № | C13: Фамилия, имя участника Территория, ФСО, Тренер | D13: Дата рождения Вып-ый раз-д | F13: бег с барьерами 100 м | G13: прыжок в высоту | H13: толкание ядра | I13: бег 200 м | J13: прыжок в длину | K13: метание копья | L13: бег 800 м | M13: Очки | N13: Разряд | O13: Командные очки | P13: № | Q13: М | R13: П | S13: МЛ | T13: 100сб | U13: Высота | V13: Ядро | W13: 200 | X13: Длина | Y13: Копье | Z13: 800 | AC13: оч/мес | AD13: оч/раз
A16: =RANK(M16,$M$16:$M$50,0) -> #N/A | B16: 23 | C16: =VLOOKUP(B16,Уч!$A$2:$L$16,2,FALSE) -> Пириева Марина | D16: =VLOOKUP(B16,Уч!$A$2:$L$16,3,FALSE) -> 16.07.1998 | E16: Результат | F16: =VLOOKUP($B16,'110 сб '!$C$17:$I$87,5,FALSE) -> 14.67 | G16: =VLOOKUP($B16,высота!$C$17:$AF$42,29,FALSE) -> 1.71 | H16: =VLOOKUP($B16,ядро!$C$17:$K$43,8,FALSE) -> 0 | I16: =VLOOKUP($B16,'2_р'!$C$17:$I$68,5,FALSE) -> #N/A | J16: =VLOOKUP($B16,Дл_р!$C$17:$O$43,11,FALSE) -> #N/A | K16: =VLOOKUP($B16,К_р!$C$18:$K$31,8,FALSE) -> #N/A | L16: =VLOOKUP($B16,'8_р'!$C$17:$H$77,5,FALSE) -> #N/A | M16: =SUM(F18:L18) -> #N/A | N16: =LOOKUP(M16,R$1:AA$1,R$2:AA$2) -> #N/A | O16: =AC16+AD16+5 -> #N/A | P16: =B16 -> 23 | Q16: =$A16 -> #N/A | R16: 1 | S16: =$A16 -> #N/A | AC16: =IF(AND(Q16>16,M16>=4600),"1",LOOKUP(Q16,Q$5:AH$5,Q$6:AH$6)) -> #N/A | AD16: =LOOKUP(N16,R$8:W$8,R$9:W$9) -> #N/A
C17: =VLOOKUP(B16,Уч!$A$2:$L$16,5,FALSE) -> ЮФО (К) | D17: =VLOOKUP(B16,Уч!$A$2:$L$16,4,FALSE) -> КМС | E17: Ветер | F17: =VLOOKUP($B16,'110 сб '!$C$17:$I$87,6,FALSE) -> 0 | I17: =VLOOKUP($B16,'2_р'!$C$17:$I$68,6,FALSE) -> #N/A | J17: =VLOOKUP($B16,Дл_р!$C$17:$O$43,12,FALSE) -> #N/A | O17: =CONCATENATE(AC16,"+",AD16,"+",5) -> #N/A | P17: =B16 -> 23 | Q17: =$A16 -> #N/A | R17: 2 | S17: =$A16 -> #N/A
C18: =VLOOKUP(B16,Уч!$A$2:$L$16,7,FALSE) -> ГБУ РК "СШ №1 г.Симферополь" | E18: Очки | F18: =VLOOKUP($B16,'110 сб '!$C$17:$I$87,7,FALSE) -> 886 | G18: =VLOOKUP($B16,высота!$C$17:$AF$42,30,FALSE) -> 0 | H18: =VLOOKUP($B16,ядро!$C$17:$K$43,9,FALSE) -> 0 | I18: =VLOOKUP($B16,'2_р'!$C$17:$I$68,7,FALSE) -> #N/A | J18: =VLOOKUP($B16,Дл_р!$C$17:$O$43,13,FALSE) -> #N/A | K18: =VLOOKUP($B16,К_р!$C$18:$K$31,9,FALSE) -> #N/A | L18: =VLOOKUP($B16,'8_р'!$C$17:$H$77,6,FALSE) -> #N/A | P18: =B16 -> 23 | Q18: =$A16 -> #N/A | R18: 3 | S18: =$A16 -> #N/A
C19: =VLOOKUP(B16,Уч!$A$2:$L$16,11,FALSE) -> Леонов О.Н., Копытич А.Л., Копытич Д.Л. | E19: Сумма очков | F19: =F18 -> 886 | G19: =F19+G18 -> 886 | H19: =G19+H18 -> 886 | I19: =H19+I18 -> #N/A | J19: =I19+J18 -> #N/A | K19: =J19+K18 -> #N/A | L19: =K19+L18 -> #N/A | P19: =B16 -> 23 | Q19: =$A16 -> #N/A | R19: 4 | S19: =$A16 -> #N/A | T19: =F19 -> 886 | U19: =G19 -> 886 | V19: =H19 -> 886 | W19: =I19 -> #N/A | X19: =J19 -> #N/A | Y19: =K19 -> #N/A | Z19: =L19 -> #N/A
C20: =VLOOKUP(B16,Уч!$A$2:$L$16,12,FALSE) | E20: Место | F20: =RANK(F19,$T$16:$T$50,0) -> #N/A | G20: =RANK(G19,$U$16:$U$50,0) -> #N/A | H20: =RANK(H19,$V$16:$V$50,0) -> #N/A | I20: =RANK(I19,$W$16:$W$50,0) -> #N/A | J20: =RANK(J19,$X$16:$X$50,0) -> #N/A | K20: =RANK(K19,$Y$16:$Y$50,0) -> #N/A | L20: =RANK(L19,$Z$16:$Z$50,0) -> #N/A | P20: =B16 -> 23 | Q20: =$A16 -> #N/A | R20: 5 | S20: =$A16 -> #N/A
A21: =RANK(M21,$M$16:$M$50,0) -> #N/A | B21: 8 | C21: =VLOOKUP(B21,Уч!$A$2:$L$16,2,FALSE) -> Бутвина Александра | D21: =VLOOKUP(B21,Уч!$A$2:$L$16,3,FALSE) -> 14.02.1986 | E21: Результат | F21: =VLOOKUP($B21,'110 сб '!$C$17:$I$87,5,FALSE) -> 14.98 | G21: =VLOOKUP($B21,высота!$C$17:$AF$42,29,FALSE) -> 1.62 | H21: =VLOOKUP($B21,ядро!$C$17:$K$43,8,FALSE) -> 12.17 | I21: =VLOOKUP($B21,'2_р'!$C$17:$I$68,5,FALSE) -> #N/A | J21: =VLOOKUP($B21,Дл_р!$C$17:$O$43,11,FALSE) -> #N/A | K21: =VLOOKUP($B21,К_р!$C$18:$K$31,8,FALSE) -> #N/A | L21: =VLOOKUP($B21,'8_р'!$C$17:$H$77,5,FALSE) -> #N/A | M21: =SUM(F23:L23) -> #N/A | N21: =LOOKUP(M21,R$1:AA$1,R$2:AA$2) -> #N/A | O21: =AC21+AD21+5 -> #N/A | P21: =B21 -> 8 | Q21: =$A21 -> #N/A | R21: 1 | S21: =$A21 -> #N/A | AC21: =IF(AND(Q21>16,M21>=4600),"1",LOOKUP(Q21,Q$5:AH$5,Q$6:AH$6)) -> #N/A | AD21: =LOOKUP(N21,R$8:W$8,R$9:W$9) -> #N/A
C22: =VLOOKUP(B21,Уч!$A$2:$L$16,5,FALSE) -> Ростовская область Санкт-Петербург | D22: =VLOOKUP(B21,Уч!$A$2:$L$16,4,FALSE) -> МСМК | E22: Ветер | F22: =VLOOKUP($B21,'110 сб '!$C$17:$I$87,6,FALSE) -> 0 | I22: =VLOOKUP($B21,'2_р'!$C$17:$I$68,6,FALSE) -> #N/A | J22: =VLOOKUP($B21,Дл_р!$C$17:$O$43,12,FALSE) -> #N/A | O22: =CONCATENATE(AC21,"+",AD21,"+",5) -> #N/A | P22: =B21 -> 8 | Q22: =$A21 -> #N/A | R22: 2 | S22: =$A21 -> #N/A
C23: =VLOOKUP(B21,Уч!$A$2:$L$16,7,FALSE) -> ГБУ РО "ЦОП №1", СПб ГБУ ЦОП "ШВСМ по легкой атлетике" | E23: Очки | F23: =VLOOKUP($B21,'110 сб '!$C$17:$I$87,7,FALSE) -> 844 | G23: =VLOOKUP($B21,высота!$C$17:$AF$42,30,FALSE) -> 0 | H23: =VLOOKUP($B21,ядро!$C$17:$K$43,9,FALSE) -> 672 | I23: =VLOOKUP($B21,'2_р'!$C$17:$I$68,7,FALSE) -> #N/A | J23: =VLOOKUP($B21,Дл_р!$C$17:$O$43,13,FALSE) -> #N/A | K23: =VLOOKUP($B21,К_р!$C$18:$K$31,9,FALSE) -> #N/A | L23: =VLOOKUP($B21,'8_р'!$C$17:$H$77,6,FALSE) -> #N/A | P23: =B21 -> 8 | Q23: =$A21 -> #N/A | R23: 3 | S23: =$A21 -> #N/A
C24: =VLOOKUP(B21,Уч!$A$2:$L$16,11,FALSE) -> Есина И.А., Сретенцев В.В., Радух А.О. | E24: Сумма очков | F24: =F23 -> 844 | G24: =F24+G23 -> 844 | H24: =G24+H23 -> 1516 | I24: =H24+I23 -> #N/A | J24: =I24+J23 -> #N/A | K24: =J24+K23 -> #N/A | L24: =K24+L23 -> #N/A | P24: =B21 -> 8 | Q24: =$A21 -> #N/A | R24: 4 | S24: =$A21 -> #N/A | T24: =F24 -> 844 | U24: =G24 -> 844 | V24: =H24 -> 1516 | W24: =I24 -> #N/A | X24: =J24 -> #N/A | Y24: =K24 -> #N/A | Z24: =L24 -> #N/A
C25: =VLOOKUP(B21,Уч!$A$2:$L$16,12,FALSE) | E25: Место | F25: =RANK(F24,$T$16:$T$50,0) -> #N/A | G25: =RANK(G24,$U$16:$U$50,0) -> #N/A | H25: =RANK(H24,$V$16:$V$50,0) -> #N/A | I25: =RANK(I24,$W$16:$W$50,0) -> #N/A | J25: =RANK(J24,$X$16:$X$50,0) -> #N/A | K25: =RANK(K24,$Y$16:$Y$50,0) -> #N/A | L25: =RANK(L24,$Z$16:$Z$50,0) -> #N/A | P25: =B21 -> 8 | Q25: =$A21 -> #N/A | R25: 5 | S25: =$A21 -> #N/A
A26: =RANK(M26,$M$16:$M$50,0) -> #N/A | B26: 70 | C26: =VLOOKUP(B26,Уч!$A$2:$L$16,2,FALSE) -> #N/A | D26: =VLOOKUP(B26,Уч!$A$2:$L$16,3,FALSE) -> #N/A | E26: Результат | F26: =VLOOKUP($B26,'110 сб '!$C$17:$I$87,5,FALSE) -> #N/A | G26: =VLOOKUP($B26,высота!$C$17:$AF$42,29,FALSE) -> #N/A | H26: =VLOOKUP($B26,ядро!$C$17:$K$43,8,FALSE) -> #N/A | I26: =VLOOKUP($B26,'2_р'!$C$17:$I$68,5,FALSE) -> #N/A | J26: =VLOOKUP($B26,Дл_р!$C$17:$O$43,11,FALSE) -> #N/A | K26: =VLOOKUP($B26,К_р!$C$18:$K$31,8,FALSE) -> #N/A | L26: =VLOOKUP($B26,'8_р'!$C$17:$H$77,5,FALSE) -> #N/A | M26: =SUM(F28:L28) -> #N/A | N26: =LOOKUP(M26,R$1:AA$1,R$2:AA$2) -> #N/A | O26: =AC26+AD26+5 -> #N/A | P26: =B26 -> 70 | Q26: =$A26 -> #N/A | R26: 1 | S26: =$A26 -> #N/A | AC26: =IF(AND(Q26>16,M26>=4600),"1",LOOKUP(Q26,Q$5:AH$5,Q$6:AH$6)) -> #N/A | AD26: =LOOKUP(N26,R$8:W$8,R$9:W$9) -> #N/A
C27: =VLOOKUP(B26,Уч!$A$2:$L$16,5,FALSE) -> #N/A | D27: =VLOOKUP(B26,Уч!$A$2:$L$16,4,FALSE) -> #N/A | E27: Ветер | F27: =VLOOKUP($B26,'110 сб '!$C$17:$I$87,6,FALSE) -> #N/A | I27: =VLOOKUP($B26,'2_р'!$C$17:$I$68,6,FALSE) -> #N/A | J27: =VLOOKUP($B26,Дл_р!$C$17:$O$43,12,FALSE) -> #N/A | O27: =CONCATENATE(AC26,"+",AD26,"+",5) -> #N/A | P27: =B26 -> 70 | Q27: =$A26 -> #N/A | R27: 2 | S27: =$A26 -> #N/A
C28: =VLOOKUP(B26,Уч!$A$2:$L$16,7,FALSE) -> #N/A | E28: Очки | F28: =VLOOKUP($B26,'110 сб '!$C$17:$I$87,7,FALSE) -> #N/A | G28: =VLOOKUP($B26,высота!$C$17:$AF$42,30,FALSE) -> #N/A | H28: =VLOOKUP($B26,ядро!$C$17:$K$43,9,FALSE) -> #N/A | I28: =VLOOKUP($B26,'2_р'!$C$17:$I$68,7,FALSE) -> #N/A | J28: =VLOOKUP($B26,Дл_р!$C$17:$O$43,13,FALSE) -> #N/A | K28: =VLOOKUP($B26,К_р!$C$18:$K$31,9,FALSE) -> #N/A | L28: =VLOOKUP($B26,'8_р'!$C$17:$H$77,6,FALSE) -> #N/A | P28: =B26 -> 70 | Q28: =$A26 -> #N/A | R28: 3 | S28: =$A26 -> #N/A
C29: =VLOOKUP(B26,Уч!$A$2:$L$16,11,FALSE) -> #N/A | E29: Сумма очков | F29: =F28 -> #N/A | G29: =F29+G28 -> #N/A | H29: =G29+H28 -> #N/A | I29: =H29+I28 -> #N/A | J29: =I29+J28 -> #N/A | K29: =J29+K28 -> #N/A | L29: =K29+L28 -> #N/A | P29: =B26 -> 70 | Q29: =$A26 -> #N/A | R29: 4 | S29: =$A26 -> #N/A | T29: =F29 -> #N/A | U29: =G29 -> #N/A | V29: =H29 -> #N/A | W29: =I29 -> #N/A | X29: =J29 -> #N/A | Y29: =K29 -> #N/A | Z29: =L29 -> #N/A
C30: =VLOOKUP(B26,Уч!$A$2:$L$16,12,FALSE) -> #N/A | E30: Место | F30: =RANK(F29,$T$16:$T$50,0) -> #N/A | G30: =RANK(G29,$U$16:$U$50,0) -> #N/A | H30: =RANK(H29,$V$16:$V$50,0) -> #N/A | I30: =RANK(I29,$W$16:$W$50,0) -> #N/A | J30: =RANK(J29,$X$16:$X$50,0) -> #N/A | K30: =RANK(K29,$Y$16:$Y$50,0) -> #N/A | L30: =RANK(L29,$Z$16:$Z$50,0) -> #N/A | P30: =B26 -> 70 | Q30: =$A26 -> #N/A | R30: 5 | S30: =$A26 -> #N/A
A31: 4 | B31: 3 | C31: =VLOOKUP(B31,Уч!$A$2:$L$16,2,FALSE) -> #N/A | D31: =VLOOKUP(B31,Уч!$A$2:$L$16,3,FALSE) -> #N/A | E31: Результат | F31: =VLOOKUP($B31,'110 сб '!$C$17:$I$87,5,FALSE) -> #N/A | G31: =VLOOKUP($B31,высота!$C$17:$AF$42,29,FALSE) -> #N/A | H31: =VLOOKUP($B31,ядро!$C$17:$K$43,8,FALSE) -> #N/A | I31: =VLOOKUP($B31,'2_р'!$C$17:$I$68,5,FALSE) -> #N/A | J31: =VLOOKUP($B31,Дл_р!$C$17:$O$43,11,FALSE) -> #N/A | K31: =VLOOKUP($B31,К_р!$C$18:$K$31,8,FALSE) -> #N/A | L31: =VLOOKUP($B31,'8_р'!$C$17:$H$77,5,FALSE) -> #N/A | M31: =SUM(F33:L33) -> #N/A | N31: =LOOKUP(M31,R$1:AA$1,R$2:AA$2) -> #N/A | O31: =AC31+AD31+5 -> #N/A | P31: =B31 -> 3 | Q31: =$A31 -> 4 | R31: 1 | S31: =$A31 -> 4 | AC31: =IF(AND(Q31>16,M31>=4600),"1",LOOKUP(Q31,Q$5:AH$5,Q$6:AH$6)) -> #N/A | AD31: =LOOKUP(N31,R$8:W$8,R$9:W$9) -> #N/A
C32: =VLOOKUP(B31,Уч!$A$2:$L$16,5,FALSE) -> #N/A | D32: =VLOOKUP(B31,Уч!$A$2:$L$16,4,FALSE) -> #N/A | E32: Ветер | F32: =VLOOKUP($B31,'110 сб '!$C$17:$I$87,6,FALSE) -> #N/A | I32: =VLOOKUP($B31,'2_р'!$C$17:$I$68,6,FALSE) -> #N/A | J32: =VLOOKUP($B31,Дл_р!$C$17:$O$43,12,FALSE) -> #N/A | O32: =CONCATENATE(AC31,"+",AD31,"+",5) -> #N/A | P32: =B31 -> 3 | Q32: =$A31 -> 4 | R32: 2 | S32: =$A31 -> 4
C33: =VLOOKUP(B31,Уч!$A$2:$L$16,7,FALSE) -> #N/A | E33: Очки | F33: =VLOOKUP($B31,'110 сб '!$C$17:$I$87,7,FALSE) -> #N/A | G33: =VLOOKUP($B31,высота!$C$17:$AF$42,30,FALSE) -> #N/A | H33: =VLOOKUP($B31,ядро!$C$17:$K$43,9,FALSE) -> #N/A | I33: =VLOOKUP($B31,'2_р'!$C$17:$I$68,7,FALSE) -> #N/A | J33: =VLOOKUP($B31,Дл_р!$C$17:$O$43,13,FALSE) -> #N/A | K33: =VLOOKUP($B31,К_р!$C$18:$K$31,9,FALSE) -> #N/A | L33: =VLOOKUP($B31,'8_р'!$C$17:$H$77,6,FALSE) -> #N/A | P33: =B31 -> 3 | Q33: =$A31 -> 4 | R33: 3 | S33: =$A31 -> 4
C34: =VLOOKUP(B31,Уч!$A$2:$L$16,11,FALSE) -> #N/A | E34: Сумма очков | F34: =F33 -> #N/A | G34: =F34+G33 -> #N/A | H34: =G34+H33 -> #N/A | I34: =H34+I33 -> #N/A | J34: =I34+J33 -> #N/A | K34: =J34+K33 -> #N/A | L34: =K34+L33 -> #N/A | P34: =B31 -> 3 | Q34: =$A31 -> 4 | R34: 4 | S34: =$A31 -> 4 | T34: =F34 -> #N/A | U34: =G34 -> #N/A | V34: =H34 -> #N/A | W34: =I34 -> #N/A | X34: =J34 -> #N/A | Y34: =K34 -> #N/A | Z34: =L34 -> #N/A
C35: =VLOOKUP(B31,Уч!$A$2:$L$16,12,FALSE) -> #N/A | E35: Место | F35: =RANK(F34,$T$16:$T$50,0) -> #N/A | G35: =RANK(G34,$U$16:$U$50,0) -> #N/A | H35: =RANK(H34,$V$16:$V$50,0) -> #N/A | I35: =RANK(I34,$W$16:$W$50,0) -> #N/A | J35: =RANK(J34,$X$16:$X$50,0) -> #N/A | K35: =RANK(K34,$Y$16:$Y$50,0) -> #N/A | L35: =RANK(L34,$Z$16:$Z$50,0) -> #N/A | P35: =B31 -> 3 | Q35: =$A31 -> 4 | R35: 5 | S35: =$A31 -> 4
A36: 5 | B36: 4 | C36: =VLOOKUP(B36,Уч!$A$2:$L$16,2,FALSE) -> #N/A | D36: =VLOOKUP(B36,Уч!$A$2:$L$16,3,FALSE) -> #N/A | E36: Результат | F36: =VLOOKUP($B36,'110 сб '!$C$17:$I$87,5,FALSE) -> #N/A | G36: =VLOOKUP($B36,высота!$C$17:$AF$42,29,FALSE) -> #N/A | H36: =VLOOKUP($B36,ядро!$C$17:$K$43,8,FALSE) -> #N/A | I36: =VLOOKUP($B36,'2_р'!$C$17:$I$68,5,FALSE) -> #N/A | J36: =VLOOKUP($B36,Дл_р!$C$17:$O$43,11,FALSE) -> #N/A | K36: =VLOOKUP($B36,К_р!$C$18:$K$31,8,FALSE) -> #N/A | L36: =VLOOKUP($B36,'8_р'!$C$17:$H$77,5,FALSE) -> #N/A | M36: =SUM(F38:L38) -> #N/A | N36: =LOOKUP(M36,R$1:AA$1,R$2:AA$2) -> #N/A | O36: 0 | P36: =B36 -> 4 | Q36: =$A36 -> 5 | R36: 1 | S36: =$A36 -> 5 | AC36: =IF(AND(Q36>16,M36>=4600),"1",LOOKUP(Q36,Q$5:AH$5,Q$6:AH$6)) -> #N/A | AD36: =LOOKUP(N36,R$8:W$8,R$9:W$9) -> #N/A
C37: =VLOOKUP(B36,Уч!$A$2:$L$16,5,FALSE) -> #N/A | D37: =VLOOKUP(B36,Уч!$A$2:$L$16,4,FALSE) -> #N/A | E37: Ветер | F37: =VLOOKUP($B36,'110 сб '!$C$17:$I$87,6,FALSE) -> #N/A | I37: =VLOOKUP($B36,'2_р'!$C$17:$I$68,6,FALSE) -> #N/A | J37: =VLOOKUP($B36,Дл_р!$C$17:$O$43,12,FALSE) -> #N/A | O37: =CONCATENATE(AC36,"+",AD36,"+",5) -> #N/A | P37: =B36 -> 4 | Q37: =$A36 -> 5 | R37: 2 | S37: =$A36 -> 5
C38: =VLOOKUP(B36,Уч!$A$2:$L$16,7,FALSE) -> #N/A | E38: Очки | F38: =VLOOKUP($B36,'110 сб '!$C$17:$I$87,7,FALSE) -> #N/A | G38: =VLOOKUP($B36,высота!$C$17:$AF$42,30,FALSE) -> #N/A | H38: =VLOOKUP($B36,ядро!$C$17:$K$43,9,FALSE) -> #N/A | I38: =VLOOKUP($B36,'2_р'!$C$17:$I$68,7,FALSE) -> #N/A | J38: =VLOOKUP($B36,Дл_р!$C$17:$O$43,13,FALSE) -> #N/A | K38: =VLOOKUP($B36,К_р!$C$18:$K$31,9,FALSE) -> #N/A | L38: =VLOOKUP($B36,'8_р'!$C$17:$H$77,6,FALSE) -> #N/A | P38: =B36 -> 4 | Q38: =$A36 -> 5 | R38: 3 | S38: =$A36 -> 5
C39: =VLOOKUP(B36,Уч!$A$2:$L$16,11,FALSE) -> #N/A | E39: Сумма очков | F39: =F38 -> #N/A | G39: =F39+G38 -> #N/A | H39: =G39+H38 -> #N/A | I39: =H39+I38 -> #N/A | J39: =I39+J38 -> #N/A | K39: =J39+K38 -> #N/A | L39: =K39+L38 -> #N/A | P39: =B36 -> 4 | Q39: =$A36 -> 5 | R39: 4 | S39: =$A36 -> 5 | T39: =F39 -> #N/A | U39: =G39 -> #N/A | V39: =H39 -> #N/A | W39: =I39 -> #N/A | X39: =J39 -> #N/A | Y39: =K39 -> #N/A | Z39: =L39 -> #N/A
C40: =VLOOKUP(B36,Уч!$A$2:$L$16,12,FALSE) -> #N/A | E40: Место | F40: =RANK(F39,$T$16:$T$50,0) -> #N/A | G40: =RANK(G39,$U$16:$U$50,0) -> #N/A | H40: =RANK(H39,$V$16:$V$50,0) -> #N/A | I40: =RANK(I39,$W$16:$W$50,0) -> #N/A | J40: =RANK(J39,$X$16:$X$50,0) -> #N/A | K40: =RANK(K39,$Y$16:$Y$50,0) -> #N/A | L40: =RANK(L39,$Z$16:$Z$50,0) -> #N/A | P40: =B36 -> 4 | Q40: =$A36 -> 5 | R40: 5 | S40: =$A36 -> 5
A41: 6 | B41: 51 | C41: =VLOOKUP(B41,Уч!$A$2:$L$16,2,FALSE) -> #N/A | D41: =VLOOKUP(B41,Уч!$A$2:$L$16,3,FALSE) -> #N/A | E41: Результат | F41: =VLOOKUP($B41,'110 сб '!$C$17:$I$87,5,FALSE) -> #N/A | G41: =VLOOKUP($B41,высота!$C$17:$AF$42,29,FALSE) -> #N/A | H41: =VLOOKUP($B41,ядро!$C$17:$K$43,8,FALSE) -> #N/A | I41: =VLOOKUP($B41,'2_р'!$C$17:$I$68,5,FALSE) -> #N/A | J41: =VLOOKUP($B41,Дл_р!$C$17:$O$43,11,FALSE) -> #N/A | K41: =VLOOKUP($B41,К_р!$C$18:$K$31,8,FALSE) -> #N/A | L41: справка | M41: =SUM(F43:L43) -> #N/A | N41: =LOOKUP(M41,R$1:AA$1,R$2:AA$2) -> #N/A | O41: 0 | P41: =B41 -> 51 | Q41: =$A41 -> 6 | R41: 1 | S41: =$A41 -> 6 | AC41: =IF(AND(Q41>16,M41>=4600),"1",LOOKUP(Q41,Q$5:AH$5,Q$6:AH$6)) -> #N/A | AD41: =LOOKUP(N41,R$8:W$8,R$9:W$9) -> #N/A
C42: =VLOOKUP(B41,Уч!$A$2:$L$16,5,FALSE) -> #N/A | D42: =VLOOKUP(B41,Уч!$A$2:$L$16,4,FALSE) -> #N/A | E42: Ветер | F42: =VLOOKUP($B41,'110 сб '!$C$17:$I$87,6,FALSE) -> #N/A | I42: =VLOOKUP($B41,'2_р'!$C$17:$I$68,6,FALSE) -> #N/A | J42: =VLOOKUP($B41,Дл_р!$C$17:$O$43,12,FALSE) -> #N/A | O42: =CONCATENATE(AC41,"+",AD41,"+",5) -> #N/A | P42: =B41 -> 51 | Q42: =$A41 -> 6 | R42: 2 | S42: =$A41 -> 6
C43: =VLOOKUP(B41,Уч!$A$2:$L$16,7,FALSE) -> #N/A | E43: Очки | F43: =VLOOKUP($B41,'110 сб '!$C$17:$I$87,7,FALSE) -> #N/A | G43: =VLOOKUP($B41,высота!$C$17:$AF$42,30,FALSE) -> #N/A | H43: =VLOOKUP($B41,ядро!$C$17:$K$43,9,FALSE) -> #N/A | I43: =VLOOKUP($B41,'2_р'!$C$17:$I$68,7,FALSE) -> #N/A | J43: =VLOOKUP($B41,Дл_р!$C$17:$O$43,13,FALSE) -> #N/A | K43: =VLOOKUP($B41,К_р!$C$18:$K$31,9,FALSE) -> #N/A | P43: =B41 -> 51 | Q43: =$A41 -> 6 | R43: 3 | S43: =$A41 -> 6
C44: =VLOOKUP(B41,Уч!$A$2:$L$16,11,FALSE) -> #N/A | E44: Сумма очков | F44: =F43 -> #N/A | G44: =F44+G43 -> #N/A | H44: =G44+H43 -> #N/A | I44: =H44+I43 -> #N/A | J44: =I44+J43 -> #N/A | K44: =J44+K43 -> #N/A | P44: =B41 -> 51 | Q44: =$A41 -> 6 | R44: 4 | S44: =$A41 -> 6 | T44: =F44 -> #N/A | U44: =G44 -> #N/A | V44: =H44 -> #N/A | W44: =I44 -> #N/A | X44: =J44 -> #N/A | Y44: =K44 -> #N/A | Z44: =L44 -> 0
C45: =VLOOKUP(B41,Уч!$A$2:$L$16,12,FALSE) -> #N/A | E45: Место | F45: =RANK(F44,$T$16:$T$50,0) -> #N/A | G45: =RANK(G44,$U$16:$U$50,0) -> #N/A | H45: =RANK(H44,$V$16:$V$50,0) -> #N/A | I45: =RANK(I44,$W$16:$W$50,0) -> #N/A | J45: =RANK(J44,$X$16:$X$50,0) -> #N/A | K45: =RANK(K44,$Y$16:$Y$50,0) -> #N/A | P45: =B41 -> 51 | Q45: =$A41 -> 6 | R45: 5 | S45: =$A41 -> 6
A46: =RANK(M46,$M$16:$M$50,0) -> #N/A | B46: 59 | C46: =VLOOKUP(B46,Уч!$A$2:$L$16,2,FALSE) -> #N/A | D46: =VLOOKUP(B46,Уч!$A$2:$L$16,3,FALSE) -> #N/A | E46: Результат | F46: =VLOOKUP($B46,'110 сб '!$C$17:$I$87,5,FALSE) -> #N/A | G46: =VLOOKUP($B46,высота!$C$17:$AF$42,29,FALSE) -> #N/A | H46: =VLOOKUP($B46,ядро!$C$17:$K$43,8,FALSE) -> #N/A | I46: =VLOOKUP($B46,'2_р'!$C$17:$I$68,5,FALSE) -> #N/A | J46: справка | M46: =SUM(F48:L48) -> #N/A | N46: =LOOKUP(M46,R$1:AA$1,R$2:AA$2) -> #N/A | O46: 0 | P46: =B46 -> 59 | Q46: =$A46 -> #N/A | R46: 1 | S46: =$A46 -> #N/A | AC46: =IF(AND(Q46>16,M46>=4600),"1",LOOKUP(Q46,Q$5:AH$5,Q$6:AH$6)) -> #N/A | AD46: =LOOKUP(N46,R$8:W$8,R$9:W$9) -> #N/A
C47: =VLOOKUP(B46,Уч!$A$2:$L$16,5,FALSE) -> #N/A | D47: =VLOOKUP(B46,Уч!$A$2:$L$16,4,FALSE) -> #N/A | E47: Ветер | F47: =VLOOKUP($B46,'110 сб '!$C$17:$I$87,6,FALSE) -> #N/A | I47: =VLOOKUP($B46,'2_р'!$C$17:$I$68,6,FALSE) -> #N/A | O47: =CONCATENATE(AC46,"+",AD46,"+",5) -> #N/A | P47: =B46 -> 59 | Q47: =$A46 -> #N/A | R47: 2 | S47: =$A46 -> #N/A
C48: =VLOOKUP(B46,Уч!$A$2:$L$16,7,FALSE) -> #N/A | E48: Очки | F48: =VLOOKUP($B46,'110 сб '!$C$17:$I$87,7,FALSE) -> #N/A | G48: =VLOOKUP($B46,высота!$C$17:$AF$42,30,FALSE) -> #N/A | H48: =VLOOKUP($B46,ядро!$C$17:$K$43,9,FALSE) -> #N/A | I48: =VLOOKUP($B46,'2_р'!$C$17:$I$68,7,FALSE) -> #N/A | P48: =B46 -> 59 | Q48: =$A46 -> #N/A | R48: 3 | S48: =$A46 -> #N/A
C49: =VLOOKUP(B46,Уч!$A$2:$L$16,11,FALSE) -> #N/A | E49: Сумма очков | F49: =F48 -> #N/A | G49: =F49+G48 -> #N/A | H49: =G49+H48 -> #N/A | I49: =H49+I48 -> #N/A | P49: =B46 -> 59 | Q49: =$A46 -> #N/A | R49: 4 | S49: =$A46 -> #N/A | T49: =F49 -> #N/A | U49: =G49 -> #N/A | V49: =H49 -> #N/A | W49: =I49 -> #N/A | X49: =J49 -> 0 | Y49: =K49 -> 0 | Z49: =L49 -> 0
C50: =VLOOKUP(B46,Уч!$A$2:$L$16,12,FALSE) -> #N/A | E50: Место | F50: =RANK(F49,$T$16:$T$50,0) -> #N/A | G50: =RANK(G49,$U$16:$U$50,0) -> #N/A | H50: =RANK(H49,$V$16:$V$50,0) -> #N/A | I50: =RANK(I49,$W$16:$W$50,0) -> #N/A | P50: =B46 -> 59 | Q50: =$A46 -> #N/A | R50: 5 | S50: =$A46 -> #N/A
A51: =RANK(M51,$M$16:$M$50,0) -> #N/A | B51: 1362 | C51: =VLOOKUP(B51,Уч!$A$2:$L$16,2,FALSE) -> #N/A | D51: =VLOOKUP(B51,Уч!$A$2:$L$16,3,FALSE) -> #N/A | E51: Рез | F51: =VLOOKUP($B51,'110 сб '!$C$17:$I$87,5,FALSE) -> #N/A | G51: =VLOOKUP($B51,высота!$C$17:$AF$42,29,FALSE) -> #N/A | H51: =VLOOKUP($B51,ядро!$C$17:$K$43,8,FALSE) -> #N/A | I51: =VLOOKUP($B51,'2_р'!$C$17:$I$68,5,FALSE) -> #N/A | J51: =VLOOKUP($B51,Дл_р!$C$17:$O$43,11,FALSE) -> #N/A | K51: =VLOOKUP($B51,К_р!$C$18:$K$31,8,FALSE) -> #N/A | L51: =VLOOKUP($B51,'8_р'!$C$17:$H$77,5,FALSE) -> 0 | M51: =SUM(F53:L53) -> #N/A | N51: =LOOKUP(M51,R$1:AA$1,R$2:AA$2) -> #N/A | O51: =AC51+AD51+5 -> #N/A | P51: =B51 -> 1362 | Q51: =$A51 -> #N/A | R51: 1 | S51: =$A51 -> #N/A | AC51: =IF(AND(Q51>16,M51>=4600),"1",LOOKUP(Q51,Q$5:AH$5,Q$6:AH$6)) -> #N/A | AD51: =LOOKUP(N51,R$8:W$8,R$9:W$9) -> #N/A
C52: =VLOOKUP(B51,Уч!$A$2:$L$16,5,FALSE) -> #N/A | D52: =VLOOKUP(B51,Уч!$A$2:$L$16,4,FALSE) -> #N/A | E52: Вет | F52: =VLOOKUP($B51,'110 сб '!$C$17:$I$87,6,FALSE) -> #N/A | I52: =VLOOKUP($B51,'2_р'!$C$17:$I$68,6,FALSE) -> #N/A | J52: =VLOOKUP($B51,Дл_р!$C$17:$O$43,12,FALSE) -> #N/A | O52: =CONCATENATE(AC51,"+",AD51,"+",5) -> #N/A | P52: =B51 -> 1362 | Q52: =$A51 -> #N/A | R52: 2 | S52: =$A51 -> #N/A
C53: =VLOOKUP(B51,Уч!$A$2:$L$16,7,FALSE) -> #N/A | E53: Оч | F53: =VLOOKUP($B51,'110 сб '!$C$17:$I$87,7,FALSE) -> #N/A | G53: =VLOOKUP($B51,высота!$C$17:$AF$42,30,FALSE) -> #N/A | H53: =VLOOKUP($B51,ядро!$C$17:$K$43,9,FALSE) -> #N/A | I53: =VLOOKUP($B51,'2_р'!$C$17:$I$68,7,FALSE) -> #N/A | J53: =VLOOKUP($B51,Дл_р!$C$17:$O$43,13,FALSE) -> #N/A | K53: =VLOOKUP($B51,К_р!$C$18:$K$31,9,FALSE) -> #N/A | L53: =VLOOKUP($B51,'8_р'!$C$17:$H$77,6,FALSE) -> 0 | P53: =B51 -> 1362 | Q53: =$A51 -> #N/A | R53: 3 | S53: =$A51 -> #N/A
C54: =VLOOKUP(B51,Уч!$A$2:$L$16,11,FALSE) -> #N/A | E54: Сум | F54: =F53 -> #N/A | G54: =F54+G53 -> #N/A | H54: =G54+H53 -> #N/A | I54: =H54+I53 -> #N/A | J54: =I54+J53 -> #N/A | K54: =J54+K53 -> #N/A | L54: =K54+L53 -> #N/A | P54: =B51 -> 1362 | Q54: =$A51 -> #N/A | R54: 4 | S54: =$A51 -> #N/A | T54: =F54 -> #N/A | U54: =G54 -> #N/A | V54: =H54 -> #N/A | W54: =I54 -> #N/A | X54: =J54 -> #N/A | Y54: =K54 -> #N/A | Z54: =L54 -> #N/A
C55: =VLOOKUP(B51,Уч!$A$2:$L$16,12,FALSE) -> #N/A | E55: Мес | F55: =RANK(F54,$T$16:$T$50,0) -> #N/A | G55: =RANK(G54,$U$16:$U$50,0) -> #N/A | H55: =RANK(H54,$V$16:$V$50,0) -> #N/A | I55: =RANK(I54,$W$16:$W$50,0) -> #N/A | J55: =RANK(J54,$X$16:$X$50,0) -> #N/A | K55: =RANK(K54,$Y$16:$Y$50,0) -> #N/A | L55: =RANK(L54,$Z$16:$Z$50,0) -> #N/A | P55: =B51 -> 1362 | Q55: =$A51 -> #N/A | R55: 5 | S55: =$A51 -> #N/A
A56: =RANK(M56,$M$16:$M$50,0) -> #N/A | B56: 1363 | C56: =VLOOKUP(B56,Уч!$A$2:$L$16,2,FALSE) -> #N/A | D56: =VLOOKUP(B56,Уч!$A$2:$L$16,3,FALSE) -> #N/A | E56: Рез | F56: =VLOOKUP($B56,'110 сб '!$C$17:$I$87,5,FALSE) -> #N/A | G56: =VLOOKUP($B56,высота!$C$17:$AF$42,29,FALSE) -> #N/A | H56: =VLOOKUP($B56,ядро!$C$17:$K$43,8,FALSE) -> #N/A | I56: =VLOOKUP($B56,'2_р'!$C$17:$I$68,5,FALSE) -> #N/A | J56: =VLOOKUP($B56,Дл_р!$C$17:$O$43,11,FALSE) -> #N/A | K56: =VLOOKUP($B56,К_р!$C$18:$K$31,8,FALSE) -> #N/A | L56: =VLOOKUP($B56,'8_р'!$C$17:$H$77,5,FALSE) -> #N/A | M56: =SUM(F58:L58) -> #N/A | N56: =LOOKUP(M56,R$1:AA$1,R$2:AA$2) -> #N/A | O56: =AC56+AD56+5 -> #N/A | P56: =B56 -> 1363 | Q56: =$A56 -> #N/A | R56: 1 | S56: =$A56 -> #N/A | AC56: =IF(AND(Q56>16,M56>=4600),"1",LOOKUP(Q56,Q$5:AH$5,Q$6:AH$6)) -> #N/A | AD56: =LOOKUP(N56,R$8:W$8,R$9:W$9) -> #N/A
C57: =VLOOKUP(B56,Уч!$A$2:$L$16,5,FALSE) -> #N/A | D57: =VLOOKUP(B56,Уч!$A$2:$L$16,4,FALSE) -> #N/A | E57: Вет | F57: =VLOOKUP($B56,'110 сб '!$C$17:$I$87,6,FALSE) -> #N/A | I57: =VLOOKUP($B56,'2_р'!$C$17:$I$68,6,FALSE) -> #N/A | J57: =VLOOKUP($B56,Дл_р!$C$17:$O$43,12,FALSE) -> #N/A | O57: =CONCATENATE(AC56,"+",AD56,"+",5) -> #N/A | P57: =B56 -> 1363 | Q57: =$A56 -> #N/A | R57: 2 | S57: =$A56 -> #N/A
C58: =VLOOKUP(B56,Уч!$A$2:$L$16,7,FALSE) -> #N/A | E58: Оч | F58: =VLOOKUP($B56,'110 сб '!$C$17:$I$87,7,FALSE) -> #N/A | G58: =VLOOKUP($B56,высота!$C$17:$AF$42,30,FALSE) -> #N/A | H58: =VLOOKUP($B56,ядро!$C$17:$K$43,9,FALSE) -> #N/A | I58: =VLOOKUP($B56,'2_р'!$C$17:$I$68,7,FALSE) -> #N/A | J58: =VLOOKUP($B56,Дл_р!$C$17:$O$43,13,FALSE) -> #N/A | K58: =VLOOKUP($B56,К_р!$C$18:$K$31,9,FALSE) -> #N/A | L58: =VLOOKUP($B56,'8_р'!$C$17:$H$77,6,FALSE) -> #N/A | P58: =B56 -> 1363 | Q58: =$A56 -> #N/A | R58: 3 | S58: =$A56 -> #N/A
C59: =VLOOKUP(B56,Уч!$A$2:$L$16,11,FALSE) -> #N/A | E59: Сум | F59: =F58 -> #N/A | G59: =F59+G58 -> #N/A | H59: =G59+H58 -> #N/A | I59: =H59+I58 -> #N/A | J59: =I59+J58 -> #N/A | K59: =J59+K58 -> #N/A | L59: =K59+L58 -> #N/A | P59: =B56 -> 1363 | Q59: =$A56 -> #N/A | R59: 4 | S59: =$A56 -> #N/A | T59: =F59 -> #N/A | U59: =G59 -> #N/A | V59: =H59 -> #N/A | W59: =I59 -> #N/A | X59: =J59 -> #N/A | Y59: =K59 -> #N/A | Z59: =L59 -> #N/A
C60: =VLOOKUP(B56,Уч!$A$2:$L$16,12,FALSE) -> #N/A | E60: Мес | F60: =RANK(F59,$T$16:$T$50,0) -> #N/A | G60: =RANK(G59,$U$16:$U$50,0) -> #N/A | H60: =RANK(H59,$V$16:$V$50,0) -> #N/A | I60: =RANK(I59,$W$16:$W$50,0) -> #N/A | J60: =RANK(J59,$X$16:$X$50,0) -> #N/A | K60: =RANK(K59,$Y$16:$Y$50,0) -> #N/A | L60: =RANK(L59,$Z$16:$Z$50,0) -> #N/A | P60: =B56 -> 1363 | Q60: =$A56 -> #N/A | R60: 5 | S60: =$A56 -> #N/A
A61: =RANK(M61,$M$16:$M$50,0) -> #N/A | B61: 1372 | C61: =VLOOKUP(B61,Уч!$A$2:$L$16,2,FALSE) -> #N/A | D61: =VLOOKUP(B61,Уч!$A$2:$L$16,3,FALSE) -> #N/A | E61: Рез | F61: =VLOOKUP($B61,'110 сб '!$C$17:$I$87,5,FALSE) -> #N/A | G61: =VLOOKUP($B61,высота!$C$17:$AF$42,29,FALSE) -> #N/A | H61: =VLOOKUP($B61,ядро!$C$17:$K$43,8,FALSE) -> #N/A | I61: =VLOOKUP($B61,'2_р'!$C$17:$I$68,5,FALSE) -> #N/A | J61: =VLOOKUP($B61,Дл_р!$C$17:$O$43,11,FALSE) -> #N/A | K61: =VLOOKUP($B61,К_р!$C$18:$K$31,8,FALSE) -> #N/A | L61: =VLOOKUP($B61,'8_р'!$C$17:$H$77,5,FALSE) -> #N/A | M61: =SUM(F63:L63) -> #N/A | N61: =LOOKUP(M61,R$1:AA$1,R$2:AA$2) -> #N/A | O61: =AC61+AD61+5 -> #N/A | P61: =B61 -> 1372 | Q61: =$A61 -> #N/A | R61: 1 | S61: =$A61 -> #N/A | AC61: =IF(AND(Q61>16,M61>=4600),"1",LOOKUP(Q61,Q$5:AH$5,Q$6:AH$6)) -> #N/A | AD61: =LOOKUP(N61,R$8:W$8,R$9:W$9) -> #N/A
C62: =VLOOKUP(B61,Уч!$A$2:$L$16,5,FALSE) -> #N/A | D62: =VLOOKUP(B61,Уч!$A$2:$L$16,4,FALSE) -> #N/A | E62: Вет | F62: =VLOOKUP($B61,'110 сб '!$C$17:$I$87,6,FALSE) -> #N/A | I62: =VLOOKUP($B61,'2_р'!$C$17:$I$68,6,FALSE) -> #N/A | J62: =VLOOKUP($B61,Дл_р!$C$17:$O$43,12,FALSE) -> #N/A | O62: =CONCATENATE(AC61,"+",AD61,"+",5) -> #N/A | P62: =B61 -> 1372 | Q62: =$A61 -> #N/A | R62: 2 | S62: =$A61 -> #N/A
C63: =VLOOKUP(B61,Уч!$A$2:$L$16,7,FALSE) -> #N/A | E63: Оч | F63: =VLOOKUP($B61,'110 сб '!$C$17:$I$87,7,FALSE) -> #N/A | G63: =VLOOKUP($B61,высота!$C$17:$AF$42,30,FALSE) -> #N/A | H63: =VLOOKUP($B61,ядро!$C$17:$K$43,9,FALSE) -> #N/A | I63: =VLOOKUP($B61,'2_р'!$C$17:$I$68,7,FALSE) -> #N/A | J63: =VLOOKUP($B61,Дл_р!$C$17:$O$43,13,FALSE) -> #N/A | K63: =VLOOKUP($B61,К_р!$C$18:$K$31,9,FALSE) -> #N/A | L63: =VLOOKUP($B61,'8_р'!$C$17:$H$77,6,FALSE) -> #N/A | P63: =B61 -> 1372 | Q63: =$A61 -> #N/A | R63: 3 | S63: =$A61 -> #N/A
C64: =VLOOKUP(B61,Уч!$A$2:$L$16,11,FALSE) -> #N/A | E64: Сум | F64: =F63 -> #N/A | G64: =F64+G63 -> #N/A | H64: =G64+H63 -> #N/A | I64: =H64+I63 -> #N/A | J64: =I64+J63 -> #N/A | K64: =J64+K63 -> #N/A | L64: =K64+L63 -> #N/A | P64: =B61 -> 1372 | Q64: =$A61 -> #N/A | R64: 4 | S64: =$A61 -> #N/A | T64: =F64 -> #N/A | U64: =G64 -> #N/A | V64: =H64 -> #N/A | W64: =I64 -> #N/A | X64: =J64 -> #N/A | Y64: =K64 -> #N/A | Z64: =L64 -> #N/A
C65: =VLOOKUP(B61,Уч!$A$2:$L$16,12,FALSE) -> #N/A | E65: Мес | F65: =RANK(F64,$T$16:$T$50,0) -> #N/A | G65: =RANK(G64,$U$16:$U$50,0) -> #N/A | H65: =RANK(H64,$V$16:$V$50,0) -> #N/A | I65: =RANK(I64,$W$16:$W$50,0) -> #N/A | J65: =RANK(J64,$X$16:$X$50,0) -> #N/A | K65: =RANK(K64,$Y$16:$Y$50,0) -> #N/A | L65: =RANK(L64,$Z$16:$Z$50,0) -> #N/A | P65: =B61 -> 1372 | Q65: =$A61 -> #N/A | R65: 5 | S65: =$A61 -> #N/A
A66: =RANK(M66,$M$16:$M$50,0) -> #N/A | B66: 1375 | C66: =VLOOKUP(B66,Уч!$A$2:$L$16,2,FALSE) -> #N/A | D66: =VLOOKUP(B66,Уч!$A$2:$L$16,3,FALSE) -> #N/A | E66: Рез | F66: =VLOOKUP($B66,'110 сб '!$C$17:$I$87,5,FALSE) -> #N/A | G66: =VLOOKUP($B66,высота!$C$17:$AF$42,29,FALSE) -> #N/A | H66: =VLOOKUP($B66,ядро!$C$17:$K$43,8,FALSE) -> #N/A | I66: =VLOOKUP($B66,'2_р'!$C$17:$I$68,5,FALSE) -> #N/A | J66: =VLOOKUP($B66,Дл_р!$C$17:$O$43,11,FALSE) -> #N/A | K66: =VLOOKUP($B66,К_р!$C$18:$K$31,8,FALSE) -> #N/A | L66: =VLOOKUP($B66,'8_р'!$C$17:$H$77,5,FALSE) -> 0 | M66: =SUM(F68:L68) -> #N/A | N66: =LOOKUP(M66,R$1:AA$1,R$2:AA$2) -> #N/A | O66: =AC66+AD66+5 -> #N/A | P66: =B66 -> 1375 | Q66: =$A66 -> #N/A | R66: 1 | S66: =$A66 -> #N/A | AC66: =IF(AND(Q66>16,M66>=4600),"1",LOOKUP(Q66,Q$5:AH$5,Q$6:AH$6)) -> #N/A | AD66: =LOOKUP(N66,R$8:W$8,R$9:W$9) -> #N/A
C67: =VLOOKUP(B66,Уч!$A$2:$L$16,5,FALSE) -> #N/A | D67: =VLOOKUP(B66,Уч!$A$2:$L$16,4,FALSE) -> #N/A | E67: Вет | F67: =VLOOKUP($B66,'110 сб '!$C$17:$I$87,6,FALSE) -> #N/A | I67: =VLOOKUP($B66,'2_р'!$C$17:$I$68,6,FALSE) -> #N/A | J67: =VLOOKUP($B66,Дл_р!$C$17:$O$43,12,FALSE) -> #N/A | O67: =CONCATENATE(AC66,"+",AD66,"+",5) -> #N/A | P67: =B66 -> 1375 | Q67: =$A66 -> #N/A | R67: 2 | S67: =$A66 -> #N/A
C68: =VLOOKUP(B66,Уч!$A$2:$L$16,7,FALSE) -> #N/A | E68: Оч | F68: =VLOOKUP($B66,'110 сб '!$C$17:$I$87,7,FALSE) -> #N/A | G68: =VLOOKUP($B66,высота!$C$17:$AF$42,30,FALSE) -> #N/A | H68: =VLOOKUP($B66,ядро!$C$17:$K$43,9,FALSE) -> #N/A | I68: =VLOOKUP($B66,'2_р'!$C$17:$I$68,7,FALSE) -> #N/A | J68: =VLOOKUP($B66,Дл_р!$C$17:$O$43,13,FALSE) -> #N/A | K68: =VLOOKUP($B66,К_р!$C$18:$K$31,9,FALSE) -> #N/A | L68: =VLOOKUP($B66,'8_р'!$C$17:$H$77,6,FALSE) -> 0 | P68: =B66 -> 1375 | Q68: =$A66 -> #N/A | R68: 3 | S68: =$A66 -> #N/A
C69: =VLOOKUP(B66,Уч!$A$2:$L$16,11,FALSE) -> #N/A | E69: Сум | F69: =F68 -> #N/A | G69: =F69+G68 -> #N/A | H69: =G69+H68 -> #N/A | I69: =H69+I68 -> #N/A | J69: =I69+J68 -> #N/A | K69: =J69+K68 -> #N/A | L69: =K69+L68 -> #N/A | P69: =B66 -> 1375 | Q69: =$A66 -> #N/A | R69: 4 | S69: =$A66 -> #N/A | T69: =F69 -> #N/A | U69: =G69 -> #N/A | V69: =H69 -> #N/A | W69: =I69 -> #N/A | X69: =J69 -> #N/A | Y69: =K69 -> #N/A | Z69: =L69 -> #N/A
C70: =VLOOKUP(B66,Уч!$A$2:$L$16,12,FALSE) -> #N/A | E70: Мес | F70: =RANK(F69,$T$16:$T$50,0) -> #N/A | G70: =RANK(G69,$U$16:$U$50,0) -> #N/A | H70: =RANK(H69,$V$16:$V$50,0) -> #N/A | I70: =RANK(I69,$W$16:$W$50,0) -> #N/A | J70: =RANK(J69,$X$16:$X$50,0) -> #N/A | K70: =RANK(K69,$Y$16:$Y$50,0) -> #N/A | L70: =RANK(L69,$Z$16:$Z$50,0) -> #N/A | P70: =B66 -> 1375 | Q70: =$A66 -> #N/A | R70: 5 | S70: =$A66 -> #N/A
A71: =RANK(M71,$M$16:$M$50,0) -> #N/A | B71: 1379 | C71: =VLOOKUP(B71,Уч!$A$2:$L$16,2,FALSE) -> #N/A | D71: =VLOOKUP(B71,Уч!$A$2:$L$16,3,FALSE) -> #N/A | E71: Рез | F71: =VLOOKUP($B71,'110 сб '!$C$17:$I$87,5,FALSE) -> #N/A | G71: =VLOOKUP($B71,высота!$C$17:$AF$42,29,FALSE) -> #N/A | H71: =VLOOKUP($B71,ядро!$C$17:$K$43,8,FALSE) -> #N/A | I71: =VLOOKUP($B71,'2_р'!$C$17:$I$68,5,FALSE) -> #N/A | J71: =VLOOKUP($B71,Дл_р!$C$17:$O$43,11,FALSE) -> #N/A | K71: =VLOOKUP($B71,К_р!$C$18:$K$31,8,FALSE) -> #N/A | L71: =VLOOKUP($B71,'8_р'!$C$17:$H$77,5,FALSE) -> #N/A | M71: =SUM(F73:L73) -> #N/A | N71: =LOOKUP(M71,R$1:AA$1,R$2:AA$2) -> #N/A | O71: =AC71+AD71+5 -> #N/A | P71: =B71 -> 1379 | Q71: =$A71 -> #N/A | R71: 1 | S71: =$A71 -> #N/A | AC71: =IF(AND(Q71>16,M71>=4600),"1",LOOKUP(Q71,Q$5:AH$5,Q$6:AH$6)) -> #N/A | AD71: =LOOKUP(N71,R$8:W$8,R$9:W$9) -> #N/A
C72: =VLOOKUP(B71,Уч!$A$2:$L$16,5,FALSE) -> #N/A | D72: =VLOOKUP(B71,Уч!$A$2:$L$16,4,FALSE) -> #N/A | E72: Вет | F72: =VLOOKUP($B71,'110 сб '!$C$17:$I$87,6,FALSE) -> #N/A | I72: =VLOOKUP($B71,'2_р'!$C$17:$I$68,6,FALSE) -> #N/A | J72: =VLOOKUP($B71,Дл_р!$C$17:$O$43,12,FALSE) -> #N/A | O72: =CONCATENATE(AC71,"+",AD71,"+",5) -> #N/A | P72: =B71 -> 1379 | Q72: =$A71 -> #N/A | R72: 2 | S72: =$A71 -> #N/A
C73: =VLOOKUP(B71,Уч!$A$2:$L$16,7,FALSE) -> #N/A | E73: Оч | F73: =VLOOKUP($B71,'110 сб '!$C$17:$I$87,7,FALSE) -> #N/A | G73: =VLOOKUP($B71,высота!$C$17:$AF$42,30,FALSE) -> #N/A | H73: =VLOOKUP($B71,ядро!$C$17:$K$43,9,FALSE) -> #N/A | I73: =VLOOKUP($B71,'2_р'!$C$17:$I$68,7,FALSE) -> #N/A | J73: =VLOOKUP($B71,Дл_р!$C$17:$O$43,13,FALSE) -> #N/A | K73: =VLOOKUP($B71,К_р!$C$18:$K$31,9,FALSE) -> #N/A | L73: =VLOOKUP($B71,'8_р'!$C$17:$H$77,6,FALSE) -> #N/A | P73: =B71 -> 1379 | Q73: =$A71 -> #N/A | R73: 3 | S73: =$A71 -> #N/A
C74: =VLOOKUP(B71,Уч!$A$2:$L$16,11,FALSE) -> #N/A | E74: Сум | F74: =F73 -> #N/A | G74: =F74+G73 -> #N/A | H74: =G74+H73 -> #N/A | I74: =H74+I73 -> #N/A | J74: =I74+J73 -> #N/A | K74: =J74+K73 -> #N/A | L74: =K74+L73 -> #N/A | P74: =B71 -> 1379 | Q74: =$A71 -> #N/A | R74: 4 | S74: =$A71 -> #N/A | T74: =F74 -> #N/A | U74: =G74 -> #N/A | V74: =H74 -> #N/A | W74: =I74 -> #N/A | X74: =J74 -> #N/A | Y74: =K74 -> #N/A | Z74: =L74 -> #N/A
C75: =VLOOKUP(B71,Уч!$A$2:$L$16,12,FALSE) -> #N/A | E75: Мес | F75: =RANK(F74,$T$16:$T$50,0) -> #N/A | G75: =RANK(G74,$U$16:$U$50,0) -> #N/A | H75: =RANK(H74,$V$16:$V$50,0) -> #N/A | I75: =RANK(I74,$W$16:$W$50,0) -> #N/A | J75: =RANK(J74,$X$16:$X$50,0) -> #N/A | K75: =RANK(K74,$Y$16:$Y$50,0) -> #N/A | L75: =RANK(L74,$Z$16:$Z$50,0) -> #N/A | P75: =B71 -> 1379 | Q75: =$A71 -> #N/A | R75: 5 | S75: =$A71 -> #N/A
A76: =RANK(M76,$M$16:$M$50,0) -> #N/A | B76: 1380 | C76: =VLOOKUP(B76,Уч!$A$2:$L$16,2,FALSE) -> #N/A | D76: =VLOOKUP(B76,Уч!$A$2:$L$16,3,FALSE) -> #N/A | E76: Рез | F76: =VLOOKUP($B76,'110 сб '!$C$17:$I$87,5,FALSE) -> #N/A | G76: =VLOOKUP($B76,высота!$C$17:$AF$42,29,FALSE) -> #N/A | H76: =VLOOKUP($B76,ядро!$C$17:$K$43,8,FALSE) -> #N/A | I76: =VLOOKUP($B76,'2_р'!$C$17:$I$68,5,FALSE) -> #N/A | J76: =VLOOKUP($B76,Дл_р!$C$17:$O$43,11,FALSE) -> #N/A | K76: =VLOOKUP($B76,К_р!$C$18:$K$31,8,FALSE) -> #N/A | L76: =VLOOKUP($B76,'8_р'!$C$17:$H$77,5,FALSE) -> #N/A | M76: =SUM(F78:L78) -> #N/A | N76: =LOOKUP(M76,R$1:AA$1,R$2:AA$2) -> #N/A | O76: =AC76+AD76+5 -> #N/A | P76: =B76 -> 1380 | Q76: =$A76 -> #N/A | R76: 1 | S76: =$A76 -> #N/A | AC76: =IF(AND(Q76>16,M76>=4600),"1",LOOKUP(Q76,Q$5:AH$5,Q$6:AH$6)) -> #N/A | AD76: =LOOKUP(N76,R$8:W$8,R$9:W$9) -> #N/A
C77: =VLOOKUP(B76,Уч!$A$2:$L$16,5,FALSE) -> #N/A | D77: =VLOOKUP(B76,Уч!$A$2:$L$16,4,FALSE) -> #N/A | E77: Вет | F77: =VLOOKUP($B76,'110 сб '!$C$17:$I$87,6,FALSE) -> #N/A | I77: =VLOOKUP($B76,'2_р'!$C$17:$I$68,6,FALSE) -> #N/A | J77: =VLOOKUP($B76,Дл_р!$C$17:$O$43,12,FALSE) -> #N/A | O77: =CONCATENATE(AC76,"+",AD76,"+",5) -> #N/A | P77: =B76 -> 1380 | Q77: =$A76 -> #N/A | R77: 2 | S77: =$A76 -> #N/A
C78: =VLOOKUP(B76,Уч!$A$2:$L$16,7,FALSE) -> #N/A | E78: Оч | F78: =VLOOKUP($B76,'110 сб '!$C$17:$I$87,7,FALSE) -> #N/A | G78: =VLOOKUP($B76,высота!$C$17:$AF$42,30,FALSE) -> #N/A | H78: =VLOOKUP($B76,ядро!$C$17:$K$43,9,FALSE) -> #N/A | I78: =VLOOKUP($B76,'2_р'!$C$17:$I$68,7,FALSE) -> #N/A | J78: =VLOOKUP($B76,Дл_р!$C$17:$O$43,13,FALSE) -> #N/A | K78: =VLOOKUP($B76,К_р!$C$18:$K$31,9,FALSE) -> #N/A | L78: =VLOOKUP($B76,'8_р'!$C$17:$H$77,6,FALSE) -> #N/A | P78: =B76 -> 1380 | Q78: =$A76 -> #N/A | R78: 3 | S78: =$A76 -> #N/A
C79: =VLOOKUP(B76,Уч!$A$2:$L$16,11,FALSE) -> #N/A | E79: Сум | F79: =F78 -> #N/A | G79: =F79+G78 -> #N/A | H79: =G79+H78 -> #N/A | I79: =H79+I78 -> #N/A | J79: =I79+J78 -> #N/A | K79: =J79+K78 -> #N/A | L79: =K79+L78 -> #N/A | P79: =B76 -> 1380 | Q79: =$A76 -> #N/A | R79: 4 | S79: =$A76 -> #N/A | T79: =F79 -> #N/A | U79: =G79 -> #N/A | V79: =H79 -> #N/A | W79: =I79 -> #N/A | X79: =J79 -> #N/A | Y79: =K79 -> #N/A | Z79: =L79 -> #N/A
C80: =VLOOKUP(B76,Уч!$A$2:$L$16,12,FALSE) -> #N/A | E80: Мес | F80: =RANK(F79,$T$16:$T$50,0) -> #N/A | G80: =RANK(G79,$U$16:$U$50,0) -> #N/A | H80: =RANK(H79,$V$16:$V$50,0) -> #N/A | I80: =RANK(I79,$W$16:$W$50,0) -> #N/A | J80: =RANK(J79,$X$16:$X$50,0) -> #N/A | K80: =RANK(K79,$Y$16:$Y$50,0) -> #N/A | L80: =RANK(L79,$Z$16:$Z$50,0) -> #N/A | P80: =B76 -> 1380 | Q80: =$A76 -> #N/A | R80: 5 | S80: =$A76 -> #N/A
A81: =RANK(M81,$M$16:$M$50,0) -> #N/A | B81: 1416 | C81: =VLOOKUP(B81,Уч!$A$2:$L$16,2,FALSE) -> #N/A | D81: =VLOOKUP(B81,Уч!$A$2:$L$16,3,FALSE) -> #N/A | E81: Рез | F81: =VLOOKUP($B81,'110 сб '!$C$17:$I$87,5,FALSE) -> #N/A | G81: =VLOOKUP($B81,высота!$C$17:$AF$42,29,FALSE) -> #N/A | H81: =VLOOKUP($B81,ядро!$C$17:$K$43,8,FALSE) -> 0 | I81: =VLOOKUP($B81,'2_р'!$C$17:$I$68,5,FALSE) -> #N/A | J81: =VLOOKUP($B81,Дл_р!$C$17:$O$43,11,FALSE) -> #N/A | K81: =VLOOKUP($B81,К_р!$C$18:$K$31,8,FALSE) -> #N/A | L81: =VLOOKUP($B81,'8_р'!$C$17:$H$77,5,FALSE) -> #N/A | M81: =SUM(F83:L83) -> #N/A | N81: =LOOKUP(M81,R$1:AA$1,R$2:AA$2) -> #N/A | O81: =AC81+AD81+5 -> #N/A | P81: =B81 -> 1416 | Q81: =$A81 -> #N/A | R81: 1 | S81: =$A81 -> #N/A | AC81: =IF(AND(Q81>16,M81>=4600),"1",LOOKUP(Q81,Q$5:AH$5,Q$6:AH$6)) -> #N/A | AD81: =LOOKUP(N81,R$8:W$8,R$9:W$9) -> #N/A
C82: =VLOOKUP(B81,Уч!$A$2:$L$16,5,FALSE) -> #N/A | D82: =VLOOKUP(B81,Уч!$A$2:$L$16,4,FALSE) -> #N/A | E82: Вет | F82: =VLOOKUP($B81,'110 сб '!$C$17:$I$87,6,FALSE) -> #N/A | I82: =VLOOKUP($B81,'2_р'!$C$17:$I$68,6,FALSE) -> #N/A | J82: =VLOOKUP($B81,Дл_р!$C$17:$O$43,12,FALSE) -> #N/A | O82: =CONCATENATE(AC81,"+",AD81,"+",5) -> #N/A | P82: =B81 -> 1416 | Q82: =$A81 -> #N/A | R82: 2 | S82: =$A81 -> #N/A
C83: =VLOOKUP(B81,Уч!$A$2:$L$16,7,FALSE) -> #N/A | E83: Оч | F83: =VLOOKUP($B81,'110 сб '!$C$17:$I$87,7,FALSE) -> #N/A | G83: =VLOOKUP($B81,высота!$C$17:$AF$42,30,FALSE) -> #N/A | H83: =VLOOKUP($B81,ядро!$C$17:$K$43,9,FALSE) -> 0 | I83: =VLOOKUP($B81,'2_р'!$C$17:$I$68,7,FALSE) -> #N/A | J83: =VLOOKUP($B81,Дл_р!$C$17:$O$43,13,FALSE) -> #N/A | K83: =VLOOKUP($B81,К_р!$C$18:$K$31,9,FALSE) -> #N/A | L83: =VLOOKUP($B81,'8_р'!$C$17:$H$77,6,FALSE) -> #N/A | P83: =B81 -> 1416 | Q83: =$A81 -> #N/A | R83: 3 | S83: =$A81 -> #N/A
C84: =VLOOKUP(B81,Уч!$A$2:$L$16,11,FALSE) -> #N/A | E84: Сум | F84: =F83 -> #N/A | G84: =F84+G83 -> #N/A | H84: =G84+H83 -> #N/A | I84: =H84+I83 -> #N/A | J84: =I84+J83 -> #N/A | K84: =J84+K83 -> #N/A | L84: =K84+L83 -> #N/A | P84: =B81 -> 1416 | Q84: =$A81 -> #N/A | R84: 4 | S84: =$A81 -> #N/A | T84: =F84 -> #N/A | U84: =G84 -> #N/A | V84: =H84 -> #N/A | W84: =I84 -> #N/A | X84: =J84 -> #N/A | Y84: =K84 -> #N/A | Z84: =L84 -> #N/A
C85: =VLOOKUP(B81,Уч!$A$2:$L$16,12,FALSE) -> #N/A | E85: Мес | F85: =RANK(F84,$T$16:$T$50,0) -> #N/A | G85: =RANK(G84,$U$16:$U$50,0) -> #N/A | H85: =RANK(H84,$V$16:$V$50,0) -> #N/A | I85: =RANK(I84,$W$16:$W$50,0) -> #N/A | J85: =RANK(J84,$X$16:$X$50,0) -> #N/A | K85: =RANK(K84,$Y$16:$Y$50,0) -> #N/A | L85: =RANK(L84,$Z$16:$Z$50,0) -> #N/A | P85: =B81 -> 1416 | Q85: =$A81 -> #N/A | R85: 5 | S85: =$A81 -> #N/A
A86: =RANK(M86,$M$16:$M$50,0) -> #N/A | B86: 1367 | C86: =VLOOKUP(B86,Уч!$A$2:$L$16,2,FALSE) -> #N/A | D86: =VLOOKUP(B86,Уч!$A$2:$L$16,3,FALSE) -> #N/A | E86: Рез | F86: =VLOOKUP($B86,'110 сб '!$C$17:$I$87,5,FALSE) -> #N/A | G86: =VLOOKUP($B86,высота!$C$17:$AF$42,29,FALSE) -> #N/A | H86: =VLOOKUP($B86,ядро!$C$17:$K$43,8,FALSE) -> #N/A | I86: =VLOOKUP($B86,'2_р'!$C$17:$I$68,5,FALSE) -> #N/A | J86: =VLOOKUP($B86,Дл_р!$C$17:$O$43,11,FALSE) -> #N/A | K86: =VLOOKUP($B86,К_р!$C$18:$K$31,8,FALSE) -> #N/A | L86: =VLOOKUP($B86,'8_р'!$C$17:$H$77,5,FALSE) -> #N/A | M86: =SUM(F88:L88) -> #N/A | N86: =LOOKUP(M86,R$1:AA$1,R$2:AA$2) -> #N/A | O86: =AC86+AD86+5 -> #N/A | P86: =B86 -> 1367 | Q86: =$A86 -> #N/A | R86: 1 | S86: =$A86 -> #N/A | AC86: =IF(AND(Q86>16,M86>=4600),"1",LOOKUP(Q86,Q$5:AH$5,Q$6:AH$6)) -> #N/A | AD86: =LOOKUP(N86,R$8:W$8,R$9:W$9) -> #N/A
C87: =VLOOKUP(B86,Уч!$A$2:$L$16,5,FALSE) -> #N/A | D87: =VLOOKUP(B86,Уч!$A$2:$L$16,4,FALSE) -> #N/A | E87: Вет | F87: =VLOOKUP($B86,'110 сб '!$C$17:$I$87,6,FALSE) -> #N/A | I87: =VLOOKUP($B86,'2_р'!$C$17:$I$68,6,FALSE) -> #N/A | J87: =VLOOKUP($B86,Дл_р!$C$17:$O$43,12,FALSE) -> #N/A | O87: =CONCATENATE(AC86,"+",AD86,"+",5) -> #N/A | P87: =B86 -> 1367 | Q87: =$A86 -> #N/A | R87: 2 | S87: =$A86 -> #N/A
C88: =VLOOKUP(B86,Уч!$A$2:$L$16,7,FALSE) -> #N/A | E88: Оч | F88: =VLOOKUP($B86,'110 сб '!$C$17:$I$87,7,FALSE) -> #N/A | G88: =VLOOKUP($B86,высота!$C$17:$AF$42,30,FALSE) -> #N/A | H88: =VLOOKUP($B86,ядро!$C$17:$K$43,9,FALSE) -> #N/A | I88: =VLOOKUP($B86,'2_р'!$C$17:$I$68,7,FALSE) -> #N/A | J88: =VLOOKUP($B86,Дл_р!$C$17:$O$43,13,FALSE) -> #N/A | K88: =VLOOKUP($B86,К_р!$C$18:$K$31,9,FALSE) -> #N/A | L88: =VLOOKUP($B86,'8_р'!$C$17:$H$77,6,FALSE) -> #N/A | P88: =B86 -> 1367 | Q88: =$A86 -> #N/A | R88: 3 | S88: =$A86 -> #N/A
C89: =VLOOKUP(B86,Уч!$A$2:$L$16,11,FALSE) -> #N/A | E89: Сум | F89: =F88 -> #N/A | G89: =F89+G88 -> #N/A | H89: =G89+H88 -> #N/A | I89: =H89+I88 -> #N/A | J89: =I89+J88 -> #N/A | K89: =J89+K88 -> #N/A | L89: =K89+L88 -> #N/A | P89: =B86 -> 1367 | Q89: =$A86 -> #N/A | R89: 4 | S89: =$A86 -> #N/A | T89: =F89 -> #N/A | U89: =G89 -> #N/A | V89: =H89 -> #N/A | W89: =I89 -> #N/A | X89: =J89 -> #N/A | Y89: =K89 -> #N/A | Z89: =L89 -> #N/A
C90: =VLOOKUP(B86,Уч!$A$2:$L$16,12,FALSE) -> #N/A | E90: Мес | F90: =RANK(F89,$T$16:$T$50,0) -> #N/A | G90: =RANK(G89,$U$16:$U$50,0) -> #N/A | H90: =RANK(H89,$V$16:$V$50,0) -> #N/A | I90: =RANK(I89,$W$16:$W$50,0) -> #N/A | J90: =RANK(J89,$X$16:$X$50,0) -> #N/A | K90: =RANK(K89,$Y$16:$Y$50,0) -> #N/A | L90: =RANK(L89,$Z$16:$Z$50,0) -> #N/A | P90: =B86 -> 1367 | Q90: =$A86 -> #N/A | R90: 5 | S90: =$A86 -> #N/A
C92: Главный судья | H92: П.Ф. Безъязычный ВК Краснодар
C94: Главный секретарь | H94: Е.Ю. Клочкова ВК Волгоград
A95: 22 | C95: =VLOOKUP(B95,Уч!$A$2:$L$18,2,FALSE) -> #N/A | D95: =VLOOKUP(B95,Уч!$A$2:$L$18,3,FALSE) -> #N/A | E95: Рез | F95: =VLOOKUP($B95,'110 сб '!$C$17:$I$87,5,FALSE) -> #N/A | G95: =VLOOKUP($B95,высота!$C$17:$AF$42,17,FALSE) -> #N/A | H95: =VLOOKUP($B95,ядро!$C$17:$K$43,8,FALSE) -> #N/A | I95: =VLOOKUP($B95,'2_р'!$C$17:$I$68,5,FALSE) -> #N/A | J95: =VLOOKUP($B95,Дл_р!$C$17:$O$43,11,FALSE) -> #N/A | K95: =VLOOKUP($B95,К_р!$C$18:$K$31,8,FALSE) -> #N/A | L95: =VLOOKUP($B95,'8_р'!$C$17:$H$77,5,FALSE) -> #N/A | M95: Не явка | Q95: =$A95 -> 22 | R95: 1
C96: =VLOOKUP(B95,Уч!$A$2:$L$18,5,FALSE) -> #N/A | D96: =VLOOKUP(B95,Уч!$A$2:$L$18,4,FALSE) -> #N/A | E96: Оч | F96: =VLOOKUP($B95,'110 сб '!$C$17:$I$87,7,FALSE) -> #N/A | G96: =VLOOKUP($B95,высота!$C$17:$AF$42,18,FALSE) -> #N/A | H96: =VLOOKUP($B95,ядро!$C$17:$K$43,9,FALSE) -> #N/A | I96: =VLOOKUP($B95,'2_р'!$C$17:$I$68,7,FALSE) -> #N/A | J96: =VLOOKUP($B95,Дл_р!$C$17:$O$43,13,FALSE) -> #N/A | K96: =VLOOKUP($B95,К_р!$C$18:$K$31,9,FALSE) -> #N/A | L96: =VLOOKUP($B95,'8_р'!$C$17:$H$77,6,FALSE) -> #N/A | Q96: =$A95 -> 22 | R96: 2
C97: =VLOOKUP(B95,Уч!$A$2:$L$18,7,FALSE) -> #N/A | E97: Сум | F97: =F96 -> #N/A | G97: =F97+G96 -> #N/A | H97: =G97+H96 -> #N/A | I97: =H97+I96 -> #N/A | J97: =I97+J96 -> #N/A | K97: =J97+K96 -> #N/A | L97: =K97+L96 -> #N/A | Q97: =$A95 -> 22 | R97: 3 | T97: =F97 -> #N/A | U97: =G97 -> #N/A | V97: =H97 -> #N/A | W97: =I97 -> #N/A | X97: =J97 -> #N/A | Y97: =K97 -> #N/A | Z97: =L97 -> #N/A
C98: =VLOOKUP(B95,Уч!$A$2:$L$18,11,FALSE) -> #N/A | E98: Мес | F98: =RANK(F97,$T$16:$T$60,0) -> #N/A | G98: =RANK(G97,$U$16:$U$60,0) -> #N/A | H98: =RANK(H97,$V$16:$V$60,0) -> #N/A | I98: =RANK(I97,$W$16:$W$60,0) -> #N/A | J98: =RANK(J97,$X$16:$X$60,0) -> #N/A | K98: =RANK(K97,$Y$16:$Y$60,0) -> #N/A | L98: =RANK(L97,$Z$16:$Z$60,0) -> #N/A | Q98: =$A95 -> 22 | R98: 4
A99: 23 | C99: =VLOOKUP(B99,Уч!$A$2:$L$18,2,FALSE) -> #N/A | D99: =VLOOKUP(B99,Уч!$A$2:$L$18,3,FALSE) -> #N/A | E99: Рез | F99: =VLOOKUP($B99,'110 сб '!$C$17:$I$87,5,FALSE) -> #N/A | G99: =VLOOKUP($B99,высота!$C$17:$AF$42,17,FALSE) -> #N/A | H99: =VLOOKUP($B99,ядро!$C$17:$K$43,8,FALSE) -> #N/A | I99: =VLOOKUP($B99,'2_р'!$C$17:$I$68,5,FALSE) -> #N/A | J99: =VLOOKUP($B99,Дл_р!$C$17:$O$43,11,FALSE) -> #N/A | K99: =VLOOKUP($B99,К_р!$C$18:$K$31,8,FALSE) -> #N/A | L99: =VLOOKUP($B99,'8_р'!$C$17:$H$77,5,FALSE) -> #N/A | M99: Не явка | Q99: =$A99 -> 23 | R99: 1
C100: =VLOOKUP(B99,Уч!$A$2:$L$18,5,FALSE) -> #N/A | D100: =VLOOKUP(B99,Уч!$A$2:$L$18,4,FALSE) -> #N/A | E100: Оч | F100: =VLOOKUP($B99,'110 сб '!$C$17:$I$87,7,FALSE) -> #N/A | G100: =VLOOKUP($B99,высота!$C$17:$AF$42,18,FALSE) -> #N/A | H100: =VLOOKUP($B99,ядро!$C$17:$K$43,9,FALSE) -> #N/A | I100: =VLOOKUP($B99,'2_р'!$C$17:$I$68,7,FALSE) -> #N/A | J100: =VLOOKUP($B99,Дл_р!$C$17:$O$43,13,FALSE) -> #N/A | K100: =VLOOKUP($B99,К_р!$C$18:$K$31,9,FALSE) -> #N/A | L100: =VLOOKUP($B99,'8_р'!$C$17:$H$77,6,FALSE) -> #N/A | Q100: =$A99 -> 23 | R100: 2
C101: =VLOOKUP(B99,Уч!$A$2:$L$18,7,FALSE) -> #N/A | E101: Сум | F101: =F100 -> #N/A | G101: =F101+G100 -> #N/A | H101: =G101+H100 -> #N/A | I101: =H101+I100 -> #N/A | J101: =I101+J100 -> #N/A | K101: =J101+K100 -> #N/A | L101: =K101+L100 -> #N/A | Q101: =$A99 -> 23 | R101: 3 | T101: =F101 -> #N/A | U101: =G101 -> #N/A | V101: =H101 -> #N/A | W101: =I101 -> #N/A | X101: =J101 -> #N/A | Y101: =K101 -> #N/A | Z101: =L101 -> #N/A
C102: =VLOOKUP(B99,Уч!$A$2:$L$18,11,FALSE) -> #N/A | E102: Мес | F102: =RANK(F101,$T$16:$T$60,0) -> #N/A | G102: =RANK(G101,$U$16:$U$60,0) -> #N/A | H102: =RANK(H101,$V$16:$V$60,0) -> #N/A | I102: =RANK(I101,$W$16:$W$60,0) -> #N/A | J102: =RANK(J101,$X$16:$X$60,0) -> #N/A | K102: =RANK(K101,$Y$16:$Y$60,0) -> #N/A | L102: =RANK(L101,$Z$16:$Z$60,0) -> #N/A | Q102: =$A99 -> 23 | R102: 4

Sheet 110 сб 
B1: МИНИСТЕРСТВО СПОРТА РОССИЙСКОЙ ФЕДЕРАЦИИ
B2: ВСЕРОССИЙСКАЯ ФЕДЕРАЦИЯ ЛЕГКОЙ АТЛЕТИКИ
B3: Командный чемпионат России
B4: по многоборью
B5: Женщины
B6: СТАРТОВЫЙ ПРОТОКОЛ
B7: бег с барьерами 100 м
B8: 04.09.2019 г. | H8: Начало: | I8: 0.40972222
B9: г.Сочи, Адлерский район, стадион "Юность" | H9: Окончание:
C10: СТАРТОВЫЙ ПРОТОКОЛ | F10: бег с барьерами 100 м
C12: ИТОГОВЫЙ ПРОТОКОЛ | G12: бег с барьерами 100 м
A14: Мес | B14: № дорожки | C14: Нагрудный № | D14: Фамилия, имя участника | E14: Дата рождения | F14: Территория | G14: Результат | H14: Ветер | I14: Очки
D16: Забег 1
A17: 0.92766243 | B17: 1 | D17: #N/A | E17: #N/A | F17: #N/A | G17: 0 | H17: 0 | I17: 0
A18: 0.73544315 | B18: 2 | C18: 54 | D18: Кругова Елизавета | E18: 07.02.1999 | F18: Кемеровская область | G18: 16.15 | H18: 0 | I18: 696
A19: 0.31556834 | B19: 3 | C19: 65 | D19: Каширина Оксана | E19: 13.02.1997 | F19: Республика Адыгея | G19: 14.63 | H19: 0 | I19: 891
A20: 0.33793293 | B20: 4 | C20: 23 | D20: Пириева Марина | E20: 16.07.1998 | F20: ЮФО (К) | G20: 14.67 | H20: 0 | I20: 886
A21: 0.61141746 | B21: 5 | C21: 61 | D21: Ладикан Юлия | E21: 15.04.1999 | F21: Кемеровская область | G21: 0 | H21: 0 | I21: 0
A22: 0.2684888 | B22: 6 | C22: 117 | D22: Бучкина Анна | E22: 10.11.1999 | F22: Санкт-Петербург | G22: 14.95 | H22: 0 | I22: 848
A23: 0.41715538 | B23: 7 | G23: 0 | H23: 0 | I23: 0
A24: 0.90960531 | B24: 8 | D24: #N/A | E24: #N/A | F24: #N/A | G24: 0 | H24: 0 | I24: 0
D26: Забег 2
A27: 0.806583 | B27: 1 | D27: #N/A | E27: #N/A | F27: #N/A | G27: 0 | H27: 0 | I27: 0
A28: 0.78950806 | B28: 2 | C28: 109 | D28: Солнышкова Юлия | E28: 28.12.1998 | F28: Республика Татарстан | G28: 16.48 | H28: 1.2 | I28: 657
A29: 0.62670952 | B29: 3 | C29: 64 | D29: Дерган Евгения | E29: 11.04.1994 | F29: Республика Адыгея | G29: 15.87 | H29: 1.2 | I29: 730
A30: 0.23576804 | B30: 4 | C30: 66 | D30: Тынченко Анастасия | E30: 22.06.1996 | F30: Республика Адыгея | G30: 15.73 | H30: 1.2 | I30: 748
A31: 0.40194509 | B31: 5 | C31: 25 | D31: Варламова Анастасия | E31: 02.07.1998 | F31: Белгородская область | G31: 15.41 | H31: 1.2 | I31: 788
A32: 0.041709052 | B32: 6 | C32: 56 | D32: Горевая Александра | E32: 13.09.1999 | F32: Кемеровская область | G32: 15.04 | H32: 1.2 | I32: 836
A33: 0.28593534 | B33: 7 | G33: 0 | H33: 0 | I33: 0
A34: 0.44207094 | B34: 8 | D34: #N/A | E34: #N/A | F34: #N/A | G34: 0 | H34: 0 | I34: 0
D36: Забег 3
A37: 0.16570434 | B37: 1 | D37: #N/A | E37: #N/A | F37: #N/A | G37: 0 | H37: 0 | I37: 0
A38: 0.93621253 | B38: 2 | C38: 12 | D38: Ермолина Елена | E38: 03.02.1989 | F38: Краснодарский край Республика Адыгея | G38: 14.99 | H38: 0 | I38: 843
A39: 0.50710523 | B39: 3 | C39: 10 | D39: Лысенко Мария | E39: 12.10.1998 | F39: Краснодарский край Ставропольский край | G39: 13.77 | H39: 0 | I39: 1011
A40: 0.0083353148 | B40: 4 | C40: 8 | D40: Бутвина Александра | E40: 14.02.1986 | F40: Ростовская область Санкт-Петербург | G40: 14.98 | H40: 0 | I40: 844
A41: 0.88323075 | B41: 5 | C41: 55 | D41: Селезнева Анастасия | E41: 15.04.1997 | F41: Кемеровская область | G41: 14.27 | H41: 0 | I41: 941
A42: 0.64567485 | B42: 6 | C42: 9 | D42: Подгорнова Алина | E42: 05.05.1999 | F42: Краснодарский край | G42: 14.4 | H42: 0 | I42: 923
A43: 0.44309333 | B43: 7 | C43: 69 | D43: Пшичкина Марина | E43: 08.05.1997 | F43: Москва Пензенская область | G43: 14.4 | H43: 0 | I43: 923
A44: 0.76012688 | B44: 8 | G44: 0 | H44: 0 | I44: 0
B46: Секретарь:
B47: Ст. хронометрист:
B48: Рефери по бегу:
A50: =RAND() -> 0.026548023
A51: =RAND() -> 0.92088583
A52: =RAND() -> 0.41581704
A53: =RAND() -> 0.4800425
A54: =RAND() -> 0.47910382
A55: =RAND() -> 0.6924177
A56: =RAND() -> 0.36849024
A57: =RAND() -> 0.25639078
A61: =RAND() -> 0.04272253
A62: =RAND() -> 0.84163653
A63: =RAND() -> 0.999585
A64: =RAND() -> 0.52185199
... A126: =RAND() -> 0.90262838

Sheet высота
B1: МИНИСТЕРСТВО СПОРТА РОССИЙСКОЙ ФЕДЕРАЦИИ
B2: ВСЕРОССИЙСКАЯ ФЕДЕРАЦИЯ ЛЕГКОЙ АТЛЕТИКИ
B3: Командный чемпионат России
B4: по многоборью
B5: Женщины
B6: СТАРТОВЫЙ ПРОТОКОЛ
B7: прыжок в высоту
B11: 04.09.2019 г. | AD11: Начало: | AE11: 0.44791667
B12: ИТОГОВЫЙ ПРОТОКОЛ | C12: ИТОГОВЫЙ ПРОТОКОЛ
B13: г.Сочи, Адлерский район, стадион "Юность" | AD13: Окончание:
B14: № п/п | C14: Нагрудный № | D14: Фамилия, имя участника | E14: Дата рождения | F14: Территория | AE14: Результат
D16: Сектор А
B17: 1 | C17: 65 | D17: Каширина Оксана | E17: 13.02.1997 | F17: Республика Адыгея | AE17: 1.65
B18: 2 | C18: 55 | D18: Селезнева Анастасия | E18: 15.04.1997 | F18: Кемеровская область | AE18: 1.56
B19: 3 | C19: 64 | D19: Дерган Евгения | E19: 11.04.1994 | F19: Республика Адыгея | AE19: 1.86
B20: 4 | C20: 9 | D20: Подгорнова Алина | E20: 05.05.1999 | F20: Краснодарский край | AE20: 1.65
B21: 5 | C21: 8 | D21: Бутвина Александра | E21: 14.02.1986 | F21: Ростовская область Санкт-Петербург | AE21: 1.62
B22: 6 | C22: 66 | D22: Тынченко Анастасия | E22: 22.06.1996 | F22: Республика Адыгея | AE22: 1.71
B23: 7 | C23: 56 | D23: Горевая Александра | E23: 13.09.1999 | F23: Кемеровская область | AE23: 1.74
B24: 8 | C24: 117 | D24: Бучкина Анна | E24: 10.11.1999 | F24: Санкт-Петербург | AE24: 1.71
B25: 9 | C25: 54 | D25: Кругова Елизавета | E25: 07.02.1999 | F25: Кемеровская область | AE25: 1.68 | AI25: ня
B26: 10 | C26: 25 | D26: Варламова Анастасия | E26: 02.07.1998 | F26: Белгородская область | AE26: 1.72
B27: 11 | C27: 61 | D27: Ладикан Юлия | E27: 15.04.1999 | F27: Кемеровская область | AE27: 0
B28: 12 | C28: 69 | D28: Пшичкина Марина | E28: 08.05.1997 | F28: Москва Пензенская область | AE28: 0 | AI28: nm
B29: 13 | C29: 12 | D29: Ермолина Елена | E29: 03.02.1989 | F29: Краснодарский край Республика Адыгея | AE29: 1.62
B30: 14 | C30: 109 | D30: Солнышкова Юлия | E30: 28.12.1998 | F30: Республика Татарстан | AE30: 1.8
B31: 15 | C31: 10 | D31: Лысенко Мария | E31: 12.10.1998 | F31: Краснодарский край Ставропольский край | AE31: 1.65
B32: 16 | C32: 23 | D32: Пириева Марина | E32: 16.07.1998 | F32: ЮФО (К) | AE32: 1.71
B34: Секретарь:
B35: Старший судья:
B36: Рефери:
B37: 21 | C37: 1308 | D37: =VLOOKUP(C37,Уч!$A$2:$K$25,2,FALSE) -> #N/A | E37: =VLOOKUP(C37,Уч!$A$2:$K$25,3,FALSE) -> #N/A | F37: =VLOOKUP(C37,Уч!$A$2:$K$25,5,FALSE) -> #N/A | AE37: =AH37/100 -> 0
B38: 22 | C38: 1351 | D38: =VLOOKUP(C38,Уч!$A$2:$K$25,2,FALSE) -> #N/A | E38: =VLOOKUP(C38,Уч!$A$2:$K$25,3,FALSE) -> #N/A | F38: =VLOOKUP(C38,Уч!$A$2:$K$25,5,FALSE) -> #N/A | AE38: =AH38/100 -> 0
B39: 23 | C39: 1361 | D39: =VLOOKUP(C39,Уч!$A$2:$K$25,2,FALSE) -> #N/A | E39: =VLOOKUP(C39,Уч!$A$2:$K$25,3,FALSE) -> #N/A | F39: =VLOOKUP(C39,Уч!$A$2:$K$25,5,FALSE) -> #N/A | AE39: =AH39/100 -> 0

Sheet ядро
B1: МИНИСТЕРСТВО СПОРТА РОССИЙСКОЙ ФЕДЕРАЦИИ
B2: ВСЕРОССИЙСКАЯ ФЕДЕРАЦИЯ ЛЕГКОЙ АТЛЕТИКИ
B3: Командный чемпионат России
B4: по многоборью
B5: Женщины
B6: СТАРТОВЫЙ ПРОТОКОЛ
B7: толкание ядра
B11: 04.09.2019 г. | J11: Начало: | K11: 0.70833333
C12: ИТОГОВЫЙ ПРОТОКОЛ | G12: толкание ядра
B13: г.Сочи, Адлерский район, стадион "Юность" | J13: Окончание:
B14: № п/п | C14: Нагрудный № | D14: Фамилия, имя участника | E14: Дата рождения | F14: Территория | G14: 1 | H14: 2 | I14: 3 | J14: Результат | K14: Очки
D16: Группа А
B17: 1 | C17: 9 | D17: Подгорнова Алина | E17: 05.05.1999 | F17: Краснодарский край | G17: 10.26 | H17: X | I17: X | J17: 10.26 | K17: 546
B18: 2 | C18: 69 | D18: Пшичкина Марина | E18: 08.05.1997 | F18: Москва Пензенская область | G18: 10.39 | H18: X | I18: X | J18: 10.39 | K18: 555
B19: 3 | C19: 117 | D19: Бучкина Анна | E19: 10.11.1999 | F19: Санкт-Петербург | G19: 12.49 | H19: X | I19: X | J19: 12.49 | K19: 694
B20: 4 | C20: 8 | D20: Бутвина Александра | E20: 14.02.1986 | F20: Ростовская область Санкт-Петербург | G20: 12.17 | H20: X | I20: X | J20: 12.17 | K20: 672
B21: 5 | C21: 64 | D21: Дерган Евгения | E21: 11.04.1994 | F21: Республика Адыгея | G21: 14.48 | H21: X | I21: X | J21: 14.48 | K21: 826
B22: 6 | C22: 23 | D22: Пириева Марина | E22: 16.07.1998 | F22: ЮФО (К) | G22: X | H22: X | I22: X | J22: 0 | K22: 0
B23: 7 | C23: 54 | D23: Кругова Елизавета | E23: 07.02.1999 | F23: Кемеровская область | G23: 12.52 | H23: X | I23: X | J23: 12.52 | K23: 696
B24: 8 | C24: 25 | D24: Варламова Анастасия | E24: 02.07.1998 | F24: Белгородская область | G24: 12.43 | H24: X | I24: X | J24: 12.43 | K24: 690
B25: 9 | C25: 10 | D25: Лысенко Мария | E25: 12.10.1998 | F25: Краснодарский край Ставропольский край | G25: X | H25: X | I25: X | J25: 0 | K25: 0
B26: 10 | C26: 56 | D26: Горевая Александра | E26: 13.09.1999 | F26: Кемеровская область | G26: 11.03 | H26: X | I26: X | J26: 11.03 | K26: 597
B27: 11 | C27: 66 | D27: Тынченко Анастасия | E27: 22.06.1996 | F27: Республика Адыгея | G27: 12.72 | H27: X | I27: X | J27: 12.72 | K27: 709
B28: 12 | C28: 55 | D28: Селезнева Анастасия | E28: 15.04.1997 | F28: Кемеровская область | G28: X | H28: X | I28: X | J28: 0 | K28: 0 | Q28: ня
B29: 13 | C29: 61 | D29: Ладикан Юлия | E29: 15.04.1999 | F29: Кемеровская область | G29: 10.17 | H29: X | I29: X | J29: 10.17 | K29: 541
B30: 14 | C30: 109 | D30: Солнышкова Юлия | E30: 28.12.1998 | F30: Республика Татарстан | G30: 10.43 | H30: X | I30: X | J30: 10.43 | K30: 558
B31: 15 | C31: 65 | D31: Каширина Оксана | E31: 13.02.1997 | F31: Республика Адыгея | G31: 12.81 | H31: X | I31: X | J31: 12.81 | K31: 715
B32: 16 | C32: 12 | D32: Ермолина Елена | E32: 03.02.1989 | F32: Краснодарский край Республика Адыгея | G32: 12.68 | H32: X | I32: X | J32: 12.68 | K32: 706
B34: Секретарь:
B35: Старший судья:
B36: Рефери:
B38: 22 | C38: 1416 | D38: =VLOOKUP(C38,Уч!$A$2:$K$25,2,FALSE) -> #N/A | E38: =VLOOKUP(C38,Уч!$A$2:$K$25,3,FALSE) -> #N/A | F38: =VLOOKUP(C38,Уч!$A$2:$K$25,5,FALSE) -> #N/A | G38: =IF(M38=0,"X",M38/100) -> X | H38: =IF(N38=0,"X",N38/100) -> X | I38: =IF(O38=0,"X",O38/100) -> X | J38: =MAX(M38,N38,O38)/100 -> 0 | K38: =IF(P38<153,0,IF(P38=0,0,ROUNDDOWN(56.0211*(P38/100-1.5)^1.05,0))) -> 0
B39: 23 | C39: 1308 | D39: =VLOOKUP(C39,Уч!$A$2:$K$25,2,FALSE) -> #N/A | E39: =VLOOKUP(C39,Уч!$A$2:$K$25,3,FALSE) -> #N/A | F39: =VLOOKUP(C39,Уч!$A$2:$K$25,5,FALSE) -> #N/A | G39: =IF(M39=0,"X",M39/100) -> X | H39: =IF(N39=0,"X",N39/100) -> X | I39: =IF(O39=0,"X",O39/100) -> X | J39: =MAX(M39,N39,O39)/100 -> 0 | K39: =IF(P39<153,0,IF(P39=0,0,ROUNDDOWN(56.0211*(P39/100-1.5)^1.05,0))) -> 0

Sheet 2_р
B1: =Расп!A21 -> МИНИСТЕРСТВО СПОРТА РОССИЙСКОЙ ФЕДЕРАЦИИ
B2: =Расп!A22 -> ВСЕРОССИЙСКАЯ ФЕДЕРАЦИЯ ЛЕГКОЙ АТЛЕТИКИ
B3: =Расп!A25 -> Командный чемпионат России
B4: =Расп!A27 -> по многоборью
B5: =Расп!B13 -> Женщины
B6: СТАРТОВЫЙ ПРОТОКОЛ
B7: =Расп!A5 -> бег 200 м
J8: Скрыть
I9: =Расп!C5 | J9: при
J10: печати
B11: =Расп!A1 | G11: =Расп!B1 -> Начало: | H11: =Расп!B5 -> 0.75347222
C12: ИТОГОВЫЙ ПРОТОКОЛ | F12: =Расп!A5 -> бег 200 м
B13: =Расп!A26 -> г.Сочи, Адлерский район, стадион "Юность" | G13: =Расп!C1 -> Окончание:
A14: Мес | B14: № дорожки | C14: Нагрудный № | D14: Фамилия, имя участника | E14: Дата рождения | F14: Территория | G14: Результат | H14: Ветер | I14: Очки | J14: Рез | K14: Ветер
D16: Забег 1
A17: =RAND() -> 0.76567487 | B17: 1 | D17: =VLOOKUP(C17,Уч!$A$2:$K$25,2,FALSE) -> #N/A | E17: =VLOOKUP(C17,Уч!$A$2:$K$25,3,FALSE) -> #N/A | F17: =VLOOKUP(C17,Уч!$A$2:$K$25,5,FALSE) -> #N/A | G17: =J17/100 -> 0 | H17: =K17/10 -> 0 | I17: =IF(J17>4208,0,IF(J17=0,0,ROUNDDOWN(4.99087*(42.5-J17/100)^1.81,0))) -> 0
A18: =RAND() -> 0.72131296 | B18: 2 | C18: 13 | D18: =VLOOKUP(C18,Уч!$A$2:$K$25,2,FALSE) -> #N/A | E18: =VLOOKUP(C18,Уч!$A$2:$K$25,3,FALSE) -> #N/A | F18: =VLOOKUP(C18,Уч!$A$2:$K$25,5,FALSE) -> #N/A | G18: =J18/100 -> 28.13 | H18: =K18/10 -> 1.2 | I18: =IF(J18>4208,0,IF(J18=0,0,ROUNDDOWN(4.99087*(42.5-J18/100)^1.81,0))) -> 621 | J18: 2813 | K18: 12
A19: =RAND() -> 0.017621772 | B19: 3 | C19: 87 | D19: =VLOOKUP(C19,Уч!$A$2:$K$25,2,FALSE) -> #N/A | E19: =VLOOKUP(C19,Уч!$A$2:$K$25,3,FALSE) -> #N/A | F19: =VLOOKUP(C19,Уч!$A$2:$K$25,5,FALSE) -> #N/A | G19: =J19/100 -> 26.04 | H19: =K19/10 -> 1.2 | I19: =IF(J19>4208,0,IF(J19=0,0,ROUNDDOWN(4.99087*(42.5-J19/100)^1.81,0))) -> 794 | J19: 2604 | K19: 12
A20: =RAND() -> 0.74207762 | B20: 4 | C20: 38 | D20: =VLOOKUP(C20,Уч!$A$2:$K$25,2,FALSE) -> #N/A | E20: =VLOOKUP(C20,Уч!$A$2:$K$25,3,FALSE) -> #N/A | F20: =VLOOKUP(C20,Уч!$A$2:$K$25,5,FALSE) -> #N/A | G20: =J20/100 -> 26.46 | H20: =K20/10 -> 1.2 | I20: =IF(J20>4208,0,IF(J20=0,0,ROUNDDOWN(4.99087*(42.5-J20/100)^1.81,0))) -> 757 | J20: 2646 | K20: 12
A21: =RAND() -> 0.086800704 | B21: 5 | C21: 64 | D21: =VLOOKUP(C21,Уч!$A$2:$K$25,2,FALSE) -> Дерган Евгения | E21: =VLOOKUP(C21,Уч!$A$2:$K$25,3,FALSE) -> 11.04.1994 | F21: =VLOOKUP(C21,Уч!$A$2:$K$25,5,FALSE) -> Республика Адыгея | G21: =J21/100 -> 26.81 | H21: =K21/10 -> 1.2 | I21: =IF(J21>4208,0,IF(J21=0,0,ROUNDDOWN(4.99087*(42.5-J21/100)^1.81,0))) -> 728 | J21: 2681 | K21: 12
A22: =RAND() -> 0.30913409 | B22: 6 | C22: 61 | D22: =VLOOKUP(C22,Уч!$A$2:$K$25,2,FALSE) -> Ладикан Юлия | E22: =VLOOKUP(C22,Уч!$A$2:$K$25,3,FALSE) -> 15.04.1999 | F22: =VLOOKUP(C22,Уч!$A$2:$K$25,5,FALSE) -> Кемеровская область | G22: =J22/100 -> 28.27 | H22: =K22/10 -> 1.2 | I22: =IF(J22>4208,0,IF(J22=0,0,ROUNDDOWN(4.99087*(42.5-J22/100)^1.81,0))) -> 610 | J22: 2827 | K22: 12
A23: =RAND() -> 0.13827705 | B23: 7 | C23: 14 | D23: =VLOOKUP(C23,Уч!$A$2:$K$25,2,FALSE) -> #N/A | E23: =VLOOKUP(C23,Уч!$A$2:$K$25,3,FALSE) -> #N/A | F23: =VLOOKUP(C23,Уч!$A$2:$K$25,5,FALSE) -> #N/A | G23: =J23/100 -> 27.44 | H23: =K23/10 -> 1.2 | I23: =IF(J23>4208,0,IF(J23=0,0,ROUNDDOWN(4.99087*(42.5-J23/100)^1.81,0))) -> 676 | J23: 2744 | K23: 12
A24: =RAND() -> 0.47309215 | B24: 8 | C24: 76 | D24: =VLOOKUP(C24,Уч!$A$2:$K$25,2,FALSE) -> #N/A | E24: =VLOOKUP(C24,Уч!$A$2:$K$25,3,FALSE) -> #N/A | F24: =VLOOKUP(C24,Уч!$A$2:$K$25,5,FALSE) -> #N/A | G24: =J24/100 -> 27.12 | I24: =IF(J24>4208,0,IF(J24=0,0,ROUNDDOWN(4.99087*(42.5-J24/100)^1.81,0))) -> 702 | J24: 2712
D26: Забег 2
A27: =RAND() -> 0.67945423 | B27: 1 | D27: =VLOOKUP(C27,Уч!$A$2:$K$25,2,FALSE) -> #N/A | E27: =VLOOKUP(C27,Уч!$A$2:$K$25,3,FALSE) -> #N/A | F27: =VLOOKUP(C27,Уч!$A$2:$K$25,5,FALSE) -> #N/A | G27: =J27/100 -> 0 | H27: =K27/10 -> 0 | I27: =IF(J27>4208,0,IF(J27=0,0,ROUNDDOWN(4.99087*(42.5-J27/100)^1.81,0))) -> 0
A28: =RAND() -> 0.058742356 | B28: 2 | C28: 27 | D28: =VLOOKUP(C28,Уч!$A$2:$K$25,2,FALSE) -> #N/A | E28: =VLOOKUP(C28,Уч!$A$2:$K$25,3,FALSE) -> #N/A | F28: =VLOOKUP(C28,Уч!$A$2:$K$25,5,FALSE) -> #N/A | G28: =J28/100 -> 26.2 | H28: =K28/10 -> 1.2 | I28: =IF(J28>4208,0,IF(J28=0,0,ROUNDDOWN(4.99087*(42.5-J28/100)^1.81,0))) -> 780 | J28: 2620 | K28: 12
A29: =RAND() -> 0.66440909 | B29: 3 | C29: 19 | D29: =VLOOKUP(C29,Уч!$A$2:$K$25,2,FALSE) -> #N/A | E29: =VLOOKUP(C29,Уч!$A$2:$K$25,3,FALSE) -> #N/A | F29: =VLOOKUP(C29,Уч!$A$2:$K$25,5,FALSE) -> #N/A | G29: =J29/100 -> 26.05 | H29: =K29/10 -> 1.2 | I29: =IF(J29>4208,0,IF(J29=0,0,ROUNDDOWN(4.99087*(42.5-J29/100)^1.81,0))) -> 793 | J29: 2605 | K29: 12
A30: =RAND() -> 0.57599131 | B30: 4 | C30: 30 | D30: =VLOOKUP(C30,Уч!$A$2:$K$25,2,FALSE) -> #N/A | E30: =VLOOKUP(C30,Уч!$A$2:$K$25,3,FALSE) -> #N/A | F30: =VLOOKUP(C30,Уч!$A$2:$K$25,5,FALSE) -> #N/A | G30: =J30/100 -> 25.31 | H30: =K30/10 -> 1.2 | I30: =IF(J30>4208,0,IF(J30=0,0,ROUNDDOWN(4.99087*(42.5-J30/100)^1.81,0))) -> 859 | J30: 2531 | K30: 12
A31: =RAND() -> 0.74864033 | B31: 5 | C31: 71 | D31: =VLOOKUP(C31,Уч!$A$2:$K$25,2,FALSE) -> #N/A | E31: =VLOOKUP(C31,Уч!$A$2:$K$25,3,FALSE) -> #N/A | F31: =VLOOKUP(C31,Уч!$A$2:$K$25,5,FALSE) -> #N/A | G31: =J31/100 -> 24.88 | H31: =K31/10 -> 1.2 | I31: =IF(J31>4208,0,IF(J31=0,0,ROUNDDOWN(4.99087*(42.5-J31/100)^1.81,0))) -> 898 | J31: 2488 | K31: 12
A32: =RAND() -> 0.6601083 | B32: 6 | C32: 37 | D32: =VLOOKUP(C32,Уч!$A$2:$K$25,2,FALSE) -> #N/A | E32: =VLOOKUP(C32,Уч!$A$2:$K$25,3,FALSE) -> #N/A | F32: =VLOOKUP(C32,Уч!$A$2:$K$25,5,FALSE) -> #N/A | G32: =J32/100 -> 24.78 | H32: =K32/10 -> 1.2 | I32: =IF(J32>4208,0,IF(J32=0,0,ROUNDDOWN(4.99087*(42.5-J32/100)^1.81,0))) -> 907 | J32: 2478 | K32: 12
A33: =RAND() -> 0.52218077 | B33: 7 | C33: 21 | D33: =VLOOKUP(C33,Уч!$A$2:$K$25,2,FALSE) -> #N/A | E33: =VLOOKUP(C33,Уч!$A$2:$K$25,3,FALSE) -> #N/A | F33: =VLOOKUP(C33,Уч!$A$2:$K$25,5,FALSE) -> #N/A | G33: =J33/100 -> 25.4 | H33: =K33/10 -> 1.2 | I33: =IF(J33>4208,0,IF(J33=0,0,ROUNDDOWN(4.99087*(42.5-J33/100)^1.81,0))) -> 850 | J33: 2540 | K33: 12
A34: =RAND() -> 0.19816708 | B34: 8 | H34: =K34/10 -> 0 | I34: =IF(J34>4208,0,IF(J34=0,0,ROUNDDOWN(4.99087*(42.5-J34/100)^1.81,0))) -> 0
B36: Секретарь:
B37: Ст. хронометрист:
B38: Рефери по бегу:
D39: Забег 3
A40: =RAND() -> 0.95402459 | B40: 1 | D40: =VLOOKUP(C40,Уч!$A$2:$K$25,2,FALSE) -> #N/A | E40: =VLOOKUP(C40,Уч!$A$2:$K$25,3,FALSE) -> #N/A | F40: =VLOOKUP(C40,Уч!$A$2:$K$25,5,FALSE) -> #N/A | G40: =J40/100 -> 0 | H40: =K40/10 -> 0 | I40: =IF(J40>4208,0,IF(J40=0,0,ROUNDDOWN(4.99087*(42.5-J40/100)^1.81,0))) -> 0
A41: =RAND() -> 0.52077041 | B41: 2 | C41: 42 | D41: =VLOOKUP(C41,Уч!$A$2:$K$25,2,FALSE) -> #N/A | E41: =VLOOKUP(C41,Уч!$A$2:$K$25,3,FALSE) -> #N/A | F41: =VLOOKUP(C41,Уч!$A$2:$K$25,5,FALSE) -> #N/A | G41: =J41/100 -> 0 | H41: =K41/10 -> 0 | I41: =IF(J41>4208,0,IF(J41=0,0,ROUNDDOWN(4.99087*(42.5-J41/100)^1.81,0))) -> 0
A42: =RAND() -> 0.48564427 | B42: 3 | D42: =VLOOKUP(C42,Уч!$A$2:$K$25,2,FALSE) -> #N/A | E42: =VLOOKUP(C42,Уч!$A$2:$K$25,3,FALSE) -> #N/A | F42: =VLOOKUP(C42,Уч!$A$2:$K$25,5,FALSE) -> #N/A | G42: =J42/100 -> 0 | H42: =K42/10 -> 0 | I42: =IF(J42>4208,0,IF(J42=0,0,ROUNDDOWN(4.99087*(42.5-J42/100)^1.81,0))) -> 0
A43: =RAND() -> 0.19296316 | B43: 4 | D43: =VLOOKUP(C43,Уч!$A$2:$K$25,2,FALSE) -> #N/A | E43: =VLOOKUP(C43,Уч!$A$2:$K$25,3,FALSE) -> #N/A | F43: =VLOOKUP(C43,Уч!$A$2:$K$25,5,FALSE) -> #N/A | G43: =J43/100 -> 0 | H43: =K43/10 -> 0 | I43: =IF(J43>4208,0,IF(J43=0,0,ROUNDDOWN(4.99087*(42.5-J43/100)^1.81,0))) -> 0
A44: =RAND() -> 0.49831498 | B44: 5 | D44: =VLOOKUP(C44,Уч!$A$2:$K$25,2,FALSE) -> #N/A | E44: =VLOOKUP(C44,Уч!$A$2:$K$25,3,FALSE) -> #N/A | F44: =VLOOKUP(C44,Уч!$A$2:$K$25,5,FALSE) -> #N/A | G44: =J44/100 -> 0 | H44: =K44/10 -> 0 | I44: =IF(J44>4208,0,IF(J44=0,0,ROUNDDOWN(4.99087*(42.5-J44/100)^1.81,0))) -> 0
A45: =RAND() -> 0.87539026 | B45: 6 | D45: =VLOOKUP(C45,Уч!$A$2:$K$25,2,FALSE) -> #N/A | E45: =VLOOKUP(C45,Уч!$A$2:$K$25,3,FALSE) -> #N/A | F45: =VLOOKUP(C45,Уч!$A$2:$K$25,5,FALSE) -> #N/A | G45: =J45/100 -> 0 | H45: =K45/10 -> 0 | I45: =IF(J45>4208,0,IF(J45=0,0,ROUNDDOWN(4.99087*(42.5-J45/100)^1.81,0))) -> 0
A46: =RAND() -> 0.99272577 | B46: 7 | D46: =VLOOKUP(C46,Уч!$A$2:$K$25,2,FALSE) -> #N/A | E46: =VLOOKUP(C46,Уч!$A$2:$K$25,3,FALSE) -> #N/A | F46: =VLOOKUP(C46,Уч!$A$2:$K$25,5,FALSE) -> #N/A | G46: =J46/100 -> 0 | H46: =K46/10 -> 0 | I46: =IF(J46>4208,0,IF(J46=0,0,ROUNDDOWN(4.99087*(42.5-J46/100)^1.81,0))) -> 0
A47: =RAND() -> 0.56029492 | B47: 8 | D47: =VLOOKUP(C47,Уч!$A$2:$K$25,2,FALSE) -> #N/A | E47: =VLOOKUP(C47,Уч!$A$2:$K$25,3,FALSE) -> #N/A | F47: =VLOOKUP(C47,Уч!$A$2:$K$25,5,FALSE) -> #N/A | G47: =J47/100 -> 0 | I47: =IF(J47>4208,0,IF(J47=0,0,ROUNDDOWN(4.99087*(42.5-J47/100)^1.81,0))) -> 0
D49: Забег 4
A50: =RAND() -> 0.3805656 | B50: 1 | D50: =VLOOKUP(C50,Уч!$A$2:$K$25,2,FALSE) -> #N/A | E50: =VLOOKUP(C50,Уч!$A$2:$K$25,3,FALSE) -> #N/A | F50: =VLOOKUP(C50,Уч!$A$2:$K$25,5,FALSE) -> #N/A | G50: =J50/100 -> 0 | H50: =K50/10 -> 0 | I50: =IF(J50>4208,0,IF(J50=0,0,ROUNDDOWN(4.99087*(42.5-J50/100)^1.81,0))) -> 0
A51: =RAND() -> 0.019217958 | B51: 2 | D51: =VLOOKUP(C51,Уч!$A$2:$K$25,2,FALSE) -> #N/A | E51: =VLOOKUP(C51,Уч!$A$2:$K$25,3,FALSE) -> #N/A | F51: =VLOOKUP(C51,Уч!$A$2:$K$25,5,FALSE) -> #N/A | G51: =J51/100 -> 0 | H51: =K51/10 -> 0 | I51: =IF(J51>4208,0,IF(J51=0,0,ROUNDDOWN(4.99087*(42.5-J51/100)^1.81,0))) -> 0
A52: =RAND() -> 0.91608211 | B52: 3 | D52: =VLOOKUP(C52,Уч!$A$2:$K$25,2,FALSE) -> #N/A | E52: =VLOOKUP(C52,Уч!$A$2:$K$25,3,FALSE) -> #N/A | F52: =VLOOKUP(C52,Уч!$A$2:$K$25,5,FALSE) -> #N/A | G52: =J52/100 -> 0 | H52: =K52/10 -> 0 | I52: =IF(J52>4208,0,IF(J52=0,0,ROUNDDOWN(4.99087*(42.5-J52/100)^1.81,0))) -> 0
A53: =RAND() -> 0.32427461 | B53: 4 | D53: =VLOOKUP(C53,Уч!$A$2:$K$25,2,FALSE) -> #N/A | E53: =VLOOKUP(C53,Уч!$A$2:$K$25,3,FALSE) -> #N/A | F53: =VLOOKUP(C53,Уч!$A$2:$K$25,5,FALSE) -> #N/A | G53: =J53/100 -> 0 | H53: =K53/10 -> 0 | I53: =IF(J53>4208,0,IF(J53=0,0,ROUNDDOWN(4.99087*(42.5-J53/100)^1.81,0))) -> 0
A54: =RAND() -> 0.8390731 | B54: 5 | D54: =VLOOKUP(C54,Уч!$A$2:$K$25,2,FALSE) -> #N/A | E54: =VLOOKUP(C54,Уч!$A$2:$K$25,3,FALSE) -> #N/A | F54: =VLOOKUP(C54,Уч!$A$2:$K$25,5,FALSE) -> #N/A | G54: =J54/100 -> 0 | H54: =K54/10 -> 0 | I54: =IF(J54>4208,0,IF(J54=0,0,ROUNDDOWN(4.99087*(42.5-J54/100)^1.81,0))) -> 0
A55: =RAND() -> 0.85874078 | B55: 6 | D55: =VLOOKUP(C55,Уч!$A$2:$K$25,2,FALSE) -> #N/A | E55: =VLOOKUP(C55,Уч!$A$2:$K$25,3,FALSE) -> #N/A | F55: =VLOOKUP(C55,Уч!$A$2:$K$25,5,FALSE) -> #N/A | G55: =J55/100 -> 0 | H55: =K55/10 -> 0 | I55: =IF(J55>4208,0,IF(J55=0,0,ROUNDDOWN(4.99087*(42.5-J55/100)^1.81,0))) -> 0
A56: =RAND() -> 0.36433429 | B56: 7 | D56: =VLOOKUP(C56,Уч!$A$2:$K$25,2,FALSE) -> #N/A | E56: =VLOOKUP(C56,Уч!$A$2:$K$25,3,FALSE) -> #N/A | F56: =VLOOKUP(C56,Уч!$A$2:$K$25,5,FALSE) -> #N/A | G56: =J56/100 -> 0 | H56: =K56/10 -> 0 | I56: =IF(J56>4208,0,IF(J56=0,0,ROUNDDOWN(4.99087*(42.5-J56/100)^1.81,0))) -> 0
A57: =RAND() -> 0.23017512 | B57: 8 | D57: =VLOOKUP(C57,Уч!$A$2:$K$25,2,FALSE) -> #N/A | E57: =VLOOKUP(C57,Уч!$A$2:$K$25,3,FALSE) -> #N/A | F57: =VLOOKUP(C57,Уч!$A$2:$K$25,5,FALSE) -> #N/A | G57: =J57/100 -> 0 | I57: =IF(J57>4208,0,IF(J57=0,0,ROUNDDOWN(4.99087*(42.5-J57/100)^1.81,0))) -> 0
D59: Забег 4
A60: =RAND() -> 0.92370618 | B60: 1 | D60: =VLOOKUP(C60,Уч!$A$2:$K$18,2,FALSE) -> #N/A | E60: =VLOOKUP(C60,Уч!$A$2:$K$18,3,FALSE) -> #N/A | F60: =VLOOKUP(C60,Уч!$A$2:$K$18,5,FALSE) -> #N/A | G60: =J60/100 -> 0 | I60: =IF(J60>4208,0,IF(J60=0,0,ROUNDDOWN(4.99087*(42.5-J60/100)^1.81,0))) -> 0
A61: =RAND() -> 0.035630872 | B61: 2 | C61: 80 | D61: =VLOOKUP(C61,Уч!$A$2:$K$18,2,FALSE) -> #N/A | E61: =VLOOKUP(C61,Уч!$A$2:$K$18,3,FALSE) -> #N/A | F61: =VLOOKUP(C61,Уч!$A$2:$K$18,5,FALSE) -> #N/A | G61: =J61/100 -> 0 | H61: =K61/10 -> 0 | I61: =IF(J61>4208,0,IF(J61=0,0,ROUNDDOWN(4.99087*(42.5-J61/100)^1.81,0))) -> 0
A62: =RAND() -> 0.14829507 | B62: 3 | C62: 152 | D62: =VLOOKUP(C62,Уч!$A$2:$K$18,2,FALSE) -> #N/A | E62: =VLOOKUP(C62,Уч!$A$2:$K$18,3,FALSE) -> #N/A | F62: =VLOOKUP(C62,Уч!$A$2:$K$18,5,FALSE) -> #N/A | G62: =J62/100 -> 0 | H62: =K62/10 -> 0 | I62: =IF(J62>4208,0,IF(J62=0,0,ROUNDDOWN(4.99087*(42.5-J62/100)^1.81,0))) -> 0
A63: =RAND() -> 0.25371038 | B63: 4 | C63: 84 | D63: =VLOOKUP(C63,Уч!$A$2:$K$18,2,FALSE) -> #N/A | E63: =VLOOKUP(C63,Уч!$A$2:$K$18,3,FALSE) -> #N/A | F63: =VLOOKUP(C63,Уч!$A$2:$K$18,5,FALSE) -> #N/A | G63: =J63/100 -> 0 | H63: =K63/10 -> 0 | I63: =IF(J63>4208,0,IF(J63=0,0,ROUNDDOWN(4.99087*(42.5-J63/100)^1.81,0))) -> 0
A64: =RAND() -> 0.41376127 | B64: 5 | C64: 503 | D64: =VLOOKUP(C64,Уч!$A$2:$K$18,2,FALSE) -> #N/A | E64: =VLOOKUP(C64,Уч!$A$2:$K$18,3,FALSE) -> #N/A | F64: =VLOOKUP(C64,Уч!$A$2:$K$18,5,FALSE) -> #N/A | G64: =J64/100 -> 0 | H64: =K64/10 -> 0 | I64: =IF(J64>4208,0,IF(J64=0,0,ROUNDDOWN(4.99087*(42.5-J64/100)^1.81,0))) -> 0
A65: =RAND() -> 0.7633124 | B65: 6 | C65: 83 | D65: =VLOOKUP(C65,Уч!$A$2:$K$18,2,FALSE) -> #N/A | E65: =VLOOKUP(C65,Уч!$A$2:$K$18,3,FALSE) -> #N/A | F65: =VLOOKUP(C65,Уч!$A$2:$K$18,5,FALSE) -> #N/A | G65: =J65/100 -> 0 | H65: =K65/10 -> 0 | I65: =IF(J65>4208,0,IF(J65=0,0,ROUNDDOWN(4.99087*(42.5-J65/100)^1.81,0))) -> 0
A66: =RAND() -> 0.04111398 | B66: 7 | D66: =VLOOKUP(C66,Уч!$A$2:$K$18,2,FALSE) -> #N/A | E66: =VLOOKUP(C66,Уч!$A$2:$K$18,3,FALSE) -> #N/A | F66: =VLOOKUP(C66,Уч!$A$2:$K$18,5,FALSE) -> #N/A | G66: =J66/100 -> 0 | I66: =IF(J66>4208,0,IF(J66=0,0,ROUNDDOWN(4.99087*(42.5-J66/100)^1.81,0))) -> 0
A67: =RAND() -> 0.77717863 | B67: 8 | D67: =VLOOKUP(C67,Уч!$A$2:$K$18,2,FALSE) -> #N/A | E67: =VLOOKUP(C67,Уч!$A$2:$K$18,3,FALSE) -> #N/A | F67: =VLOOKUP(C67,Уч!$A$2:$K$18,5,FALSE) -> #N/A | G67: =J67/100 -> 0 | I67: =IF(J67>4208,0,IF(J67=0,0,ROUNDDOWN(4.99087*(42.5-J67/100)^1.81,0))) -> 0
A73: =RAND() -> 0.16688175
A74: =RAND() -> 0.75209341
A75: =RAND() -> 0.26387356
A76: =RAND() -> 0.88370924
A77: =RAND() -> 0.33072055
A78: =RAND() -> 0.74865375
A79: =RAND() -> 0.34617219
A80: =RAND() -> 0.45690176
A81: =RAND() -> 0.4479064
A82: =RAND() -> 0.56385591
A83: =RAND() -> 0.29333786
A84: =RAND() -> 0.99150406
... A104: =RAND() -> 0.18661958

Sheet Дл_р
B1: =Расп!A21 -> МИНИСТЕРСТВО СПОРТА РОССИЙСКОЙ ФЕДЕРАЦИИ
B2: =Расп!A22 -> ВСЕРОССИЙСКАЯ ФЕДЕРАЦИЯ ЛЕГКОЙ АТЛЕТИКИ
B3: =Расп!A25 -> Командный чемпионат России
B4: =Расп!A27 -> по многоборью
B5: =Расп!B13 -> Женщины
B6: СТАРТОВЫЙ ПРОТОКОЛ
B7: =Расп!A7 -> прыжок в длину
W9: Скрыть
B10: =Расп!A6 -> 19.05.2019 г. | M10: =Расп!B1 -> Начало: | N10: =Расп!B7 -> 0.41666667 | W10: при
B11: =Расп!A26 -> г.Сочи, Адлерский район, стадион "Юность" | M11: =Расп!C1 -> Окончание: | W11: печати
C12: ИТОГОВЫЙ ПРОТОКОЛ | G12: =Расп!A7 -> прыжок в длину
A14: Мес | B14: № п/п | C14: Нагрудный № | D14: Фамилия, имя участника | E14: Дата рождения | F14: Территория | G14: 1 | H14: Ветер | I14: 2 | J14: Ветер | K14: 3 | L14: Ветер | M14: Результат | N14: Ветер | O14: Очки | Q14: р1 | R14: в1 | S14: р2 | T14: в2 | U14: р3 | V14: в3 | W14: Рез | X14: Ветер
D16: Группа А
A17: =RAND() -> 0.95826888 | B17: 1 | C17: 13 | D17: =VLOOKUP(C17,Уч!$A$2:$K$25,2,FALSE) -> #N/A | E17: =VLOOKUP(C17,Уч!$A$2:$K$25,3,FALSE) -> #N/A | F17: =VLOOKUP(C17,Уч!$A$2:$K$25,5,FALSE) -> #N/A | G17: =IF(Q17=0,"X",Q17/100) -> 4.87 | H17: =R17/10 -> 0.3 | I17: =IF(S17=0,"X",S17/100) -> X | J17: =T17/10 -> 0 | K17: =IF(U17=0,"X",U17/100) -> X | L17: =V17/10 -> 0 | M17: =MAX(Q17,S17,U17)/100 -> 4.87 | N17: =X17/10 -> 0.3 | O17: =IF(W17<216,0,IF(W17=0,0,ROUNDDOWN(0.188807*(W17-210)^1.41,0))) -> 524 | Q17: 487 | R17: 3 | W17: =Q17 -> 487 | X17: =R17 -> 3
A18: =RAND() -> 0.89767995 | B18: 2 | C18: 19 | D18: =VLOOKUP(C18,Уч!$A$2:$K$25,2,FALSE) -> #N/A | E18: =VLOOKUP(C18,Уч!$A$2:$K$25,3,FALSE) -> #N/A | F18: =VLOOKUP(C18,Уч!$A$2:$K$25,5,FALSE) -> #N/A | G18: =IF(Q18=0,"X",Q18/100) -> 5.83 | H18: =R18/10 -> 0.2 | I18: =IF(S18=0,"X",S18/100) -> X | J18: =T18/10 -> 0 | K18: =IF(U18=0,"X",U18/100) -> X | L18: =V18/10 -> 0 | M18: =MAX(Q18,S18,U18)/100 -> 5.83 | N18: =X18/10 -> 0.2 | O18: =IF(W18<216,0,IF(W18=0,0,ROUNDDOWN(0.188807*(W18-210)^1.41,0))) -> 798 | Q18: 583 | R18: 2 | W18: =Q18 -> 583 | X18: =R18 -> 2
A19: =RAND() -> 0.92886227 | B19: 3 | C19: 64 | D19: =VLOOKUP(C19,Уч!$A$2:$K$25,2,FALSE) -> Дерган Евгения | E19: =VLOOKUP(C19,Уч!$A$2:$K$25,3,FALSE) -> 11.04.1994 | F19: =VLOOKUP(C19,Уч!$A$2:$K$25,5,FALSE) -> Республика Адыгея | G19: =IF(Q19=0,"X",Q19/100) -> 5.3 | H19: =R19/10 -> -0.1 | I19: =IF(S19=0,"X",S19/100) -> X | J19: =T19/10 -> 0 | K19: =IF(U19=0,"X",U19/100) -> X | L19: =V19/10 -> 0 | M19: =MAX(Q19,S19,U19)/100 -> 5.3 | N19: =X19/10 -> -0.1 | O19: =IF(W19<216,0,IF(W19=0,0,ROUNDDOWN(0.188807*(W19-210)^1.41,0))) -> 643 | Q19: 530 | R19: -1 | W19: =Q19 -> 530 | X19: =R19 -> -1
A20: =RAND() -> 0.507469 | B20: 4 | C20: 27 | D20: =VLOOKUP(C20,Уч!$A$2:$K$25,2,FALSE) -> #N/A | E20: =VLOOKUP(C20,Уч!$A$2:$K$25,3,FALSE) -> #N/A | F20: =VLOOKUP(C20,Уч!$A$2:$K$25,5,FALSE) -> #N/A | G20: =IF(Q20=0,"X",Q20/100) -> 5.61 | H20: =R20/10 -> 0 | I20: =IF(S20=0,"X",S20/100) -> X | J20: =T20/10 -> 0 | K20: =IF(U20=0,"X",U20/100) -> X | L20: =V20/10 -> 0 | M20: =MAX(Q20,S20,U20)/100 -> 5.61 | N20: =X20/10 -> 0 | O20: =IF(W20<216,0,IF(W20=0,0,ROUNDDOWN(0.188807*(W20-210)^1.41,0))) -> 732 | Q20: 561 | R20: 0 | W20: =Q20 -> 561 | X20: =R20 -> 0 | Y20: справка
A21: =RAND() -> 0.98734666 | B21: 5 | C21: 38 | D21: =VLOOKUP(C21,Уч!$A$2:$K$25,2,FALSE) -> #N/A | E21: =VLOOKUP(C21,Уч!$A$2:$K$25,3,FALSE) -> #N/A | F21: =VLOOKUP(C21,Уч!$A$2:$K$25,5,FALSE) -> #N/A | G21: =IF(Q21=0,"X",Q21/100) -> 5.54 | H21: =R21/10 -> 0.4 | I21: =IF(S21=0,"X",S21/100) -> X | J21: =T21/10 -> 0 | K21: =IF(U21=0,"X",U21/100) -> X | L21: =V21/10 -> 0 | M21: =MAX(Q21,S21,U21)/100 -> 5.54 | N21: =X21/10 -> 0.4 | O21: =IF(W21<216,0,IF(W21=0,0,ROUNDDOWN(0.188807*(W21-210)^1.41,0))) -> 712 | Q21: 554 | R21: 4 | W21: =Q21 -> 554 | X21: =R21 -> 4
A22: =RAND() -> 0.36158425 | B22: 6 | C22: 21 | D22: =VLOOKUP(C22,Уч!$A$2:$K$25,2,FALSE) -> #N/A | E22: =VLOOKUP(C22,Уч!$A$2:$K$25,3,FALSE) -> #N/A | F22: =VLOOKUP(C22,Уч!$A$2:$K$25,5,FALSE) -> #N/A | G22: =IF(Q22=0,"X",Q22/100) -> 5.7 | H22: =R22/10 -> 0.3 | I22: =IF(S22=0,"X",S22/100) -> X | J22: =T22/10 -> 0 | K22: =IF(U22=0,"X",U22/100) -> X | L22: =V22/10 -> 0 | M22: =MAX(Q22,S22,U22)/100 -> 5.7 | N22: =X22/10 -> 0.3 | O22: =IF(W22<216,0,IF(W22=0,0,ROUNDDOWN(0.188807*(W22-210)^1.41,0))) -> 759 | Q22: 570 | R22: 3 | W22: =Q22 -> 570 | X22: =R22 -> 3
A23: =RAND() -> 0.63650353 | B23: 7 | C23: 76 | D23: =VLOOKUP(C23,Уч!$A$2:$K$25,2,FALSE) -> #N/A | E23: =VLOOKUP(C23,Уч!$A$2:$K$25,3,FALSE) -> #N/A | F23: =VLOOKUP(C23,Уч!$A$2:$K$25,5,FALSE) -> #N/A | G23: =IF(Q23=0,"X",Q23/100) -> 5.04 | H23: =R23/10 -> -1.1 | I23: =IF(S23=0,"X",S23/100) -> X | J23: =T23/10 -> 0 | K23: =IF(U23=0,"X",U23/100) -> X | L23: =V23/10 -> 0 | M23: =MAX(Q23,S23,U23)/100 -> 5.04 | N23: =X23/10 -> -1.1 | O23: =IF(W23<216,0,IF(W23=0,0,ROUNDDOWN(0.188807*(W23-210)^1.41,0))) -> 570 | Q23: 504 | R23: -11 | W23: =Q23 -> 504 | X23: =R23 -> -11
A24: =RAND() -> 0.93753873 | B24: 8 | C24: 37 | D24: =VLOOKUP(C24,Уч!$A$2:$K$25,2,FALSE) -> #N/A | E24: =VLOOKUP(C24,Уч!$A$2:$K$25,3,FALSE) -> #N/A | F24: =VLOOKUP(C24,Уч!$A$2:$K$25,5,FALSE) -> #N/A | G24: =IF(Q24=0,"X",Q24/100) -> 5.92 | H24: =R24/10 -> -1 | I24: =IF(S24=0,"X",S24/100) -> X | J24: =T24/10 -> 0 | K24: =IF(U24=0,"X",U24/100) -> X | L24: =V24/10 -> 0 | M24: =MAX(Q24,S24,U24)/100 -> 5.92 | N24: =X24/10 -> -1 | O24: =IF(W24<216,0,IF(W24=0,0,ROUNDDOWN(0.188807*(W24-210)^1.41,0))) -> 825 | Q24: 592 | R24: -10 | W24: =Q24 -> 592 | X24: =R24 -> -10
A25: =RAND() -> 0.32564986 | B25: 9 | C25: 14 | D25: =VLOOKUP(C25,Уч!$A$2:$K$25,2,FALSE) -> #N/A | E25: =VLOOKUP(C25,Уч!$A$2:$K$25,3,FALSE) -> #N/A | F25: =VLOOKUP(C25,Уч!$A$2:$K$25,5,FALSE) -> #N/A | G25: =IF(Q25=0,"X",Q25/100) -> 5.4 | H25: =R25/10 -> 0.2 | I25: =IF(S25=0,"X",S25/100) -> X | J25: =T25/10 -> 0 | K25: =IF(U25=0,"X",U25/100) -> X | L25: =V25/10 -> 0 | M25: =MAX(Q25,S25,U25)/100 -> 5.4 | N25: =X25/10 -> 0.2 | O25: =IF(W25<216,0,IF(W25=0,0,ROUNDDOWN(0.188807*(W25-210)^1.41,0))) -> 671 | Q25: 540 | R25: 2 | W25: =Q25 -> 540 | X25: =R25 -> 2
A26: =RAND() -> 0.81320012 | B26: 10 | C26: 87 | D26: =VLOOKUP(C26,Уч!$A$2:$K$25,2,FALSE) -> #N/A | E26: =VLOOKUP(C26,Уч!$A$2:$K$25,3,FALSE) -> #N/A | F26: =VLOOKUP(C26,Уч!$A$2:$K$25,5,FALSE) -> #N/A | G26: =IF(Q26=0,"X",Q26/100) -> 5.88 | H26: =R26/10 -> 0.1 | I26: =IF(S26=0,"X",S26/100) -> X | J26: =T26/10 -> 0 | K26: =IF(U26=0,"X",U26/100) -> X | L26: =V26/10 -> 0 | M26: =MAX(Q26,S26,U26)/100 -> 5.88 | N26: =X26/10 -> 0.1 | O26: =IF(W26<216,0,IF(W26=0,0,ROUNDDOWN(0.188807*(W26-210)^1.41,0))) -> 813 | Q26: 588 | R26: 1 | W26: =Q26 -> 588 | X26: =R26 -> 1 | Y26: справка
A27: =RAND() -> 0.63745168 | B27: 11 | C27: 61 | D27: =VLOOKUP(C27,Уч!$A$2:$K$25,2,FALSE) -> Ладикан Юлия | E27: =VLOOKUP(C27,Уч!$A$2:$K$25,3,FALSE) -> 15.04.1999 | F27: =VLOOKUP(C27,Уч!$A$2:$K$25,5,FALSE) -> Кемеровская область | G27: =IF(Q27=0,"X",Q27/100) -> 4.97 | H27: =R27/10 -> 0.8 | I27: =IF(S27=0,"X",S27/100) -> X | J27: =T27/10 -> 0 | K27: =IF(U27=0,"X",U27/100) -> X | L27: =V27/10 -> 0 | M27: =MAX(Q27,S27,U27)/100 -> 4.97 | N27: =X27/10 -> 0.8 | O27: =IF(W27<216,0,IF(W27=0,0,ROUNDDOWN(0.188807*(W27-210)^1.41,0))) -> 551 | Q27: 497 | R27: 8 | W27: =Q27 -> 497 | X27: =R27 -> 8 | Y27: справка
A28: =RAND() -> 0.70715123 | B28: 12 | C28: 71 | D28: =VLOOKUP(C28,Уч!$A$2:$K$25,2,FALSE) -> #N/A | E28: =VLOOKUP(C28,Уч!$A$2:$K$25,3,FALSE) -> #N/A | F28: =VLOOKUP(C28,Уч!$A$2:$K$25,5,FALSE) -> #N/A | G28: =IF(Q28=0,"X",Q28/100) -> 6.22 | H28: =R28/10 -> 0.6 | I28: =IF(S28=0,"X",S28/100) -> X | J28: =T28/10 -> 0 | K28: =IF(U28=0,"X",U28/100) -> X | L28: =V28/10 -> 0 | M28: =MAX(Q28,S28,U28)/100 -> 6.22 | N28: =X28/10 -> 0.6 | O28: =IF(W28<216,0,IF(W28=0,0,ROUNDDOWN(0.188807*(W28-210)^1.41,0))) -> 918 | Q28: 622 | R28: 6 | W28: =Q28 -> 622 | X28: =R28 -> 6
A29: =RAND() -> 0.11571061 | B29: 13 | C29: 30 | D29: =VLOOKUP(C29,Уч!$A$2:$K$25,2,FALSE) -> #N/A | E29: =VLOOKUP(C29,Уч!$A$2:$K$25,3,FALSE) -> #N/A | F29: =VLOOKUP(C29,Уч!$A$2:$K$25,5,FALSE) -> #N/A | G29: =IF(Q29=0,"X",Q29/100) -> 5.67 | H29: =R29/10 -> 0.6 | I29: =IF(S29=0,"X",S29/100) -> X | J29: =T29/10 -> 0 | K29: =IF(U29=0,"X",U29/100) -> X | L29: =V29/10 -> 0 | M29: =MAX(Q29,S29,U29)/100 -> 5.67 | N29: =X29/10 -> 0.6 | O29: =IF(W29<216,0,IF(W29=0,0,ROUNDDOWN(0.188807*(W29-210)^1.41,0))) -> 750 | Q29: 567 | R29: 6 | W29: =Q29 -> 567 | X29: =R29 -> 6
A30: =RAND() -> 0.17082526 | O30: =IF(W30<216,0,IF(W30=0,0,ROUNDDOWN(0.188807*(W30-210)^1.41,0))) -> 0 | W30: =Q30 -> 0
A31: =RAND() -> 0.81738868 | B31: Секретарь: | O31: =IF(W31<216,0,IF(W31=0,0,ROUNDDOWN(0.188807*(W31-210)^1.41,0))) -> 0 | W31: =Q31 -> 0
A32: =RAND() -> 0.80227944 | B32: Старший судья: | O32: =IF(W32<216,0,IF(W32=0,0,ROUNDDOWN(0.188807*(W32-210)^1.41,0))) -> 0 | W32: =Q32 -> 0
A33: =RAND() -> 0.71565107 | B33: Рефери: | O33: =IF(W33<216,0,IF(W33=0,0,ROUNDDOWN(0.188807*(W33-210)^1.41,0))) -> 0 | W33: =Q33 -> 0
A34: =RAND() -> 0.99810461 | B34: 21 | C34: 1308 | D34: =VLOOKUP(C34,Уч!$A$2:$K$25,2,FALSE) -> #N/A | E34: =VLOOKUP(C34,Уч!$A$2:$K$25,3,FALSE) -> #N/A | F34: =VLOOKUP(C34,Уч!$A$2:$K$25,5,FALSE) -> #N/A | G34: =IF(Q34=0,"X",Q34/100) -> X | H34: =R34/10 -> 0 | I34: =IF(S34=0,"X",S34/100) -> X | J34: =T34/10 -> 0 | K34: =IF(U34=0,"X",U34/100) -> X | L34: =V34/10 -> 0 | M34: =MAX(Q34,S34,U34)/100 -> 0 | N34: =X34/10 -> 0 | O34: =IF(W34<216,0,IF(W34=0,0,ROUNDDOWN(0.188807*(W34-210)^1.41,0))) -> 0 | W34: =Q34 -> 0
A35: =RAND() -> 0.10039739 | B35: 22 | C35: 1348 | D35: =VLOOKUP(C35,Уч!$A$2:$K$25,2,FALSE) -> #N/A | E35: =VLOOKUP(C35,Уч!$A$2:$K$25,3,FALSE) -> #N/A | F35: =VLOOKUP(C35,Уч!$A$2:$K$25,5,FALSE) -> #N/A | G35: =IF(Q35=0,"X",Q35/100) -> X | H35: =R35/10 -> 0 | I35: =IF(S35=0,"X",S35/100) -> X | J35: =T35/10 -> 0 | K35: =IF(U35=0,"X",U35/100) -> X | L35: =V35/10 -> 0 | M35: =MAX(Q35,S35,U35)/100 -> 0 | N35: =X35/10 -> 0 | O35: =IF(W35<216,0,IF(W35=0,0,ROUNDDOWN(0.188807*(W35-210)^1.41,0))) -> 0 | W35: =Q35 -> 0
A36: =RAND() -> 0.84647576 | B36: 23 | C36: 1306 | D36: =VLOOKUP(C36,Уч!$A$2:$K$25,2,FALSE) -> #N/A | E36: =VLOOKUP(C36,Уч!$A$2:$K$25,3,FALSE) -> #N/A | F36: =VLOOKUP(C36,Уч!$A$2:$K$25,5,FALSE) -> #N/A | G36: =IF(Q36=0,"X",Q36/100) -> X | H36: =R36/10 -> 0 | I36: =IF(S36=0,"X",S36/100) -> X | J36: =T36/10 -> 0 | K36: =IF(U36=0,"X",U36/100) -> X | L36: =V36/10 -> 0 | M36: =MAX(Q36,S36,U36)/100 -> 0 | N36: =X36/10 -> 0 | O36: =IF(W36<216,0,IF(W36=0,0,ROUNDDOWN(0.188807*(W36-210)^1.41,0))) -> 0 | W36: =Q36 -> 0

Sheet К_р
B1: =Расп!A21 -> МИНИСТЕРСТВО СПОРТА РОССИЙСКОЙ ФЕДЕРАЦИИ
B2: =Расп!A22 -> ВСЕРОССИЙСКАЯ ФЕДЕРАЦИЯ ЛЕГКОЙ АТЛЕТИКИ
B3: =Расп!A25 -> Командный чемпионат России
B4: =Расп!A27 -> по многоборью
B5: =Расп!B13 -> Женщины
B6: СТАРТОВЫЙ ПРОТОКОЛ
B7: =Расп!A8 -> метание копья (600 г)
I10: =Расп!C8 | P10: Скрыть
P11: при
P12: печати
B13: =Расп!A6 -> 19.05.2019 г. | I13: =Расп!B1 -> Начало: | J13: =Расп!B8 -> 0.48958333
B14: =Расп!A26 -> г.Сочи, Адлерский район, стадион "Юность" | I14: =Расп!C1 -> Окончание:
A15: Мес | B15: № п/п | C15: Нагрудный № | D15: Фамилия, имя участника | E15: Дата рождения | F15: Территория | G15: 1 | H15: 2 | I15: 3 | J15: Результат | K15: Очки | M15: р1 | N15: р2 | O15: р3 | P15: Рез
D17: Группа А
A18: =RAND() -> 0.87920114 | B18: 1 | C18: 13 | D18: =VLOOKUP(C18,Уч!$A$2:$K$25,2,FALSE) -> #N/A | E18: =VLOOKUP(C18,Уч!$A$2:$K$25,3,FALSE) -> #N/A | F18: =VLOOKUP(C18,Уч!$A$2:$K$25,5,FALSE) -> #N/A | G18: =M18/100 -> 34.19 | H18: =N18/100 -> 0 | I18: =O18/100 -> 0 | J18: =P18/100 -> 34.19 | K18: =IF(P18<388,0,IF(P18=0,0,ROUNDDOWN(15.9803*(P18/100-3.8)^1.04,0))) -> 556 | M18: 3419 | P18: =MAX(M18:O18) -> 3419
A19: =RAND() -> 0.32710495 | B19: 2 | C19: 19 | D19: =VLOOKUP(C19,Уч!$A$2:$K$25,2,FALSE) -> #N/A | E19: =VLOOKUP(C19,Уч!$A$2:$K$25,3,FALSE) -> #N/A | F19: =VLOOKUP(C19,Уч!$A$2:$K$25,5,FALSE) -> #N/A | G19: =M19/100 -> 38.32 | H19: =N19/100 -> 0 | I19: =O19/100 -> 0 | J19: =P19/100 -> 38.32 | K19: =IF(P19<388,0,IF(P19=0,0,ROUNDDOWN(15.9803*(P19/100-3.8)^1.04,0))) -> 635 | M19: 3832 | P19: =MAX(M19:O19) -> 3832
A20: =RAND() -> 0.35918296 | B20: 3 | C20: 64 | D20: =VLOOKUP(C20,Уч!$A$2:$K$25,2,FALSE) -> Дерган Евгения | E20: =VLOOKUP(C20,Уч!$A$2:$K$25,3,FALSE) -> 11.04.1994 | F20: =VLOOKUP(C20,Уч!$A$2:$K$25,5,FALSE) -> Республика Адыгея | G20: =M20/100 -> 38.68 | H20: =N20/100 -> 0 | I20: =O20/100 -> 0 | J20: =P20/100 -> 38.68 | K20: =IF(P20<388,0,IF(P20=0,0,ROUNDDOWN(15.9803*(P20/100-3.8)^1.04,0))) -> 642 | M20: 3868 | P20: =MAX(M20:O20) -> 3868
A21: =RAND() -> 0.89521166 | B21: 4 | C21: 27 | D21: =VLOOKUP(C21,Уч!$A$2:$K$25,2,FALSE) -> #N/A | E21: =VLOOKUP(C21,Уч!$A$2:$K$25,3,FALSE) -> #N/A | F21: =VLOOKUP(C21,Уч!$A$2:$K$25,5,FALSE) -> #N/A | G21: =M21/100 -> 39.37 | H21: =N21/100 -> 0 | I21: =O21/100 -> 0 | J21: =P21/100 -> 39.37 | K21: =IF(P21<388,0,IF(P21=0,0,ROUNDDOWN(15.9803*(P21/100-3.8)^1.04,0))) -> 655 | M21: 3937 | P21: =MAX(M21:O21) -> 3937
A22: =RAND() -> 0.74325728 | B22: 5 | C22: 38 | D22: =VLOOKUP(C22,Уч!$A$2:$K$25,2,FALSE) -> #N/A | E22: =VLOOKUP(C22,Уч!$A$2:$K$25,3,FALSE) -> #N/A | F22: =VLOOKUP(C22,Уч!$A$2:$K$25,5,FALSE) -> #N/A | G22: =M22/100 -> 41.32 | H22: =N22/100 -> 0 | I22: =O22/100 -> 0 | J22: =P22/100 -> 41.32 | K22: =IF(P22<388,0,IF(P22=0,0,ROUNDDOWN(15.9803*(P22/100-3.8)^1.04,0))) -> 693 | M22: 4132 | P22: =MAX(M22:O22) -> 4132
A23: =RAND() -> 0.081686844 | B23: 6 | C23: 21 | D23: =VLOOKUP(C23,Уч!$A$2:$K$25,2,FALSE) -> #N/A | E23: =VLOOKUP(C23,Уч!$A$2:$K$25,3,FALSE) -> #N/A | F23: =VLOOKUP(C23,Уч!$A$2:$K$25,5,FALSE) -> #N/A | G23: =M23/100 -> 32.57 | H23: =N23/100 -> 0 | I23: =O23/100 -> 0 | J23: =P23/100 -> 32.57 | K23: =IF(P23<388,0,IF(P23=0,0,ROUNDDOWN(15.9803*(P23/100-3.8)^1.04,0))) -> 525 | M23: 3257 | P23: =MAX(M23:O23) -> 3257
A24: =RAND() -> 0.65256221 | B24: 7 | C24: 76 | D24: =VLOOKUP(C24,Уч!$A$2:$K$25,2,FALSE) -> #N/A | E24: =VLOOKUP(C24,Уч!$A$2:$K$25,3,FALSE) -> #N/A | F24: =VLOOKUP(C24,Уч!$A$2:$K$25,5,FALSE) -> #N/A | G24: =M24/100 -> 30.17 | H24: =N24/100 -> 0 | I24: =O24/100 -> 0 | J24: =P24/100 -> 30.17 | K24: =IF(P24<388,0,IF(P24=0,0,ROUNDDOWN(15.9803*(P24/100-3.8)^1.04,0))) -> 480 | M24: 3017 | P24: =MAX(M24:O24) -> 3017
A25: =RAND() -> 0.6164261 | B25: 8 | C25: 37 | D25: =VLOOKUP(C25,Уч!$A$2:$K$25,2,FALSE) -> #N/A | E25: =VLOOKUP(C25,Уч!$A$2:$K$25,3,FALSE) -> #N/A | F25: =VLOOKUP(C25,Уч!$A$2:$K$25,5,FALSE) -> #N/A | G25: =M25/100 -> 39.27 | H25: =N25/100 -> 0 | I25: =O25/100 -> 0 | J25: =P25/100 -> 39.27 | K25: =IF(P25<388,0,IF(P25=0,0,ROUNDDOWN(15.9803*(P25/100-3.8)^1.04,0))) -> 653 | M25: 3927 | P25: =MAX(M25:O25) -> 3927
A26: =RAND() -> 0.40762501 | B26: 9 | C26: 14 | D26: =VLOOKUP(C26,Уч!$A$2:$K$25,2,FALSE) -> #N/A | E26: =VLOOKUP(C26,Уч!$A$2:$K$25,3,FALSE) -> #N/A | F26: =VLOOKUP(C26,Уч!$A$2:$K$25,5,FALSE) -> #N/A | G26: =M26/100 -> 31.55 | H26: =N26/100 -> 0 | I26: =O26/100 -> 0 | J26: =P26/100 -> 31.55 | K26: =IF(P26<388,0,IF(P26=0,0,ROUNDDOWN(15.9803*(P26/100-3.8)^1.04,0))) -> 506 | M26: 3155 | P26: =MAX(M26:O26) -> 3155
A27: =RAND() -> 0.07856451 | B27: 10 | C27: 87 | D27: =VLOOKUP(C27,Уч!$A$2:$K$25,2,FALSE) -> #N/A | E27: =VLOOKUP(C27,Уч!$A$2:$K$25,3,FALSE) -> #N/A | F27: =VLOOKUP(C27,Уч!$A$2:$K$25,5,FALSE) -> #N/A | G27: =M27/100 -> 34.12 | H27: =N27/100 -> 0 | I27: =O27/100 -> 0 | J27: =P27/100 -> 34.12 | K27: =IF(P27<388,0,IF(P27=0,0,ROUNDDOWN(15.9803*(P27/100-3.8)^1.04,0))) -> 555 | M27: 3412 | P27: =MAX(M27:O27) -> 3412
A28: =RAND() -> 0.34769372 | B28: 11 | C28: 61 | D28: =VLOOKUP(C28,Уч!$A$2:$K$25,2,FALSE) -> Ладикан Юлия | E28: =VLOOKUP(C28,Уч!$A$2:$K$25,3,FALSE) -> 15.04.1999 | F28: =VLOOKUP(C28,Уч!$A$2:$K$25,5,FALSE) -> Кемеровская область | G28: =M28/100 -> 31.2 | H28: =N28/100 -> 0 | I28: =O28/100 -> 0 | J28: =P28/100 -> 31.2 | K28: =IF(P28<388,0,IF(P28=0,0,ROUNDDOWN(15.9803*(P28/100-3.8)^1.04,0))) -> 499 | M28: 3120 | P28: =MAX(M28:O28) -> 3120
A29: =RAND() -> 0.618643 | B29: 12 | C29: 71 | D29: =VLOOKUP(C29,Уч!$A$2:$K$25,2,FALSE) -> #N/A | E29: =VLOOKUP(C29,Уч!$A$2:$K$25,3,FALSE) -> #N/A | F29: =VLOOKUP(C29,Уч!$A$2:$K$25,5,FALSE) -> #N/A | G29: =M29/100 -> 42.82 | H29: =N29/100 -> 0 | I29: =O29/100 -> 0 | J29: =P29/100 -> 42.82 | K29: =IF(P29<388,0,IF(P29=0,0,ROUNDDOWN(15.9803*(P29/100-3.8)^1.04,0))) -> 721 | M29: 4282 | P29: =MAX(M29:O29) -> 4282
A30: =RAND() -> 0.062090326 | B30: 13 | C30: 30 | D30: =VLOOKUP(C30,Уч!$A$2:$K$25,2,FALSE) -> #N/A | E30: =VLOOKUP(C30,Уч!$A$2:$K$25,3,FALSE) -> #N/A | F30: =VLOOKUP(C30,Уч!$A$2:$K$25,5,FALSE) -> #N/A | G30: =M30/100 -> 41.26 | H30: =N30/100 -> 0 | I30: =O30/100 -> 0 | J30: =P30/100 -> 41.26 | K30: =IF(P30<388,0,IF(P30=0,0,ROUNDDOWN(15.9803*(P30/100-3.8)^1.04,0))) -> 691 | M30: 4126 | P30: =MAX(M30:O30) -> 4126
A31: =RAND() -> 0.57331084 | K31: =IF(P31<388,0,IF(P31=0,0,ROUNDDOWN(15.9803*(P31/100-3.8)^1.04,0))) -> 0 | P31: =MAX(M31:O31) -> 0
A32: =RAND() -> 0.26539485 | B32: Секретарь: | K32: =IF(P32<388,0,IF(P32=0,0,ROUNDDOWN(15.9803*(P32/100-3.8)^1.04,0))) -> 0 | P32: =MAX(M32:O32) -> 0
A33: =RAND() -> 0.7470549 | B33: Старший судья: | K33: =IF(P33<388,0,IF(P33=0,0,ROUNDDOWN(15.9803*(P33/100-3.8)^1.04,0))) -> 0 | P33: =MAX(M33:O33) -> 0
A34: =RAND() -> 0.86216909 | B34: Рефери: | H34: =N34/100 -> 0 | I34: =O34/100 -> 0 | J34: =P34/100 -> 0 | K34: =IF(P34<388,0,IF(P34=0,0,ROUNDDOWN(15.9803*(P34/100-3.8)^1.04,0))) -> 0 | P34: =MAX(M34:O34) -> 0
A35: =RAND() -> 0.61900813 | B35: 19 | C35: 1416 | D35: =VLOOKUP(C35,Уч!$A$2:$K$25,2,FALSE) -> #N/A | E35: =VLOOKUP(C35,Уч!$A$2:$K$25,3,FALSE) -> #N/A | F35: =VLOOKUP(C35,Уч!$A$2:$K$25,5,FALSE) -> #N/A | G35: =M35/100 -> 0 | H35: =N35/100 -> 0 | I35: =O35/100 -> 0 | J35: =P35/100 -> 0 | K35: =IF(P35<388,0,IF(P35=0,0,ROUNDDOWN(15.9803*(P35/100-3.8)^1.04,0))) -> 0 | P35: =MAX(M35:O35) -> 0
A36: =RAND() -> 0.60538144 | B36: 20 | C36: 1336 | D36: =VLOOKUP(C36,Уч!$A$2:$K$25,2,FALSE) -> #N/A | E36: =VLOOKUP(C36,Уч!$A$2:$K$25,3,FALSE) -> #N/A | F36: =VLOOKUP(C36,Уч!$A$2:$K$25,5,FALSE) -> #N/A | G36: =M36/100 -> 0 | H36: =N36/100 -> 0 | I36: =O36/100 -> 0 | J36: =P36/100 -> 0 | K36: =IF(P36<388,0,IF(P36=0,0,ROUNDDOWN(15.9803*(P36/100-3.8)^1.04,0))) -> 0 | P36: =MAX(M36:O36) -> 0
A37: =RAND() -> 0.14047623 | B37: 21 | C37: 1324 | D37: =VLOOKUP(C37,Уч!$A$2:$K$25,2,FALSE) -> #N/A | E37: =VLOOKUP(C37,Уч!$A$2:$K$25,3,FALSE) -> #N/A | F37: =VLOOKUP(C37,Уч!$A$2:$K$25,5,FALSE) -> #N/A | G37: =M37/100 -> 0 | H37: =N37/100 -> 0 | I37: =O37/100 -> 0 | J37: =P37/100 -> 0 | K37: =IF(P37<388,0,IF(P37=0,0,ROUNDDOWN(15.9803*(P37/100-3.8)^1.04,0))) -> 0 | P37: =MAX(M37:O37) -> 0
A38: =RAND() -> 0.67913551 | B38: 22 | C38: 1348 | D38: =VLOOKUP(C38,Уч!$A$2:$K$25,2,FALSE) -> #N/A | E38: =VLOOKUP(C38,Уч!$A$2:$K$25,3,FALSE) -> #N/A | F38: =VLOOKUP(C38,Уч!$A$2:$K$25,5,FALSE) -> #N/A | G38: =M38/100 -> 0 | H38: =N38/100 -> 0 | I38: =O38/100 -> 0 | J38: =P38/100 -> 0 | K38: =IF(P38<388,0,IF(P38=0,0,ROUNDDOWN(15.9803*(P38/100-3.8)^1.04,0))) -> 0 | P38: =MAX(M38:O38) -> 0
A39: =RAND() -> 0.27613337 | B39: 23 | C39: 1379 | D39: =VLOOKUP(C39,Уч!$A$2:$K$25,2,FALSE) -> #N/A | E39: =VLOOKUP(C39,Уч!$A$2:$K$25,3,FALSE) -> #N/A | F39: =VLOOKUP(C39,Уч!$A$2:$K$25,5,FALSE) -> #N/A | G39: =M39/100 -> 0 | H39: =N39/100 -> 0 | I39: =O39/100 -> 0 | J39: =P39/100 -> 0 | K39: =IF(P39<388,0,IF(P39=0,0,ROUNDDOWN(15.9803*(P39/100-3.8)^1.04,0))) -> 0 | P39: =MAX(M39:O39) -> 0

Sheet 8_р
B1: МИНИСТЕРСТВО СПОРТА РОССИЙСКОЙ ФЕДЕРАЦИИ
B2: ВСЕРОССИЙСКАЯ ФЕДЕРАЦИЯ ЛЕГКОЙ АТЛЕТИКИ
B3: Кубок России
B4: 7-борье
B5: Женщины
B6: СТАРТОВЫЙ ПРОТОКОЛ
B7: бег 800 м
J9: Скрыть
J10: при
J11: печати
B12: =Расп!A6 -> 19.05.2019 г. | G12: =Расп!B1 -> Начало: | H12: =Расп!B9 -> 0.75694444
B13: =Расп!A26 -> г.Сочи, Адлерский район, стадион "Юность" | G13: =Расп!C1 -> Окончание:
A14: Мес | B14: № дорожки | C14: Нагрудный № | D14: Фамилия, имя участника | E14: Дата рождения | F14: Территория | G14: Результат | H14: Очки | J14: Рез | K14: Время
D16: Забег 1
A17: =IF(J17=0,"",RANK(H17,$H$17:$H$33,0)) -> 12 | B17: 1 | C17: 13 | D17: =VLOOKUP(C17,Уч!$A$2:$K$25,2,FALSE) -> #N/A | E17: =VLOOKUP(C17,Уч!$A$2:$K$25,3,FALSE) -> #N/A | F17: =VLOOKUP(C17,Уч!$A$2:$K$25,5,FALSE) -> #N/A | G17: =IF(J17=0,0,CONCATENATE(MID(J17,1,1),":",MID(J17,2,2),".",MID(J17,4,2))) -> 2:35.01 | H17: =IF(J17>41079,0,IF(K17=0,0,ROUNDDOWN(0.11193*(254-K17)^1.88,0))) -> 631 | J17: 23501 | K17: =IF(J17=0,0,CONCATENATE((MID(J17,1,1)*60)+MID(J17,2,2),",",MID(J17,4,2))) -> 155,01
A18: =IF(J18=0,"",RANK(H18,$H$17:$H$33,0)) -> 7 | B18: 2 | C18: 61 | D18: =VLOOKUP(C18,Уч!$A$2:$K$25,2,FALSE) -> Ладикан Юлия | E18: =VLOOKUP(C18,Уч!$A$2:$K$25,3,FALSE) -> 15.04.1999 | F18: =VLOOKUP(C18,Уч!$A$2:$K$25,5,FALSE) -> Кемеровская область | G18: =IF(J18=0,0,CONCATENATE(MID(J18,1,1),":",MID(J18,2,2),".",MID(J18,4,2))) -> 2:24.02 | H18: =IF(J18>41079,0,IF(K18=0,0,ROUNDDOWN(0.11193*(254-K18)^1.88,0))) -> 770 | J18: 22402 | K18: =IF(J18=0,0,CONCATENATE((MID(J18,1,1)*60)+MID(J18,2,2),",",MID(J18,4,2))) -> 144,02
A19: =IF(J19=0,"",RANK(H19,$H$17:$H$33,0)) -> 9 | B19: 2А | C19: 76 | D19: =VLOOKUP(C19,Уч!$A$2:$K$25,2,FALSE) -> #N/A | E19: =VLOOKUP(C19,Уч!$A$2:$K$25,3,FALSE) -> #N/A | F19: =VLOOKUP(C19,Уч!$A$2:$K$25,5,FALSE) -> #N/A | G19: =IF(J19=0,0,CONCATENATE(MID(J19,1,1),":",MID(J19,2,2),".",MID(J19,4,2))) -> 2:25.27 | H19: =IF(J19>41079,0,IF(K19=0,0,ROUNDDOWN(0.11193*(254-K19)^1.88,0))) -> 753 | J19: 22527 | K19: =IF(J19=0,0,CONCATENATE((MID(J19,1,1)*60)+MID(J19,2,2),",",MID(J19,4,2))) -> 145,27
A20: =IF(J20=0,"",RANK(H20,$H$17:$H$33,0)) -> 3 | B20: 3 | C20: 30 | D20: =VLOOKUP(C20,Уч!$A$2:$K$25,2,FALSE) -> #N/A | E20: =VLOOKUP(C20,Уч!$A$2:$K$25,3,FALSE) -> #N/A | F20: =VLOOKUP(C20,Уч!$A$2:$K$25,5,FALSE) -> #N/A | G20: =IF(J20=0,0,CONCATENATE(MID(J20,1,1),":",MID(J20,2,2),".",MID(J20,4,2))) -> 2:16.00 | H20: =IF(J20>41079,0,IF(K20=0,0,ROUNDDOWN(0.11193*(254-K20)^1.88,0))) -> 879 | J20: 21600 | K20: =IF(J20=0,0,CONCATENATE((MID(J20,1,1)*60)+MID(J20,2,2),",",MID(J20,4,2))) -> 136,00
A21: =IF(J21=0,"",RANK(H21,$H$17:$H$33,0)) -> 1 | B21: 4 | C21: 19 | D21: =VLOOKUP(C21,Уч!$A$2:$K$25,2,FALSE) -> #N/A | E21: =VLOOKUP(C21,Уч!$A$2:$K$25,3,FALSE) -> #N/A | F21: =VLOOKUP(C21,Уч!$A$2:$K$25,5,FALSE) -> #N/A | G21: =IF(J21=0,0,CONCATENATE(MID(J21,1,1),":",MID(J21,2,2),".",MID(J21,4,2))) -> 2:15.47 | H21: =IF(J21>41079,0,IF(K21=0,0,ROUNDDOWN(0.11193*(254-K21)^1.88,0))) -> 886 | J21: 21547 | K21: =IF(J21=0,0,CONCATENATE((MID(J21,1,1)*60)+MID(J21,2,2),",",MID(J21,4,2))) -> 135,47
A22: =IF(J22=0,"",RANK(H22,$H$17:$H$33,0)) -> 8 | B22: 4А | C22: 27 | D22: =VLOOKUP(C22,Уч!$A$2:$K$25,2,FALSE) -> #N/A | E22: =VLOOKUP(C22,Уч!$A$2:$K$25,3,FALSE) -> #N/A | F22: =VLOOKUP(C22,Уч!$A$2:$K$25,5,FALSE) -> #N/A | G22: =IF(J22=0,0,CONCATENATE(MID(J22,1,1),":",MID(J22,2,2),".",MID(J22,4,2))) -> 2:25.05 | H22: =IF(J22>41079,0,IF(K22=0,0,ROUNDDOWN(0.11193*(254-K22)^1.88,0))) -> 756 | J22: 22505 | K22: =IF(J22=0,0,CONCATENATE((MID(J22,1,1)*60)+MID(J22,2,2),",",MID(J22,4,2))) -> 145,05
A23: =IF(J23=0,"",RANK(H23,$H$17:$H$33,0)) | D23: Забег 2 | K23: =IF(J23=0,0,CONCATENATE((MID(J23,1,1)*60)+MID(J23,2,2),",",MID(J23,4,2))) -> 0
A24: =IF(J24=0,"",RANK(H24,$H$17:$H$33,0)) -> 2 | B24: 5 | C24: 71 | D24: =VLOOKUP(C24,Уч!$A$2:$K$25,2,FALSE) -> #N/A | E24: =VLOOKUP(C24,Уч!$A$2:$K$25,3,FALSE) -> #N/A | F24: =VLOOKUP(C24,Уч!$A$2:$K$25,5,FALSE) -> #N/A | G24: =IF(J24=0,0,CONCATENATE(MID(J24,1,1),":",MID(J24,2,2),".",MID(J24,4,2))) -> 2:15.90 | H24: =IF(J24>41079,0,IF(K24=0,0,ROUNDDOWN(0.11193*(254-K24)^1.88,0))) -> 880 | J24: 21590 | K24: =IF(J24=0,0,CONCATENATE((MID(J24,1,1)*60)+MID(J24,2,2),",",MID(J24,4,2))) -> 135,90
A25: =IF(J25=0,"",RANK(H25,$H$17:$H$33,0)) -> 5 | B25: 6 | C25: 21 | D25: =VLOOKUP(C25,Уч!$A$2:$K$25,2,FALSE) -> #N/A | E25: =VLOOKUP(C25,Уч!$A$2:$K$25,3,FALSE) -> #N/A | F25: =VLOOKUP(C25,Уч!$A$2:$K$25,5,FALSE) -> #N/A | G25: =IF(J25=0,0,CONCATENATE(MID(J25,1,1),":",MID(J25,2,2),".",MID(J25,4,2))) -> 2:16.94 | H25: =IF(J25>41079,0,IF(K25=0,0,ROUNDDOWN(0.11193*(254-K25)^1.88,0))) -> 866 | J25: 21694 | K25: =IF(J25=0,0,CONCATENATE((MID(J25,1,1)*60)+MID(J25,2,2),",",MID(J25,4,2))) -> 136,94 | L25: справка
A26: =IF(J26=0,"",RANK(H26,$H$17:$H$33,0)) -> 6 | B26: 6А | C26: 87 | D26: =VLOOKUP(C26,Уч!$A$2:$K$25,2,FALSE) -> #N/A | E26: =VLOOKUP(C26,Уч!$A$2:$K$25,3,FALSE) -> #N/A | F26: =VLOOKUP(C26,Уч!$A$2:$K$25,5,FALSE) -> #N/A | G26: =IF(J26=0,0,CONCATENATE(MID(J26,1,1),":",MID(J26,2,2),".",MID(J26,4,2))) -> 2:22.10 | H26: =IF(J26>41079,0,IF(K26=0,0,ROUNDDOWN(0.11193*(254-K26)^1.88,0))) -> 795 | J26: 22210 | K26: =IF(J26=0,0,CONCATENATE((MID(J26,1,1)*60)+MID(J26,2,2),",",MID(J26,4,2))) -> 142,10
A27: =IF(J27=0,"",RANK(H27,$H$17:$H$33,0)) -> 4 | B27: 7 | C27: 37 | D27: =VLOOKUP(C27,Уч!$A$2:$K$25,2,FALSE) -> #N/A | E27: =VLOOKUP(C27,Уч!$A$2:$K$25,3,FALSE) -> #N/A | F27: =VLOOKUP(C27,Уч!$A$2:$K$25,5,FALSE) -> #N/A | G27: =IF(J27=0,0,CONCATENATE(MID(J27,1,1),":",MID(J27,2,2),".",MID(J27,4,2))) -> 2:16.34 | H27: =IF(J27>41079,0,IF(K27=0,0,ROUNDDOWN(0.11193*(254-K27)^1.88,0))) -> 874 | J27: 21634 | K27: =IF(J27=0,0,CONCATENATE((MID(J27,1,1)*60)+MID(J27,2,2),",",MID(J27,4,2))) -> 136,34
A28: =IF(J28=0,"",RANK(H28,$H$17:$H$33,0)) -> 11 | B28: 8 | C28: 64 | D28: =VLOOKUP(C28,Уч!$A$2:$K$25,2,FALSE) -> Дерган Евгения | E28: =VLOOKUP(C28,Уч!$A$2:$K$25,3,FALSE) -> 11.04.1994 | F28: =VLOOKUP(C28,Уч!$A$2:$K$25,5,FALSE) -> Республика Адыгея | G28: =IF(J28=0,0,CONCATENATE(MID(J28,1,1),":",MID(J28,2,2),".",MID(J28,4,2))) -> 2:32.13 | H28: =IF(J28>41079,0,IF(K28=0,0,ROUNDDOWN(0.11193*(254-K28)^1.88,0))) -> 666 | J28: 23213 | K28: =IF(J28=0,0,CONCATENATE((MID(J28,1,1)*60)+MID(J28,2,2),",",MID(J28,4,2))) -> 152,13
A29: =IF(J29=0,"",RANK(H29,$H$17:$H$33,0)) -> 10 | B29: 8А | C29: 14 | D29: =VLOOKUP(C29,Уч!$A$2:$K$25,2,FALSE) -> #N/A | E29: =VLOOKUP(C29,Уч!$A$2:$K$25,3,FALSE) -> #N/A | F29: =VLOOKUP(C29,Уч!$A$2:$K$25,5,FALSE) -> #N/A | G29: =IF(J29=0,0,CONCATENATE(MID(J29,1,1),":",MID(J29,2,2),".",MID(J29,4,2))) -> 2:30.92 | H29: =IF(J29>41079,0,IF(K29=0,0,ROUNDDOWN(0.11193*(254-K29)^1.88,0))) -> 681 | J29: 23092 | K29: =IF(J29=0,0,CONCATENATE((MID(J29,1,1)*60)+MID(J29,2,2),",",MID(J29,4,2))) -> 150,92
B31: Секретарь:
B32: Старший судья:
B33: Рефери:
D34: Забег 2
A35: =IF(J35=0,"",RANK(H35,$H$17:$H$33,0)) | B35: 1 | D35: =VLOOKUP(C35,Уч!$A$2:$K$25,2,FALSE) -> #N/A | E35: =VLOOKUP(C35,Уч!$A$2:$K$25,3,FALSE) -> #N/A | F35: =VLOOKUP(C35,Уч!$A$2:$K$25,5,FALSE) -> #N/A | G35: =IF(J35=0,0,CONCATENATE(MID(J35,1,1),":",MID(J35,2,2),".",MID(J35,4,2))) -> 0 | H35: =IF(J35>41079,0,IF(K35=0,0,ROUNDDOWN(0.11193*(254-K35)^1.88,0))) -> 0 | K35: =IF(J35=0,0,CONCATENATE((MID(J35,1,1)*60)+MID(J35,2,2),".",MID(J35,4,2))) -> 0
A36: =IF(J36=0,"",RANK(H36,$H$17:$H$33,0)) | B36: 2 | D36: =VLOOKUP(C36,Уч!$A$2:$K$25,2,FALSE) -> #N/A | E36: =VLOOKUP(C36,Уч!$A$2:$K$25,3,FALSE) -> #N/A | F36: =VLOOKUP(C36,Уч!$A$2:$K$25,5,FALSE) -> #N/A | G36: =IF(J36=0,0,CONCATENATE(MID(J36,1,1),":",MID(J36,2,2),".",MID(J36,4,2))) -> 0 | H36: =IF(J36>41079,0,IF(K36=0,0,ROUNDDOWN(0.11193*(254-K36)^1.88,0))) -> 0 | K36: =IF(J36=0,0,CONCATENATE((MID(J36,1,1)*60)+MID(J36,2,2),".",MID(J36,4,2))) -> 0
A37: =IF(J37=0,"",RANK(H37,$H$17:$H$33,0)) | B37: 3 | D37: =VLOOKUP(C37,Уч!$A$2:$K$25,2,FALSE) -> #N/A | E37: =VLOOKUP(C37,Уч!$A$2:$K$25,3,FALSE) -> #N/A | F37: =VLOOKUP(C37,Уч!$A$2:$K$25,5,FALSE) -> #N/A | G37: =IF(J37=0,0,CONCATENATE(MID(J37,1,1),":",MID(J37,2,2),".",MID(J37,4,2))) -> 0 | H37: =IF(J37>41079,0,IF(K37=0,0,ROUNDDOWN(0.11193*(254-K37)^1.88,0))) -> 0 | K37: =IF(J37=0,0,CONCATENATE((MID(J37,1,1)*60)+MID(J37,2,2),".",MID(J37,4,2))) -> 0
A38: =IF(J38=0,"",RANK(H38,$H$17:$H$33,0)) | B38: 4 | D38: =VLOOKUP(C38,Уч!$A$2:$K$25,2,FALSE) -> #N/A | E38: =VLOOKUP(C38,Уч!$A$2:$K$25,3,FALSE) -> #N/A | F38: =VLOOKUP(C38,Уч!$A$2:$K$25,5,FALSE) -> #N/A | G38: =IF(J38=0,0,CONCATENATE(MID(J38,1,1),":",MID(J38,2,2),".",MID(J38,4,2))) -> 0 | H38: =IF(J38>41079,0,IF(K38=0,0,ROUNDDOWN(0.11193*(254-K38)^1.88,0))) -> 0 | K38: =IF(J38=0,0,CONCATENATE((MID(J38,1,1)*60)+MID(J38,2,2),".",MID(J38,4,2))) -> 0
A39: =IF(J39=0,"",RANK(H39,$H$17:$H$33,0)) | B39: 5 | D39: =VLOOKUP(C39,Уч!$A$2:$K$25,2,FALSE) -> #N/A | E39: =VLOOKUP(C39,Уч!$A$2:$K$25,3,FALSE) -> #N/A | F39: =VLOOKUP(C39,Уч!$A$2:$K$25,5,FALSE) -> #N/A | G39: =IF(J39=0,0,CONCATENATE(MID(J39,1,1),":",MID(J39,2,2),".",MID(J39,4,2))) -> 0 | H39: =IF(J39>41079,0,IF(K39=0,0,ROUNDDOWN(0.11193*(254-K39)^1.88,0))) -> 0 | K39: =IF(J39=0,0,CONCATENATE((MID(J39,1,1)*60)+MID(J39,2,2),".",MID(J39,4,2))) -> 0
A40: =IF(J40=0,"",RANK(H40,$H$17:$H$33,0)) | B40: 6 | D40: =VLOOKUP(C40,Уч!$A$2:$K$25,2,FALSE) -> #N/A | E40: =VLOOKUP(C40,Уч!$A$2:$K$25,3,FALSE) -> #N/A | F40: =VLOOKUP(C40,Уч!$A$2:$K$25,5,FALSE) -> #N/A | G40: =IF(J40=0,0,CONCATENATE(MID(J40,1,1),":",MID(J40,2,2),".",MID(J40,4,2))) -> 0 | H40: =IF(J40>41079,0,IF(K40=0,0,ROUNDDOWN(0.11193*(254-K40)^1.88,0))) -> 0 | K40: =IF(J40=0,0,CONCATENATE((MID(J40,1,1)*60)+MID(J40,2,2),".",MID(J40,4,2))) -> 0
A41: =IF(J41=0,"",RANK(H41,$H$17:$H$33,0)) | B41: 7 | D41: =VLOOKUP(C41,Уч!$A$2:$K$25,2,FALSE) -> #N/A | E41: =VLOOKUP(C41,Уч!$A$2:$K$25,3,FALSE) -> #N/A | F41: =VLOOKUP(C41,Уч!$A$2:$K$25,5,FALSE) -> #N/A | G41: =IF(J41=0,0,CONCATENATE(MID(J41,1,1),":",MID(J41,2,2),".",MID(J41,4,2))) -> 0 | H41: =IF(J41>41079,0,IF(K41=0,0,ROUNDDOWN(0.11193*(254-K41)^1.88,0))) -> 0 | K41: =IF(J41=0,0,CONCATENATE((MID(J41,1,1)*60)+MID(J41,2,2),".",MID(J41,4,2))) -> 0
A42: =IF(J42=0,"",RANK(H42,$H$17:$H$33,0)) | B42: 8 | D42: =VLOOKUP(C42,Уч!$A$2:$K$25,2,FALSE) -> #N/A | E42: =VLOOKUP(C42,Уч!$A$2:$K$25,3,FALSE) -> #N/A | F42: =VLOOKUP(C42,Уч!$A$2:$K$25,5,FALSE) -> #N/A | G42: =IF(J42=0,0,CONCATENATE(MID(J42,1,1),":",MID(J42,2,2),".",MID(J42,4,2))) -> 0 | H42: =IF(J42>41079,0,IF(K42=0,0,ROUNDDOWN(0.11193*(254-K42)^1.88,0))) -> 0 | K42: =IF(J42=0,0,CONCATENATE((MID(J42,1,1)*60)+MID(J42,2,2),".",MID(J42,4,2))) -> 0
D44: Забег 3
A45: =IF(J45=0,"",RANK(H45,$H$17:$H$33,0)) | B45: 1 | C45: 42 | D45: =VLOOKUP(C45,Уч!$A$2:$K$25,2,FALSE) -> #N/A | E45: =VLOOKUP(C45,Уч!$A$2:$K$25,3,FALSE) -> #N/A | F45: =VLOOKUP(C45,Уч!$A$2:$K$25,5,FALSE) -> #N/A | G45: =IF(J45=0,0,CONCATENATE(MID(J45,1,1),":",MID(J45,2,2),".",MID(J45,4,2))) -> 0 | H45: =IF(J45>41079,0,IF(K45=0,0,ROUNDDOWN(0.11193*(254-K45)^1.88,0))) -> 0 | K45: =IF(J45=0,0,CONCATENATE((MID(J45,1,1)*60)+MID(J45,2,2),".",MID(J45,4,2))) -> 0
A46: =IF(J46=0,"",RANK(H46,$H$17:$H$33,0)) | B46: 2 | C46: 49 | D46: =VLOOKUP(C46,Уч!$A$2:$K$25,2,FALSE) -> #N/A | E46: =VLOOKUP(C46,Уч!$A$2:$K$25,3,FALSE) -> #N/A | F46: =VLOOKUP(C46,Уч!$A$2:$K$25,5,FALSE) -> #N/A | G46: =IF(J46=0,0,CONCATENATE(MID(J46,1,1),":",MID(J46,2,2),".",MID(J46,4,2))) -> 0 | H46: =IF(J46>41079,0,IF(K46=0,0,ROUNDDOWN(0.11193*(254-K46)^1.88,0))) -> 0 | K46: =IF(J46=0,0,CONCATENATE((MID(J46,1,1)*60)+MID(J46,2,2),".",MID(J46,4,2))) -> 0
A47: =IF(J47=0,"",RANK(H47,$H$17:$H$33,0)) | B47: 3 | C47: 59 | D47: =VLOOKUP(C47,Уч!$A$2:$K$25,2,FALSE) -> #N/A | E47: =VLOOKUP(C47,Уч!$A$2:$K$25,3,FALSE) -> #N/A | F47: =VLOOKUP(C47,Уч!$A$2:$K$25,5,FALSE) -> #N/A | G47: =IF(J47=0,0,CONCATENATE(MID(J47,1,1),":",MID(J47,2,2),".",MID(J47,4,2))) -> 0 | H47: =IF(J47>41079,0,IF(K47=0,0,ROUNDDOWN(0.11193*(254-K47)^1.88,0))) -> 0 | K47: =IF(J47=0,0,CONCATENATE((MID(J47,1,1)*60)+MID(J47,2,2),".",MID(J47,4,2))) -> 0
