Workbook
Name prugok: [1]Кресты!#REF!
Name prugok: [1]Кресты!#REF!
Name prugok: [2]Кресты!#REF!
Name prugok: [3]Кресты!#REF!
Name prugok: [3]Кресты!#REF!
Name prugok: [3]Кресты!#REF!
Name prugok: [3]Кресты!#REF!
Name prugok: [4]Кресты!#REF!
Name Город: [5]Z_all!$H$1:$H$65536
Name Город: [5]Z_all!$H$1:$H$65536
Name Город: [5]Z_all!$H$1:$H$65536
Name Город: [6]Z_all!$H$1:$H$65536
Name Город: [5]Z_all!$H$1:$H$65536
Name Город: [7]Z_all!$H$1:$H$65536
Name ГР: [5]Z_all!$E$1:$E$65536
Name ГР: [5]Z_all!$E$1:$E$65536
Name ГР: [5]Z_all!$E$1:$E$65536
Name ГР: [6]Z_all!$E$1:$E$65536
Name ГР: [5]Z_all!$E$1:$E$65536
Name ГР: [7]Z_all!$E$1:$E$65536
Name Звание: [5]Z_all!$F$1:$F$65536
Name Звание: [5]Z_all!$F$1:$F$65536
Name Звание: [5]Z_all!$F$1:$F$65536
Name Звание: [6]Z_all!$F$1:$F$65536
Name Звание: [5]Z_all!$F$1:$F$65536
Name Звание: [7]Z_all!$F$1:$F$65536
Name Код_Результатов: [8]Кресты!#REF!
Name Код_Результатов: [8]Кресты!#REF!
Name Код_Результатов: [8]Кресты!#REF!
Name Код_Результатов: [8]Кресты!#REF!
Name Код_Результатов: [9]Кресты!#REF!
Name Код_Результатов: [9]Кресты!#REF!
Name Код_Результатов: [9]Кресты!#REF!
Name Код_Результатов: [10]Кресты!#REF!
Name Код_Результатов: [11]Кресты!#REF!
Name Код_Результатов: [8]Кресты!#REF!
Name КодУч: [5]Z_all!$A$1:$A$65536
Name КодУч: [5]Z_all!$A$1:$A$65536
Name КодУч: [5]Z_all!$A$1:$A$65536
Name КодУч: [6]Z_all!$A$1:$A$65536
Name КодУч: [5]Z_all!$A$1:$A$65536
Name КодУч: [7]Z_all!$A$1:$A$65536
Name компер: [8]Кресты!#REF!
Name компер: [8]Кресты!#REF!
Name компер: [8]Кресты!#REF!
Name компер: [8]Кресты!#REF!
Name компер: [9]Кресты!#REF!
Name компер: [12]Кресты!#REF!
Name компер: [12]Кресты!#REF!
Name компер: [10]Кресты!#REF!
Name компер: [11]Кресты!#REF!
Name компер: [8]Кресты!#REF!
Name НомУч: [5]Z_all!$B$1:$B$65536
Name НомУч: [5]Z_all!$B$1:$B$65536
Name НомУч: [5]Z_all!$B$1:$B$65536
Name НомУч: [6]Z_all!$B$1:$B$65536
Name НомУч: [5]Z_all!$B$1:$B$65536
Name НомУч: [7]Z_all!$B$1:$B$65536
Name Общество: [5]Z_all!$I$1:$I$65536
Name Общество: [5]Z_all!$I$1:$I$65536

Sheet Тит

Sheet ГСК
A1: МИНИСТЕРСТВО СПОРТА РОССИЙСКОЙ ФЕДЕРАЦИИ ВСЕРОССИЙСКАЯ ФЕДЕРАЦИЯ ЛЕГКОЙ АТЛЕТИКИ КОМИТЕТ ПО ФИЗИЧЕСКОЙ КУЛЬТУРЕ И СПОРТУ САНКТ-ПЕТЕРБУРГА СПОРТИВНАЯ ФЕДЕРАЦИЯ ЛЕГКОЙ АТЛЕТИКИ САНКТ-ПЕТЕРБУРГА
A7: Первенство России по легкой атлетике (среди юниоров и юниорок до 23 лет) в помещении
B9: г. Санкт-Петербург | H9: СК «Легкоатлетический манеж» | N9: 19-21 февраля 2019 года
A11: ГЛАВНАЯ СУДЕЙСКАЯ КОЛЛЕГИЯ
B14: Главный судья соревнований | K14: - | L14: УЙК Антон Гергардович /СПб, ССВк/
B15: Главный секретарь соревнований | K15: - | L15: АЛЕКСЕЕВА Ольга Кямильевна /СПб, ССВк/
B16: Технический делегат | K16: - | L16: ШПАК Виктор Алексеевич /Москва, ССВк/
B17: Директор соревнований | K17: - | L17: ТАРАСЕНКО Юлия Викторовна /СПб/
B18: Заместитель главного судьи по кадрам | K18: - | L18: СОЛОМЯНКО Юлия Станиславовна /СПб, ССВк/
B19: Рефери по бегу | K19: - | L19: АЛЕКСЕЕВ Виктор Георгиевич /СПб, ССВк/
B20: Рефери по вертикальным прыжкам и метаниям | K20: - | L20: ПОЧИНСКИЙ Михаил Владимирович /СПб, ССВк/
B21: Рефери по горизонтальным прыжкам | K21: - | L21: ОРЛОВ Максим Петрович /СПб, ССВк/
B22: Технический менеджер | K22: - | L22: ТЯГУНОВ Виктор Александрович /СПб, CCВк/
B23: Координатор службы старта | K23: - | L23: ЕФРЕМОВ Сергей Алексеевич /Ряз.обл, CCВк/
B24: Руководитель службы информации и церемониалов | K24: - | L24: ВЯЗНЕР Борис Яковлевич /СПб, ССВк/
B25: Заместитель главного секретаря | K25: - | L25: БОНДАРЕВА Анна Витальевна /СПб, ССВк/
B26: Заместитель главного секретаря | K26: - | L26: КЛЕЙН Ирина Сергеевна /СПб, ССВк/
A28: АППЕЛЯЦИОННОЕ ЖЮРИ
B30: Директор соревнований | K30: - | L30: ТАРАСЕНКО Юлия Викторовна /СПб/
B31: Технический делегат | K31: - | L31: ШПАК Виктор Алексеевич /Москва, ССВк/
K32: - | L32: КУЛИКОВ Владимир Яковлевич /СПб, ССВк/
D35: Главный судья соревнований | L35: Уйк А.Г. /СПб, ССВк/
D38: Главный секретарь соревнований | L38: Алексеева О.К. /СПб, ССВк/

Sheet 60Ю
N1: МИНИСТЕРСТВО СПОРТА РОССИЙСКОЙ ФЕДЕРАЦИИ
N2: ВСЕРОССИЙСКАЯ ФЕДЕРАЦИЯ ЛЕГКОЙ АТЛЕТИКИ | Y2: 5 | Z2: 6.7 | AA2: 6.701 | AB2: 6.84 | AC2: 6.841 | AD2: 7.04 | AE2: 7.041 | AF2: 7.34 | AG2: 7.341 | AH2: 7.64 | AI2: 7.641 | AJ2: 8.04 | AK2: 8.041 | AL2: 8.44 | AM2: 8.441 | AN2: 8.94 | AO2: 8.941 | AP2: 9.54 | AQ2: 9.541
N3: КОМИТЕТ ПО ФИЗИЧЕСКОЙ КУЛЬТУРЕ И СПОРТУ САНКТ-ПЕТЕРБУРГА | Y3: мсмк | Z3: мсмк | AA3: мс | AB3: мс | AC3: кмс | AD3: кмс | AE3: I | AF3: I | AG3: II | AH3: II | AI3: III | AJ3: III | AK3: 1юн | AL3: 1юн | AM3: 2юн | AN3: 2юн | AO3: 3юн | AP3: 3юн | AQ3: б/р
N4: СПОРТИВНАЯ ФЕДЕРАЦИЯ ЛЕГКОЙ АТЛЕТИКИ САНКТ-ПЕТЕРБУРГА
N6: Первенство России по легкой атлетике
N7: (среди юниоров и юниорок до 23 лет) в помещении
D9: 6.45 | G9: Рекорд Мира 23 | N9: СТАРТОВЫЙ ПРОТОКОЛ
D10: 6.48 | G10: Рекорд Европы 23
D11: 6.59 | G11: Рекорд России 23
N12: ЮНИОРЫ
D13: Санкт-Петербург, Легкоатлетический манеж | W13: 19 - 21февраля 2019 г.
D15: Место | E15: пф | F15: ф | G15: Номер | H15: Фамилия | I15: Имя | J15: Дата рожд | K15: Разр. | L15: Территория | N15: Организация | O15: Результаты | U15: Разряд | V15: ОЧКИ | W15: Тренер
O16: забеги | P16: Q | Q16: п/фин | R16: Q | S16: финал
H18: 19 февраля 2019 г. | J18: Забеги 11:40-12:05 Полуфиналы 17:20 -17:35 Финал 19:00-19:05 | W18: Бег 60 м
D20: 1 | E20: пф2 | F20: ф3 | G20: 257 | H20: ЗАВАЛИЙ | I20: Алексей | J20: 29.01.1998 | K20: КМС | L20: Московская область Смоленская область | N20: ГБУ МО "СШОР по легкой атлетике", СОГБУ "СШОР им Ф.Т. Михеенко", ГБУ МО "ЦСП ОВС" | O20: 6.89 | P20: Q | Q20: 6.74 | R20: Q | S20: 6.73 | T20: =MIN(O20,Q20,S20) -> 6.73 | U20: =IF(OR(T20="",T20="н/я",T20="сошёл",T20="сошла",EXACT("дискв", LEFT(T20,5))),"",LOOKUP(T20,$Y$2:$AR$2,$Y$3:$AR$3)) -> мс | V20: 25 | W20: Андреев В.В., Ефременков А.С.
D21: 2 | E21: пф1 | F21: ф5 | G21: 201 | H21: ДОМАРЕВ | I21: Вадим | J21: 14.04.2000 | K21: 1 | L21: Курская область | N21: СШОР Урожай | O21: 6.83 | P21: Q | Q21: 6.82 | R21: Q | S21: 6.81 | T21: =MIN(O21,Q21,S21) -> 6.81 | U21: =IF(OR(T21="",T21="н/я",T21="сошёл",T21="сошла",EXACT("дискв", LEFT(T21,5))),"",LOOKUP(T21,$Y$2:$AR$2,$Y$3:$AR$3)) -> мс | V21: 22 | W21: Анозин В.М.
D22: 3 | E22: пф6 | F22: ф6 | G22: 44 | H22: ЧАБАН | I22: Никита | J22: 01.04.1997 | K22: МС | L22: Красноярский край | N22: Академия летних видов спорта, СШОР"Спутник" | O22: 6.93 | P22: Q | Q22: 6.84 | R22: Q | S22: 6.82 | T22: =MIN(O22,Q22,S22) -> 6.82 | U22: =IF(OR(T22="",T22="н/я",T22="сошёл",T22="сошла",EXACT("дискв", LEFT(T22,5))),"",LOOKUP(T22,$Y$2:$AR$2,$Y$3:$AR$3)) -> мс | V22: 20 | W22: Артемьев П.П.
D23: 4 | E23: пф7 | F23: ф7 | G23: 404 | H23: ПИВОВАРОВ | I23: Даниил | J23: 13.04.1999 | K23: КМС | L23: Республика Татарстан | N23: ПГАФКСИТ, СШОР АТЛЕТИКА | O23: 6.92 | P23: Q | Q23: 6.87 | R23: q | S23: 6.87 | T23: =MIN(O23,Q23,S23) -> 6.87 | U23: =IF(OR(T23="",T23="н/я",T23="сошёл",T23="сошла",EXACT("дискв", LEFT(T23,5))),"",LOOKUP(T23,$Y$2:$AR$2,$Y$3:$AR$3)) -> кмс | V23: 14 | W23: Захарчук Д.Г.
D24: 5 | E24: пф13 | F24: ф8 | G24: 373 | H24: БОНДАРЕВ | I24: Николай | J24: 28.03.1998 | K24: КМС | L24: Москва | N24: СШОР Юность Москвы по л/а им.бр.Знаменских | O24: 6.94 | P24: q | Q24: 6.917 | R24: q | S24: 6.88 | T24: =MIN(O24,Q24,S24) -> 6.88 | U24: =IF(OR(T24="",T24="н/я",T24="сошёл",T24="сошла",EXACT("дискв", LEFT(T24,5))),"",LOOKUP(T24,$Y$2:$AR$2,$Y$3:$AR$3)) -> кмс | V24: лич | W24: Иванов В.М.
D25: 6 | E25: пф3 | F25: ф1 | G25: 361 | H25: УСОВ | I25: Алексей | J25: 24.02.1998 | K25: МС | L25: Москва-2 | N25: ГБУ "МГФСО" | O25: 6.9 | P25: Q | Q25: 6.87 | R25: Q | S25: 6.9 | T25: =MIN(O25,Q25,S25) -> 6.87 | U25: =IF(OR(T25="",T25="н/я",T25="сошёл",T25="сошла",EXACT("дискв", LEFT(T25,5))),"",LOOKUP(T25,$Y$2:$AR$2,$Y$3:$AR$3)) -> кмс | V25: 13 | W25: Баранов А.В.
D26: 6 | E26: пф5 | F26: ф4 | G26: 332 | H26: ЛУКИН | I26: Андрей | J26: 28.02.1998 | K26: МС | L26: Республика Карелия | N26: МУ "СШОР№3" | O26: 6.92 | P26: Q | Q26: 6.87 | R26: Q | S26: 6.9 | T26: =MIN(O26,Q26,S26) -> 6.87 | U26: =IF(OR(T26="",T26="н/я",T26="сошёл",T26="сошла",EXACT("дискв", LEFT(T26,5))),"",LOOKUP(T26,$Y$2:$AR$2,$Y$3:$AR$3)) -> кмс | V26: 13 | W26: Сигарева А.Ю., Смирнов А.Б.
D27: 8 | E27: пф15 | F27: ф2 | G27: 36 | H27: ГУРОВ | I27: Андрей | J27: 20.09.1998 | K27: КМС | L27: Москва Брянская область | N27: ФАУ МО РФ ЦСКА, ГБУ БО СШОР по легкой атлетике им. В.Д. Самотесова., БГУОР | O27: 6.97 | P27: q | Q27: 6.92 | R27: Q | S27: 6.94 | T27: =MIN(O27,Q27,S27) -> 6.92 | U27: =IF(OR(T27="",T27="н/я",T27="сошёл",T27="сошла",EXACT("дискв", LEFT(T27,5))),"",LOOKUP(T27,$Y$2:$AR$2,$Y$3:$AR$3)) -> кмс | V27: 11 | W27: Гуров В.В., Шемигон О.С., Шемигон С.С.
D28: 9 | E28: пф9 | G28: 56 | H28: ПРОТАСОВ | I28: Александр | J28: 30.08.1997 | K28: КМС | L28: Тюменская область | N28: ОСШОР, СК ТюмГУ | O28: 6.96 | P28: Q | Q28: 6.92 | T28: =MIN(O28,Q28,S28) -> 6.92 | U28: =IF(OR(T28="",T28="н/я",T28="сошёл",T28="сошла",EXACT("дискв", LEFT(T28,5))),"",LOOKUP(T28,$Y$2:$AR$2,$Y$3:$AR$3)) -> кмс | V28: 10 | W28: Аксенов Е.Н.
D29: 10 | E29: пф8 | G29: 318 | H29: ТОКАРЕВ | I29: Алексей | J29: 20.12.1998 | K29: КМС | L29: Свердловская область | N29: СК СПУТНИК, СШОР Спутник, ЦСП | O29: 6.93 | P29: Q | Q29: 6.93 | T29: =MIN(O29,Q29,S29) -> 6.93 | U29: =IF(OR(T29="",T29="н/я",T29="сошёл",T29="сошла",EXACT("дискв", LEFT(T29,5))),"",LOOKUP(T29,$Y$2:$AR$2,$Y$3:$AR$3)) -> кмс | V29: 9 | W29: Заметаев О.Г., Мерзлякова Н.В.
D30: 11 | E30: пф11 | G30: 43 | H30: НИКОЛАЕВ | I30: Александр | J30: 06.05.1999 | K30: 1 | L30: Хабаровский край | N30: СШ "Максимум" | O30: 7.01 | P30: Q | Q30: 6.94 | T30: =MIN(O30,Q30,S30) -> 6.94 | U30: =IF(OR(T30="",T30="н/я",T30="сошёл",T30="сошла",EXACT("дискв", LEFT(T30,5))),"",LOOKUP(T30,$Y$2:$AR$2,$Y$3:$AR$3)) -> кмс | V30: 8 | W30: Ерченко Е.П.
D31: 11 | E31: пф19 | G31: 9 | H31: ЕФИМОВ | I31: Александр | J31: 28.02.1999 | K31: КМС | L31: Брянская область | N31: БО СШОР по легкой атлетике им.В.Д.Самотесова | O31: 7.04 | P31: q | Q31: 6.94 | T31: =MIN(O31,Q31,S31) -> 6.94 | U31: =IF(OR(T31="",T31="н/я",T31="сошёл",T31="сошла",EXACT("дискв", LEFT(T31,5))),"",LOOKUP(T31,$Y$2:$AR$2,$Y$3:$AR$3)) -> кмс | V31: 8 | W31: Трубин Ю.Н., Карташов В.А.
D32: 13 | E32: пф4 | G32: 67 | H32: ПЛОХОЙ | I32: Евгений | J32: 04.07.1998 | K32: КМС | L32: Краснодарский край ЮФО (К) | N32: ГБУ КК "РЦСП по л/а", МБУ "СШОР №2 г. Симферополь" | O32: 6.92 | P32: Q | Q32: 6.96 | T32: =MIN(O32,Q32,S32) -> 6.92 | U32: =IF(OR(T32="",T32="н/я",T32="сошёл",T32="сошла",EXACT("дискв", LEFT(T32,5))),"",LOOKUP(T32,$Y$2:$AR$2,$Y$3:$AR$3)) -> кмс | V32: 6 | W32: Азизьян А.А., Селицкая С.С.
D33: 13 | E33: пф14 | G33: 285 | H33: РОЖНОВ | I33: Артём | J33: 03.03.1998 | K33: КМС | L33: Тульская область | N33: ГУТОЦСП -СШОР | O33: 6.97 | P33: q | Q33: 6.96 | T33: =MIN(O33,Q33,S33) -> 6.96 | U33: =IF(OR(T33="",T33="н/я",T33="сошёл",T33="сошла",EXACT("дискв", LEFT(T33,5))),"",LOOKUP(T33,$Y$2:$AR$2,$Y$3:$AR$3)) -> кмс | V33: 6 | W33: Веселова С.Ю., Ковтун Н.Н.
D34: 13 | E34: пф16 | G34: 316 | H34: ЛАПТЕВ | I34: Алексей | J34: 13.05.1998 | K34: КМС | L34: Свердловская область | N34: СК ЛУЧ, ЦСП | O34: 6.99 | P34: q | Q34: 6.96 | T34: =MIN(O34,Q34,S34) -> 6.96 | U34: =IF(OR(T34="",T34="н/я",T34="сошёл",T34="сошла",EXACT("дискв", LEFT(T34,5))),"",LOOKUP(T34,$Y$2:$AR$2,$Y$3:$AR$3)) -> кмс | V34: 6 | W34: Ясников В.И.
D35: 16 | E35: пф22 | G35: 27 | H35: ШАМАРИН | I35: Владислав | J35: 23.07.1998 | K35: КМС | L35: Самарская область | N35: Самарский университет, ГАУ СШОР № 6 | O35: 7.05 | P35: q | Q35: 6.98 | T35: =MIN(O35,Q35,S35) -> 6.98 | U35: =IF(OR(T35="",T35="н/я",T35="сошёл",T35="сошла",EXACT("дискв", LEFT(T35,5))),"",LOOKUP(T35,$Y$2:$AR$2,$Y$3:$AR$3)) -> кмс | V35: 3 | W35: Лобачев В.С., Дмитриев В.М.
D36: 17 | E36: пф10 | G36: 291 | H36: ЕЖОВ | I36: Иван | J36: 01.06.1999 | K36: КМС | L36: Пензенская область | N36: КСШОР | O36: 6.99 | P36: Q | Q36: 6.99 | T36: =MIN(O36,Q36,S36) -> 6.99 | U36: =IF(OR(T36="",T36="н/я",T36="сошёл",T36="сошла",EXACT("дискв", LEFT(T36,5))),"",LOOKUP(T36,$Y$2:$AR$2,$Y$3:$AR$3)) -> кмс | V36: 2 | W36: Невокшанов Б.В.
D37: 17 | E37: пф17 | G37: 480 | H37: ГАЛОЧКИН | I37: Никита | J37: 28.04.1998 | K37: КМС | L37: Волгоградская область | N37: ВКОР, СШОР | O37: 7.02 | P37: q | Q37: 6.99 | T37: =MIN(O37,Q37,S37) -> 6.99 | U37: =IF(OR(T37="",T37="н/я",T37="сошёл",T37="сошла",EXACT("дискв", LEFT(T37,5))),"",LOOKUP(T37,$Y$2:$AR$2,$Y$3:$AR$3)) -> кмс | V37: лич | W37: Догонкин В.А., Солоушкина Н.И., Догонкин В.В.
D38: 19 | E38: пф20 | G38: 45 | H38: МЕНЬКОВ | I38: Виктор | J38: 06.12.1998 | K38: 1 | L38: Красноярский край | N38: Академия летних видов спорта, СШОР"Спутник" | O38: 7.04 | P38: q | Q38: 7.01 | T38: =MIN(O38,Q38,S38) -> 7.01 | U38: =IF(OR(T38="",T38="н/я",T38="сошёл",T38="сошла",EXACT("дискв", LEFT(T38,5))),"",LOOKUP(T38,$Y$2:$AR$2,$Y$3:$AR$3)) -> кмс | V38: 1 | W38: Мочалов С.С., Мочалова Е.С.
D39: 20 | E39: пф21 | G39: 47 | H39: ЛОМОВ | I39: Евгений | J39: 12.10.1999 | K39: КМС | L39: Красноярский край | N39: СШОР"Спутник", г Красноярск | O39: 7.05 | P39: q | Q39: 7.06 | T39: =MIN(O39,Q39,S39) -> 7.05 | U39: =IF(OR(T39="",T39="н/я",T39="сошёл",T39="сошла",EXACT("дискв", LEFT(T39,5))),"",LOOKUP(T39,$Y$2:$AR$2,$Y$3:$AR$3)) -> I | V39: 1 | W39: Чалый Ю.В., Носенко А.А.
D40: 20 | E40: пф23 | G40: 242 | H40: КАТРЕНКО | I40: Виталий | J40: 12.10.1998 | K40: КМС | L40: Саратовская область | N40: МКУ "СШОР№6" | O40: 7.08 | P40: q | Q40: 7.06 | T40: =MIN(O40,Q40,S40) -> 7.06 | U40: =IF(OR(T40="",T40="н/я",T40="сошёл",T40="сошла",EXACT("дискв", LEFT(T40,5))),"",LOOKUP(T40,$Y$2:$AR$2,$Y$3:$AR$3)) -> I | V40: 1 | W40: Прокофьева Е.П., Ломтев Е.А.
D41: 22 | E41: пф18 | G41: 12 | H41: АБАИМОВ | I41: Александр | J41: 21.05.1998 | K41: КМС | L41: Самарская область | N41: СШОР № 2 г. Самара | O41: 7.03 | P41: q | Q41: 7.1 | T41: =MIN(O41,Q41,S41) -> 7.03 | U41: =IF(OR(T41="",T41="н/я",T41="сошёл",T41="сошла",EXACT("дискв", LEFT(T41,5))),"",LOOKUP(T41,$Y$2:$AR$2,$Y$3:$AR$3)) -> кмс | V41: 1 | W41: Иванова И.Ю.
D42: 23 | E42: пф12 | G42: 93 | H42: КОНОНЕНКО | I42: Павел | J42: 02.02.1997 | K42: КМС | L42: Вологодская область | N42: АУ ФКиС ВО "ЦСП" | O42: 7.05 | P42: Q | Q42: 7.11 | T42: =MIN(O42,Q42,S42) -> 7.05 | U42: =IF(OR(T42="",T42="н/я",T42="сошёл",T42="сошла",EXACT("дискв", LEFT(T42,5))),"",LOOKUP(T42,$Y$2:$AR$2,$Y$3:$AR$3)) -> I | V42: 1 | W42: Столбова О.В.
D43: 24 | E43: пф24 | G43: 234 | H43: БОБЫЛЕВ | I43: Денис | J43: 01.03.1999 | K43: КМС | L43: Республика Северная Осетия — Алания | N43: ГБУ СШОР по л/а | O43: 7.091 | P43: q | Q43: 7.12 | T43: =MIN(O43,Q43,S43) -> 7.091 | U43: =IF(OR(T43="",T43="н/я",T43="сошёл",T43="сошла",EXACT("дискв", LEFT(T43,5))),"",LOOKUP(T43,$Y$2:$AR$2,$Y$3:$AR$3)) -> I | V43: 1 | W43: Шиян Т.Н., Шиян О.В.
D44: 25 | G44: 467 | H44: БИКТИМИРОВ | I44: Егор | J44: 24.06.1999 | K44: КМС | L44: Челябинская область | N44: СШОР Миасс | O44: 7.096 | T44: =MIN(O44,Q44,S44) -> 7.096 | U44: =IF(OR(T44="",T44="н/я",T44="сошёл",T44="сошла",EXACT("дискв", LEFT(T44,5))),"",LOOKUP(T44,$Y$2:$AR$2,$Y$3:$AR$3)) -> I | V44: лич | W44: Ромжаев А.И., Кочарина Е.В., Шестаев В.А.
D45: 26 | G45: 182 | H45: ШАРОВ | I45: Степан | J45: 16.08.1999 | K45: 1 | L45: Санкт-Петербург | N45: СПб ГБУ СШОР "Академия легкой атлетики Санкт-Петербурга" | O45: 7.11 | T45: =MIN(O45,Q45,S45) -> 7.11 | U45: =IF(OR(T45="",T45="н/я",T45="сошёл",T45="сошла",EXACT("дискв", LEFT(T45,5))),"",LOOKUP(T45,$Y$2:$AR$2,$Y$3:$AR$3)) -> I | V45: лич | W45: Линдер В.И.
D46: 26 | G46: 410 | H46: ЖУКОВ | I46: Кирилл | J46: 23.10.1998 | K46: КМС | L46: Воронежская область | N46: СШОР №21 Воронежская область | O46: 7.11 | T46: =MIN(O46,Q46,S46) -> 7.11 | U46: =IF(OR(T46="",T46="н/я",T46="сошёл",T46="сошла",EXACT("дискв", LEFT(T46,5))),"",LOOKUP(T46,$Y$2:$AR$2,$Y$3:$AR$3)) -> I | V46: 1 | W46: Жуков С.Н.
D47: 26 | G47: 292 | H47: ПАРШИН | I47: Владислав | J47: 26.09.1998 | K47: КМС | L47: Пензенская область | N47: СШ №6 | O47: 7.11 | T47: =MIN(O47,Q47,S47) -> 7.11 | U47: =IF(OR(T47="",T47="н/я",T47="сошёл",T47="сошла",EXACT("дискв", LEFT(T47,5))),"",LOOKUP(T47,$Y$2:$AR$2,$Y$3:$AR$3)) -> I | V47: 1 | W47: Зинуков А.В.
D48: 29 | G48: 477 | H48: ГРИЩЕНКО | I48: Алексей | J48: 14.12.1999 | K48: КМС | L48: Саратовская область | N48: МКУ "СШОР№6" | O48: 7.13 | T48: =MIN(O48,Q48,S48) -> 7.13 | U48: =IF(OR(T48="",T48="н/я",T48="сошёл",T48="сошла",EXACT("дискв", LEFT(T48,5))),"",LOOKUP(T48,$Y$2:$AR$2,$Y$3:$AR$3)) -> I | V48: 1 | W48: Беликов Ю.Б., Беликова Н.И.
D49: 29 | G49: 317 | H49: ГУБАЙДУЛЛИН | I49: Данис | J49: 28.01.2000 | K49: КМС | L49: Свердловская область | N49: СК ЛУЧ, ЦСП | O49: 7.13 | T49: =MIN(O49,Q49,S49) -> 7.13 | U49: =IF(OR(T49="",T49="н/я",T49="сошёл",T49="сошла",EXACT("дискв", LEFT(T49,5))),"",LOOKUP(T49,$Y$2:$AR$2,$Y$3:$AR$3)) -> I | V49: 1 | W49: Ясников В.И.
D50: 31 | G50: 49 | H50: КОРЧАГИН | I50: Дмитрий | J50: 11.05.1997 | K50: КМС | L50: Красноярский край | N50: Академия летних видов спорта, СШОР"Спутник" | O50: 7.14 | T50: =MIN(O50,Q50,S50) -> 7.14 | U50: =IF(OR(T50="",T50="н/я",T50="сошёл",T50="сошла",EXACT("дискв", LEFT(T50,5))),"",LOOKUP(T50,$Y$2:$AR$2,$Y$3:$AR$3)) -> I | V50: 1 | W50: Непомнящих О.А.
D51: 32 | G51: 190 | H51: ВОДИЧЕВ | I51: Александр | J51: 14.11.1999 | K51: КМС | L51: Калининградская область Санкт-Петербург | N51: СШ Гусев, СПб ГБУ СШОР "Академия легкой атлетики Санкт-Петербурга", СШОР "Академия л/с Спб" | O51: 7.17 | T51: =MIN(O51,Q51,S51) -> 7.17 | U51: =IF(OR(T51="",T51="н/я",T51="сошёл",T51="сошла",EXACT("дискв", LEFT(T51,5))),"",LOOKUP(T51,$Y$2:$AR$2,$Y$3:$AR$3)) -> I | V51: 1 | W51: Глушак П.Б., Глушак Н.М.
D52: 33 | G52: 343 | H52: КАШАЙКИН | I52: Егор | J52: 07.10.1998 | K52: КМС | L52: Калужская область | N52: СШОР "Темп" г. Калуги | O52: 7.18 | T52: =MIN(O52,Q52,S52) -> 7.18 | U52: =IF(OR(T52="",T52="н/я",T52="сошёл",T52="сошла",EXACT("дискв", LEFT(T52,5))),"",LOOKUP(T52,$Y$2:$AR$2,$Y$3:$AR$3)) -> I | V52: 1 | W52: Смирнов Р.П.
D53: 34 | G53: 249 | H53: ТРОФИМОВИЧ | I53: Иван | J53: 18.08.1999 | K53: КМС | L53: Оренбургская область | N53: СШОР 2 | O53: 7.19 | T53: =MIN(O53,Q53,S53) -> 7.19 | U53: =IF(OR(T53="",T53="н/я",T53="сошёл",T53="сошла",EXACT("дискв", LEFT(T53,5))),"",LOOKUP(T53,$Y$2:$AR$2,$Y$3:$AR$3)) -> I | V53: 1 | W53: Кирамов С.Х., Рузаев М.М.
D54: 34 | G54: 148 | H54: МАКУРОВ | I54: Глеб | J54: 15.05.1997 | K54: КМС | L54: Санкт-Петербург | N54: СПб ГБУ СШОР "Академия легкой атлетики Санкт-Петербурга" | O54: 7.19 | T54: =MIN(O54,Q54,S54) -> 7.19 | U54: =IF(OR(T54="",T54="н/я",T54="сошёл",T54="сошла",EXACT("дискв", LEFT(T54,5))),"",LOOKUP(T54,$Y$2:$AR$2,$Y$3:$AR$3)) -> I | V54: лич | W54: Клещенко Н.Е.
D55: 36 | G55: 149 | H55: МАНАФОВ | I55: Курбан | J55: 09.06.1997 | K55: 1 | L55: Санкт-Петербург | N55: СПб ГБУ СШОР "Академия легкой атлетики Санкт-Петербурга" | O55: 7.2 | T55: =MIN(O55,Q55,S55) -> 7.2 | U55: =IF(OR(T55="",T55="н/я",T55="сошёл",T55="сошла",EXACT("дискв", LEFT(T55,5))),"",LOOKUP(T55,$Y$2:$AR$2,$Y$3:$AR$3)) -> I | V55: лич | W55: Клещенко Н.Е.
D56: 36 | G56: 328 | H56: УЛАЕВ | I56: Магомед | J56: 26.02.1999 | K56: КМС | L56: Республика Дагестан | N56: РДЮСШ по л/а Министерства по ФК и С РД | O56: 7.2 | T56: =MIN(O56,Q56,S56) -> 7.2 | U56: =IF(OR(T56="",T56="н/я",T56="сошёл",T56="сошла",EXACT("дискв", LEFT(T56,5))),"",LOOKUP(T56,$Y$2:$AR$2,$Y$3:$AR$3)) -> I | V56: 1 | W56: Хасаев А.Г., Гвиниашвили А.Н.
D57: 36 | G57: 415 | H57: ОРЛОВ | I57: Константин | J57: 01.02.1998 | K57: 1 | L57: Чувашская республика | N57: СШОР №1 имени В.Егоровой | O57: 7.2 | T57: =MIN(O57,Q57,S57) -> 7.2 | U57: =IF(OR(T57="",T57="н/я",T57="сошёл",T57="сошла",EXACT("дискв", LEFT(T57,5))),"",LOOKUP(T57,$Y$2:$AR$2,$Y$3:$AR$3)) -> I | V57: 1 | W57: Смирнов С.В.
D58: 36 | G58: 486 | H58: ШЕИН | I58: Вячеслав | J58: 20.03.2002 | K58: 1 | L58: Волгоградская область | N58: СШОР ПО Л/А, ВУОР | O58: 7.2 | T58: =MIN(O58,Q58,S58) -> 7.2 | U58: =IF(OR(T58="",T58="н/я",T58="сошёл",T58="сошла",EXACT("дискв", LEFT(T58,5))),"",LOOKUP(T58,$Y$2:$AR$2,$Y$3:$AR$3)) -> I | V58: лич | W58: Бариева Н.Н.
D59: 40 | G59: 102 | H59: АЛЕКСЕЕНКОВ | I59: Иван | J59: 28.12.1999 | K59: 1 | L59: Санкт-Петербург | N59: СПб ГБУ СШОР "Академия легкой атлетики Санкт-Петербурга" | O59: 7.21 | T59: =MIN(O59,Q59,S59) -> 7.21 | U59: =IF(OR(T59="",T59="н/я",T59="сошёл",T59="сошла",EXACT("дискв", LEFT(T59,5))),"",LOOKUP(T59,$Y$2:$AR$2,$Y$3:$AR$3)) -> I | V59: лич | W59: Линдер В.И.
D60: 41 | G60: 58 | H60: АНУФРИЕВ | I60: Степан | J60: 23.08.1998 | K60: КМС | L60: Тюменская область | N60: СК ТюмГУ | O60: 7.25 | T60: =MIN(O60,Q60,S60) -> 7.25 | U60: =IF(OR(T60="",T60="н/я",T60="сошёл",T60="сошла",EXACT("дискв", LEFT(T60,5))),"",LOOKUP(T60,$Y$2:$AR$2,$Y$3:$AR$3)) -> I | V60: лич | W60: Милютин С.С.
U61: =IF(OR(T61="",T61="н/я",T61="сошёл",T61="сошла",EXACT("дискв", LEFT(T61,5))),"",LOOKUP(T61,$Y$2:$AR$2,$Y$3:$AR$3))
H67: Главный судья соревнований | S67: Уйк А.Г. /СПб, ССВк/
H69: Главный секретарь соревнований | S69: Алексеева О.К. /СПб, ССВк/

Sheet 400Ю
L1: МИНИСТЕРСТВО СПОРТА РОССИЙСКОЙ ФЕДЕРАЦИИ | V1: 40 | W1: 46.7 | X1: 46.701 | Y1: 48.14 | Z1: 48.141 | AA1: 50.54 | AB1: 50.541 | AC1: 53.04 | AD1: 53.041 | AE1: 56.64 | AF1: 56.641 | AG1: 1.00,00 | AH1: 1.00,01 | AI1: 1.00,02 | AJ1: 1.00,03 | AK1: 1.00,04 | AL1: 1.00,05 | AM1: 1.00,06 | AN1: 1.00,07 | AO1: 1.00,08 | AP1: 1.00,09 | AQ1: 1.00,10 | AR1: 1.00,11 | AS1: 1.00,12 | AT1: 1.00,13 | AU1: 1.00,14 | AV1: 1.00,15 | AW1: 1.00,16 | AX1: 1.00,17 | AY1: 1.00,18 | AZ1: 1.00,19 | BA1: 1.00,20 | BB1: 1.00,21 | BC1: 1.00,22 | BD1: 1.00,23 | BE1: 1.00,24 | BF1: 1.00,25 | BG1: 1.00,26 | BH1: 1.00,27 | BI1: 1.00,28 | BJ1: 1.00,29 | BK1: 1.00,30 | BL1: 1.00,31 | BM1: 1.00,32 | BN1: 1.00,33 | BO1: 1.00,34 | BP1: 1.00,35 | BQ1: 1.00,36 | BR1: 1.00,37 | BS1: 1.00,38 | BT1: 1.00,39 | BU1: 1.00,40 | BV1: 1.00,41 | BW1: 1.00,42 | BX1: 1.00,43 | BY1: 1.00,44 | BZ1: 1.00,45 | CA1: 1.00,46 | CB1: 1.00,47 | CC1: 1.00,48 | CD1: 1.00,49 | CE1: 1.00,50 | CF1: 1.00,51 | CG1: 1.00,52 | CH1: 1.00,53 | CI1: 1.00,54 | CJ1: 1.00,55 | CK1: 1.00,56 | CL1: 1.00,57 | CM1: 1.00,58 | CN1: 1.00,59 | CO1: 1.00,60 | CP1: 1.00,61 | CQ1: 1.00,62 | CR1: 1.00,63 | CS1: 1.00,64 | CT1: 1.00,65 | CU1: 1.00,66 | CV1: 1.00,67 | CW1: 1.00,68 | CX1: 1.00,69 | CY1: 1.00,70 | CZ1: 1.00,71 | DA1: 1.00,72 | DB1: 1.00,73 | DC1: 1.00,74 | DD1: 1.00,75 | DE1: 1.00,76 | DF1: 1.00,77 | DG1: 1.00,78 | DH1: 1.00,79 | DI1: 1.00,80 | DJ1: 1.00,81 | DK1: 1.00,82 | DL1: 1.00,83 | DM1: 1.00,84 | DN1: 1.00,85 | DO1: 1.00,86 | DP1: 1.00,87 | DQ1: 1.00,88 | DR1: 1.00,89 | DS1: 1.00,90 | DT1: 1.00,91 | DU1: 1.00,92 | DV1: 1.00,93 | DW1: 1.00,94 | DX1: 1.00,95 | DY1: 1.00,96 | DZ1: 1.00,97 | EA1: 1.00,98 | EB1: 1.00,99 | EC1: 1.01,00 | ED1: 1.01,01 | EE1: 1.01,02 | EF1: 1.01,03 | EG1: 1.01,04 | EH1: 1.01,041 | EI1: 1.06,04 | EJ1: 1.06,041 | EK1: 1.11,54 | EL1: 1.11,541 | EM1: 1.17,24 | EN1: 1.17,241
L2: ВСЕРОССИЙСКАЯ ФЕДЕРАЦИЯ ЛЕГКОЙ АТЛЕТИКИ | V2: мсмк | W2: мсмк | X2: мс | Y2: мс | Z2: кмс | AA2: кмс | AB2: I | AC2: I | AD2: II | AE2: II | AF2: III | AG2: III | AH2: III | AI2: III | AJ2: III | AK2: III | AL2: III | AM2: III | AN2: III | AO2: III | AP2: III | AQ2: III | AR2: III | AS2: III | AT2: III | AU2: III | AV2: III | AW2: III | AX2: III | AY2: III | AZ2: III | BA2: III | BB2: III | BC2: III | BD2: III | BE2: III | BF2: III | BG2: III | BH2: III | BI2: III | BJ2: III | BK2: III | BL2: III | BM2: III | BN2: III | BO2: III | BP2: III | BQ2: III | BR2: III | BS2: III | BT2: III | BU2: III | BV2: III | BW2: III | BX2: III | BY2: III | BZ2: III | CA2: III | CB2: III | CC2: III | CD2: III | CE2: III | CF2: III | CG2: III | CH2: III | CI2: III | CJ2: III | CK2: III | CL2: III | CM2: III | CN2: III | CO2: III | CP2: III | CQ2: III | CR2: III | CS2: III | CT2: III | CU2: III | CV2: III | CW2: III | CX2: III | CY2: III | CZ2: III | DA2: III | DB2: III | DC2: III | DD2: III | DE2: III | DF2: III | DG2: III | DH2: III | DI2: III | DJ2: III | DK2: III | DL2: III | DM2: III | DN2: III | DO2: III | DP2: III | DQ2: III | DR2: III | DS2: III | DT2: III | DU2: III | DV2: III | DW2: III | DX2: III | DY2: III | DZ2: III | EA2: III | EB2: III | EC2: III | ED2: III | EE2: III | EF2: III | EG2: III | EH2: 1юн | EI2: 1юн | EJ2: 2юн | EK2: 2юн | EL2: 3юн | EM2: 3юн | EN2: б/р
L3: КОМИТЕТ ПО ФИЗИЧЕСКОЙ КУЛЬТУРЕ И СПОРТУ САНКТ-ПЕТЕРБУРГА
L4: СПОРТИВНАЯ ФЕДЕРАЦИЯ ЛЕГКОЙ АТЛЕТИКИ САНКТ-ПЕТЕРБУРГА
L6: Первенство России по легкой атлетике
L7: (среди юниоров и юниорок до 23 лет) в помещении
D8: 44.57 | F8: Рекорд Мира 23
D9: 45.39 | F9: Рекорд Европы 23 | L9: ИТОГОВЫЙ ПРОТОКОЛ
D10: 46.18 | F10: Рекорд России 23
L11: ЮНИОРЫ
D13: Санкт-Петербург, Легкоатлетический манеж | T13: 19 - 21 февраля 2019 г.
D15: Место | E15: ф | F15: Номер | G15: Фамилия | H15: Имя | I15: Дата рожд | J15: Разр. | K15: Территория | M15: Команда | N15: Результаты | R15: Разряд | S15: ОЧКИ | T15: Тренер
H17: 19 февраля 2019 г. | I17: Забеги 17:35 - 18:10 | T17: Бег 400 м
H18: 20 февраля 2019 г. | I18: Финал 18:35 -18:40 | N18: забеги | O18: Q | P18: финал
D20: 1 | E20: ф1 | F20: 308 | G20: ВЕРХОВЫХ | H20: Рудольф | I20: 03.09.1998 | J20: МС | K20: Свердловская область Челябинская область | M20: СШОР Мосеева, ЦСП | N20: 47.37 | O20: q | P20: 47.02 | Q20: =IF(OR(P20="",P20="dns",P20="dnf",P20="dq"),N20,IF(P20>N20,N20,P20)) -> 47.02 | R20: =IF(OR(Q20="",Q20="н/я",Q20="сошёл",Q20="сошла",EXACT("дискв", LEFT(Q20,5))),"",LOOKUP(Q20,$S$1:$AK$1,$S$2:$AK$2)) -> мс | S20: 25 | T20: Трегубова В.В., Хрущелева Н.П., Петалова О.В.
D21: 2 | E21: ф2 | F21: 264 | G21: ФЕДЯЕВ | H21: Максим | I21: 01.12.1997 | J21: МСМК | K21: Московская область Курская область | M21: МБУ СШОР "Железногорск", УОР №1 Московская обл, ГБУ МО "ЦСП ОВС", СШОР Железногорск | N21: 47.67 | O21: q | P21: 47.5 | Q21: =IF(OR(P21="",P21="dns",P21="dnf",P21="dq"),N21,IF(P21>N21,N21,P21)) -> 47.5 | R21: =IF(OR(Q21="",Q21="н/я",Q21="сошёл",Q21="сошла",EXACT("дискв", LEFT(Q21,5))),"",LOOKUP(Q21,$S$1:$AK$1,$S$2:$AK$2)) -> мс | S21: 22 | T21: Тихонов А.В., Тихонова М.С., Сударева Н.И.
D22: 3 | E22: ф3 | F22: 238 | G22: РАЗУМОВ | H22: Дмитрий | I22: 19.08.1999 | J22: МС | K22: Томская область | M22: СДЮСШОР № 1, ТО СШОР, СибГУОР | N22: 48.05 | O22: q | P22: 47.72 | Q22: 48.05 | R22: =IF(OR(Q22="",Q22="н/я",Q22="сошёл",Q22="сошла",EXACT("дискв", LEFT(Q22,5))),"",LOOKUP(Q22,$S$1:$AK$1,$S$2:$AK$2)) -> мс | S22: 20 | T22: Андреев А.А., Сергеева Е.А., Геворкян Р.О.
D23: 4 | E23: ф4 | F23: 265 | G23: ФИЛИППОВ | H23: Егор | I23: 04.07.1999 | J23: МС | K23: Московская область | M23: ГБУ МО "СШОР", ВС СКА, ГБУ МО "ЦСП ОВС" | N23: 48.22 | O23: q | P23: 47.74 | Q23: =IF(OR(P23="",P23="dns",P23="dnf",P23="dq"),N23,IF(P23>N23,N23,P23)) -> 47.74 | R23: =IF(OR(Q23="",Q23="н/я",Q23="сошёл",Q23="сошла",EXACT("дискв", LEFT(Q23,5))),"",LOOKUP(Q23,$S$1:$AK$1,$S$2:$AK$2)) -> мс | S23: 19 | T23: Чебыкина Т.Г., Матюхин Н.И., Ларюкова Е.М.
D24: 5 | E24: ф5 | F24: 261 | G24: КАРАСЁВ | H24: Леонид | I24: 30.07.1998 | J24: МС | K24: Московская область Брянская область | M24: БГУОР, БО СШОР по легкой атлетике им.В.Д.Самотесова, ГБУ МО "СШОР", ГБУ МО "ЦСП ОВС" | N24: 48.23 | O24: q | P24: 48.18 | Q24: =IF(OR(P24="",P24="dns",P24="dnf",P24="dq"),N24,IF(P24>N24,N24,P24)) -> 48.18 | R24: =IF(OR(Q24="",Q24="н/я",Q24="сошёл",Q24="сошла",EXACT("дискв", LEFT(Q24,5))),"",LOOKUP(Q24,$S$1:$AK$1,$S$2:$AK$2)) -> кмс | S24: 13 | T24: Белова С.И., Белова Е.А., Шармин Е.А.
D25: 6 | E25: ф6 | F25: 54 | G25: КУКАЛЕВ | H25: Вадим | I25: 22.08.1998 | J25: КМС | K25: Тюменская область | M25: ЦСП 72 | N25: 48.35 | O25: q | P25: 48.98 | Q25: =IF(OR(P25="",P25="dns",P25="dnf",P25="dq"),N25,IF(P25>N25,N25,P25)) -> 48.35 | R25: =IF(OR(Q25="",Q25="н/я",Q25="сошёл",Q25="сошла",EXACT("дискв", LEFT(Q25,5))),"",LOOKUP(Q25,$S$1:$AK$1,$S$2:$AK$2)) -> кмс | S25: 12 | T25: Сивченко А.В., Краус А.А., Ледовская О.А.
D26: 7 | E26: ф7 | F26: 443 | G26: НИКИТИН | H26: Олег | I26: 06.06.1997 | J26: КМС | K26: Ульяновская область | M26: ССШОР по лёгкой атлетике | N26: 48.45 | Q26: =IF(OR(P26="",P26="dns",P26="dnf",P26="dq"),N26,IF(P26>N26,N26,P26)) -> 48.45 | R26: =IF(OR(Q26="",Q26="н/я",Q26="сошёл",Q26="сошла",EXACT("дискв", LEFT(Q26,5))),"",LOOKUP(Q26,$S$1:$AK$1,$S$2:$AK$2)) -> кмс | S26: 11 | T26: Маркин М.О.
D27: 8 | E27: ф8 | F27: 386 | G27: ЛОГИНОВ | H27: Иван | I27: 19.06.1997 | J27: МС | K27: Москва Владимирская область | M27: ГБУ "ЦСП по легкой атлетике", СШОР ЮНОСТЬ МОСКВЫ, СШОР-4, СДЮСШОР-4 | N27: 48.5 | Q27: =IF(OR(P27="",P27="dns",P27="dnf",P27="dq"),N27,IF(P27>N27,N27,P27)) -> 48.5 | R27: =IF(OR(Q27="",Q27="н/я",Q27="сошёл",Q27="сошла",EXACT("дискв", LEFT(Q27,5))),"",LOOKUP(Q27,$S$1:$AK$1,$S$2:$AK$2)) -> кмс | S27: лич | T27: Бурлаков О.П.
D28: 9 | F28: 162 | G28: ПРОКОФЬЕВ | H28: Константин | I28: 03.11.1997 | J28: КМС | K28: Санкт-Петербург-1 | M28: СПб ГБУ СШОР "Академия легкой атлетики Санкт-Петербурга" | N28: 48.61 | Q28: =IF(OR(P28="",P28="dns",P28="dnf",P28="dq"),N28,IF(P28>N28,N28,P28)) -> 48.61 | R28: =IF(OR(Q28="",Q28="н/я",Q28="сошёл",Q28="сошла",EXACT("дискв", LEFT(Q28,5))),"",LOOKUP(Q28,$S$1:$AK$1,$S$2:$AK$2)) -> кмс | S28: 10 | T28: Седых Л.А., Жубряков Г.Н.
D29: 10 | F29: 60 | G29: КАРПОВ | H29: Андрей | I29: 11.02.1997 | J29: КМС | K29: Нижегородская область | M29: ДЮСШ "Икар", МБУ КСШОР № 1 | N29: 48.73 | Q29: =IF(OR(P29="",P29="dns",P29="dnf",P29="dq"),N29,IF(P29>N29,N29,P29)) -> 48.73 | R29: =IF(OR(Q29="",Q29="н/я",Q29="сошёл",Q29="сошла",EXACT("дискв", LEFT(Q29,5))),"",LOOKUP(Q29,$S$1:$AK$1,$S$2:$AK$2)) -> кмс | S29: 9 | T29: Ясницкий К.В.
D30: 11 | F30: 204 | G30: ФЁДОРОВ | H30: Андрей | I30: 08.02.1997 | J30: КМС | K30: Курская область | M30: СШОР Железногорск | N30: 48.77 | Q30: =IF(OR(P30="",P30="dns",P30="dnf",P30="dq"),N30,IF(P30>N30,N30,P30)) -> 48.77 | R30: =IF(OR(Q30="",Q30="н/я",Q30="сошёл",Q30="сошла",EXACT("дискв", LEFT(Q30,5))),"",LOOKUP(Q30,$S$1:$AK$1,$S$2:$AK$2)) -> кмс | S30: 8 | T30: Орехов А.В., Орехов Р.А.
D31: 12 | F31: 475 | G31: СИДОРОВ | H31: Алексей | I31: 22.01.1997 | J31: КМС | K31: Челябинская область | M31: СШОР Мосеева | N31: 48.86 | Q31: =IF(OR(P31="",P31="dns",P31="dnf",P31="dq"),N31,IF(P31>N31,N31,P31)) -> 48.86 | R31: =IF(OR(Q31="",Q31="н/я",Q31="сошёл",Q31="сошла",EXACT("дискв", LEFT(Q31,5))),"",LOOKUP(Q31,$S$1:$AK$1,$S$2:$AK$2)) -> кмс | S31: лич | T31: Метликина Л.П., Петров Д.Ю.
D32: 13 | F32: 86 | G32: МАСЮТЕНКО | H32: Александр | I32: 27.04.1998 | J32: КМС | K32: Краснодарский край | M32: "ГБУ КК "ЦОП по Л/А", ГБУ КК "РЦСП по л/а" | N32: 49.02 | Q32: =IF(OR(P32="",P32="dns",P32="dnf",P32="dq"),N32,IF(P32>N32,N32,P32)) -> 49.02 | R32: =IF(OR(Q32="",Q32="н/я",Q32="сошёл",Q32="сошла",EXACT("дискв", LEFT(Q32,5))),"",LOOKUP(Q32,$S$1:$AK$1,$S$2:$AK$2)) -> кмс | S32: лич | T32: Романов А.В.
D33: 14 | F33: 375 | G33: ГЕДАЕВ | H33: Олег | I33: 01.09.1998 | J33: КМС | K33: Москва | M33: ГБУ "ЦСП по легкой атлетике" | N33: 49.04 | Q33: =IF(OR(P33="",P33="dns",P33="dnf",P33="dq"),N33,IF(P33>N33,N33,P33)) -> 49.04 | R33: =IF(OR(Q33="",Q33="н/я",Q33="сошёл",Q33="сошла",EXACT("дискв", LEFT(Q33,5))),"",LOOKUP(Q33,$S$1:$AK$1,$S$2:$AK$2)) -> кмс | S33: лич | T33: Вдовин М.В., Полоницкий А.Е.
D34: 15 | F34: 314 | G34: МАРКУНАСОВ | H34: Антон | I34: 07.11.1998 | J34: КМС | K34: Свердловская область Челябинская область | M34: СК Спутник; УОР, СШОР Мосеева, ЦСП | N34: 49.07 | Q34: =IF(OR(P34="",P34="dns",P34="dnf",P34="dq"),N34,IF(P34>N34,N34,P34)) -> 49.07 | R34: =IF(OR(Q34="",Q34="н/я",Q34="сошёл",Q34="сошла",EXACT("дискв", LEFT(Q34,5))),"",LOOKUP(Q34,$S$1:$AK$1,$S$2:$AK$2)) -> кмс | S34: 7 | T34: Аллеборн Е.В., Хрущелева Н.П., Шарков С.В.
D35: 16 | F35: 276 | G35: ЛЫСЕНКО | H35: Владимир | I35: 10.06.1998 | J35: МС | K35: Московская область | M35: ГБУ МО "ЦСП ОВС", УОР №2 | N35: 49.09 | Q35: =IF(OR(P35="",P35="dns",P35="dnf",P35="dq"),N35,IF(P35>N35,N35,P35)) -> 49.09 | R35: =IF(OR(Q35="",Q35="н/я",Q35="сошёл",Q35="сошла",EXACT("дискв", LEFT(Q35,5))),"",LOOKUP(Q35,$S$1:$AK$1,$S$2:$AK$2)) -> кмс | S35: лич | T35: Мащенко Р.М.
D36: 17 | F36: 28 | G36: ШКУРОВ | H36: Алексей | I36: 17.06.1998 | J36: КМС | K36: Самарская область | M36: СШОР № 2 г. Самара | N36: 49.13 | Q36: =IF(OR(P36="",P36="dns",P36="dnf",P36="dq"),N36,IF(P36>N36,N36,P36)) -> 49.13 | R36: =IF(OR(Q36="",Q36="н/я",Q36="сошёл",Q36="сошла",EXACT("дискв", LEFT(Q36,5))),"",LOOKUP(Q36,$S$1:$AK$1,$S$2:$AK$2)) -> кмс | S36: 6 | T36: Татаренков А.В., Лобачёва Е.Н.
D37: 18 | F37: 145 | G37: ЛУКАХИН | H37: Даниил | I37: 15.06.1998 | J37: КМС | K37: Санкт-Петербург | M37: СПб ГБУ СШОР "Академия легкой атлетики Санкт-Петербурга" | N37: 49.18 | Q37: =IF(OR(P37="",P37="dns",P37="dnf",P37="dq"),N37,IF(P37>N37,N37,P37)) -> 49.18 | R37: =IF(OR(Q37="",Q37="н/я",Q37="сошёл",Q37="сошла",EXACT("дискв", LEFT(Q37,5))),"",LOOKUP(Q37,$S$1:$AK$1,$S$2:$AK$2)) -> кмс | S37: лич | T37: Семененок М.Е., Лапина Н.П.
D38: 19 | F38: 37 | G38: МАТВЕЕВ | H38: Никита | I38: 28.03.2000 | J38: КМС | K38: Ямало-Ненецкий автономный округ Владимирская область | M38: СДЮСШОР АВАНГАРД, СШОР-4, СДЮСШОР 4 | N38: 49.23 | Q38: =IF(OR(P38="",P38="dns",P38="dnf",P38="dq"),N38,IF(P38>N38,N38,P38)) -> 49.23 | R38: =IF(OR(Q38="",Q38="н/я",Q38="сошёл",Q38="сошла",EXACT("дискв", LEFT(Q38,5))),"",LOOKUP(Q38,$S$1:$AK$1,$S$2:$AK$2)) -> кмс | S38: 5 | T38: Плотников П.Н., Хангельдиев Г.А., Плотников А.Н.
D39: 20 | F39: 390 | G39: РУБЦОВ | H39: Артем | I39: 30.05.1998 | J39: КМС | K39: Москва Оренбургская область | M39: ГБУ "МГФСО", ГАУ "ЦСП Оренбургской области" | N39: 49.46 | Q39: =IF(OR(P39="",P39="dns",P39="dnf",P39="dq"),N39,IF(P39>N39,N39,P39)) -> 49.46 | R39: =IF(OR(Q39="",Q39="н/я",Q39="сошёл",Q39="сошла",EXACT("дискв", LEFT(Q39,5))),"",LOOKUP(Q39,$S$1:$AK$1,$S$2:$AK$2)) -> кмс | S39: лич | T39: Голубенко Ю.И., Кирамов С.Х.
D40: 21 | F40: 40 | G40: РОДИЧЕВ | H40: Никита | I40: 31.01.1999 | J40: КМС | K40: Курганская область | M40: КУОР | N40: 49.47 | Q40: =IF(OR(P40="",P40="dns",P40="dnf",P40="dq"),N40,IF(P40>N40,N40,P40)) -> 49.47 | R40: =IF(OR(Q40="",Q40="н/я",Q40="сошёл",Q40="сошла",EXACT("дискв", LEFT(Q40,5))),"",LOOKUP(Q40,$S$1:$AK$1,$S$2:$AK$2)) -> кмс | S40: 4 | T40: Хаменя С.В., Колесникова Е.А.
D41: 22 | F41: 312 | G41: ПРАЩЕРУК | H41: Евгений | I41: 23.07.1997 | J41: КМС | K41: Свердловская область | M41: СК ЛУЧ, РГППУ, ЦСП | N41: 49.53 | Q41: =IF(OR(P41="",P41="dns",P41="dnf",P41="dq"),N41,IF(P41>N41,N41,P41)) -> 49.53 | R41: =IF(OR(Q41="",Q41="н/я",Q41="сошёл",Q41="сошла",EXACT("дискв", LEFT(Q41,5))),"",LOOKUP(Q41,$S$1:$AK$1,$S$2:$AK$2)) -> кмс | S41: 3 | T41: Гусаренко В.С., Колпаков Н.В.
D42: 23 | F42: 442 | G42: ГРИГОРЧЕНКО | H42: Дмитрий | I42: 08.02.1998 | J42: КМС | K42: Ульяновская область | M42: ССШОР по лёгкой атлетике | N42: 49.56 | Q42: =IF(OR(P42="",P42="dns",P42="dnf",P42="dq"),N42,IF(P42>N42,N42,P42)) -> 49.56 | R42: =IF(OR(Q42="",Q42="н/я",Q42="сошёл",Q42="сошла",EXACT("дискв", LEFT(Q42,5))),"",LOOKUP(Q42,$S$1:$AK$1,$S$2:$AK$2)) -> кмс | S42: 2 | T42: Ковалев А.Л., Краснобаев А.А.
D43: 24 | F43: 290 | G43: БАСТЫЛОВ | H43: Кирилл | I43: 10.10.1998 | J43: КМС | K43: Пензенская область | M43: КСШОР | N43: 49.66 | Q43: =IF(OR(P43="",P43="dns",P43="dnf",P43="dq"),N43,IF(P43>N43,N43,P43)) -> 49.66 | R43: =IF(OR(Q43="",Q43="н/я",Q43="сошёл",Q43="сошла",EXACT("дискв", LEFT(Q43,5))),"",LOOKUP(Q43,$S$1:$AK$1,$S$2:$AK$2)) -> кмс | S43: 1 | T43: Краснов Р.Б.
D44: 25 | F44: 392 | G44: САФРОНОВ | H44: Эдуард | I44: 15.09.1998 | J44: КМС | K44: Москва | M44: ГБУ "МГФСО" | N44: 49.75 | Q44: =IF(OR(P44="",P44="dns",P44="dnf",P44="dq"),N44,IF(P44>N44,N44,P44)) -> 49.75 | R44: =IF(OR(Q44="",Q44="н/я",Q44="сошёл",Q44="сошла",EXACT("дискв", LEFT(Q44,5))),"",LOOKUP(Q44,$S$1:$AK$1,$S$2:$AK$2)) -> кмс | S44: лич
D45: 26 | F45: 468 | G45: БЫЗОВ | H45: Михаил | I45: 12.05.1999 | J45: КМС | K45: Челябинская область | M45: СШОР Елесиной | N45: 49.78 | Q45: =IF(OR(P45="",P45="dns",P45="dnf",P45="dq"),N45,IF(P45>N45,N45,P45)) -> 49.78 | R45: =IF(OR(Q45="",Q45="н/я",Q45="сошёл",Q45="сошла",EXACT("дискв", LEFT(Q45,5))),"",LOOKUP(Q45,$S$1:$AK$1,$S$2:$AK$2)) -> кмс | S45: лич | T45: Казачук А.Б.
D46: 27 | F46: 455 | G46: ИВАНЧЕНКО | H46: Антон | I46: 17.04.1997 | J46: КМС | K46: Челябинская область | M46: СШОР Мосеева | N46: 49.81 | Q46: =IF(OR(P46="",P46="dns",P46="dnf",P46="dq"),N46,IF(P46>N46,N46,P46)) -> 49.81 | R46: =IF(OR(Q46="",Q46="н/я",Q46="сошёл",Q46="сошла",EXACT("дискв", LEFT(Q46,5))),"",LOOKUP(Q46,$S$1:$AK$1,$S$2:$AK$2)) -> кмс | S46: 1 | T46: Медведев Ю.А., Ширяев В.А.
D47: 28 | F47: 32 | G47: ШИТОВ | H47: Даниил | I47: 19.02.1999 | J47: КМС | K47: Самарская область | M47: СДЮСШОР 3 г. Тольятти | N47: 49.84 | Q47: =IF(OR(P47="",P47="dns",P47="dnf",P47="dq"),N47,IF(P47>N47,N47,P47)) -> 49.84 | R47: =IF(OR(Q47="",Q47="н/я",Q47="сошёл",Q47="сошла",EXACT("дискв", LEFT(Q47,5))),"",LOOKUP(Q47,$S$1:$AK$1,$S$2:$AK$2)) -> кмс | S47: лич | T47: Филимонов Р.Б.
D48: 29 | F48: 156 | G48: ОЛЕНКОВИЧУС | H48: Илья | I48: 28.12.1998 | J48: КМС | K48: Санкт-Петербург | M48: СШОР Невского р-на № 1 ( Санкт-Петербург) | N48: 49.85 | Q48: =IF(OR(P48="",P48="dns",P48="dnf",P48="dq"),N48,IF(P48>N48,N48,P48)) -> 49.85 | R48: =IF(OR(Q48="",Q48="н/я",Q48="сошёл",Q48="сошла",EXACT("дискв", LEFT(Q48,5))),"",LOOKUP(Q48,$S$1:$AK$1,$S$2:$AK$2)) -> кмс | S48: лич | T48: Жубряков Г.Н., Никитина Н.Н.
D49: 30 | F49: 470 | G49: ЗУБКОВ | H49: Илья | I49: 26.01.1998 | J49: КМС | K49: Челябинская область | M49: СШОР Мосеева | N49: 49.94 | Q49: =IF(OR(P49="",P49="dns",P49="dnf",P49="dq"),N49,IF(P49>N49,N49,P49)) -> 49.94 | R49: =IF(OR(Q49="",Q49="н/я",Q49="сошёл",Q49="сошла",EXACT("дискв", LEFT(Q49,5))),"",LOOKUP(Q49,$S$1:$AK$1,$S$2:$AK$2)) -> кмс | S49: лич | T49: Трегубова В.В.
D50: 31 | F50: 57 | G50: ЩЕПЕЛИН | H50: Дмитрий | I50: 24.12.1999 | J50: КМС | K50: Тюменская область | M50: ОСШОР | N50: 49.99 | Q50: =IF(OR(P50="",P50="dns",P50="dnf",P50="dq"),N50,IF(P50>N50,N50,P50)) -> 49.99 | R50: =IF(OR(Q50="",Q50="н/я",Q50="сошёл",Q50="сошла",EXACT("дискв", LEFT(Q50,5))),"",LOOKUP(Q50,$S$1:$AK$1,$S$2:$AK$2)) -> кмс | S50: 1 | T50: Орлов М.В.
D51: 32 | F51: 105 | G51: АНТИПОВ | H51: Георгий | I51: 05.04.1999 | J51: КМС | K51: Санкт-Петербург | M51: СПб ГБУ СШОР "Академия легкой атлетики Санкт-Петербурга" | N51: 50.05 | Q51: =IF(OR(P51="",P51="dns",P51="dnf",P51="dq"),N51,IF(P51>N51,N51,P51)) -> 50.05 | R51: =IF(OR(Q51="",Q51="н/я",Q51="сошёл",Q51="сошла",EXACT("дискв", LEFT(Q51,5))),"",LOOKUP(Q51,$S$1:$AK$1,$S$2:$AK$2)) -> кмс | S51: лич | T51: Бежан Н.Ф., Алексеев В.Г.
D52: 33 | F52: 310 | G52: ГОВОРУХА | H52: Даниил | I52: 16.08.1999 | J52: 1 | K52: Свердловская область | M52: СШ Лидер, РГППУ, ЦСП | N52: 50.07 | Q52: =IF(OR(P52="",P52="dns",P52="dnf",P52="dq"),N52,IF(P52>N52,N52,P52)) -> 50.07 | R52: =IF(OR(Q52="",Q52="н/я",Q52="сошёл",Q52="сошла",EXACT("дискв", LEFT(Q52,5))),"",LOOKUP(Q52,$S$1:$AK$1,$S$2:$AK$2)) -> кмс | S52: 1 | T52: Завалихина Т.Г., Шитов А.В.
D53: 34 | F53: 31 | G53: ШЕПЕЛЕВ | H53: Всеволод | I53: 29.05.2001 | J53: КМС | K53: Самарская область | M53: СДЮСШОР № 3 г. Тольятти | N53: 50.18 | Q53: =IF(OR(P53="",P53="dns",P53="dnf",P53="dq"),N53,IF(P53>N53,N53,P53)) -> 50.18 | R53: =IF(OR(Q53="",Q53="н/я",Q53="сошёл",Q53="сошла",EXACT("дискв", LEFT(Q53,5))),"",LOOKUP(Q53,$S$1:$AK$1,$S$2:$AK$2)) -> кмс | S53: лич | T53: Шепелев А.В., Шепелева Т.И.
D54: 35 | F54: 329 | G54: КУРБАНОВ | H54: Курбан | I54: 24.06.1998 | J54: КМС | K54: Республика Дагестан | M54: ДЮСШ ИВ и Л/А | N54: 50.19 | Q54: =IF(OR(P54="",P54="dns",P54="dnf",P54="dq"),N54,IF(P54>N54,N54,P54)) -> 50.19 | R54: =IF(OR(Q54="",Q54="н/я",Q54="сошёл",Q54="сошла",EXACT("дискв", LEFT(Q54,5))),"",LOOKUP(Q54,$S$1:$AK$1,$S$2:$AK$2)) -> кмс | S54: 1 | T54: Степанов С.А.
D55: 35 | F55: 469 | G55: ГРЕКОВ | H55: Роман | I55: 15.02.1999 | J55: КМС | K55: Челябинская область | M55: СШОР Мосеева | N55: 50.19 | Q55: =IF(OR(P55="",P55="dns",P55="dnf",P55="dq"),N55,IF(P55>N55,N55,P55)) -> 50.19 | R55: =IF(OR(Q55="",Q55="н/я",Q55="сошёл",Q55="сошла",EXACT("дискв", LEFT(Q55,5))),"",LOOKUP(Q55,$S$1:$AK$1,$S$2:$AK$2)) -> кмс | S55: лич | T55: Аллеборн Е.В., Зыков А.И., Хаустов А.В.
D56: 37 | F56: 485 | G56: САПРЫКИН | H56: Сергей | I56: 11.08.1997 | J56: КМС | K56: Волгоградская область | M56: СШОР, ВогГТУ | N56: 50.26 | Q56: =IF(OR(P56="",P56="dns",P56="dnf",P56="dq"),N56,IF(P56>N56,N56,P56)) -> 50.26 | R56: =IF(OR(Q56="",Q56="н/я",Q56="сошёл",Q56="сошла",EXACT("дискв", LEFT(Q56,5))),"",LOOKUP(Q56,$S$1:$AK$1,$S$2:$AK$2)) -> кмс | S56: лич | T56: Кайдалин В.С.
D57: 38 | F57: 170 | G57: СКОСАРЬ | H57: Михаил | I57: 31.03.1999 | J57: КМС | K57: Санкт-Петербург | M57: СШОР Центрального р-на | N57: 50.36 | Q57: =IF(OR(P57="",P57="dns",P57="dnf",P57="dq"),N57,IF(P57>N57,N57,P57)) -> 50.36 | R57: =IF(OR(Q57="",Q57="н/я",Q57="сошёл",Q57="сошла",EXACT("дискв", LEFT(Q57,5))),"",LOOKUP(Q57,$S$1:$AK$1,$S$2:$AK$2)) -> кмс | S57: лич | T57: Фролова О.А.
D58: 39 | F58: 206 | G58: ШМЫГАРЁВ | H58: Александр | I58: 28.09.1999 | J58: 1 | K58: Курская область | M58: СШОР Железногорск | N58: 50.37 | Q58: =IF(OR(P58="",P58="dns",P58="dnf",P58="dq"),N58,IF(P58>N58,N58,P58)) -> 50.37 | R58: =IF(OR(Q58="",Q58="н/я",Q58="сошёл",Q58="сошла",EXACT("дискв", LEFT(Q58,5))),"",LOOKUP(Q58,$S$1:$AK$1,$S$2:$AK$2)) -> кмс | S58: лич | T58: Тихонов А.В., Тихонова М.С.
D59: 40 | F59: 62 | G59: КУТУЕВ | H59: Роман | I59: 05.05.2001 | J59: КМС | K59: Нижегородская область | M59: УОР, ФОК "Первомайский" (Нижегородская область), ДЮСШ "Нижегородец" | N59: 50.52 | Q59: =IF(OR(P59="",P59="dns",P59="dnf",P59="dq"),N59,IF(P59>N59,N59,P59)) -> 50.52 | R59: =IF(OR(Q59="",Q59="н/я",Q59="сошёл",Q59="сошла",EXACT("дискв", LEFT(Q59,5))),"",LOOKUP(Q59,$S$1:$AK$1,$S$2:$AK$2)) -> кмс | S59: 1 | T59: Кондратьева Е.С., Борисенко Е.М.
D60: 41 | F60: 326 | G60: СВЕТЛОВ | H60: Даниил | I60: 19.11.1999 | J60: КМС | K60: Ярославская область | M60: МУ СШОР № 2 | N60: 50.63 | Q60: =IF(OR(P60="",P60="dns",P60="dnf",P60="dq"),N60,IF(P60>N60,N60,P60)) -> 50.63 | R60: =IF(OR(Q60="",Q60="н/я",Q60="сошёл",Q60="сошла",EXACT("дискв", LEFT(Q60,5))),"",LOOKUP(Q60,$S$1:$AK$1,$S$2:$AK$2)) -> I | S60: 1 | T60: Зверев В.Н.
D61: 42 | F61: 92 | G61: БЕЛЯЕВ | H61: Илья | I61: 18.01.1998 | J61: КМС | K61: Вологодская область | M61: АУ ФКиС ВО "ЦСП" | N61: 50.79 | Q61: =IF(OR(P61="",P61="dns",P61="dnf",P61="dq"),N61,IF(P61>N61,N61,P61)) -> 50.79 | R61: =IF(OR(Q61="",Q61="н/я",Q61="сошёл",Q61="сошла",EXACT("дискв", LEFT(Q61,5))),"",LOOKUP(Q61,$S$1:$AK$1,$S$2:$AK$2)) -> I | S61: 1 | T61: Селюцкий С.А.
D62: 43 | F62: 484 | G62: КОРНЕВ | H62: Егор | I62: 30.03.1998 | J62: КМС | K62: Волгоградская область | M62: СШОР | N62: 50.88 | Q62: =IF(OR(P62="",P62="dns",P62="dnf",P62="dq"),N62,IF(P62>N62,N62,P62)) -> 50.88 | R62: =IF(OR(Q62="",Q62="н/я",Q62="сошёл",Q62="сошла",EXACT("дискв", LEFT(Q62,5))),"",LOOKUP(Q62,$S$1:$AK$1,$S$2:$AK$2)) -> I | S62: лич | T62: Усков М.А.
D63: 44 | F63: 412 | G63: ГАЛЫБИН | H63: Игорь | I63: 21.02.2001 | J63: КМС | K63: Ульяновская область | M63: ССШОР по лёгкой атлетике | N63: 51.06 | Q63: =IF(OR(P63="",P63="dns",P63="dnf",P63="dq"),N63,IF(P63>N63,N63,P63)) -> 51.06 | R63: =IF(OR(Q63="",Q63="н/я",Q63="сошёл",Q63="сошла",EXACT("дискв", LEFT(Q63,5))),"",LOOKUP(Q63,$S$1:$AK$1,$S$2:$AK$2)) -> I | S63: 1 | T63: Еремеев А., Еремеева А.
D64: 45 | F64: 150 | G64: МИШАКОВ | H64: Дмитрий | I64: 20.08.1999 | J64: 1 | K64: Санкт-Петербург | M64: СПб ГБУ СШОР "Академия легкой атлетики Санкт-Петербурга" | N64: 51.18 | Q64: =IF(OR(P64="",P64="dns",P64="dnf",P64="dq"),N64,IF(P64>N64,N64,P64)) -> 51.18 | R64: =IF(OR(Q64="",Q64="н/я",Q64="сошёл",Q64="сошла",EXACT("дискв", LEFT(Q64,5))),"",LOOKUP(Q64,$S$1:$AK$1,$S$2:$AK$2)) -> I | S64: лич | T64: Бежан Н.Ф.
D65: 46 | F65: 116 | G65: ГАПОНОВ | H65: Дмитрий | I65: 26.05.1997 | J65: КМС | K65: Санкт-Петербург Калужская область | M65: ЦОП "ШВСМ л/атл." (СПб) | N65: 51.29 | Q65: =IF(OR(P65="",P65="dns",P65="dnf",P65="dq"),N65,IF(P65>N65,N65,P65)) -> 51.29 | R65: =IF(OR(Q65="",Q65="н/я",Q65="сошёл",Q65="сошла",EXACT("дискв", LEFT(Q65,5))),"",LOOKUP(Q65,$S$1:$AK$1,$S$2:$AK$2)) -> I | S65: лич | T65: Назаров В.И., Петров С.Г., Алиев Г.Г.
D66: 47 | F66: 248 | G66: КОЛМАГОРОВ | H66: Эдуард | I66: 04.04.1999 | J66: КМС | K66: Забайкальский край | M66: ЗабГУ, МБУ "СШОР №2" г. Чита, ГУ "РЦСП" | N66: 51.76 | Q66: =IF(OR(P66="",P66="dns",P66="dnf",P66="dq"),N66,IF(P66>N66,N66,P66)) -> 51.76 | R66: =IF(OR(Q66="",Q66="н/я",Q66="сошёл",Q66="сошла",EXACT("дискв", LEFT(Q66,5))),"",LOOKUP(Q66,$S$1:$AK$1,$S$2:$AK$2)) -> I | S66: 1 | T66: Седаков С.Э.
D67: 48 | F67: 147 | G67: МАКСИМЕНКО | H67: Борислав | I67: 08.07.1998 | J67: КМС | K67: Санкт-Петербург | M67: ГБОУ школа-интернат №357 "Олимпийские надежды" Приморского р-на СПб | N67: 51.79 | Q67: =IF(OR(P67="",P67="dns",P67="dnf",P67="dq"),N67,IF(P67>N67,N67,P67)) -> 51.79 | R67: =IF(OR(Q67="",Q67="н/я",Q67="сошёл",Q67="сошла",EXACT("дискв", LEFT(Q67,5))),"",LOOKUP(Q67,$S$1:$AK$1,$S$2:$AK$2)) -> I | S67: лич | T67: Васильев И.С.
D68: 49 | F68: 444 | G68: ПИГАСОВ | H68: Артём | I68: 18.02.1998 | J68: 1 | K68: Ульяновская область | M68: УЛГПУ | N68: 52.29 | Q68: =IF(OR(P68="",P68="dns",P68="dnf",P68="dq"),N68,IF(P68>N68,N68,P68)) -> 52.29 | R68: =IF(OR(Q68="",Q68="н/я",Q68="сошёл",Q68="сошла",EXACT("дискв", LEFT(Q68,5))),"",LOOKUP(Q68,$S$1:$AK$1,$S$2:$AK$2)) -> I | S68: 1 | T68: Лаврентьев В.А., Анисимова Е.А.
F69: 205 | G69: ПРОСКУРИН | H69: Никита | I69: 14.06.1997 | J69: КМС | K69: Курская область | M69: СШОР "Урожай" | N69: DNF | Q69: =IF(OR(P69="",P69="dns",P69="dnf",P69="dq"),N69,IF(P69>N69,N69,P69)) -> DNF | S69: лич | T69: Шаева Т.И.
F70: 144 | G70: ЛУЖИНСКИЙ | H70: Кирилл | I70: 20.03.1999 | J70: МС | K70: Санкт-Петербург Вологодская область | M70: ДЮСШ 2, ЦОП "ШВСМ л/атл." (СПб), СПб ГБПОУ "УОР № 1, УОР 1, АУ ФКиС ВО "ЦСП" | N70: r/med | Q70: =IF(OR(P70="",P70="dns",P70="dnf",P70="dq"),N70,IF(P70>N70,N70,P70)) -> r/med | S70: лич | T70: Климов А.Г., Столбова О.В.
R71: =IF(OR(N71="",N71="н/я",N71="сошёл",N71="сошла",EXACT("дискв", LEFT(N71,5))),"",LOOKUP(N71,$V$1:$EN$1,$V$2:$EN$2))
R72: =IF(OR(N72="",N72="н/я",N72="сошёл",N72="сошла",EXACT("дискв", LEFT(N72,5))),"",LOOKUP(N72,$V$1:$EN$1,$V$2:$EN$2))
R73: =IF(OR(N73="",N73="н/я",N73="сошёл",N73="сошла",EXACT("дискв", LEFT(N73,5))),"",LOOKUP(N73,$V$1:$EN$1,$V$2:$EN$2))
H74: Главный судья соревнований | N74: Уйк А.Г. /СПб, ССВк/
H76: Главный секретарь соревнований | N76: Алексеева О.К. /СПб, ССВк/
R77: =IF(OR(N77="",N77="н/я",N77="сошёл",N77="сошла",EXACT("дискв", LEFT(N77,5))),"",LOOKUP(N77,$V$1:$EN$1,$V$2:$EN$2))
R78: =IF(OR(N78="",N78="н/я",N78="сошёл",N78="сошла",EXACT("дискв", LEFT(N78,5))),"",LOOKUP(N78,$V$1:$EN$1,$V$2:$EN$2))
R79: =IF(OR(N79="",N79="н/я",N79="сошёл",N79="сошла",EXACT("дискв", LEFT(N79,5))),"",LOOKUP(N79,$V$1:$EN$1,$V$2:$EN$2))
R80: =IF(OR(N80="",N80="н/я",N80="сошёл",N80="сошла",EXACT("дискв", LEFT(N80,5))),"",LOOKUP(N80,$V$1:$EN$1,$V$2:$EN$2))

Sheet 800Ю
M1: МИНИСТЕРСТВО СПОРТА РОССИЙСКОЙ ФЕДЕРАЦИИ | V1: 1.30,00 | W1: 1.48,10 | X1: 1.48,101 | Y1: 1.50,84 | Z1: 1.50,841 | AA1: 1.56,34 | AB1: 1.56,341 | AC1: 2.02,84 | AD1: 2.02,841 | AE1: 2.11,84 | AF1: 2.11,841 | AG1: 2.21,84 | AH1: 2.21,841 | AI1: 2.32,84 | AJ1: 2.32,841 | AK1: 2.44,84 | AL1: 2.44,841 | AM1: 2.59,84 | AN1: 2.59,841
M2: ВСЕРОССИЙСКАЯ ФЕДЕРАЦИЯ ЛЕГКОЙ АТЛЕТИКИ | V2: мсмк | W2: мсмк | X2: мс | Y2: мс | Z2: кмс | AA2: кмс | AB2: I | AC2: I | AD2: II | AE2: II | AF2: III | AG2: III | AH2: 1юн | AI2: 1юн | AJ2: 2юн | AK2: 2юн | AL2: 3юн | AM2: 3юн | AN2: б/р
M3: КОМИТЕТ ПО ФИЗИЧЕСКОЙ КУЛЬТУРЕ И СПОРТУ САНКТ-ПЕТЕРБУРГА
M4: СПОРТИВНАЯ ФЕДЕРАЦИЯ ЛЕГКОЙ АТЛЕТИКИ САНКТ-ПЕТЕРБУРГА
M6: Первенство России по легкой атлетике | V6: 1.30,00 | W6: 1.48,10 | X6: 1.48,101 | Y6: 1.50,84 | Z6: 1.50,841 | AA6: 1.56,34 | AB6: 1.56,341 | AC6: 2.02,84 | AD6: 2.02,841 | AE6: 2.11,84 | AF6: 2.11,841 | AG6: 2.21,84 | AH6: 2.21,841 | AI6: 2.32,84 | AJ6: 2.32,841 | AK6: 2.44,84 | AL6: 2.44,841 | AM6: 2.59,84 | AN6: 2.59,841
M7: (среди юниоров и юниорок до 23 лет) в помещении | V7: мсмк | W7: мсмк | X7: мс | Y7: мс | Z7: кмс | AA7: кмс | AB7: I | AC7: I | AD7: II | AE7: II | AF7: III | AG7: III | AH7: 1юн | AI7: 1юн | AJ7: 2юн | AK7: 2юн | AL7: 3юн | AM7: 3юн | AN7: б/р
D8: 1.44,15 | F8: Рекорд Мира 23
D9: 1.44,15 | F9: Рекорд Европы 23 | M9: ИТОГОВЫЙ ПРОТОКОЛ
D10: 1.44,15 | F10: Рекорд России 23
M11: ЮНИОРЫ
D13: Санкт-Петербург, Легкоатлетический манеж | T13: 19 - 21 февраля 2019 г.
D15: Место | E15: ф | F15: Номер | G15: Фамилия | H15: Имя | I15: Дата рожд | J15: Разр. | K15: Территория | M15: Организация | N15: Результаты | R15: Разряд | S15: ОЧКИ | T15: Тренер
H17: 19 февраля 2019 г. | I17: Забеги 15:40 -16:05 | T17: Бег 800 м
H18: 20 февраля 2019 г. | I18: Финал 17:10 - 17:15 | N18: забеги | O18: Q | P18: финал
D20: 1 | E20: ф1 | F20: 259 | G20: ЗУЕВ | H20: Константин | I20: 23.12.1998 | J20: КМС | K20: Московская область | M20: ДЮСШ "Сатурн", УОР №1 | N20: 1.50,23 | O20: Q | P20: 1.50,17 | Q20: =IF(OR(P20="",P20="dns",P20="dnf",P20="dq"),N20,IF(P20>N20,N20,P20)) -> 1.50,17 | R20: =LOOKUP(Q20,$V$1:$AN$1,$V$2:$AN$2) -> мс | S20: 25 | T20: Никифоров А.М., Сударева Н.И.
D21: 2 | E21: ф4 | F21: 344 | G21: РАЩУПКИН | H21: Игорь | I21: 03.09.1997 | J21: КМС | K21: Москва-1 | M21: СШОР Юность Москвы по л/а им.бр.Знаменских | N21: 1.51,38 | O21: Q | P21: 1.50,20 | Q21: =IF(OR(P21="",P21="dns",P21="dnf",P21="dq"),N21,IF(P21>N21,N21,P21)) -> 1.50,20 | R21: =LOOKUP(Q21,$V$1:$AN$1,$V$2:$AN$2) -> мс | S21: 22 | T21: Граудынь В.В., Бирюков В.Н.
D22: 3 | E22: ф6 | F22: 446 | G22: ШМЕЛЕВ | H22: Ярослав | I22: 02.02.2000 | J22: КМС | K22: Ульяновская область | M22: ССШОР по лёгкой атлетике | N22: 1.52,20 | O22: Q | P22: 1.51,90 | Q22: =IF(OR(P22="",P22="dns",P22="dnf",P22="dq"),N22,IF(P22>N22,N22,P22)) -> 1.51,90 | R22: =LOOKUP(Q22,$V$1:$AN$1,$V$2:$AN$2) -> кмс | S22: 15 | T22: Павлова Р.А., Лаврентьев В.А., Анисимова Е.А.
D23: 4 | E23: ф3 | F23: 91 | G23: МОРОЗКИН | H23: Вадим | I23: 30.09.1997 | J23: КМС | K23: Республика Мордовия | M23: СШОР им П.Г. Болотникова | N23: 1.50,80 | O23: Q | P23: 1.52,01 | Q23: =IF(OR(P23="",P23="dns",P23="dnf",P23="dq"),N23,IF(P23>N23,N23,P23)) -> 1.50,80 | R23: =LOOKUP(Q23,$V$1:$AN$1,$V$2:$AN$2) -> мс | S23: 19 | T23: Аверкин В.В., Нуштаев Е.А.
D24: 5 | E24: ф5 | F24: 514 | G24: МАЗНЫЙ | H24: Богдан | I24: 26.10.1999 | J24: КМС | K24: ЮФО (К) | M24: ГБУ РК "СШОР по легкой атлетике № 1" | N24: 1.52,01 | O24: Q | P24: 1.52,44 | Q24: =IF(OR(P24="",P24="dns",P24="dnf",P24="dq"),N24,IF(P24>N24,N24,P24)) -> 1.52,01 | R24: =LOOKUP(Q24,$V$1:$AN$1,$V$2:$AN$2) -> кмс | S24: 13 | T24: Дубовик А.И.
D25: 6 | E25: ф8 | F25: 393 | G25: СИНЕНКОВ | H25: Кирилл | I25: 29.08.1998 | J25: КМС | K25: Москва | M25: ГБУ ФСО "ЮМ" СШОР им.бр. Знаменских | N25: 1.52,92 | O25: Q | P25: 1.52,60 | Q25: =IF(OR(P25="",P25="dns",P25="dnf",P25="dq"),N25,IF(P25>N25,N25,P25)) -> 1.52,60 | R25: =LOOKUP(Q25,$V$1:$AN$1,$V$2:$AN$2) -> кмс | S25: лич | T25: Фоменков Ю.Н.
D26: 7 | E26: ф2 | F26: 466 | G26: ЧЕШЕВ | H26: Максим | I26: 25.12.1997 | J26: КМС | K26: Челябинская область | M26: СШОР 1 Магнитогорск | N26: 1.50,73 | O26: Q | P26: 1.53,87 | Q26: =IF(OR(P26="",P26="dns",P26="dnf",P26="dq"),N26,IF(P26>N26,N26,P26)) -> 1.50,73 | R26: =LOOKUP(Q26,$V$1:$AN$1,$V$2:$AN$2) -> мс | S26: 17 | T26: Чешев А.А.
D27: 8 | E27: ф7 | F27: 74 | G27: СМОЛЬНЯКОВСКИЙ | H27: Даниил | I27: 06.04.1998 | J27: КМС | K27: Краснодарский край Ставропольский край | M27: ЦСКА, ГБУ СК РЦСП, ГБУ КК "РЦСП по л/а" | N27: 1.52,79 | O27: Q | P27: 1.54,29 | Q27: =IF(OR(P27="",P27="dns",P27="dnf",P27="dq"),N27,IF(P27>N27,N27,P27)) -> 1.52,79 | R27: =LOOKUP(Q27,$V$1:$AN$1,$V$2:$AN$2) -> кмс | S27: 11 | T27: Иванов Н.А., Татаринцев А.Г., Татаринцев С.А.
D28: 9 | F28: 241 | G28: САВЛУКОВ | H28: Савелий | I28: 06.01.2000 | J28: 1 | K28: Алтайский край | M28: г.Барнаул СШОР № 2 | N28: 1.53,18 | Q28: =IF(OR(P28="",P28="dns",P28="dnf",P28="dq"),N28,IF(P28>N28,N28,P28)) -> 1.53,18 | R28: =LOOKUP(Q28,$V$1:$AN$1,$V$2:$AN$2) -> кмс | S28: 10 | T28: Клевцова Н.В., Панина Е.А.
D29: 10 | F29: 460 | G29: МЯГКИЙ | H29: Марк | I29: 11.04.1998 | J29: КМС | K29: Челябинская область | M29: СШОР Мосеева | N29: 1.53,36 | Q29: =IF(OR(P29="",P29="dns",P29="dnf",P29="dq"),N29,IF(P29>N29,N29,P29)) -> 1.53,36 | R29: =LOOKUP(Q29,$V$1:$AN$1,$V$2:$AN$2) -> кмс | S29: 9 | T29: Князев С.А.
D30: 11 | F30: 248 | G30: КОЛМАГОРОВ | H30: Эдуард | I30: 04.04.1999 | J30: КМС | K30: Забайкальский край | M30: ЗабГУ, МБУ "СШОР №2" г. Чита, ГУ "РЦСП" | N30: 1.53,42 | Q30: =IF(OR(P30="",P30="dns",P30="dnf",P30="dq"),N30,IF(P30>N30,N30,P30)) -> 1.53,42 | R30: =LOOKUP(Q30,$V$1:$AN$1,$V$2:$AN$2) -> кмс | S30: 8 | T30: Седаков С.Э.
D31: 12 | F31: 142 | G31: ЛИМОНОВ | H31: Егор | I31: 22.06.1999 | J31: 1 | K31: Санкт-Петербург | M31: Беговой клуб " Второе дыхание" | N31: 1.53,58 | Q31: =IF(OR(P31="",P31="dns",P31="dnf",P31="dq"),N31,IF(P31>N31,N31,P31)) -> 1.53,58 | R31: =LOOKUP(Q31,$V$1:$AN$1,$V$2:$AN$2) -> кмс | S31: лич | T31: Бабчин О.И.
D32: 13 | F32: 87 | G32: РАХМАНОВ | H32: Руслан | I32: 24.04.1997 | J32: КМС | K32: Краснодарский край | M32: ГБУ КК "РЦСП по л/а", "ГБУ КК "ЦОП по Л/А" | N32: 1.53,60 | Q32: =IF(OR(P32="",P32="dns",P32="dnf",P32="dq"),N32,IF(P32>N32,N32,P32)) -> 1.53,60 | R32: =LOOKUP(Q32,$V$1:$AN$1,$V$2:$AN$2) -> кмс | S32: лич | T32: Гуков А.О.
D33: 14 | F33: 338 | G33: КРИВЧИКОВ | H33: Егор | I33: 07.05.1998 | J33: КМС | K33: Ростовская область | M33: РОУОР | N33: 1.53,82 | Q33: =IF(OR(P33="",P33="dns",P33="dnf",P33="dq"),N33,IF(P33>N33,N33,P33)) -> 1.53,82 | R33: =LOOKUP(Q33,$V$1:$AN$1,$V$2:$AN$2) -> кмс | S33: 7 | T33: Чижов В.Е., Вовк Т.И.
D34: 15 | F34: 342 | G34: БУБНЕВ | H34: Алексей | I34: 16.03.1998 | J34: КМС | K34: Калужская область | M34: СШОР "Темп" г. Калуги | N34: 1.53,86 | Q34: =IF(OR(P34="",P34="dns",P34="dnf",P34="dq"),N34,IF(P34>N34,N34,P34)) -> 1.53,86 | R34: =LOOKUP(Q34,$V$1:$AN$1,$V$2:$AN$2) -> кмс | S34: 6 | T34: Зайцева З.Х., Богданов Д.А.
D35: 16 | F35: 167 | G35: СЕМЕНОВ | H35: Владислав | I35: 07.06.1999 | J35: КМС | K35: Санкт-Петербург | M35: СПб ГБУ СШОР "Академия легкой атлетики Санкт-Петербурга", СПб ГБПОУ "УОР № 1 | N35: 1.54,20 | Q35: =IF(OR(P35="",P35="dns",P35="dnf",P35="dq"),N35,IF(P35>N35,N35,P35)) -> 1.54,20 | R35: =LOOKUP(Q35,$V$1:$AN$1,$V$2:$AN$2) -> кмс | S35: лич | T35: Жолнерович В.И., Семенов В.
D36: 17 | F36: 155 | G36: НОСКОВ | H36: Владислав | I36: 19.12.1997 | J36: КМС | K36: Санкт-Петербург | M36: СПб ГБУ СШОР "Академия легкой атлетики Санкт-Петербурга" | N36: 1.54,21 | Q36: =IF(OR(P36="",P36="dns",P36="dnf",P36="dq"),N36,IF(P36>N36,N36,P36)) -> 1.54,21 | R36: =LOOKUP(Q36,$V$1:$AN$1,$V$2:$AN$2) -> кмс | S36: лич | T36: Глушак П.Б., Глушак Н.М.
D37: 18 | F37: 177 | G37: ТКАЧ | H37: Владислав | I37: 18.04.1999 | J37: КМС | K37: Санкт-Петербург | M37: СШ Красногвардейского района ( Санкт-Петербург) | N37: 1.54,56 | Q37: =IF(OR(P37="",P37="dns",P37="dnf",P37="dq"),N37,IF(P37>N37,N37,P37)) -> 1.54,56 | R37: =LOOKUP(Q37,$V$1:$AN$1,$V$2:$AN$2) -> кмс | S37: лич | T37: Морозова Н.И., Морозов В.И.
D38: 19 | F38: 401 | G38: ЗАХАРОВ | H38: Эдгар | I38: 26.04.2001 | J38: КМС | K38: Республика Татарстан | M38: ДЮСШ 1 Бавлы | N38: 1.54,70 | Q38: =IF(OR(P38="",P38="dns",P38="dnf",P38="dq"),N38,IF(P38>N38,N38,P38)) -> 1.54,70 | R38: =LOOKUP(Q38,$V$1:$AN$1,$V$2:$AN$2) -> кмс | S38: 5 | T38: Фахриев М.М.
D39: 20 | F39: 313 | G39: ЕМЕЛЬЯНОВ | H39: Денис | I39: 18.01.1999 | J39: КМС | K39: Свердловская область | M39: ЛУЧ, ЕЭТК, ЦСП | N39: 1.54,72 | Q39: =IF(OR(P39="",P39="dns",P39="dnf",P39="dq"),N39,IF(P39>N39,N39,P39)) -> 1.54,72 | R39: =LOOKUP(Q39,$V$1:$AN$1,$V$2:$AN$2) -> кмс | S39: 4 | T39: Львов Г.Г., Масаев Е.Р., Масаева Е.В.
D40: 21 | F40: 461 | G40: НИКИТИН | H40: Артемий | I40: 26.07.1999 | J40: КМС | K40: Челябинская область | M40: СШОР 1 Магнитогорск | N40: 1.54,73 | Q40: =IF(OR(P40="",P40="dns",P40="dnf",P40="dq"),N40,IF(P40>N40,N40,P40)) -> 1.54,73 | R40: =LOOKUP(Q40,$V$1:$AN$1,$V$2:$AN$2) -> кмс | S40: 3 | T40: Андреева М.В., Андреев А.Н., Рыжкова Т.В.
D41: 22 | F41: 64 | G41: ПОСТВАЙКИН | H41: Кирилл | I41: 27.07.1997 | J41: 1 | K41: Нижегородская область | M41: НА МВД РФ, МБУ КСШОР № 1 | N41: 1.54,85 | Q41: =IF(OR(P41="",P41="dns",P41="dnf",P41="dq"),N41,IF(P41>N41,N41,P41)) -> 1.54,85 | R41: =LOOKUP(Q41,$V$1:$AN$1,$V$2:$AN$2) -> кмс | S41: 2 | T41: Свиридов А.И., Ясницкий К.В.
D42: 23 | F42: 288 | G42: КОМИССАРЕНКО | H42: Станислав | I42: 07.12.1998 | J42: КМС | K42: Рязанская область | M42: СШОР "Олимпиец" | N42: 1.55,07 | Q42: =IF(OR(P42="",P42="dns",P42="dnf",P42="dq"),N42,IF(P42>N42,N42,P42)) -> 1.55,07 | R42: =LOOKUP(Q42,$V$1:$AN$1,$V$2:$AN$2) -> кмс | S42: 1 | T42: Куделина Н.М.
D43: 24 | F43: 13 | G43: АСТРАХАНСКИЙ | H43: Алексей | I43: 05.02.1999 | J43: 1 | K43: Самарская область | M43: СДЮСШОР 3 ТОЛЬЯТТИ | N43: 1.55,27 | Q43: =IF(OR(P43="",P43="dns",P43="dnf",P43="dq"),N43,IF(P43>N43,N43,P43)) -> 1.55,27 | R43: =LOOKUP(Q43,$V$1:$AN$1,$V$2:$AN$2) -> кмс | S43: 1 | T43: Матрин Н.А.
D44: 25 | F44: 34 | G44: ПРОХОРЕЦ | H44: Алексей | I44: 31.10.1999 | J44: КМС | K44: Брянская область | M44: БГУОР, БО СШОР по легкой атлетике им.В.Д.Самотесова | N44: 1.55,49 | Q44: =IF(OR(P44="",P44="dns",P44="dnf",P44="dq"),N44,IF(P44>N44,N44,P44)) -> 1.55,49 | R44: =LOOKUP(Q44,$V$1:$AN$1,$V$2:$AN$2) -> кмс | S44: 1 | T44: Белова С.И., Белова Е.А.
D45: 26 | F45: 387 | G45: ЛЯЛЮШКИН | H45: Дмитрий | I45: 19.06.2001 | J45: 1 | K45: Москва | M45: СШ № 82 | N45: 1.55,53 | Q45: =IF(OR(P45="",P45="dns",P45="dnf",P45="dq"),N45,IF(P45>N45,N45,P45)) -> 1.55,53 | R45: =LOOKUP(Q45,$V$1:$AN$1,$V$2:$AN$2) -> кмс | S45: лич | T45: Ионов С.В.
D46: 27 | F46: 171 | G46: СМИРНОВ | H46: Михаил | I46: 05.08.1997 | J46: КМС | K46: Санкт-Петербург | M46: СШОР № 2 Московского р-на | N46: 1.55,55 | Q46: =IF(OR(P46="",P46="dns",P46="dnf",P46="dq"),N46,IF(P46>N46,N46,P46)) -> 1.55,55 | R46: =LOOKUP(Q46,$V$1:$AN$1,$V$2:$AN$2) -> кмс | S46: лич | T46: Тарасов К.Б.
D47: 28 | F47: 8 | G47: ТИМКО | H47: Вадим | I47: 03.11.1997 | J47: КМС | K47: Республика Бурятия | M47: СШОР №1, СК БГУ | N47: 1.55,72 | Q47: =IF(OR(P47="",P47="dns",P47="dnf",P47="dq"),N47,IF(P47>N47,N47,P47)) -> 1.55,72 | R47: =LOOKUP(Q47,$V$1:$AN$1,$V$2:$AN$2) -> кмс | S47: 1 | T47: Домнин В.Д., Темников Г.И.
D48: 29 | F48: 245 | G48: МАРАКУЛИН | H48: Артём | I48: 18.05.1999 | J48: 1 | K48: Амурская область | M48: спортивная школа №1 г.Свободный | N48: 1.55,93 | Q48: =IF(OR(P48="",P48="dns",P48="dnf",P48="dq"),N48,IF(P48>N48,N48,P48)) -> 1.55,93 | R48: =LOOKUP(Q48,$V$1:$AN$1,$V$2:$AN$2) -> кмс | S48: 1 | T48: Дрейко О.Н.
D49: 30 | F49: 289 | G49: КУЗНЕЦОВ | H49: Илья | I49: 24.01.1997 | J49: КМС | K49: Рязанская область | M49: СШОР "Олимпиец" | N49: 1.56,04 | Q49: =IF(OR(P49="",P49="dns",P49="dnf",P49="dq"),N49,IF(P49>N49,N49,P49)) -> 1.56,04 | R49: =LOOKUP(Q49,$V$1:$AN$1,$V$2:$AN$2) -> кмс | S49: 1 | T49: Куделина Н.М.
D50: 31 | F50: 435 | G50: ЧЕРНОВ | H50: Андрей | I50: 01.01.1998 | J50: КМС | K50: Москва | M50: ГБОУ МССУОР № 1 | N50: 1.56,14 | Q50: =IF(OR(P50="",P50="dns",P50="dnf",P50="dq"),N50,IF(P50>N50,N50,P50)) -> 1.56,14 | R50: =LOOKUP(Q50,$V$1:$AN$1,$V$2:$AN$2) -> кмс | S50: лич | T50: Епишин С.Д., Фролова Т.С.
D51: 32 | F51: 222 | G51: БЕРЕЗИН | H51: Алексей | I51: 09.10.1998 | J51: КМС | K51: Иркутская область | M51: СШОР "Приангарье", ГУОР | N51: 1.56,23 | Q51: =IF(OR(P51="",P51="dns",P51="dnf",P51="dq"),N51,IF(P51>N51,N51,P51)) -> 1.56,23 | R51: =LOOKUP(Q51,$V$1:$AN$1,$V$2:$AN$2) -> кмс | S51: 1 | T51: Коновалов Ю.А.
D52: 33 | F52: 101 | G52: АЛЕКСЕЕВ | H52: Алексей | I52: 14.07.1999 | J52: КМС | K52: Санкт-Петербург | M52: СШОР № 2 Московского р-на | N52: 1.56,51 | Q52: =IF(OR(P52="",P52="dns",P52="dnf",P52="dq"),N52,IF(P52>N52,N52,P52)) -> 1.56,51 | R52: =LOOKUP(Q52,$V$1:$AN$1,$V$2:$AN$2) -> I | S52: лич | T52: Алексеев В.Г., Бурова А.В.
D53: 34 | F53: 232 | G53: ЗУБОВ | H53: Никита | I53: 07.02.1999 | J53: КМС | K53: Московская область Пермский край | M53: ЦСППК, УОРПК, ГБУ МО "СШОР", ГБУ МО "ЦСП ОВС", КОРПК | N53: 1.56,75 | Q53: =IF(OR(P53="",P53="dns",P53="dnf",P53="dq"),N53,IF(P53>N53,N53,P53)) -> 1.56,75 | R53: =LOOKUP(Q53,$V$1:$AN$1,$V$2:$AN$2) -> I | S53: лич | T53: Попова Е.И., Попов А.С.
D54: 35 | F54: 449 | G54: МАДЫШЕВ | H54: Дмитрий | I54: 01.01.1998 | J54: 1 | K54: Орловская область | M54: СШОР "Олимп" | N54: 1.57,33 | Q54: =IF(OR(P54="",P54="dns",P54="dnf",P54="dq"),N54,IF(P54>N54,N54,P54)) -> 1.57,33 | R54: =LOOKUP(Q54,$V$1:$AN$1,$V$2:$AN$2) -> I | S54: 1 | T54: Комаров А.И.
D55: 36 | F55: 315 | G55: САВЧЕНКО | H55: Михаил | I55: 23.07.1999 | J55: КМС | K55: Свердловская область | M55: ДЮСШ Юность, СК ЛУЧ, ЦСП | N55: 1.57,35 | Q55: =IF(OR(P55="",P55="dns",P55="dnf",P55="dq"),N55,IF(P55>N55,N55,P55)) -> 1.57,35 | R55: =LOOKUP(Q55,$V$1:$AN$1,$V$2:$AN$2) -> I | S55: 1 | T55: Масаева Е.В., Масаев Е.Р., Галашов Н.В.
D56: 37 | F56: 510 | G56: ПЕТРОВ | H56: Павел | I56: 36384 | J56: 2 | K56: Республика Башкортостан | M56: СШОР 21 | N56: 2.01,77 | Q56: =IF(OR(P56="",P56="dns",P56="dnf",P56="dq"),N56,IF(P56>N56,N56,P56)) -> 2.01,77 | R56: =LOOKUP(Q56,$V$1:$AN$1,$V$2:$AN$2) -> I | S56: 1 | T56: Арефьев В.С.
D57: 38 | F57: 111 | G57: БЫСТРОВ | H57: Максим | I57: 14.12.1999 | J57: КМС | K57: Санкт-Петербург | M57: ГБУ СШОР № 2 Калининского района (Санкт-Петербург) | N57: 2.03,10 | Q57: =IF(OR(P57="",P57="dns",P57="dnf",P57="dq"),N57,IF(P57>N57,N57,P57)) -> 2.03,10 | R57: =LOOKUP(Q57,$V$1:$AN$1,$V$2:$AN$2) -> II | S57: лич | T57: Мещалкин Е.М.
F58: 379 | G58: ВАЛИТОВ | H58: Евгений | I58: 13.08.1999 | J58: КМС | K58: Москва | M58: СШОР Юность Москвы по л/а им.бр.Знаменских | N58: DNS | S58: лич | T58: Лиман В.П., Попов С.А., Попова Е.И.
F59: 385 | G59: КУРДЮМОВ | H59: Евгений | I59: 11.02.1999 | J59: 1 | K59: Москва | M59: СШОР "Юность Москвы" по л/а им.братьев Знаменских | N59: DNS | S59: лич
G62: Главный судья соревнований | P62: Уйк А.Г. /СПб, ССВк/
G64: Главный секретарь соревнований | P64: Алексеева О.К. /СПб, ССВк/

Sheet 3000Ю
K1: МИНИСТЕРСТВО СПОРТА РОССИЙСКОЙ ФЕДЕРАЦИИ | S1: 73024 | T1: 75424 | U1: 75424.01 | V1: 80724 | W1: 80724.01 | X1: 83224 | Y1: 83224.01 | Z1: 90224 | AA1: 90224.01 | AB1: 94224 | AC1: 94224.01 | AD1: 102224 | AE1: 102224.01 | AF1: 110224 | AG1: 110224.01 | AH1: 120224 | AI1: 120224.01 | AJ1: 132224 | AK1: 132224.01
K2: ВСЕРОССИЙСКАЯ ФЕДЕРАЦИЯ ЛЕГКОЙ АТЛЕТИКИ | S2: мсмк | T2: мсмк | U2: мс | V2: мс | W2: кмс | X2: кмс | Y2: I | Z2: I | AA2: II | AB2: II | AC2: III | AD2: III | AE2: 1юн | AF2: 1юн | AG2: 2юн | AH2: 2юн | AI2: 3юн | AJ2: 3юн | AK2: б/р
K3: КОМИТЕТ ПО ФИЗИЧЕСКОЙ КУЛЬТУРЕ И СПОРТУ САНКТ-ПЕТЕРБУРГА
K4: СПОРТИВНАЯ ФЕДЕРАЦИЯ ЛЕГКОЙ АТЛЕТИКИ САНКТ-ПЕТЕРБУРГА | S4: 7.30,24 | T4: 7.54,24 | U4: 7.54,241 | V4: 8.07,24 | W4: 8.07,241 | X4: 8.32,24 | Y4: 8.32,241 | Z4: 9.02,24 | AA4: 9.02,241 | AB4: 9.42,24 | AC4: 9.42,241 | AD4: 10.22,24 | AE4: 10.22,241 | AF4: 11.02,24 | AG4: 11.02,241 | AH4: 12.02,24 | AI4: 12.02,241 | AJ4: 13.22,24 | AK4: 13.22,241
S5: мсмк | T5: мсмк | U5: мс | V5: мс | W5: кмс | X5: кмс | Y5: I | Z5: I | AA5: II | AB5: II | AC5: III | AD5: III | AE5: 1юн | AF5: 1юн | AG5: 2юн | AH5: 2юн | AI5: 3юн | AJ5: 3юн | AK5: б/р
K6: Первенство России по легкой атлетике
K7: (среди юниоров и юниорок до 23 лет) в помещении
D8: 7.24,90 | E8: Рекорд Мира 23
D9: 7.41,48 | E9: Рекорд Европы 23 | K9: ИТОГОВЫЙ ПРОТОКОЛ
D10: 7.52,90 | E10: Рекорд России 23
K11: ЮНИОРЫ
D13: Санкт-Петербург, Легкоатлетический манеж | Q13: 19 - 21 февраля 2019 г.
D15: Место | E15: Номер | F15: Фамилия | G15: Имя | H15: Дата рожд | I15: Разр. | J15: Территория | L15: Организация | M15: Результаты | O15: Разряд | P15: Очки | Q15: Тренер
F17: 19 февраля 2019 г. | J17: Финальные забеги 19:15-19:40 | Q17: Бег 3000 м
D19: 1 | E19: 68 | F19: ПЛОХОТНИКОВ | G19: Константин | H19: 24.03.1997 | I19: МС | J19: Краснодарский край | L19: ГБУ КК "РЦСП по л/а", "ГБУ КК "ЦОП по Л/А" | N19: 8.06,28 | O19: мс | P19: 25 | Q19: Гуков А.О., Синюк А.В., Фарносов В.А.
D20: 2 | E20: 246 | F20: ПОПОВ | G20: Андрей | H20: 20.04.1997 | I20: КМС | J20: Забайкальский край | L20: ГУ РЦСП, ЗабГУ, ГБУ СШОР №2 Забайкальского края | N20: 8.14,49 | O20: кмс | P20: 17 | Q20: Ящук Н.С., Комогоров В.Г., Приладных Е.В.
D21: 3 | E21: 463 | F21: СВЕЧНИКОВ | G21: Александр | H21: 21.02.2000 | I21: КМС | J21: Челябинская область | L21: СШОР Мосеева, УралГУФК | N21: 8.15,90 | O21: кмс | P21: 15 | Q21: Сайко Е.В., Сайко Р.И., Василенкова Н.В.
D22: 4 | E22: 399 | F22: ДЯТЛОВ | G22: Кирилл | H22: 25.07.1997 | I22: КМС | J22: Республика Татарстан | L22: ДЮСШ СТРЕЛА, ПГАФКСИТ | N22: 8.16,58 | O22: кмс | P22: 14 | Q22: Павлов И.Л., Миннеханова Р.Р.
D23: 5 | E23: 447 | F23: ГОЛОКТИОНОВ | G23: Тимофей | H23: 31.08.1999 | I23: 1 | J23: Орловская область | L23: СШОР № 1 | N23: 8.16,79 | O23: кмс | P23: 13 | Q23: Петров Н.Д.
D24: 6 | E24: 400 | F24: ЕГОРОВ | G24: Геннадий | H24: 16.04.1997 | I24: КМС | J24: Республика Татарстан | L24: ДЮСШ СТРЕЛА | N24: 8.17,56 | O24: кмс | P24: 12 | Q24: Павлов В.Л.
D25: 7 | E25: 305 | F25: ДВОРЕЦКИЙ | G25: Никита | H25: 18.07.1997 | I25: МС | J25: Брянская область Смоленская область | L25: СШОР им. Ф.Т.Михеенко, СГАФКСТ, ГБУ БО СШОР по легкой атлетике им. В.Д. Самотесова. | N25: 8.18,16 | O25: кмс | P25: 11 | Q25: Столяров И.В., Настенко А.В.
D26: 8 | E26: 90 | F26: МАРКИН | G26: Максим | H26: 13.12.1999 | I26: КМС | J26: Республика Мордовия | L26: СШОР им. П.Г. Болотникова, СШОР ПО Л/А, Инсарская ДЮСШ | N26: 8.18,95 | O26: кмс | P26: 10 | Q26: Кулагов К.А., Аверкин В.В.
D27: 9 | E27: 287 | F27: КУЗНЕЦОВ | G27: Максим | H27: 28.04.1998 | I27: КМС | J27: Рязанская область | L27: СШОР "Олимпиец" | N27: 8.21,06 | O27: кмс | P27: 9 | Q27: Куделина Н.М.
D28: 10 | E28: 6 | F28: СОЛОВЬЕВ | G28: Сергей | H28: 05.10.1997 | I28: 1 | J28: Республика Бурятия | L28: СШОР №1, СК БГУ, ЦСП РБ | N28: 8.24,02 | O28: кмс | P28: 8 | Q28: Темников Г.И.
D29: 11 | E29: 413 | F29: ЕГИНОВ | G29: Тимофей | H29: 01.01.2000 | I29: КМС | J29: Чувашская республика Ярославская область | L29: БПОУ "Чебоксарское УОР имени В.М. Краснова" Минспорта Чувашии | N29: 8.24,35 | O29: кмс | P29: 7 | Q29: Суворов Г.М., Петров А.С.
D30: 12 | E30: 221 | F30: ВАЛЮХОВ | G30: Никита | H30: 13.12.1997 | I30: КМС | J30: Иркутская область | L30: СШ "Юный динамовец" | N30: 8.24,88 | O30: кмс | P30: 6 | Q30: Коновалов И.А., Лукьянова Н.О.
... D37: 19 | E37: 247 | F37: МАГОМЕТОВ | G37: Антон | H37: 02.05.1998 | I37: 1 | J37: Забайкальский край | L37: ЗабГУ, ГБУ СШОР №2 Забайкальского края, ГУ "РЦСП" | N37: 8.42,48 | O37: I | P37: 1 | Q37: Ящук Н.С., Комогоров В.Г., Приладных Е.В.
D38: 20 | E38: 75 | F38: КАЛАШНИКОВ | G38: Юрий | H38: 06.01.1999 | I38: КМС | J38: Краснодарский край | L38: ДЮСШ-1, ГБУ КК "РЦСП по л/а" | N38: 8.43,09 | O38: I | P38: 1
D39: 21 | E39: 345 | F39: ВАСИЛЬЕВ | G39: Александр | H39: 08.02.1997 | I39: КМС | J39: Москва-1 Чувашская республика | L39: ГБУ "ФСО Юность Москвы" Москомспорта, БУ "СШОР № 1 им. В. Егоровой" Минспорта Чувашии | N39: 8.44,10 | O39: I | P39: 1 | Q39: Петров А.С., Суворов Г.М.
D40: 22 | E40: 273 | F40: КИРГИЗОВ | G40: Михаил | H40: 11.05.1998 | I40: КМС | J40: Московская область Чувашская республика | L40: ГБУ МО "СШОР", ЧУОР им. В. Краснова, СШОР№3 | N40: 8.45,62 | O40: I | P40: лич | Q40: Давалов В.Н.
E41: 509 | F41: ПЕТРОВ | G41: Андрей | H41: 21.09.1997 | I41: 1 | J41: Республика Башкортостан | L41: СШОР 21 | N41: DNF | Q41: Арефьев В.С.
E42: 432 | F42: ЦАРАПКИН | G42: Максим | H42: 15.04.1998 | I42: КМС | J42: Москва Пензенская область | L42: ГБУ "ЦСП по легкой атлетике", РА, КСШОР, ЦСП | N42: DNF | P42: лич | Q42: Плескач-Стыркина С.П., Бусырев А.В.
F44: Главный судья соревнований | N44: Уйк А.Г. /СПб, ССВк/
F46: Главный секретарь соревнований | N46: Алексеева О.К. /СПб, ССВк/
O47: =IF(OR(N47="",N47="н/я",N47="сошёл",N47="сошла",EXACT("дискв", LEFT(N47,5))),"",LOOKUP(N47,$S$1:$AK$1,$S$2:$AK$2))
O48: =IF(OR(N48="",N48="н/я",N48="сошёл",N48="сошла",EXACT("дискв", LEFT(N48,5))),"",LOOKUP(N48,$S$1:$AK$1,$S$2:$AK$2))
O49: =IF(OR(N49="",N49="н/я",N49="сошёл",N49="сошла",EXACT("дискв", LEFT(N49,5))),"",LOOKUP(N49,$S$1:$AK$1,$S$2:$AK$2))
O50: =IF(OR(N50="",N50="н/я",N50="сошёл",N50="сошла",EXACT("дискв", LEFT(N50,5))),"",LOOKUP(N50,$S$1:$AK$1,$S$2:$AK$2))
O51: =IF(OR(N51="",N51="н/я",N51="сошёл",N51="сошла",EXACT("дискв", LEFT(N51,5))),"",LOOKUP(N51,$S$1:$AK$1,$S$2:$AK$2))
O52: =IF(OR(N52="",N52="н/я",N52="сошёл",N52="сошла",EXACT("дискв", LEFT(N52,5))),"",LOOKUP(N52,$S$1:$AK$1,$S$2:$AK$2))
O53: =IF(OR(N53="",N53="н/я",N53="сошёл",N53="сошла",EXACT("дискв", LEFT(N53,5))),"",LOOKUP(N53,$S$1:$AK$1,$S$2:$AK$2))

Sheet 60сбЮ
N1: МИНИСТЕРСТВО СПОРТА РОССИЙСКОЙ ФЕДЕРАЦИИ | Y1: 7 | Z1: 7.72 | AA1: 7.721 | AB1: 8.1 | AC1: 8.101 | AD1: 8.54 | AE1: 8.541 | AF1: 9.04 | AG1: 9.041 | AH1: 9.64 | AI1: 9.641 | AJ1: 10.24 | AK1: 10.241
N2: ВСЕРОССИЙСКАЯ ФЕДЕРАЦИЯ ЛЕГКОЙ АТЛЕТИКИ | Y2: мсмк | Z2: мсмк | AA2: мс | AB2: мс | AC2: кмс | AD2: кмс | AE2: I | AF2: I | AG2: II | AH2: II | AI2: III | AJ2: III | AK2: б/р | AL2: б/р | AM2: 2юн | AN2: 2юн | AO2: б/р | AP2: б/р | AQ2: б/р
N3: КОМИТЕТ ПО ФИЗИЧЕСКОЙ КУЛЬТУРЕ И СПОРТУ САНКТ-ПЕТЕРБУРГА
N4: СПОРТИВНАЯ ФЕДЕРАЦИЯ ЛЕГКОЙ АТЛЕТИКИ САНКТ-ПЕТЕРБУРГА
N6: Первенство России по легкой атлетике
N7: (среди юниоров и юниорок до 23 лет) в помещении
D8: 7.33 | G8: Рекорд Мира 23
D9: 7.41 | G9: Рекорд Европы 23 | N9: ИТОГОВЫЙ ПРОТОКОЛ
D10: 7.52 | G10: Рекорд России 23
N11: ЮНИОРЫ
D13: Санкт-Петербург, Легкоатлетический манеж | W13: 19 - 21 февраля 2019 г.
D15: Место | E15: пф | F15: ф | G15: Номер | H15: Фамилия | I15: Имя | J15: Дата рожд | K15: Разр. | L15: Территория | N15: Организация | O15: Результаты | U15: Разряд | V15: Очки | W15: Тренер
O16: забеги | P16: Q | Q16: п/фин | R16: Q | S16: финал
H18: 19 февраля 2019 г. | J18: Забеги 10:00-10:25 Полуфиналы 15:30-15:40 Финал 18:45-18:50 | W18: Бег с барьерами 60 м (1,067 м)
D20: 1 | E20: пф7 | F20: ф1 | G20: 193 | H20: МАЛЯРЕНКО | I20: Григорий | J20: 28.12.1998 | K20: КМС | L20: Омская область | N20: СибГУОР, БУ ОО ООЦСП, БУ ОО "СШОР", ЦСКА | O20: 8.17 | P20: Q | Q20: 7.98 | R20: Q | S20: 7.91 | T20: =MIN(O20,Q20,S20) -> 7.91 | U20: =IF(OR(T20="",T20="н/я",T20="сошёл",T20="сошла",EXACT("дискв", LEFT(T20,5))),"",LOOKUP(T20,$Y$1:$AR$1,$Y$2:$AR$2)) -> мс | V20: 25 | W20: Линкевич Н.С.
D21: 2 | E21: пф4 | F21: ф5 | G21: 311 | H21: ЕГОРОВ | I21: Глеб | J21: 27.06.1997 | K21: КМС | L21: Свердловская область | N21: СК ЛУЧ, ЦСП | O21: 8.02 | P21: Q | Q21: 8.06 | R21: Q | S21: 7.94 | T21: =MIN(O21,Q21,S21) -> 7.94 | U21: =IF(OR(T21="",T21="н/я",T21="сошёл",T21="сошла",EXACT("дискв", LEFT(T21,5))),"",LOOKUP(T21,$Y$1:$AR$1,$Y$2:$AR$2)) -> мс | V21: 22 | W21: Жуков А.В., Жукова Н.В.
D22: 3 | E22: пф8 | F22: ф3 | G22: 500 | H22: ЛОБКОВ | I22: Максим | J22: 20.05.1997 | K22: МС | L22: Волгоградская область | N22: ЦСКА, СШОР | O22: 8.07 | P22: Q | Q22: 8.1 | R22: Q | S22: 7.995 | T22: =MIN(O22,Q22,S22) -> 7.995 | U22: =IF(OR(T22="",T22="н/я",T22="сошёл",T22="сошла",EXACT("дискв", LEFT(T22,5))),"",LOOKUP(T22,$Y$1:$AR$1,$Y$2:$AR$2)) -> мс | V22: 20 | W22: Кайдалин В.С.
D23: 4 | E23: пф5 | F23: ф2 | G23: 70 | H23: ПРОЦЕНКО | I23: Антон | J23: 27.07.1997 | K23: КМС | L23: Краснодарский край | N23: ГБУ КК "РЦСП по л/а" | O23: 8.23 | P23: Q | Q23: 8 | R23: Q | S23: 7.999 | T23: =MIN(O23,Q23,S23) -> 7.999 | U23: =IF(OR(T23="",T23="н/я",T23="сошёл",T23="сошла",EXACT("дискв", LEFT(T23,5))),"",LOOKUP(T23,$Y$1:$AR$1,$Y$2:$AR$2)) -> мс | V23: 19 | W23: Сагалов А.П.
D24: 5 | E24: пф2 | F24: ф4 | G24: 335 | H24: КИРЕЕВ | I24: Кирилл | J24: 28.08.1997 | K24: КМС | L24: Ростовская область | N24: ДЮСШ-1 г.Ростов-на-Дону, РОУОР | O24: 8.18 | P24: Q | Q24: 8.01 | R24: Q | S24: 8.01 | T24: =MIN(O24,Q24,S24) -> 8.01 | U24: =IF(OR(T24="",T24="н/я",T24="сошёл",T24="сошла",EXACT("дискв", LEFT(T24,5))),"",LOOKUP(T24,$Y$1:$AR$1,$Y$2:$AR$2)) -> мс | V24: 18 | W24: Солянкин И.П., Давиденко А.П., Коваленко А.В.
D25: 6 | E25: пф12 | F25: ф6 | G25: 280 | H25: РУДЧЕНКО | I25: Александр | J25: 08.03.1999 | K25: КМС | L25: Московская область | N25: ГБУ МО "СШОР", УОР №1 | O25: 8.25 | P25: q | Q25: 8.13 | R25: Q | S25: 8.13 | T25: =MIN(O25,Q25,S25) -> 8.13 | U25: =IF(OR(T25="",T25="н/я",T25="сошёл",T25="сошла",EXACT("дискв", LEFT(T25,5))),"",LOOKUP(T25,$Y$1:$AR$1,$Y$2:$AR$2)) -> кмс | V25: лич | W25: Арабаджев С.И., Арабаджева С.Б., Ефремов Ю.Н.
D26: 7 | E26: пф10 | F26: ф7 | G26: 347 | H26: КУЗНЕЦОВ | I26: Артем | J26: 29.07.1999 | K26: КМС | L26: Москва-1 Владимирская область | N26: ГБУ "ЦСП по легкой атлетике", СШОР-4 | O26: 8.2 | P26: Q | Q26: 8.18 | R26: q | S26: 8.15 | T26: =MIN(O26,Q26,S26) -> 8.15 | U26: =IF(OR(T26="",T26="н/я",T26="сошёл",T26="сошла",EXACT("дискв", LEFT(T26,5))),"",LOOKUP(T26,$Y$1:$AR$1,$Y$2:$AR$2)) -> кмс | V26: 12 | W26: Кравцова К.О., Бурлаков О.П., Коробова П.А.
D27: 8 | E27: пф13 | F27: ф8 | G27: 88 | H27: БАКАЙ | I27: Алексей | J27: 21.01.1999 | K27: КМС | L27: Краснодарский край | N27: ГБУ КК "РЦСП по л/а", СШ "Лидер" | O27: 8.27 | P27: q | Q27: 8.18 | R27: q | S27: r/med | T27: =MIN(O27,Q27,S27) -> 8.18 | U27: =IF(OR(T27="",T27="н/я",T27="сошёл",T27="сошла",EXACT("дискв", LEFT(T27,5))),"",LOOKUP(T27,$Y$1:$AR$1,$Y$2:$AR$2)) -> кмс | V27: лич | W27: Гладкова О.С.
D28: 9 | E28: пф11 | G28: 309 | H28: КРАВЦОВ | I28: Святoслав | J28: 13.07.1998 | K28: КМС | L28: Свердловская область | N28: ДЮСШ Росток, ЦСП, СК ЛУЧ | O28: 8.21 | P28: q | Q28: 8.2 | T28: =MIN(O28,Q28,S28) -> 8.2 | U28: =IF(OR(T28="",T28="н/я",T28="сошёл",T28="сошла",EXACT("дискв", LEFT(T28,5))),"",LOOKUP(T28,$Y$1:$AR$1,$Y$2:$AR$2)) -> кмс | V28: 11 | W28: Жуков А.В., Масаев Е.Р.
D29: 10 | E29: пф6 | G29: 71 | H29: РЫЛЬЩИКОВ | I29: Денис | J29: 30.07.1998 | K29: КМС | L29: Краснодарский край | N29: "ГБУ КК "ЦОП по Л/А", ГБУ КК "РЦСП по л/а" | O29: 8.42 | P29: Q | Q29: 8.23 | T29: =MIN(O29,Q29,S29) -> 8.23 | U29: =IF(OR(T29="",T29="н/я",T29="сошёл",T29="сошла",EXACT("дискв", LEFT(T29,5))),"",LOOKUP(T29,$Y$1:$AR$1,$Y$2:$AR$2)) -> кмс | V29: 10 | W29: Чернов С.А., Горбунова Т.А.
D30: 11 | E30: пф9 | G30: 235 | H30: ВОРОНЧУК | I30: Андрей | J30: 07.09.2001 | K30: КМС | L30: Томская область | N30: СДЮСШОР "Лидер" | O30: 8.29 | P30: Q | Q30: 8.25 | T30: =MIN(O30,Q30,S30) -> 8.25 | U30: =IF(OR(T30="",T30="н/я",T30="сошёл",T30="сошла",EXACT("дискв", LEFT(T30,5))),"",LOOKUP(T30,$Y$1:$AR$1,$Y$2:$AR$2)) -> кмс | V30: 9 | W30: Устюгова И.А.
D31: 12 | E31: пф15 | G31: 440 | H31: ЛАМКОВ | I31: Арсен | J31: 05.05.1999 | K31: КМС | L31: Ставропольский край Карачаево-Черкесская республика | N31: ГБУ СК СШОР по л/а | O31: 8.32 | P31: q | Q31: 8.26 | T31: =MIN(O31,Q31,S31) -> 8.26 | U31: =IF(OR(T31="",T31="н/я",T31="сошёл",T31="сошла",EXACT("дискв", LEFT(T31,5))),"",LOOKUP(T31,$Y$1:$AR$1,$Y$2:$AR$2)) -> кмс | V31: лич | W31: Титаренко И.Г., Кувалдина Т.В.
D32: 13 | E32: пф16 | G32: 423 | H32: АБУДКОВ | I32: Андрей | J32: 20.06.1997 | K32: КМС | L32: Ставропольский край Карачаево-Черкесская республика | N32: ГБУ СК СШОР по л/а | O32: 8.33 | P32: q | Q32: 8.37 | T32: =MIN(O32,Q32,S32) -> 8.33 | U32: =IF(OR(T32="",T32="н/я",T32="сошёл",T32="сошла",EXACT("дискв", LEFT(T32,5))),"",LOOKUP(T32,$Y$1:$AR$1,$Y$2:$AR$2)) -> кмс | V32: 8 | W32: Бурняшова Г.С., Кувалдина Т.В.
D33: 14 | E33: пф1 | G33: 298 | H33: ЛАМАНОВ | I33: Евгений | J33: 20.02.2000 | K33: КМС | L33: Новосибирская область | N33: СШОР "Фламинго", НУКОР | O33: 8.22 | P33: Q | Q33: 8.42 | T33: =MIN(O33,Q33,S33) -> 8.22 | U33: =IF(OR(T33="",T33="н/я",T33="сошёл",T33="сошла",EXACT("дискв", LEFT(T33,5))),"",LOOKUP(T33,$Y$1:$AR$1,$Y$2:$AR$2)) -> кмс | V33: 7 | W33: Зайцева О.В., Зюзько Л.В., Кишеева Е.А.
D34: 14 | E34: пф14 | G34: 112 | H34: ВАСИЛЬЕВ | I34: Артём | J34: 09.11.1999 | K34: КМС | L34: Санкт-Петербург-2 | N34: ЦОП "ШВСМ л/атл." (СПб) | O34: 8.32 | P34: q | Q34: 8.42 | T34: =MIN(O34,Q34,S34) -> 8.32 | U34: =IF(OR(T34="",T34="н/я",T34="сошёл",T34="сошла",EXACT("дискв", LEFT(T34,5))),"",LOOKUP(T34,$Y$1:$AR$1,$Y$2:$AR$2)) -> кмс | V34: 7 | W34: Скляров В.В., Баталов А.В.
D35: 16 | E35: пф3 | G35: 189 | H35: СПИРИДОНОВ | I35: Олег | J35: 16.08.1999 | K35: МС | L35: Калининградская область Санкт-Петербург-1 | N35: СШОР №4, УОР, СПб ГБУ СШОР "Академия легкой атлетики Санкт-Петербурга", СШОР "Академия л/а СПб" | O35: 8.19 | P35: Q | Q35: DNF | T35: =MIN(O35,Q35,S35) -> 8.19 | U35: =IF(OR(T35="",T35="н/я",T35="сошёл",T35="сошла",EXACT("дискв", LEFT(T35,5))),"",LOOKUP(T35,$Y$1:$AR$1,$Y$2:$AR$2)) -> кмс | V35: 5 | W35: Слушкин В.К., Смирягин Е.В., Смирягина Ю.И., Антунович Г.П.
D36: 17 | G36: 403 | H36: ПЕРЕВОЩИКОВ | I36: Артур | J36: 02.06.1999 | K36: КМС | L36: Республика Татарстан | N36: Шинник | O36: 8.4 | T36: =MIN(O36,Q36,S36) -> 8.4 | U36: =IF(OR(T36="",T36="н/я",T36="сошёл",T36="сошла",EXACT("дискв", LEFT(T36,5))),"",LOOKUP(T36,$Y$1:$AR$1,$Y$2:$AR$2)) -> кмс | V36: 4 | W36: Сайфиев Н.Н., Сайфиева Е.Ю.
D37: 18 | G37: 42 | H37: НИКИШИН | I37: Никита | J37: 22.04.1998 | K37: КМС | L37: Хабаровский край | N37: СШ "Максимум" | O37: 8.41 | T37: =MIN(O37,Q37,S37) -> 8.41 | U37: =IF(OR(T37="",T37="н/я",T37="сошёл",T37="сошла",EXACT("дискв", LEFT(T37,5))),"",LOOKUP(T37,$Y$1:$AR$1,$Y$2:$AR$2)) -> кмс | V37: 3 | W37: Ерченко Е.П.
D38: 19 | G38: 184 | H38: ШИРЯГИН | I38: Герман | J38: 22.07.1998 | K38: КМС | L38: Санкт-Петербург | N38: ГБУ СШ "Манеж" Петродворцового р-на (Санкт-Петербург) | O38: 8.42 | T38: =MIN(O38,Q38,S38) -> 8.42 | U38: =IF(OR(T38="",T38="н/я",T38="сошёл",T38="сошла",EXACT("дискв", LEFT(T38,5))),"",LOOKUP(T38,$Y$1:$AR$1,$Y$2:$AR$2)) -> кмс | V38: лич | W38: Попов А.М., Попова С.Ю.
D39: 20 | G39: 11 | H39: НЕЧАЕВ | I39: Александр | J39: 09.02.1999 | K39: КМС | L39: Республика Саха (Якутия) | N39: ГБУ РС (Я) РЦСП | O39: 8.43 | T39: =MIN(O39,Q39,S39) -> 8.43 | U39: =IF(OR(T39="",T39="н/я",T39="сошёл",T39="сошла",EXACT("дискв", LEFT(T39,5))),"",LOOKUP(T39,$Y$1:$AR$1,$Y$2:$AR$2)) -> кмс | V39: 2 | W39: Нечаев П.А.
D40: 21 | G40: 65 | H40: ШУБИН | I40: Даниил | J40: 10.10.2001 | K40: 1 | L40: Нижегородская область | N40: УОР 1, МБУ КСШОР № 1 | O40: 8.52 | T40: =MIN(O40,Q40,S40) -> 8.52 | U40: =IF(OR(T40="",T40="н/я",T40="сошёл",T40="сошла",EXACT("дискв", LEFT(T40,5))),"",LOOKUP(T40,$Y$1:$AR$1,$Y$2:$AR$2)) -> кмс | V40: 1 | W40: Шишкин В.В.
D41: 22 | G41: 233 | H41: ДЯТЛОВ | I41: Марк | J41: 27.08.1997 | K41: КМС | L41: Республика Северная Осетия — Алания | N41: ГБУ СШОР по л/а | O41: 8.53 | T41: =MIN(O41,Q41,S41) -> 8.53 | U41: =IF(OR(T41="",T41="н/я",T41="сошёл",T41="сошла",EXACT("дискв", LEFT(T41,5))),"",LOOKUP(T41,$Y$1:$AR$1,$Y$2:$AR$2)) -> кмс | V41: 1 | W41: Ляднов В.А., Ляднова Т.С.
D42: 23 | G42: 132 | H42: КОНОВАЛОВ | I42: Александр | J42: 03.08.1997 | K42: КМС | L42: Санкт-Петербург | N42: СПб ГБУ СШОР "Академия легкой атлетики Санкт-Петербурга" | O42: 8.59 | T42: =MIN(O42,Q42,S42) -> 8.59 | U42: =IF(OR(T42="",T42="н/я",T42="сошёл",T42="сошла",EXACT("дискв", LEFT(T42,5))),"",LOOKUP(T42,$Y$1:$AR$1,$Y$2:$AR$2)) -> I | V42: лич | W42: Ворохобко Т.Л.
D43: 24 | G43: 472 | H43: НАЗАРОВ | I43: Данил | J43: 15.04.1998 | K43: КМС | L43: Челябинская область | N43: МБУ СШОР "ЮНОСТЬ-МЕТАР" | O43: 8.63 | T43: =MIN(O43,Q43,S43) -> 8.63 | U43: =IF(OR(T43="",T43="н/я",T43="сошёл",T43="сошла",EXACT("дискв", LEFT(T43,5))),"",LOOKUP(T43,$Y$1:$AR$1,$Y$2:$AR$2)) -> I | V43: лич | W43: Ветрова Е.М.
D44: 25 | G44: 284 | H44: КРАМСКОЙ | I44: Андрей | J44: 03.09.1999 | K44: 1 | L44: Тульская область | N44: ГУТОЦСП, СШОР л/а | O44: 8.64 | T44: =MIN(O44,Q44,S44) -> 8.64 | U44: =IF(OR(T44="",T44="н/я",T44="сошёл",T44="сошла",EXACT("дискв", LEFT(T44,5))),"",LOOKUP(T44,$Y$1:$AR$1,$Y$2:$AR$2)) -> I | V44: 1 | W44: Осетров А.И., Осетрова Т.Б.
D45: 26 | G45: 230 | H45: ОКУЛОВ | I45: Евгений | J45: 09.06.1997 | K45: КМС | L45: Пермский край | N45: СДЮСШОР СТАРТ | O45: 8.67 | T45: =MIN(O45,Q45,S45) -> 8.67 | U45: =IF(OR(T45="",T45="н/я",T45="сошёл",T45="сошла",EXACT("дискв", LEFT(T45,5))),"",LOOKUP(T45,$Y$1:$AR$1,$Y$2:$AR$2)) -> I | V45: 1 | W45: Дойков В.А.
D46: 27 | G46: 406 | H46: КАШИН | I46: Руслан | J46: 25.06.1999 | K46: КМС | L46: Республика Татарстан | N46: НЕФТЕХИМИК, ПГАФКСИТ | O46: 8.69 | T46: =MIN(O46,Q46,S46) -> 8.69 | U46: =IF(OR(T46="",T46="н/я",T46="сошёл",T46="сошла",EXACT("дискв", LEFT(T46,5))),"",LOOKUP(T46,$Y$1:$AR$1,$Y$2:$AR$2)) -> I | V46: 1 | W46: Носова М.Е.
D47: 28 | G47: 258 | H47: ЗАХАРОВ | I47: Данил | J47: 12.06.2001 | K47: КМС | L47: Московская область | N47: ГБУ МО "СШОР", ГБУ МО "ЦСП ОВС", ГУОР | O47: 8.7 | T47: =MIN(O47,Q47,S47) -> 8.7 | U47: =IF(OR(T47="",T47="н/я",T47="сошёл",T47="сошла",EXACT("дискв", LEFT(T47,5))),"",LOOKUP(T47,$Y$1:$AR$1,$Y$2:$AR$2)) -> I | V47: 1 | W47: Коротеева М.М., Богданов А.М., Богданова Е.И.
D48: 29 | G48: 63 | H48: ПЛОТНИКОВ | I48: Глеб | J48: 15.05.2000 | K48: КМС | L48: Нижегородская область | N48: МБУ КСШОР № 1 | O48: 8.83 | T48: =MIN(O48,Q48,S48) -> 8.83 | U48: =IF(OR(T48="",T48="н/я",T48="сошёл",T48="сошла",EXACT("дискв", LEFT(T48,5))),"",LOOKUP(T48,$Y$1:$AR$1,$Y$2:$AR$2)) -> I | V48: 1 | W48: Шишкин В.В.
D49: 29 | G49: 22 | H49: СОЛДАТОВ | I49: Родион | J49: 22.04.1999 | K49: КМС | L49: Самарская область | N49: СШОР № 2 г. Самара | O49: 8.83 | T49: =MIN(O49,Q49,S49) -> 8.83 | U49: =IF(OR(T49="",T49="н/я",T49="сошёл",T49="сошла",EXACT("дискв", LEFT(T49,5))),"",LOOKUP(T49,$Y$1:$AR$1,$Y$2:$AR$2)) -> I | V49: 1 | W49: Лобачёва Е.Н.
D50: 31 | G50: 279 | H50: ПРОСКУРЯКОВ | I50: Игнат | J50: 16.02.1999 | K50: КМС | L50: Московская область | N50: ГБУ МО "СШОР" | O50: 8.85 | T50: =MIN(O50,Q50,S50) -> 8.85 | U50: =IF(OR(T50="",T50="н/я",T50="сошёл",T50="сошла",EXACT("дискв", LEFT(T50,5))),"",LOOKUP(T50,$Y$1:$AR$1,$Y$2:$AR$2)) -> I | V50: лич | W50: Арабаджев С.И.
G51: 163 | H51: РОБЕРТОВ | I51: Даниил | J51: 28.10.2000 | K51: КМС | L51: Санкт-Петербург-1 | N51: СШОР Центрального р-на | O51: DNF | W51: Алексеева С.Л., Еременко А.В.
G52: 437 | H52: КУКЛЕВ | I52: Алексей | J52: 04.02.1997 | K52: КМС | L52: Москва Краснодарский край | N52: ГБУ "СШОР "Луч" Москомспорта | O52: DNS | V52: лич | W52: Азизьян А.А., Сагалов А.П., Шабанов Г.К.
H56: Главный судья соревнований | Q56: Уйк А.Г. /СПб, ССВк/
H58: Главный секретарь соревнований | Q58: Алексеева О.К. /СПб, ССВк/

Sheet ВысЮ
J1: МИНИСТЕРСТВО СПОРТА РОССИЙСКОЙ ФЕДЕРАЦИИ | W1: 0 | X1: 130 | Y1: 140 | Z1: 150 | AA1: 160 | AB1: 175 | AC1: 190 | AD1: 200 | AE1: 215 | AF1: 228
J2: ВСЕРОССИЙСКАЯ ФЕДЕРАЦИЯ ЛЕГКОЙ АТЛЕТИКИ | W2: б/р | X2: 3юн | Y2: 2юн | Z2: 1юн | AA2: III | AB2: II | AC2: I | AD2: кмс | AE2: мс | AF2: мсмк
J3: КОМИТЕТ ПО ФИЗИЧЕСКОЙ КУЛЬТУРЕ И СПОРТУ САНКТ-ПЕТЕРБУРГА
J4: СПОРТИВНАЯ ФЕДЕРАЦИЯ ЛЕГКОЙ АТЛЕТИКИ САНКТ-ПЕТЕРБУРГА
J6: Первенство России по легкой атлетике
J7: (среди юниоров и юниорок до 23 лет) в помещении
B9: 2.43 | C9: Рекорд Мира 23 | J9: ИТОГОВЫЙ ПРОТОКОЛ
B10: 2.41 | C10: Рекорд Европы 23
B11: 2.39 | C11: Рекорд России 23 | J11: ЮНИОРЫ
B13: Санкт-Петербург, Легкоатлетический манеж | U13: 19- 21 февраля 2019 г.
B15: Место | C15: Номер | D15: Фамилия Имя | F15: Дата рожд | G15: Разр. | H15: Территория | J15: Организация | K15: А | L15: Б | M15: Рез-тат | O15: А | P15: Б | Q15: Рез-тат | S15: Разряд | T15: Очки | U15: Тренер
D17: 19 февраля 2019 г. | E17: Квалификация 12:25 - 13:45 | U17: Прыжок в высоту
D18: 20 февраля 2019 г. | E18: Финальные соревнования 16:50 - 17:47 | L18: квалификация | P18: финальн. сор-ния
B20: 1 | C20: 195 | D20: РУДНИК | E20: Матвей | F20: 08.06.1999 | G20: МС | H20: Омская область Кемеровская область | J20: СибГУОР, БУ ОО ООЦСП, БУ ОО "СШОР", СШОР им.В.А.Савенкова | K20: 1 | L20: 0 | M20: 207 | N20: q | O20: 3 | P20: 3 | Q20: 221 | R20: =MAX(M20,Q20) -> 221 | S20: =LOOKUP(R20,$W$1:$AF$1,$W$2:$AF$2) -> мс | T20: Л | U20: Геворкян Р.О., Зиновьева Е.Н.
B21: 2 | C21: 350 | D21: КУРБАНОВ | E21: Никита | F21: 13.04.1999 | G21: МС | H21: Москва-1 | J21: ГБУ "ЦСП по легкой атлетике" | K21: 1 | L21: 0 | M21: 207 | N21: q | O21: 1 | P21: 0 | Q21: 215 | R21: =MAX(M21,Q21) -> 215 | S21: =LOOKUP(R21,$W$1:$AF$1,$W$2:$AF$2) -> мс | T21: 25 | U21: Клюгин С.П., Клюгина В.Ю., Милокумов С.В.
B22: 3 | C22: 398 | D22: ГАЙНУТДИНОВ | E22: Азат | F22: 24.06.1999 | G22: МС | H22: Республика Татарстан | J22: СШ Авиатор | K22: 3 | L22: 2 | M22: 207 | N22: q | O22: 2 | P22: 3 | Q22: 215 | R22: =MAX(M22,Q22) -> 215 | S22: =LOOKUP(R22,$W$1:$AF$1,$W$2:$AF$2) -> мс | T22: 22 | U22: Рынина Е.И.
B23: 4 | C23: 381 | D23: ЕФАНОВ | E23: Алексей | F23: 06.10.1997 | G23: МС | H23: Москва Липецкая область | J23: ГБУ "ЦСП по легкой атлетике", МБУ "СШОР № 5" | K23: 1 | L23: 0 | M23: 207 | N23: q | O23: 1 | P23: 0 | Q23: 210 | R23: =MAX(M23,Q23) -> 210 | S23: =LOOKUP(R23,$W$1:$AF$1,$W$2:$AF$2) -> кмс | T23: 15 | U23: Трухина И.М., Друзь В.С., Загорулько Е.П.
B24: 5 | C24: 414 | D24: МОРОЗОВ | E24: Сергей | F24: 06.10.1999 | G24: КМС | H24: Чувашская республика | J24: СШОР№1 им. В. Егоровой, ЧУОР им. В. Краснова | K24: 2 | L24: 1 | M24: 207 | N24: q | O24: 1 | P24: 1 | Q24: 210 | R24: =MAX(M24,Q24) -> 210 | S24: =LOOKUP(R24,$W$1:$AF$1,$W$2:$AF$2) -> кмс | T24: 14 | U24: Морозова С.Н.
B25: 6 | C25: 492 | D25: ГАТИЦКИЙ | E25: Александр | F25: 09.02.1998 | G25: КМС | H25: Волгоградская область | J25: СШОР 10 | K25: 1 | L25: 1 | M25: 207 | N25: q | O25: 2 | P25: 1 | Q25: 210 | R25: =MAX(M25,Q25) -> 210 | S25: =LOOKUP(R25,$W$1:$AF$1,$W$2:$AF$2) -> кмс | T25: 13 | U25: Мартюшев А.С., Батырев В.Г.
B26: 7 | C26: 450 | D26: ВЕДЕШКИН | E26: Кирилл | F26: 07.10.1998 | G26: КМС | H26: Челябинская область | J26: СК М-М СШОР | K26: 1 | L26: 0 | M26: 207 | N26: q | O26: 1 | P26: 0 | Q26: 205 | R26: =MAX(M26,Q26) -> 207 | S26: =LOOKUP(R26,$W$1:$AF$1,$W$2:$AF$2) -> кмс | T26: 12 | U26: Парамонова И.П., Андреев А.Н.
B27: 7 | C27: 325 | D27: МЫЛЬНИКОВ | E27: Артем | F27: 27.03.1997 | G27: МС | H27: Ярославская область | J27: ГУ ЯО "СШОР по лёгкой атлетике и адаптивному спорту" | K27: 3 | L27: 3 | M27: 207 | N27: q | O27: 1 | P27: 0 | Q27: 205 | R27: =MAX(M27,Q27) -> 207 | S27: =LOOKUP(R27,$W$1:$AF$1,$W$2:$AF$2) -> кмс | T27: 12 | U27: Рыбаков В.Ю.
B28: 7 | C28: 340 | D28: КИСЛЯКОВ | E28: Владислав | F28: 12.04.2002 | G28: КМС | H28: Ростовская область | J28: СШОР № 25 г.Белая Калитва | K28: 3 | L28: 5 | M28: 207 | N28: q | O28: 1 | P28: 0 | Q28: 205 | R28: =MAX(M28,Q28) -> 207 | S28: =LOOKUP(R28,$W$1:$AF$1,$W$2:$AF$2) -> кмс | T28: 12 | U28: Сергеев А.Е., Сергеева Д.А.
B29: 10 | C29: 76 | D29: КУТКОВОЙ | E29: Ярослав | F29: 10.10.2000 | G29: КМС | H29: Краснодарский край | J29: ДЮСШ-1, ГБУ КК "РЦСП по л/а" | K29: 2 | L29: 2 | M29: 207 | N29: q | O29: 1 | P29: 2 | Q29: 205 | R29: =MAX(M29,Q29) -> 207 | S29: =LOOKUP(R29,$W$1:$AF$1,$W$2:$AF$2) -> кмс | T29: 9 | U29: Рябухин В.А., Задорожняя Г.С., Рябухина А.В.
B30: 11 | C30: 138 | D30: КРЫЛОВ | E30: Сергей | F30: 29.07.1999 | G30: КМС | H30: Санкт-Петербург-2 Курская область | J30: СПб ГБУ СШОР "Академия легкой атлетики Санкт-Петербурга" | K30: 1 | L30: 0 | M30: 207 | N30: q | O30: 2 | P30: 1 | Q30: 200 | R30: =MAX(M30,Q30) -> 207 | S30: =LOOKUP(R30,$W$1:$AF$1,$W$2:$AF$2) -> кмс | T30: 8 | U30: Мишина С.В., Дмитрик А.В.
B31: 11 | C31: 98 | D31: ПУНТУС | E31: Антон | F31: 16.06.1999 | G31: МС | H31: Кемеровская область | J31: МАФСУ "СШ №7" , КузГТУ, ГУОР г. Кисловодск | K31: 1 | L31: 1 | M31: 204 | N31: q | O31: 2 | P31: 1 | Q31: 200 | R31: =MAX(M31,Q31) -> 204 | S31: =LOOKUP(R31,$W$1:$AF$1,$W$2:$AF$2) -> кмс | T31: 8 | U31: Станилога Л.В.
B32: 13 | C32: 152 | D32: НАТАЛЬЧУК | E32: Арсентий | F32: 18.11.2000 | G32: МС | H32: Санкт-Петербург-2 | J32: ГБУ СШОР №2 Московского района Санкт-Петербург | K32: 2 | L32: 1 | M32: 204 | S32: кмс | T32: 6 | U32: Воробьева Е.В., Воробьев К.Н.
B33: 14 | C33: 445 | D33: ТИХОНОВ | E33: Александр | F33: 18.12.1998 | G33: КМС | H33: Ульяновская область | J33: ССШОР по лёгкой атлетике | K33: 2 | L33: 2 | M33: 204 | S33: кмс | T33: 5 | U33: Ковалев А.Л.
B34: 15 | C34: 159 | D34: ПОПОВ | E34: Григорий | F34: 08.05.1998 | G34: КМС | H34: Санкт-Петербург | J34: СПб ГБУ СШОР "Академия легкой атлетики Санкт-Петербурга", СПб ГБПОУ "УОР № 1" | K34: 2 | L34: 3 | M34: 204 | S34: кмс | T34: 4 | U34: Семашко Е.В.
B35: 15 | C35: 508 | D35: КУЧУРКИН | E35: Павел | F35: 03.09.1999 | G35: 1 | H35: Республика Башкортостан | J35: ДЮСШ Юность | K35: 2 | L35: 3 | M35: 204 | S35: кмс | T35: 4 | U35: Шалопин А.В.
B36: 17 | C36: 23 | D36: ТАНГАЕВ | E36: Дмитрий | F36: 23.03.2001 | G36: 1 | H36: Самарская область | J36: СШОР 1 Самара | K36: 3 | L36: 4 | M36: 204 | S36: кмс | T36: 2 | U36: Спирин Н.С., Андреев М.В.
B37: 18 | C37: 123 | D37: ЗАЙЦЕВ | E37: Артем | F37: 20.10.2001 | G37: КМС | H37: Санкт-Петербург | J37: СПб ГБУ СШОР "Академия легкой атлетики Санкт-Петербурга", СПб ГБПОУ "УОР № 1 | K37: 1 | L37: 0 | M37: 200 | S37: кмс | T37: 1 | U37: Семененок М.Е., Зиновьев С.Е.
B38: 19 | C38: 14 | D38: ВЕРЕВКИН | E38: Михаил | F38: 08.10.1999 | G38: КМС | H38: Самарская область | J38: СШОР № 6 г. Самара | K38: 1 | L38: 0 | M38: 196 | S38: 1 | T38: 1 | U38: Белкова О.Н., Белков Г.А.
B39: 19 | C39: 99 | D39: ЧУПАХИН | E39: Илья | F39: 30.08.2000 | G39: КМС | H39: Ленинградская область Санкт-Петербург-1 | J39: ДЮСШ г.Тосно, СПб ГБУ СШОР "Академия легкой атлетики Санкт-Петербурга", Академия легкой атлетики СПб | K39: 1 | L39: 0 | M39: 196 | S39: 1 | T39: 1 | U39: Михайлов В.Н.
B40: 21 | C40: 174 | D40: СПИВАКОВ | E40: Иван | F40: 01.06.2000 | G40: КМС | H40: Санкт-Петербург Курская область | J40: СПб ГБПОУ "УОР № 1", ЦОП "ШВСМ л/атл." (СПб) | K40: 1 | L40: 1 | M40: 196 | S40: 1 | T40: 1 | U40: Шеянов В.П., Попкова Е.Н., Ловачёва К.С.
B41: 22 | C41: 2 | D41: БЕЛЯЙКОВ | E41: Сергей | F41: 23.07.2001 | G41: 1 | H41: Ленинградская область Санкт-Петербург | J41: ДЮСШ г.Гатчина, Академия легкой атлетики СПб | K41: 1 | L41: 0 | M41: 190 | S41: 1 | T41: 1 | U41: Баканов О.Д., Семёнов В.О., Константинова Т.Ю.
B42: 22 | C42: 160 | D42: ПРАВОДИН | E42: Никита | F42: 30.10.2001 | G42: КМС | H42: Санкт-Петербург | J42: СПб ГБУ СШОР "Академия легкой атлетики Санкт-Петербурга" | K42: 1 | L42: 0 | M42: 190 | S42: 1 | T42: Л | U42: Семененок М.Е., Зиновьев С.Е.
E48: Главный судья соревнований | L48: Уйк А.Г. /СПб, ССВк/
E50: Главный секретарь соревнований | L50: Алексеева О.К. /СПб, ССВк/

Sheet ВысЮ(ф)
M1: ВСЕРОССИЙСКАЯ ФЕДЕРАЦИЯ ЛЕГКОЙ АТЛЕТИКИ
M2: КОМИТЕТ ПО ФИЗИЧЕСКОЙ КУЛЬТУРЕ И СПОРТУ САНКТ-ПЕТЕРБУРГА
M3: СПОРТИВНАЯ ФЕДЕРАЦИЯ ЛЕГКОЙ АТЛЕТИКИ САНКТ-ПЕТЕРБУРГА
M4: САНКТ-ПЕТЕРБУРГСКАЯ КОЛЛЕГИЯ СУДЕЙ ПО ЛЕГКОЙ АТЛЕТИКЕ
M6: Прыжок в высоту
M7: (приложение к протоколу)
M8: ФИНАЛЬНЫЕ СОРЕВНОВАНИЯ
M10: ЮНИОРЫ
A12: Санкт-Петербург, Легкоатлетический манеж | AI12: 20 февраля 2019 г.
A14: Место | B14: № участ. | C14: Фамилия | D14: Имя | E14: Пред. рез. | F14: 200 | I14: 205 | L14: 210 | P14: 215 | S14: 218 | V14: 221 | Y14: 224 | AG14: А | AH14: Б | AI14: Рез-тат | AJ14: Прим.
B15: № уч. | F15: 1 | G15: 2 | H15: 3 | I15: 1 | J15: 2 | K15: 3 | L15: 1 | M15: 2 | N15: 3 | O15: 1 | P15: 2 | Q15: 3 | R15: 1 | S15: 2 | T15: 3 | U15: 1 | V15: 2 | W15: 3 | X15: 1 | Y15: 2 | Z15: 3 | AA15: 1 | AB15: 2 | AC15: 3 | AD15: 1 | AE15: 2 | AF15: 3 | AH15: Б | AJ15: М
A16: 1 | B16: =[19]ВысЮ!C26 -> 195 | C16: =[19]ВысЮ!D26 -> РУДНИК | D16: =[19]ВысЮ!E26 -> Матвей | E16: 207 | I16: 0 | L16: 0 | O16: Х | P16: 0 | R16: 0 | U16: Х | V16: Х | W16: 0 | X16: r | AG16: 3 | AH16: 3 | AI16: 221 | AJ16: Л
A17: 2 | B17: =[19]ВысЮ!C34 -> 350 | C17: =[19]ВысЮ!D34 -> КУРБАНОВ | D17: =[19]ВысЮ!E34 -> Никита | E17: 207 | I17: 0 | L17: 0 | O17: 0 | R17: Х | S17: Х | T17: Х | AG17: 1 | AH17: 0 | AI17: 215
A18: 3 | B18: =[19]ВысЮ!C28 -> 398 | C18: =[19]ВысЮ!D28 -> ГАЙНУТДИНОВ | D18: =[19]ВысЮ!E28 -> Азат | E18: 207 | F18: 0 | I18: Х | J18: 0 | L18: Х | M18: 0 | O18: Х | P18: 0 | R18: Х | S18: Х | T18: Х | AG18: 2 | AH18: 3 | AI18: 215
A19: 4 | B19: =[19]ВысЮ!C20 -> 381 | C19: =[19]ВысЮ!D20 -> ЕФАНОВ | D19: =[19]ВысЮ!E20 -> Алексей | E19: 207 | I19: 0 | L19: 0 | O19: Х | P19: Х | Q19: Х | AG19: 1 | AH19: 0 | AI19: 210
A20: 5 | B20: =[19]ВысЮ!C30 -> 414 | C20: =[19]ВысЮ!D30 -> МОРОЗОВ | D20: =[19]ВысЮ!E30 -> Сергей | E20: 207 | F20: 0 | I20: Х | J20: 0 | L20: 0 | O20: Х | P20: Х | Q20: Х | AG20: 1 | AH20: 1 | AI20: 210
A21: 6 | B21: =[19]ВысЮ!C29 -> 492 | C21: =[19]ВысЮ!D29 -> ГАТИЦКИЙ | D21: =[19]ВысЮ!E29 -> Александр | E21: 207 | F21: 0 | I21: 0 | L21: Х | M21: 0 | O21: Х | P21: Х | Q21: Х | AG21: 2 | AH21: 1 | AI21: 210
A22: 7 | B22: =[19]ВысЮ!C31 -> 340 | C22: =[19]ВысЮ!D31 -> КИСЛЯКОВ | D22: =[19]ВысЮ!E31 -> Владислав | E22: 207 | F22: 0 | I22: 0 | L22: Х | M22: Х | N22: Х | AG22: 1 | AH22: 0 | AI22: 205
A23: 7 | B23: =[19]ВысЮ!C41 -> 450 | C23: =[19]ВысЮ!D41 -> ВЕДЕШКИН | D23: =[19]ВысЮ!E41 -> Кирилл | E23: 207 | F23: 0 | I23: 0 | L23: Х | M23: Х | N23: Х | AG23: 1 | AH23: 0 | AI23: 205
A24: 7 | B24: =[19]ВысЮ!C25 -> 325 | C24: =[19]ВысЮ!D25 -> МЫЛЬНИКОВ | D24: =[19]ВысЮ!E25 -> Артем | E24: 207 | F24: 0 | I24: 0 | L24: Х | M24: Х | N24: Х | AG24: 1 | AH24: 0 | AI24: 205
A25: 10 | B25: =[19]ВысЮ!C36 -> 76 | C25: =[19]ВысЮ!D36 -> КУТКОВОЙ | D25: =[19]ВысЮ!E36 -> Ярослав | E25: 207 | F25: Х | G25: Х | H25: 0 | I25: 0 | L25: Х | M25: Х | N25: Х | AG25: 1 | AH25: 2 | AI25: 205
A26: 11 | B26: =[19]ВысЮ!C39 -> 98 | C26: =[19]ВысЮ!D39 -> ПУНТУС | D26: =[19]ВысЮ!E39 -> Антон | E26: 204 | F26: Х | G26: 0 | I26: Х | J26: Х | K26: Х | AG26: 2 | AH26: 1 | AI26: 200
A27: 11 | B27: =[19]ВысЮ!C23 -> 138 | C27: =[19]ВысЮ!D23 -> КРЫЛОВ | D27: =[19]ВысЮ!E23 -> Сергей | E27: 207 | F27: Х | G27: 0 | I27: Х | J27: Х | K27: Х | AG27: 2 | AH27: 1 | AI27: 200 | AJ27: Л
C29: Главный судья соревнований | V29: Уйк А.Г. /СПб, ССВк/
C31: Главный секретарь соревнований | V31: Алексеева О.К. /СПб, ССВк/

Sheet ВысЮ(кв)
P1: ВСЕРОССИЙСКАЯ ФЕДЕРАЦИЯ ЛЕГКОЙ АТЛЕТИКИ
P2: КОМИТЕТ ПО ФИЗИЧЕСКОЙ КУЛЬТУРЕ И СПОРТУ САНКТ-ПЕТЕРБУРГА
P3: СПОРТИВНАЯ ФЕДЕРАЦИЯ ЛЕГКОЙ АТЛЕТИКИ САНКТ-ПЕТЕРБУРГА
P4: САНКТ-ПЕТЕРБУРГСКАЯ КОЛЛЕГИЯ СУДЕЙ ПО ЛЕГКОЙ АТЛЕТИКЕ
P6: Первенство России по легкой атлетике
P7: (среди юниоров и юниорок до 23 лет) в помещении
A9: 2.43 | B9: Рекорд Мира 23 | N9: Прыжок в высоту
A10: 2.41 | B10: Рекорд Европы 23 | N10: (Приложение)
A11: 2.39 | B11: Рекорд России 23
N12: ЮНИОРЫ
A14: Санкт-Петербург, Легкоатлетический манеж | N14: Квалификация | AQ14: 19 февраля 2019 г.
A16: № п/п | B16: № участ. | C16: Фамилия | D16: Имя | E16: Дата рожд | F16: Разряд | G16: Территория | H16: 175 | K16: 190 | O16: 196 | R16: 200 | U16: 204 | X16: 207 | AA16: 209 | AO16: А | AP16: Б | AQ16: Рез-тат | AR16: М | AS16: Прим.
B17: № уч. | E17: Г.р. | F17: Разряд | G17: Команда | H17: 1 | I17: 2 | J17: 3 | K17: 1 | L17: 2 | M17: 3 | N17: 1 | O17: 2 | P17: 3 | Q17: 1 | R17: 2 | S17: 3 | T17: 1 | U17: 2 | V17: 3 | W17: 1 | X17: 2 | Y17: 3 | Z17: 1 | AA17: 2 | AB17: 3 | AC17: 1 | AD17: 2 | AE17: 3 | AF17: 1 | AG17: 2 | AH17: 3 | AI17: 1 | AJ17: 2 | AK17: 3 | AL17: 1 | AM17: 2 | AN17: 3 | AP17: Б | AR17: Б | AS17: М
A18: 1 | B18: =[19]ВысЮ!C20 -> 381 | C18: =[19]ВысЮ!D20 -> ЕФАНОВ | D18: =[19]ВысЮ!E20 -> Алексей | E18: =[19]ВысЮ!F20 -> 06.10.1997 | F18: =[19]ВысЮ!G20 -> МС | G18: =[19]ВысЮ!H20 -> Москва Липецкая область | T18: 0 | W18: 0 | AO18: 1 | AP18: 0 | AQ18: 207 | AS18: q
A19: 2 | B19: =[19]ВысЮ!C23 -> 138 | C19: =[19]ВысЮ!D23 -> КРЫЛОВ | D19: =[19]ВысЮ!E23 -> Сергей | E19: =[19]ВысЮ!F23 -> 29.07.1999 | F19: =[19]ВысЮ!G23 -> КМС | G19: =[19]ВысЮ!H23 -> Санкт-Петербург-2 Курская область | K19: 0 | N19: 0 | Q19: 0 | T19: 0 | W19: 0 | AO19: 1 | AP19: 0 | AQ19: 207 | AS19: q
A20: 3 | B20: =[19]ВысЮ!C26 -> 195 | C20: =[19]ВысЮ!D26 -> РУДНИК | D20: =[19]ВысЮ!E26 -> Матвей | E20: =[19]ВысЮ!F26 -> 08.06.1999 | F20: =[19]ВысЮ!G26 -> МС | G20: =[19]ВысЮ!H26 -> Омская область Кемеровская область | Q20: 0 | T20: 0 | W20: 0 | AO20: 1 | AP20: 0 | AQ20: 207 | AS20: q
A21: 4 | B21: =[19]ВысЮ!C34 -> 350 | C21: =[19]ВысЮ!D34 -> КУРБАНОВ | D21: =[19]ВысЮ!E34 -> Никита | E21: =[19]ВысЮ!F34 -> 13.04.1999 | F21: =[19]ВысЮ!G34 -> МС | G21: =[19]ВысЮ!H34 -> Москва-1 | Q21: 0 | T21: 0 | W21: 0 | AO21: 1 | AP21: 0 | AQ21: 207 | AS21: q
A22: 5 | B22: =[19]ВысЮ!C41 -> 450 | C22: =[19]ВысЮ!D41 -> ВЕДЕШКИН | D22: =[19]ВысЮ!E41 -> Кирилл | E22: =[19]ВысЮ!F41 -> 07.10.1998 | F22: =[19]ВысЮ!G41 -> КМС | G22: =[19]ВысЮ!H41 -> Челябинская область | K22: 0 | N22: 0 | Q22: 0 | T22: 0 | W22: 0 | AO22: 1 | AP22: 0 | AQ22: 207 | AS22: q
A23: 6 | B23: =[19]ВысЮ!C29 -> 492 | C23: =[19]ВысЮ!D29 -> ГАТИЦКИЙ | D23: =[19]ВысЮ!E29 -> Александр | E23: =[19]ВысЮ!F29 -> 09.02.1998 | F23: =[19]ВысЮ!G29 -> КМС | G23: =[19]ВысЮ!H29 -> Волгоградская область | K23: 0 | N23: 0 | Q23: Х | R23: 0 | T23: 0 | W23: 0 | AO23: 1 | AP23: 1 | AQ23: 207 | AS23: q
A24: 7 | B24: =[19]ВысЮ!C30 -> 414 | C24: =[19]ВысЮ!D30 -> МОРОЗОВ | D24: =[19]ВысЮ!E30 -> Сергей | E24: =[19]ВысЮ!F30 -> 06.10.1999 | F24: =[19]ВысЮ!G30 -> КМС | G24: =[19]ВысЮ!H30 -> Чувашская республика | N24: 0 | Q24: 0 | T24: 0 | W24: Х | X24: 0 | AO24: 2 | AP24: 1 | AQ24: 207 | AS24: q
A25: 8 | B25: =[19]ВысЮ!C36 -> 76 | C25: =[19]ВысЮ!D36 -> КУТКОВОЙ | D25: =[19]ВысЮ!E36 -> Ярослав | E25: =[19]ВысЮ!F36 -> 10.10.2000 | F25: =[19]ВысЮ!G36 -> КМС | G25: =[19]ВысЮ!H36 -> Краснодарский край | N25: 0 | Q25: 0 | T25: Х | U25: 0 | W25: Х | X25: 0 | AO25: 2 | AP25: 2 | AQ25: 207 | AS25: q
A26: 9 | B26: =[19]ВысЮ!C28 -> 398 | C26: =[19]ВысЮ!D28 -> ГАЙНУТДИНОВ | D26: =[19]ВысЮ!E28 -> Азат | E26: =[19]ВысЮ!F28 -> 24.06.1999 | F26: =[19]ВысЮ!G28 -> МС | G26: =[19]ВысЮ!H28 -> Республика Татарстан | K26: 0 | N26: 0 | Q26: 0 | T26: 0 | W26: Х | X26: Х | Y26: 0 | AO26: 3 | AP26: 2 | AQ26: 207 | AS26: q
A27: 10 | B27: =[19]ВысЮ!C25 -> 325 | C27: =[19]ВысЮ!D25 -> МЫЛЬНИКОВ | D27: =[19]ВысЮ!E25 -> Артем | E27: =[19]ВысЮ!F25 -> 27.03.1997 | F27: =[19]ВысЮ!G25 -> МС | G27: =[19]ВысЮ!H25 -> Ярославская область | N27: 0 | Q27: Х | R27: 0 | T27: Х | U27: Х | V27: 0 | W27: 0 | AO27: 3 | AP27: 3 | AQ27: 207 | AS27: q
A28: 11 | B28: =[19]ВысЮ!C31 -> 340 | C28: =[19]ВысЮ!D31 -> КИСЛЯКОВ | D28: =[19]ВысЮ!E31 -> Владислав | E28: =[19]ВысЮ!F31 -> 12.04.2002 | F28: =[19]ВысЮ!G31 -> КМС | G28: =[19]ВысЮ!H31 -> Ростовская область | N28: Х | O28: 0 | Q28: Х | R28: Х | S28: 0 | T28: 0 | W28: Х | X28: Х | Y28: 0 | AO28: 3 | AP28: 5 | AQ28: 207 | AS28: q
A29: 12 | B29: =[19]ВысЮ!C39 -> 98 | C29: =[19]ВысЮ!D39 -> ПУНТУС | D29: =[19]ВысЮ!E39 -> Антон | E29: =[19]ВысЮ!F39 -> 16.06.1999 | F29: =[19]ВысЮ!G39 -> МС | G29: =[19]ВысЮ!H39 -> Кемеровская область | N29: 0 | Q29: Х | R29: 0 | T29: 0 | W29: Х | X29: Х | Y29: Х | AO29: 1 | AP29: 1 | AQ29: 204 | AS29: q
A30: 13 | B30: =[19]ВысЮ!C35 -> 152 | C30: =[19]ВысЮ!D35 -> НАТАЛЬЧУК | D30: =[19]ВысЮ!E35 -> Арсентий | E30: =[19]ВысЮ!F35 -> 18.11.2000 | F30: =[19]ВысЮ!G35 -> МС | G30: =[19]ВысЮ!H35 -> Санкт-Петербург-2 | N30: 0 | Q30: 0 | T30: Х | U30: 0 | W30: Х | X30: Х | Y30: Х | AO30: 2 | AP30: 1 | AQ30: 204
A31: 14 | B31: =[19]ВысЮ!C42 -> 445 | C31: =[19]ВысЮ!D42 -> ТИХОНОВ | D31: =[19]ВысЮ!E42 -> Александр | E31: =[19]ВысЮ!F42 -> 18.12.1998 | F31: =[19]ВысЮ!G42 -> КМС | G31: =[19]ВысЮ!H42 -> Ульяновская область | K31: 0 | N31: Х | O31: 0 | Q31: 0 | T31: Х | U31: 0 | W31: Х | X31: Х | Y31: Х | AO31: 2 | AP31: 2 | AQ31: 204
A32: 15 | B32: =[19]ВысЮ!C24 -> 159 | C32: =[19]ВысЮ!D24 -> ПОПОВ | D32: =[19]ВысЮ!E24 -> Григорий | E32: =[19]ВысЮ!F24 -> 08.05.1998 | F32: =[19]ВысЮ!G24 -> КМС | G32: =[19]ВысЮ!H24 -> Санкт-Петербург | N32: 0 | Q32: Х | R32: Х | S32: 0 | T32: Х | U32: 0 | W32: Х | X32: Х | Y32: Х | AO32: 2 | AP32: 3 | AQ32: 204
A33: 16 | B33: =[19]ВысЮ!C22 -> 508 | C33: =[19]ВысЮ!D22 -> КУЧУРКИН | D33: =[19]ВысЮ!E22 -> Павел | E33: =[19]ВысЮ!F22 -> 03.09.1999 | F33: =[19]ВысЮ!G22 -> 1 | G33: =[19]ВысЮ!H22 -> Республика Башкортостан | K33: 0 | N33: Х | O33: Х | P33: 0 | Q33: 0 | T33: Х | U33: 0 | W33: Х | X33: Х | Y33: Х | AO33: 2 | AP33: 3 | AQ33: 204
A34: 17 | B34: =[19]ВысЮ!C40 -> 23 | C34: =[19]ВысЮ!D40 -> ТАНГАЕВ | D34: =[19]ВысЮ!E40 -> Дмитрий | E34: =[19]ВысЮ!F40 -> 23.03.2001 | F34: =[19]ВысЮ!G40 -> 1 | G34: =[19]ВысЮ!H40 -> Самарская область | H34: 0 | K34: 0 | N34: Х | O34: Х | P34: 0 | Q34: 0 | T34: Х | U34: Х | V34: 0 | W34: Х | X34: Х | Y34: Х | AO34: 3 | AP34: 4 | AQ34: 204
A35: 18 | B35: =[19]ВысЮ!C33 -> 123 | C35: =[19]ВысЮ!D33 -> ЗАЙЦЕВ | D35: =[19]ВысЮ!E33 -> Артем | E35: =[19]ВысЮ!F33 -> 20.10.2001 | F35: =[19]ВысЮ!G33 -> КМС | G35: =[19]ВысЮ!H33 -> Санкт-Петербург | K35: 0 | N35: 0 | Q35: 0 | T35: Х | U35: Х | V35: Х | AO35: 1 | AP35: 0 | AQ35: 200
A36: 19 | B36: =[19]ВысЮ!C21 -> 14 | C36: =[19]ВысЮ!D21 -> ВЕРЕВКИН | D36: =[19]ВысЮ!E21 -> Михаил | E36: =[19]ВысЮ!F21 -> 08.10.1999 | F36: =[19]ВысЮ!G21 -> КМС | G36: =[19]ВысЮ!H21 -> Самарская область | H36: 0 | K36: 0 | N36: 0 | Q36: Х | R36: Х | S36: Х | AO36: 1 | AP36: 0 | AQ36: 196
A37: 20 | B37: =[19]ВысЮ!C38 -> 99 | C37: =[19]ВысЮ!D38 -> ЧУПАХИН | D37: =[19]ВысЮ!E38 -> Илья | E37: =[19]ВысЮ!F38 -> 30.08.2000 | F37: =[19]ВысЮ!G38 -> КМС | G37: =[19]ВысЮ!H38 -> Ленинградская область Санкт-Петербург-1 | N37: 0 | Q37: Х | R37: Х | S37: Х | AO37: 1 | AP37: 0 | AQ37: 196
A38: 21 | B38: =[19]ВысЮ!C37 -> 174 | C38: =[19]ВысЮ!D37 -> СПИВАКОВ | D38: =[19]ВысЮ!E37 -> Иван | E38: =[19]ВысЮ!F37 -> 01.06.2000 | F38: =[19]ВысЮ!G37 -> КМС | G38: =[19]ВысЮ!H37 -> Санкт-Петербург Курская область | H38: Х | I38: 0 | K38: 0 | N38: 0 | Q38: Х | R38: Х | S38: Х | AO38: 1 | AP38: 1 | AQ38: 196
A39: 22 | B39: =[19]ВысЮ!C27 -> 2 | C39: =[19]ВысЮ!D27 -> БЕЛЯЙКОВ | D39: =[19]ВысЮ!E27 -> Сергей | E39: =[19]ВысЮ!F27 -> 23.07.2001 | F39: =[19]ВысЮ!G27 -> 1 | G39: =[19]ВысЮ!H27 -> Ленинградская область Санкт-Петербург | H39: 0 | K39: 0 | N39: Х | O39: Х | P39: Х | AO39: 1 | AP39: 0 | AQ39: 190
A40: 23 | B40: =[19]ВысЮ!C32 -> 160 | C40: =[19]ВысЮ!D32 -> ПРАВОДИН | D40: =[19]ВысЮ!E32 -> Никита | E40: =[19]ВысЮ!F32 -> 30.10.2001 | F40: =[19]ВысЮ!G32 -> КМС | G40: =[19]ВысЮ!H32 -> Санкт-Петербург | K40: 0 | N40: Х | O40: Х | P40: Х | AO40: 1 | AP40: 0 | AQ40: 190
C46: Главный судья соревнований | AE46: Уйк А.Г. /СПб, ССВк/
C48: Главный секретарь соревнований | AE48: Алексеева О.К. /СПб, ССВк/

Sheet ДлЮ
K1: МИНИСТЕРСТВО СПОРТА РОССИЙСКОЙ ФЕДЕРАЦИИ | Z1: МИНИСТЕРСТВО СПОРТА РОССИЙСКОЙ ФЕДЕРАЦИИ | AK1: 0 | AL1: 4 | AM1: 4.5 | AN1: 5 | AO1: 5.5 | AP1: 6 | AQ1: 6.6 | AR1: 7.1 | AS1: 7.6 | AT1: 8
K2: ВСЕРОССИЙСКАЯ ФЕДЕРАЦИЯ ЛЕГКОЙ АТЛЕТИКИ | Z2: ВСЕРОССИЙСКАЯ ФЕДЕРАЦИЯ ЛЕГКОЙ АТЛЕТИКИ | AK2: б/р | AL2: 3юн | AM2: 2юн | AN2: 1юн | AO2: III | AP2: II | AQ2: I | AR2: кмс | AS2: мс | AT2: мсмк
K3: КОМИТЕТ ПО ФИЗИЧЕСКОЙ КУЛЬТУРЕ И СПОРТУ САНКТ-ПЕТЕРБУРГА | Z3: КОМИТЕТ ПО ФИЗИЧЕСКОЙ КУЛЬТУРЕ И СПОРТУ САНКТ-ПЕТЕРБУРГА
K4: СПОРТИВНАЯ ФЕДЕРАЦИЯ ЛЕГКОЙ АТЛЕТИКИ САНКТ-ПЕТЕРБУРГА | Z4: СПОРТИВНАЯ ФЕДЕРАЦИЯ ЛЕГКОЙ АТЛЕТИКИ САНКТ-ПЕТЕРБУРГА
K6: Первенство России по легкой атлетике
K7: (среди юниоров и юниорок до 23 лет) в помещении
C8: 8.56 | D8: ВД Мира 23 | Z8: Прыжок в длину
C9: 8.56 | D9: ВД Европы 23 | K9: ИТОГОВЫЙ ПРОТОКОЛ | Z9: (приложение)
C10: 8.41 | D10: Рекорд России 23
K11: ЮНИОРЫ | Z11: ЮНОШИ
C13: Санкт-Петербург, Легкоатлетический манеж | R13: 19- 21 февраля 2019 г. | T13: Санкт-Петербург, Легкоатлетический манеж | AI13: =R13 -> 19- 21 февраля 2019 г.
C15: Место | D15: Номер | E15: Фамилия Имя | G15: Дата рожд | H15: Разр. | I15: Территория | K15: Организация | L15: Результат | P15: Разряд | Q15: Очки | R15: Тренер | T15: Место | U15: № | V15: Фамилия | W15: Имя | X15: Результаты попыток | AI15: Результат финальн соревно-ваний
X16: 1 | Y16: 2 | Z16: 3 | AA16: рез-тат квали-фика-ции | AC16: 1 | AD16: 2 | AE16: 3 | AF16: 4 | AG16: 5 | AH16: 6
F17: 19 февраля 2019 г. | G17: Квалификация 10:30 - 11:45 | R17: Прыжок в длину
F18: 20 февраля 2019 г. | G18: Финальные соревнования 16:00 - 18:25 | L18: Квалиф. | N18: Финальные | Y18: Квалификация | AE18: Финальные соревнования
C20: 1 | D20: 72 | E20: РЯПОЛОВ | F20: Анатолий | G20: 35461 | H20: МС | I20: Краснодарский край | K20: ГБУ КК ЦОП по Л/А", ГБУ КК "РЦСП по л/а" | L20: =AA20 -> 7.47 | M20: Q | N20: =AI20 -> 7.79 | O20: =MAX(L20,N20) -> 7.79 | P20: =LOOKUP(O20,$AK$1:$AT$1,$AK$2:$AT$2) -> мс | Q20: 25 | R20: Наймит И.В. | T20: =C20 -> 1 | U20: =D20 -> 72 | V20: =E20 -> РЯПОЛОВ | W20: =F20 -> Анатолий | X20: 7.47 | AA20: =MAX(X20,Y20,Z20) -> 7.47 | AB20: Q | AC20: 7.67 | AD20: 7.79 | AE20: 7.77 | AF20: Х | AG20: Х | AH20: Х | AI20: =MAX(AC20:AH20) -> 7.79
C21: 2 | D21: 348 | E21: ТАТАРИНОВ | F21: Иван | G21: 35454 | H21: КМС | I21: Москва-1 Иркутская область | K21: ГБУ "ЦСП по легкой атлетике", СШОР "Приангарье" | L21: =AA21 -> 7.36 | M21: q | N21: =AI21 -> 7.69 | O21: =MAX(L21,N21) -> 7.69 | P21: =LOOKUP(O21,$AK$1:$AT$1,$AK$2:$AT$2) -> мс | Q21: 22 | R21: Тер-Аванесов Е.М., Ткаченко С.Л., Ткаченко Г.Г. | T21: =C21 -> 2 | U21: =D21 -> 348 | V21: =E21 -> ТАТАРИНОВ | W21: =F21 -> Иван | X21: 7.36 | AA21: =MAX(X21,Y21,Z21) -> 7.36 | AB21: q | AC21: 7.63 | AD21: Х | AE21: 7.47 | AF21: 7.69 | AG21: Х | AH21: 7.61 | AI21: =MAX(AC21:AH21) -> 7.69
C22: 3 | D22: 451 | E22: ГУБИН | F22: Евгений | G22: 35613 | H22: КМС | I22: Москва Челябинская область | K22: СШОР Мосеева | L22: =AA22 -> 7.15 | M22: q | N22: =AI22 -> 7.39 | O22: =MAX(L22,N22) -> 7.39 | P22: =LOOKUP(O22,$AK$1:$AT$1,$AK$2:$AT$2) -> кмс | Q22: 15 | R22: Пугач С.В., Орешин А.И. | T22: =C22 -> 3 | U22: =D22 -> 451 | V22: =E22 -> ГУБИН | W22: =F22 -> Евгений | X22: 7.15 | Y22: 7.08 | Z22: X | AA22: =MAX(X22,Y22,Z22) -> 7.15 | AB22: q | AC22: 6.95 | AD22: 7.16 | AE22: 7.03 | AF22: 7.15 | AG22: Х | AH22: 7.39 | AI22: =MAX(AC22:AH22) -> 7.39
C23: 4 | D23: 223 | E23: ИДРИСОВ | F23: Тимур | G23: 36194 | H23: КМС | I23: Иркутская область | K23: ДЮСШ №1, СШОР ШВСМ, ГУОР, ЦСП | L23: =AA23 -> 7.37 | M23: q | N23: =AI23 -> 7.38 | O23: =MAX(L23,N23) -> 7.38 | P23: =LOOKUP(O23,$AK$1:$AT$1,$AK$2:$AT$2) -> кмс | Q23: 14 | R23: Идрисов Н.М., Потапов А.Ю. | T23: =C23 -> 4 | U23: =D23 -> 223 | V23: =E23 -> ИДРИСОВ | W23: =F23 -> Тимур | X23: 7.22 | Y23: 7.37 | Z23: X | AA23: =MAX(X23,Y23,Z23) -> 7.37 | AB23: q | AC23: 7.17 | AD23: 7.33 | AE23: 7.38 | AF23: Х | AG23: 7.32 | AH23: 6.94 | AI23: =MAX(AC23:AH23) -> 7.38
C24: 5 | D24: 383 | E24: КАРАВАЕВ | F24: Евгений | G24: 36970 | H24: 1 | I24: Москва Псковская область | K24: ГБУ "ФСО "Юность Москвы" Москомспорта, МБУ ДО "ДЮСШ "Надежда" | L24: =AA24 -> 7.1 | M24: q | N24: =AI24 -> 7.29 | O24: =MAX(L24,N24) -> 7.29 | P24: =LOOKUP(O24,$AK$1:$AT$1,$AK$2:$AT$2) -> кмс | Q24: 13 | R24: Таганская Т.М., Яковлева В.В. | T24: =C24 -> 5 | U24: =D24 -> 383 | V24: =E24 -> КАРАВАЕВ | W24: =F24 -> Евгений | X24: X | Y24: 7.1 | Z24: 7.01 | AA24: =MAX(X24,Y24,Z24) -> 7.1 | AB24: q | AC24: 7.17 | AD24: Х | AE24: Х | AF24: Х | AG24: Х | AH24: 7.29 | AI24: =MAX(AC24:AH24) -> 7.29
C25: 6 | D25: 24 | E25: ТИМОФЕЕВ | F25: Евгений | G25: 35945 | H25: МС | I25: Самарская область | K25: ЦСКА, РУОР г. Кисловодск, СШОР № 6 г. Самара | L25: =AA25 -> 7.18 | M25: q | N25: =AI25 -> 7.25 | O25: =MAX(L25,N25) -> 7.25 | P25: =LOOKUP(O25,$AK$1:$AT$1,$AK$2:$AT$2) -> кмс | Q25: 12 | R25: Белкова О.Н., Белков Г.А., Каргин С.К. | T25: =C25 -> 6 | U25: =D25 -> 24 | V25: =E25 -> ТИМОФЕЕВ | W25: =F25 -> Евгений | X25: 7.18 | Y25: 7.14 | Z25: 6.96 | AA25: =MAX(X25,Y25,Z25) -> 7.18 | AB25: q | AC25: 7.14 | AD25: 7.25 | AE25: 7.13 | AF25: 7.19 | AG25: Х | AH25: 7.2 | AI25: =MAX(AC25:AH25) -> 7.25
C26: 7 | D26: 50 | E26: ЧЕЧЕЛА | F26: Даниил | G26: 36615 | H26: 2 | I26: Красноярский край | K26: СДЮСШОР "Спутник", ЦСП | L26: =AA26 -> 7.18 | M26: q | N26: =AI26 -> 7.23 | O26: =MAX(L26,N26) -> 7.23 | P26: =LOOKUP(O26,$AK$1:$AT$1,$AK$2:$AT$2) -> кмс | Q26: 11 | R26: Мажуга Т., Артемьев П.П. | T26: =C26 -> 7 | U26: =D26 -> 50 | V26: =E26 -> ЧЕЧЕЛА | W26: =F26 -> Даниил | X26: X | Y26: 7.18 | Z26: 6.72 | AA26: =MAX(X26,Y26,Z26) -> 7.18 | AB26: q | AC26: Х | AD26: Х | AE26: 7.12 | AF26: Х | AG26: 7.12 | AH26: 7.23 | AI26: =MAX(AC26:AH26) -> 7.23
C27: 8 | D27: 501 | E27: МАРКЕЛОВ | F27: Михаил | G27: 35674 | H27: КМС | I27: Волгоградская область | K27: СШОР | L27: =AA27 -> 7.25 | M27: q | N27: =AI27 -> 7.15 | O27: =MAX(L27,N27) -> 7.25 | P27: =LOOKUP(O27,$AK$1:$AT$1,$AK$2:$AT$2) -> кмс | Q27: 10 | R27: Догонкин В.А., Мартьянов В.И., Догонкин В.В. | T27: =C27 -> 8 | U27: =D27 -> 501 | V27: =E27 -> МАРКЕЛОВ | W27: =F27 -> Михаил | X27: 7.25 | Y27: 6.75 | Z27: X | AA27: =MAX(X27,Y27,Z27) -> 7.25 | AB27: q | AC27: 7.06 | AD27: Х | AE27: 7.12 | AF27: 7.14 | AG27: 7 | AH27: 7.15 | AI27: =MAX(AC27:AH27) -> 7.15
C28: 9 | D28: 339 | E28: МИРЗОЯНЦ | F28: Олег | G28: 35941 | H28: КМС | I28: Ростовская область | K28: СШОР №15 Шахты | L28: =AA28 -> 7.07 | M28: q | N28: =AI28 -> 7.07 | O28: =MAX(L28,N28) -> 7.07 | P28: =LOOKUP(O28,$AK$1:$AT$1,$AK$2:$AT$2) -> I | Q28: 9 | R28: Старых С., Старых Т.И. | T28: =C28 -> 9 | U28: =D28 -> 339 | V28: =E28 -> МИРЗОЯНЦ | W28: =F28 -> Олег | X28: 6.92 | Y28: 6.96 | Z28: 7.07 | AA28: =MAX(X28,Y28,Z28) -> 7.07 | AB28: q | AC28: 7.07 | AD28: 6.99 | AE28: 7.02 | AI28: =MAX(AC28:AH28) -> 7.07
C29: 10 | D29: 382 | E29: ЖДАНОВ | F29: Антон | G29: 35546 | H29: КМС | I29: Москва | K29: СШОР МГФСО | L29: =AA29 -> 7.06 | M29: q | N29: =AI29 -> 7.02 | O29: =MAX(L29,N29) -> 7.06 | P29: =LOOKUP(O29,$AK$1:$AT$1,$AK$2:$AT$2) -> I | Q29: 8 | R29: Чичеров В.В. | T29: =C29 -> 10 | U29: =D29 -> 382 | V29: =E29 -> ЖДАНОВ | W29: =F29 -> Антон | X29: 6.96 | Y29: 6.95 | Z29: 7.06 | AA29: =MAX(X29,Y29,Z29) -> 7.06 | AB29: q | AC29: Х | AD29: Х | AE29: 7.02 | AI29: =MAX(AC29:AH29) -> 7.02
C30: 11 | D30: 188 | E30: АБОЛЬСКИЙ | F30: Алексей | G30: 35918 | H30: КМС | I30: Омская область | K30: СибГУОР, БУ ОО ООЦСП, БУ ОО "СШОР" | L30: =AA30 -> 7.23 | M30: q | N30: =AI30 -> 5.83 | O30: =MAX(L30,N30) -> 7.23 | P30: =LOOKUP(O30,$AK$1:$AT$1,$AK$2:$AT$2) -> кмс | Q30: 7 | R30: Геворкян Р.О. | T30: =C30 -> 11 | U30: =D30 -> 188 | V30: =E30 -> АБОЛЬСКИЙ | W30: =F30 -> Алексей | X30: 7.23 | Y30: 7.17 | Z30: X | AA30: =MAX(X30,Y30,Z30) -> 7.23 | AB30: q | AC30: Х | AD30: 5.83 | AE30: Х | AI30: =MAX(AC30:AH30) -> 5.83
C31: 12 | D31: 41 | E31: КОСТЮЧЕНКО | F31: Олег | G31: 36031 | H31: КМС | I31: Хабаровский край | K31: СШ "Максимум", ТОГУ | L31: =AA31 -> 6.95 | M31: q | N31: =AI31 -> NM | O31: =MAX(L31,N31) -> 6.95 | P31: =LOOKUP(O31,$AK$1:$AT$1,$AK$2:$AT$2) -> I | Q31: 6 | R31: Кучер Е.С. | T31: =C31 -> 12 | U31: =D31 -> 41 | V31: =E31 -> КОСТЮЧЕНКО | W31: =F31 -> Олег | X31: 6.65 | Y31: X | Z31: 6.95 | AA31: =MAX(X31,Y31,Z31) -> 6.95 | AB31: q | AC31: Х | AD31: Х | AE31: Х | AI31: NM
A32: 1 | C32: 13 | D32: 402 | E32: ЛЕБЕДКИН | F32: Эдгар | G32: 36350 | H32: КМС | I32: Республика Татарстан | K32: СШОР 12 Набережные Челны | L32: =AA32 -> 6.95 | O32: =MAX(L32,N32) -> 6.95 | P32: =LOOKUP(O32,$AK$1:$AT$1,$AK$2:$AT$2) -> I | Q32: 5 | R32: Снесарев С.А., Корнева А.В. | T32: =C32 -> 13 | U32: =D32 -> 402 | V32: =E32 -> ЛЕБЕДКИН | W32: =F32 -> Эдгар | X32: 6.95 | Y32: X | Z32: X | AA32: =MAX(X32,Y32,Z32) -> 6.95
A33: 2 | C33: 14 | D33: 244 | E33: ЧЕРНОТАЛОВ | F33: Александр | G33: 35581 | H33: 1 | I33: Калининградская область | K33: СШОР №4 | L33: =AA33 -> 6.91 | O33: =MAX(L33,N33) -> 6.91 | P33: =LOOKUP(O33,$AK$1:$AT$1,$AK$2:$AT$2) -> I | Q33: 4 | R33: Балашов С.Г., Балашова В.А. | T33: =C33 -> 14 | U33: =D33 -> 244 | V33: =E33 -> ЧЕРНОТАЛОВ | W33: =F33 -> Александр | X33: 6.73 | Y33: 6.91 | Z33: 6.69 | AA33: =MAX(X33,Y33,Z33) -> 6.91
A34: 2 | C34: 15 | D34: 181 | E34: ХАРИТОНОВ | F34: Кирилл | G34: 36196 | H34: КМС | I34: Санкт-Петербург | K34: ЦОП "ШВСМ л/атл." (СПб) | L34: =AA34 -> 6.89 | O34: =MAX(L34,N34) -> 6.89 | P34: =LOOKUP(O34,$AK$1:$AT$1,$AK$2:$AT$2) -> I | Q34: 3 | R34: Плутахин В.В., Еличев С.В., Гаврилина И.А. | T34: =C34 -> 15 | U34: =D34 -> 181 | V34: =E34 -> ХАРИТОНОВ | W34: =F34 -> Кирилл | X34: X | Y34: 6.89 | Z34: 6.63 | AA34: =MAX(X34,Y34,Z34) -> 6.89
A35: 2 | C35: 16 | D35: 97 | E35: ФОКША | F35: Михаил | G35: 36036 | H35: КМС | I35: Ханты-Мансийский автономный округ - Югра | K35: МБУ СПСШ "Аверс" г. Сургут | L35: =AA35 -> 6.88 | O35: =MAX(L35,N35) -> 6.88 | P35: =LOOKUP(O35,$AK$1:$AT$1,$AK$2:$AT$2) -> I | Q35: 2 | R35: Тарасов А.С. | T35: =C35 -> 16 | U35: =D35 -> 97 | V35: =E35 -> ФОКША | W35: =F35 -> Михаил | X35: 6.88 | Y35: X | Z35: X | AA35: =MAX(X35,Y35,Z35) -> 6.88
A36: 1 | C36: 17 | D36: 439 | E36: ДОНЦОВ | F36: Константин | G36: 36314 | H36: КМС | I36: Ставропольский край | K36: ГБУ СК СШОР по л/а, СУОР | L36: =AA36 -> 6.86 | O36: =MAX(L36,N36) -> 6.86 | P36: =LOOKUP(O36,$AK$1:$AT$1,$AK$2:$AT$2) -> I | Q36: 1 | R36: Захарова Т.В., Летуненко Е.С. | T36: =C36 -> 17 | U36: =D36 -> 439 | V36: =E36 -> ДОНЦОВ | W36: =F36 -> Константин | X36: 6.86 | Y36: X | Z36: X | AA36: =MAX(X36,Y36,Z36) -> 6.86
A37: 1 | C37: 18 | D37: 426 | E37: СОЛОПОВ | F37: Илья | G37: 36454 | H37: КМС | I37: Ставропольский край | K37: ГБУ СК СШОР по л/а, СУОР | L37: =AA37 -> 6.77 | O37: =MAX(L37,N37) -> 6.77 | P37: =LOOKUP(O37,$AK$1:$AT$1,$AK$2:$AT$2) -> I | Q37: 1 | R37: Захарова Т.В. | T37: =C37 -> 18 | U37: =D37 -> 426 | V37: =E37 -> СОЛОПОВ | W37: =F37 -> Илья | X37: 6.77 | Y37: 6.72 | Z37: 6.51 | AA37: =MAX(X37,Y37,Z37) -> 6.77
A38: 2 | C38: 19 | D38: 73 | E38: САРДАРЯН | F38: Эдуард | G38: 36242 | H38: КМС | I38: Краснодарский край | K38: ГБУ КК "РЦСП по л/а", "ГБУ КК "ЦОП по Л/А" | L38: =AA38 -> 6.75 | O38: =MAX(L38,N38) -> 6.75 | P38: =LOOKUP(O38,$AK$1:$AT$1,$AK$2:$AT$2) -> I | Q38: 1 | R38: Котова Т.В., Горбунова Т.А., Смирнов В.Ф. | T38: =C38 -> 19 | U38: =D38 -> 73 | V38: =E38 -> САРДАРЯН | W38: =F38 -> Эдуард | X38: Х | Y38: X | Z38: 6.75 | AA38: =MAX(X38,Y38,Z38) -> 6.75
A39: 2 | C39: 20 | D39: 488 | E39: ЩЕРБИЧ | F39: Евгений | G39: 37005 | H39: КМС | I39: Волгоградская область | K39: СШОР, ВУОР | L39: =AA39 -> 6.68 | O39: =MAX(L39,N39) -> 6.68 | P39: =LOOKUP(O39,$AK$1:$AT$1,$AK$2:$AT$2) -> I | Q39: 1 | R39: Кондратьева О.Е., Кудряшов Ю.А. | T39: =C39 -> 20 | U39: =D39 -> 488 | V39: =E39 -> ЩЕРБИЧ | W39: =F39 -> Евгений | X39: X | Y39: X | Z39: 6.68 | AA39: =MAX(X39,Y39,Z39) -> 6.68
A40: 1 | C40: 21 | D40: 153 | E40: НИКИТИН | F40: Дмитрий | G40: 36690 | H40: КМС | I40: Санкт-Петербург | K40: ЦОП "ШВСМ л/атл." (СПб), СПб ГБПОУ "УОР № 1 | L40: =AA40 -> 6.67 | O40: =MAX(L40,N40) -> 6.67 | P40: =LOOKUP(O40,$AK$1:$AT$1,$AK$2:$AT$2) -> I | Q40: 1 | R40: Ловачёва К.С., Попкова Е.Н. | T40: =C40 -> 21 | U40: =D40 -> 153 | V40: =E40 -> НИКИТИН | W40: =F40 -> Дмитрий | X40: 6.67 | Y40: 6.57 | Z40: 6.52 | AA40: =MAX(X40,Y40,Z40) -> 6.67
A41: 1 | C41: 22 | D41: 17 | E41: НЮТИН | F41: Ярослав | G41: 35714 | H41: КМС | I41: Самарская область | K41: САМГТУ, СШОР № 6 г. Самара | L41: =AA41 -> 6.4 | O41: =MAX(L41,N41) -> 6.4 | P41: =LOOKUP(O41,$AK$1:$AT$1,$AK$2:$AT$2) -> II | Q41: 1 | R41: Белкова О.Н. | T41: =C41 -> 22 | U41: =D41 -> 17 | V41: =E41 -> НЮТИН | W41: =F41 -> Ярослав | X41: X | Y41: 4.75 | Z41: 6.4 | AA41: =MAX(X41,Y41,Z41) -> 6.4
A42: 1 | D42: 425 | E42: СЛАКВА | F42: Максим | G42: 35925 | H42: КМС | I42: Ставропольский край | K42: ГБУ СК "СШОР по легкой атлетике" | L42: =AA42 -> NM | O42: =MAX(L42,N42) -> 0 | R42: Мирошниченко В.И., Журавлева Т.В. | U42: =D42 -> 425 | V42: =E42 -> СЛАКВА | W42: =F42 -> Максим | X42: X | Y42: X | Z42: X | AA42: NM
F47: Главный судья соревнований | L47: Уйк А.Г. /СПб, ССВк/
F49: Главный секретарь соревнований | L49: Алексеева О.К. /СПб, ССВк/
V51: Главный судья соревнований | AA51: Уйк А.Г. /СПб, ССВк/
V53: Главный секретарь соревнований | AA53: Алексеева О.К. /СПб, ССВк/

Sheet ШесЮ
I1: МИНИСТЕРСТВО СПОРТА РОССИЙСКОЙ ФЕДЕРАЦИИ | AO1: ВСЕРОССИЙСКАЯ ФЕДЕРАЦИЯ ЛЕГКОЙ АТЛЕТИКИ | BT1: 0 | BU1: 210 | BV1: 240 | BW1: 280 | BX1: 320 | BY1: 370 | BZ1: 420 | CA1: 460 | CB1: 515 | CC1: 565
I2: ВСЕРОССИЙСКАЯ ФЕДЕРАЦИЯ ЛЕГКОЙ АТЛЕТИКИ | AO2: КОМИТЕТ ПО ФИЗИЧЕСКОЙ КУЛЬТУРЕ И СПОРТУ САНКТ-ПЕТЕРБУРГА | BT2: б/р | BU2: 3юн | BV2: 2юн | BW2: 1юн | BX2: III | BY2: II | BZ2: I | CA2: кмс | CB2: мс | CC2: мсмк
I3: КОМИТЕТ ПО ФИЗИЧЕСКОЙ КУЛЬТУРЕ И СПОРТУ САНКТ-ПЕТЕРБУРГА | AO3: СПОРТИВНАЯ ФЕДЕРАЦИЯ ЛЕГКОЙ АТЛЕТИКИ САНКТ-ПЕТЕРБУРГА
I4: СПОРТИВНАЯ ФЕДЕРАЦИЯ ЛЕГКОЙ АТЛЕТИКИ САНКТ-ПЕТЕРБУРГА | AO4: САНКТ-ПЕТЕРБУРГСКАЯ КОЛЛЕГИЯ СУДЕЙ ПО ЛЕГКОЙ АТЛЕТИКЕ
I6: Первенство России по легкой атлетике | AO6: Первенство России по легкой атлетике
I7: (среди юниоров и юниорок до 23 лет) в помещении | AO7: (среди юниоров и юниорок до 23 лет) в помещении
B9: 5.9 | C9: Рекорд Мира 23 | I9: ИТОГОВЫЙ ПРОТОКОЛ | AO9: Прыжок с шестом
B10: 5.9 | C10: Рекорд Европы 23 | AO10: (приложение к протоколу)
B11: 5.85 | C11: Рекорд России 23 | I11: ЮНИОРЫ
AO12: ЮНИОРЫ
B13: Санкт-Петербург, Легкоатлетический манеж | P13: 19- 21 февраля 2019 г. | BO13: =ШесЮ!F17 -> 20 февраля 2019 г.
B15: Место | C15: Номер | D15: Фамилия | E15: Имя | F15: Дата рожд | G15: Разр. | H15: Территория | J15: Команда | K15: А | L15: Б | M15: Результат | N15: Разряд | O15: Очки | P15: Тренер | R15: Место | S15: № | T15: Фамилия | U15: Имя | V15: 420 | Y15: 440 | AB15: 460 | AE15: 480 | AH15: 490 | AK15: 500 | AN15: 510 | AQ15: 515 | AT15: 520 | AW15: 515 | AZ15: 510 | BC15: 515 | BF15: 510 | BI15: 505 | BO15: А | BP15: Б | BQ15: Рез-тат
F17: 20 февраля 2019 г. | J17: Финальные соревнования 16:17 - 17:57 | P17: Прыжок с шестом | V17: 1 | W17: 2 | X17: 3 | Y17: 1 | Z17: 2 | AA17: 3 | AB17: 1 | AC17: 2 | AD17: 3 | AE17: 1 | AF17: 2 | AG17: 3 | AH17: 1 | AI17: 2 | AJ17: 3 | AK17: 1 | AL17: 2 | AM17: 3 | AN17: 1 | AO17: 2 | AP17: 3 | AQ17: 1 | AR17: 2 | AS17: 3 | AT17: 1 | AU17: 2 | AV17: 3 | AW17: 4 | AZ17: 1 | BC17: 1 | BF17: 1 | BI17: 1
A19: 1 | B19: 1 | C19: 351 | D19: АКИНЬШИН | E19: Денис | F19: 06.05.1998 | G19: КМС | H19: Москва-1 | J19: МССУОР №1 | K19: =BO19 -> 1 | L19: =BP19 -> 3 | M19: =BQ19 -> 510 | N19: =LOOKUP(M19,$BT$1:$CC$1,$BT$2:$CC$2) -> кмс | O19: 20 | P19: Овчинник И.В. | R19: =B19 -> 1 | S19: =C19 -> 351 | T19: =D19 -> АКИНЬШИН | U19: =E19 -> Денис | AK19: 0 | AN19: - | AQ19: - | AT19: X | AU19: X | AV19: X | AW19: X | AZ19: 0 | BC19: X | BF19: X | BI19: 0 | BO19: 1 | BP19: 3 | BQ19: 510
A20: 6 | B20: 2 | C20: 458 | D20: КУРНОСОВ | E20: Александр | F20: 21.08.1997 | G20: КМС | H20: Челябинская область | J20: СШОР Мосеева | K20: =BO20 -> 1 | L20: =BP20 -> 4 | M20: =BQ20 -> 510 | N20: =LOOKUP(M20,$BT$1:$CC$1,$BT$2:$CC$2) -> кмс | O20: 17 | P20: Копылев С.С., Бибикин Е.В. | R20: 2 | S20: =C20 -> 458 | T20: =D20 -> КУРНОСОВ | U20: =E20 -> Александр | AE20: 0 | AH20: - | AK20: 0 | AN20: - | AQ20: X | AR20: X | AS20: X | AW20: X | AZ20: 0 | BC20: X | BF20: X | BI20: X | BO20: 1 | BP20: 4 | BQ20: 510
A21: 2/6 | B21: 3 | C21: 364 | D21: МИЦКИЙ | E21: Дмитрий | F21: 25.04.1998 | G21: КМС | H21: Москва-2 | J21: ГБУ "МГФСО" | K21: =BO21 -> 2 | L21: =BP21 -> 1 | M21: =BQ21 -> 500 | N21: =LOOKUP(M21,$BT$1:$CC$1,$BT$2:$CC$2) -> кмс | O21: 15 | P21: Кучеряну М.И., Лавриненко Н.Ф. | R21: 3 | S21: =C21 -> 364 | T21: =D21 -> МИЦКИЙ | U21: =E21 -> Дмитрий | AE21: 0 | AH21: - | AK21: X | AL21: 0 | AN21: X | AO21: X | AP21: - | AQ21: X | BO21: 2 | BP21: 1 | BQ21: 500
A22: л | B22: 4 | C22: 365 | D22: ХАМИДОВ | E22: Артур | F22: 16.01.1998 | G22: КМС | H22: Москва-2 | J22: МССУОР №1 | K22: =BO22 -> 3 | L22: =BP22 -> 3 | M22: =BQ22 -> 500 | N22: =LOOKUP(M22,$BT$1:$CC$1,$BT$2:$CC$2) -> кмс | O22: 14 | P22: Кучеряну М.И., Лавриненко Н.Ф. | R22: 4 | S22: =C22 -> 365 | T22: =D22 -> ХАМИДОВ | U22: =E22 -> Артур | AE22: X | AF22: 0 | AH22: - | AK22: X | AL22: X | AM22: 0 | AN22: X | AO22: X | AP22: - | AQ22: X | BO22: 3 | BP22: 3 | BQ22: 500
A23: л | B23: 5 | C23: 187 | D23: ЯРОМИЧ | E23: Кирилл | F23: 11.04.2000 | G23: КМС | H23: Санкт-Петербург | J23: СПб ГБУ СШОР "Академия легкой атлетики Санкт-Петербурга" | K23: =BO23 -> 1 | L23: =BP23 -> 0 | M23: =BQ23 -> 480 | N23: =LOOKUP(M23,$BT$1:$CC$1,$BT$2:$CC$2) -> кмс | O23: 13 | P23: Захарчук Е.А., Куликова Е.В. | R23: 5 | S23: =C23 -> 187 | T23: =D23 -> ЯРОМИЧ | U23: =E23 -> Кирилл | AE23: 0 | AH23: - | AK23: X | AL23: X | AM23: X | BO23: 1 | BP23: 0 | BQ23: 480
A24: 3 | B24: 6 | C24: 115 | D24: ГАЛКИН | E24: Владислав | F24: 07.10.2000 | G24: КМС | H24: Санкт-Петербург-1 | J24: СПб ГБУ СШОР "Академия легкой атлетики Санкт-Петербурга", СПб ГБПОУ "УОР № 1" | K24: =BO24 -> 2 | L24: =BP24 -> 1 | M24: =BQ24 -> 480 | N24: =LOOKUP(M24,$BT$1:$CC$1,$BT$2:$CC$2) -> кмс | O24: 12 | P24: Захарчук Е.А., Куликова Е.В. | R24: =B24 -> 6 | S24: =C24 -> 115 | T24: =D24 -> ГАЛКИН | U24: =E24 -> Владислав | AE24: X | AF24: 0 | AH24: - | AK24: X | AL24: X | AM24: X | BO24: 2 | BP24: 1 | BQ24: 480
A25: 1/35 | B25: 7 | C25: 405 | D25: ФЕДОТОВ | E25: Максим | F25: 08.05.1999 | G25: КМС | H25: Республика Татарстан | J25: СШОР АТЛЕТИКА | K25: =BO25 -> 1 | L25: =BP25 -> 0 | M25: =BQ25 -> 460 | N25: =LOOKUP(M25,$BT$1:$CC$1,$BT$2:$CC$2) -> кмс | O25: 11 | P25: Латыпова Н.П., Захарчук Д.Г. | R25: 7 | S25: =C25 -> 405 | T25: =D25 -> ФЕДОТОВ | U25: =E25 -> Максим | Y25: 0 | AB25: 0 | AE25: X | AF25: X | AG25: X | BO25: 1 | BP25: 0 | BQ25: 460
A26: 37/л | C26: 212 | D26: ЩЕРБАКОВ | E26: Владимир | F26: 08.01.1997 | G26: МС | H26: Ленинградская область СПб | J26: ДЮСШ г.Гатчина, ЦСП ЛО "Ижора", ЦСКА, СДЮСШОР Академия л/а СПб, СШОР "Академия л/а СПб" | M26: =BQ26 -> NM | P26: Баканов О.Д., Семёнов В.О., Семёнов В.О. | S26: =C26 -> 212 | T26: =D26 -> ЩЕРБАКОВ | U26: =E26 -> Владимир | AB26: X | AC26: X | AD26: - | AE26: X | BQ26: NM
A27: л | C27: 3 | D27: КОБЕЛЕВ | E27: Павел | F27: 21.12.2001 | G27: КМС | H27: Ленинградская область СПб | J27: ДЮСШ г.Гатчина | M27: =BQ27 -> NM | P27: Баканов О.Д., Семенов В.О., Константинова Т.Ю. | S27: =C27 -> 3 | T27: =D27 -> КОБЕЛЕВ | U27: =E27 -> Павел | V27: X | W27: X | X27: - | Y27: X | BQ27: NM
D31: Главный судья соревнований | J31: Уйк А.Г. /СПб, ССВк/
D33: Главный секретарь соревнований | J33: Алексеева О.К. /СПб, ССВк/ | U33: Главный судья соревнований | AX33: Уйк А.Г. /СПб, ССВк/
U35: Главный секретарь соревнований | AX35: Алексеева О.К. /СПб, ССВк/

Sheet ЯдЮ
K1: МИНИСТЕРСТВО СПОРТА РОССИЙСКОЙ ФЕДЕРАЦИИ | V1: 0 | W1: 10 | X1: 12 | Y1: 14 | Z1: 15.6 | AA1: 17.2 | AB1: 20.3
K2: ВСЕРОССИЙСКАЯ ФЕДЕРАЦИЯ ЛЕГКОЙ АТЛЕТИКИ | V2: б/р | W2: III | X2: II | Y2: I | Z2: кмс | AA2: мс | AB2: мсмк
K3: КОМИТЕТ ПО ФИЗИЧЕСКОЙ КУЛЬТУРЕ И СПОРТУ САНКТ-ПЕТЕРБУРГА
K4: СПОРТИВНАЯ ФЕДЕРАЦИЯ ЛЕГКОЙ АТЛЕТИКИ САНКТ-ПЕТЕРБУРГА
K6: Первенство России по легкой атлетике
K7: (среди юниоров и юниорок до 23 лет) в помещении
B8: 22.00 | C8: Рекорд Мира 23
B9: 22.00 | C9: Рекорд Европы 23 | K9: ИТОГОВЫЙ ПРОТОКОЛ
B10: 20.75 | C10: Рекорд России 23
K11: ЮНИОРЫ
B13: Санкт-Петербург, Легкоатлетический манеж | T13: 19- 21 февраля 2019 г.
B15: Место | C15: № уч. | D15: Фамилия Имя | F15: Дата рожд | G15: Разряд | H15: Территория | J15: Организация | K15: Результаты попыток | Q15: Лучший рез-тат | R15: Разряд | S15: Очки | T15: Тренер
K16: 1 | L16: 2 | M16: 3 | N16: 4 | O16: 5 | P16: 6
D18: 19 февраля 2019 г. | L18: Основные соревнования 17:40 - 18:30 | T18: Толкание ядра (7,26 кг)
B20: 1 | C20: 213 | D20: СЕСЬКИН | E20: Демьян | F20: 35646 | G20: МС | H20: Москва-1 Санкт-Петербург-1 | J20: ГБУ ЦСП "ЛУЧ", СДЮСШОР НЕВСКОГО РАЙОНА, ЦОП "ШВСМ л/атл." (СПб) | K20: 16.45 | L20: 17.52 | M20: 18.62 | N20: X | O20: 18.25 | P20: 18.13 | Q20: =MAX(K20,L20,M20,N20,O20,P20) -> 18.62 | R20: =LOOKUP(Q20,$V$1:$AB$1,$V$2:$AB$2) -> мс | S20: 25 | T20: Андреев А.В.
B21: 2 | C21: 69 | D21: ПАНЧЕХИН | E21: Сергей | F21: 35561 | G21: МС | H21: Краснодарский край | J21: ГБУ КК ЦОП по Л/А", ГБУ КК "РЦСП по л/а" | K21: 17.05 | L21: X | M21: 18.03 | N21: 17.64 | O21: X | P21: 17.92 | Q21: =MAX(K21,L21,M21,N21,O21,P21) -> 18.03 | R21: =LOOKUP(Q21,$V$1:$AB$1,$V$2:$AB$2) -> мс | S21: 22 | T21: Синицын А.В., Левин М.А.
B22: 3 | C22: 352 | D22: КИРИЛЛОВ | E22: Илья | F22: 35808 | G22: МС | H22: Москва-1 | J22: ГБУ "ЦСП по легкой атлетике", ГБОУ МССУОР №2 | K22: 16,15 | L22: 16.48 | M22: 16.82 | N22: X | O22: 16.78 | P22: 16.17 | Q22: =MAX(K22,L22,M22,N22,O22,P22) -> 16.82 | R22: =LOOKUP(Q22,$V$1:$AB$1,$V$2:$AB$2) -> кмс | S22: 15 | T22: Иванов М.В., Иванова В.А.
B23: 4 | C23: 397 | D23: АЛЕХАНОВ | E23: Данил | F23: 35535 | G23: КМС | H23: Республика Татарстан | J23: ПГАФКСИТ, СШОР ТАСМА | K23: 14.96 | L23: X | M23: 14.43 | N23: X | O23: 15.26 | P23: 16.35 | Q23: =MAX(K23,L23,M23,N23,O23,P23) -> 16.35 | R23: =LOOKUP(Q23,$V$1:$AB$1,$V$2:$AB$2) -> кмс | S23: 14 | T23: Попов Н.И.
B24: 5 | C24: 366 | D24: КИРИЛЛОВ | E24: Даниил | F24: 36059 | G24: МС | H24: Москва-2 | J24: СШОР 44 | K24: 15.19 | L24: 15.96 | M24: X | N24: 15.53 | O24: 15.47 | P24: X | Q24: =MAX(K24,L24,M24,N24,O24,P24) -> 15.96 | R24: =LOOKUP(Q24,$V$1:$AB$1,$V$2:$AB$2) -> кмс | S24: 13 | T24: Баштанов А.В.
B25: 6 | C25: 192 | D25: БАБАНИН | E25: Павел | F25: 35605 | G25: КМС | H25: Омская область | J25: СибГУОР, БУ ДО СДЮСШОР №7 | K25: 15.56 | L25: 15.65 | M25: X | N25: X | O25: X | P25: 15.44 | Q25: =MAX(K25,L25,M25,N25,O25,P25) -> 15.65 | R25: =LOOKUP(Q25,$V$1:$AB$1,$V$2:$AB$2) -> кмс | S25: 12 | T25: Бабанин С.Н., Белов М.К.
B26: 7 | C26: 330 | D26: НУРБАГАНДОВ | E26: Арслан | F26: 35701 | G26: 2 | H26: Республика Дагестан | J26: РДЮСШ по легкой атлетике Министерства по ФК и С РД | K26: X | L26: 14.81 | M26: 15.51 | N26: X | O26: 15.56 | P26: 15.13 | Q26: =MAX(K26,L26,M26,N26,O26,P26) -> 15.56 | R26: =LOOKUP(Q26,$V$1:$AB$1,$V$2:$AB$2) -> I | S26: 11 | T26: Абакаров Ш.А., Магомедов Н.И.
B27: 8 | C27: 367 | D27: НИКИТИН | E27: Дмитрий | F27: 36465 | G27: КМС | H27: Москва-2 Омская область | J27: ГБУ "ЦСП по легкой атлетике", БУ ДО г. Омска "СДЮСШОР № 7" | K27: 15.41 | L27: 15.23 | M27: 15.51 | N27: 15.42 | O27: 14.8 | P27: 15.26 | Q27: =MAX(K27,L27,M27,N27,O27,P27) -> 15.51 | R27: =LOOKUP(Q27,$V$1:$AB$1,$V$2:$AB$2) -> I | S27: 10 | T27: Белов М.К., Иванов М.В., Иванова В.А., Зубовский В.Г.
B28: 9 | C28: 377 | D28: БРАЖНИКОВ | E28: Евгений | F28: 36093 | G28: КМС | H28: Москва | J28: СШОР Юность Москвы по л/а им.бр.Знаменских | K28: 14.85 | L28: 14.36 | M28: 14.51 | Q28: =MAX(K28,L28,M28,N28,O28,P28) -> 14.85 | R28: =LOOKUP(Q28,$V$1:$AB$1,$V$2:$AB$2) -> I | S28: 9 | T28: Бахтин К.Г., Никитина Э.Л.
B29: 10 | C29: 336 | D29: НИКОНЕНКО | E29: Дмитрий | F29: 36300 | G29: КМС | H29: Ростовская область | J29: СШОР-1, г.Таганрог РОУОР | K29: X | L29: X | M29: 14.76 | Q29: =MAX(K29,L29,M29,N29,O29,P29) -> 14.76 | R29: =LOOKUP(Q29,$V$1:$AB$1,$V$2:$AB$2) -> I | S29: 8 | T29: Карлова А.Н., Готовский Ю.В.
B30: 11 | C30: 420 | D30: СЕЛИВЕРСТОВ | E30: Илья | F30: 36373 | G30: 1 | H30: Тверская область | J30: ГБУ "САШ" | K30: 13.93 | L30: 14.73 | M30: X | Q30: =MAX(K30,L30,M30,N30,O30,P30) -> 14.73 | R30: =LOOKUP(Q30,$V$1:$AB$1,$V$2:$AB$2) -> I | S30: 7 | T30: Власенко Е.М., Левин С.И.
E32: Главный судья соревнований | O32: Уйк А.Г. /СПб, ССВк/
E34: Главный секретарь соревнований | O34: Алексеева О.К. /СПб, ССВк/

Sheet 60Д
N1: МИНИСТЕРСТВО СПОРТА РОССИЙСКОЙ ФЕДЕРАЦИИ
N2: ВСЕРОССИЙСКАЯ ФЕДЕРАЦИЯ ЛЕГКОЙ АТЛЕТИКИ | Y2: 6 | Z2: 7.28 | AA2: 7.281 | AB2: 7.5 | AC2: 7.501 | AD2: 7.84 | AE2: 7.841 | AF2: 8.24 | AG2: 8.241 | AH2: 8.64 | AI2: 8.641 | AJ2: 9.14 | AK2: 9.141 | AL2: 9.64 | AM2: 9.641 | AN2: 10.14 | AO2: 10.141 | AP2: 10.74 | AQ2: 10.741
N3: КОМИТЕТ ПО ФИЗИЧЕСКОЙ КУЛЬТУРЕ И СПОРТУ САНКТ-ПЕТЕРБУРГА | Y3: мсмк | Z3: мсмк | AA3: мс | AB3: мс | AC3: кмс | AD3: кмс | AE3: I | AF3: I | AG3: II | AH3: II | AI3: III | AJ3: III | AK3: 1юн | AL3: 1юн | AM3: 2юн | AN3: 2юн | AO3: 3юн | AP3: 3юн | AQ3: б/р
N4: СПОРТИВНАЯ ФЕДЕРАЦИЯ ЛЕГКОЙ АТЛЕТИКИ САНКТ-ПЕТЕРБУРГА
N6: Первенство России по легкой атлетике
N7: (среди юниоров и юниорок до 23 лет) в помещении
D9: 7 | G9: Рекорд Мира 23 | N9: ИТОГОВЫЙ ПРОТОКОЛ
D10: 7 | G10: Рекорд Европы 23
D11: 7.05 | G11: Рекорд России 23
N12: ЮНИОРКИ
D13: Санкт-Петербург, Легкоатлетический манеж | W13: 19 февраля 2019 г.
D15: Место | E15: пф | F15: ф | G15: Номер | H15: Фамилия | I15: Имя | J15: Дата рожд | K15: Разр. | L15: Территория | N15: Организация | O15: Результаты | U15: Разряд | V15: Очки | W15: Тренер
O16: забеги | P16: Q | Q16: п/фин | R16: Q | S16: финал
H18: 19 февраля 2019 г. | J18: Забеги 11:10 - 11:30 Полуфиналы 17:00-17:20 Финал 18:55 - 19:00 | W18: Бег 60 м
D20: 1 | E20: пф1 | F20: 3 | G20: 417 | H20: МАКСИМОВА | I20: Марина | J20: 35479 | K20: МС | L20: Нижегородская область/Чувашская республика | N20: ЦСП, КСДЮСШОР №1, СШОР№1 им. В. Егоровой, ЧУОР им. В. Краснова | O20: 7.57 | P20: Q | Q20: 7.51 | R20: Q | S20: 7.43 | T20: =MIN(O20,Q20,S20) -> 7.43 | U20: =IF(OR(T20="",T20="н/я",T20="сошёл",T20="сошла",EXACT("дискв", LEFT(T20,5))),"",LOOKUP(T20,$Y$2:$AR$2,$Y$3:$AR$3)) -> мс | V20: 25 | W20: Смирнов С.В., Смирнова Л.А.
D21: 2 | E21: пф2 | F21: 5 | G21: 495 | H21: ЖОЛОБОВА | I21: Анастасия | J21: 35810 | K21: МС | L21: Волгоградская область | N21: СШОР | O21: 7.62 | P21: Q | Q21: 7.52 | R21: Q | S21: 7.44 | T21: =MIN(O21,Q21,S21) -> 7.44 | U21: =IF(OR(T21="",T21="н/я",T21="сошёл",T21="сошла",EXACT("дискв", LEFT(T21,5))),"",LOOKUP(T21,$Y$2:$AR$2,$Y$3:$AR$3)) -> мс | V21: 22 | W21: Типаев В.Н., Невежин В.И.
D22: 3 | E22: пф5 | F22: 1 | G22: 478 | H22: ЛЕОНТЬЕВА | I22: Наталья | J22: 35973 | K22: КМС | L22: Саратовская область | N22: МКУ "СШОР№6" | O22: 7.71 | P22: Q | Q22: 7.71 | R22: q | S22: 7.654 | T22: =MIN(O22,Q22,S22) -> 7.654 | U22: =IF(OR(T22="",T22="н/я",T22="сошёл",T22="сошла",EXACT("дискв", LEFT(T22,5))),"",LOOKUP(T22,$Y$2:$AR$2,$Y$3:$AR$3)) -> кмс | V22: 15 | W22: Беликов Ю.Б., Беликова Н.И.
D23: 4 | E23: пф4 | F23: 4 | G23: 82 | H23: МАЛЫШЕВА | I23: Анастасия | J23: 36820 | K23: МС | L23: Краснодарский край | N23: ГБУ КК ЦОП по Л/А", ГБУ КК "РЦСП по л/а" | O23: 7.69 | P23: Q | Q23: 7.64 | R23: Q | S23: 7.66 | T23: =MIN(O23,Q23,S23) -> 7.64 | U23: =IF(OR(T23="",T23="н/я",T23="сошёл",T23="сошла",EXACT("дискв", LEFT(T23,5))),"",LOOKUP(T23,$Y$2:$AR$2,$Y$3:$AR$3)) -> кмс | V23: 14 | W23: Малышев В.В.
D24: 4 | E24: пф15 | F24: 7 | G24: 175 | H24: СТАРОДЫМОВА | I24: Анна | J24: 36200 | K24: МС | L24: Санкт-Петербург-1/Саратовская область | N24: МКУ "СШОР№6", СПб ГБУ СШОР "Академия легкой атлетики Санкт-Петербурга", ГБУ "СШОР" "Академия легкой атлетики Санкт-Петербурга" | O24: 7.84 | P24: q | Q24: 7.69 | R24: Q | S24: 7.66 | T24: =MIN(O24,Q24,S24) -> 7.66 | U24: =IF(OR(T24="",T24="н/я",T24="сошёл",T24="сошла",EXACT("дискв", LEFT(T24,5))),"",LOOKUP(T24,$Y$2:$AR$2,$Y$3:$AR$3)) -> кмс | V24: 14 | W24: Бочкарева М.В., Антонова И.Ю.
D25: 6 | E25: пф8 | F25: 2 | G25: 368 | H25: НИЛОВА | I25: Екатерина | J25: 36360 | K25: КМС | L25: Москва-2/Орловская область | N25: ФАУ МО РФ ЦСКА, МБУ ДО "ДЮСШ № 4 города Орла" | O25: 7.73 | P25: Q | Q25: 7.69 | R25: q | S25: 7.69 | T25: =MIN(O25,Q25,S25) -> 7.69 | U25: =IF(OR(T25="",T25="н/я",T25="сошёл",T25="сошла",EXACT("дискв", LEFT(T25,5))),"",LOOKUP(T25,$Y$2:$AR$2,$Y$3:$AR$3)) -> кмс | V25: 12 | W25: Филатова Е.А., Павленко Т.А.
D26: 7 | E26: пф9 | F26: 6 | G26: 51 | H26: ТАРАСОВА | I26: Алина | J26: 36291 | K26: КМС | L26: Красноярский край | N26: Академия летних видов спорта, МБУ ДО ДЮСШ | O26: 7.78 | P26: Q | Q26: 7.68 | R26: Q | S26: 7.73 | T26: =MIN(O26,Q26,S26) -> 7.68 | U26: =IF(OR(T26="",T26="н/я",T26="сошёл",T26="сошла",EXACT("дискв", LEFT(T26,5))),"",LOOKUP(T26,$Y$2:$AR$2,$Y$3:$AR$3)) -> кмс | V26: 11 | W26: Леоненко С.Г., Леоненко Л.С.
D27: 8 | E27: пф6 | F27: 8 | G27: 164 | H27: РОМАНОВА | I27: Анастасия | J27: 36428 | K27: КМС | L27: Санкт-Петербург | N27: СПб ГБУ СШОР "Академия легкой атлетики Санкт-Петербурга" | O27: 7.71 | P27: Q | Q27: 7.69 | R27: Q | S27: 7.76 | T27: =MIN(O27,Q27,S27) -> 7.69 | U27: =IF(OR(T27="",T27="н/я",T27="сошёл",T27="сошла",EXACT("дискв", LEFT(T27,5))),"",LOOKUP(T27,$Y$2:$AR$2,$Y$3:$AR$3)) -> кмс | V27: лич | W27: Антонова И.Ю.
D28: 9 | E28: пф3 | G28: 487 | H28: ШЕРСТОБИТОВА | I28: Алефтина | J28: 36209 | K28: КМС | L28: Волгоградская область | N28: ДИНАМО, СШОР | O28: 7.65 | P28: Q | Q28: 7.74 | T28: =MIN(O28,Q28,S28) -> 7.65 | U28: =IF(OR(T28="",T28="н/я",T28="сошёл",T28="сошла",EXACT("дискв", LEFT(T28,5))),"",LOOKUP(T28,$Y$2:$AR$2,$Y$3:$AR$3)) -> кмс | V28: лич | W28: Абалдов А.А.
D29: 9 | E29: пф7 | G29: 294 | H29: ТРЯЛИНА | I29: Дарья | J29: 36365 | K29: КМС | L29: Пензенская область | N29: КСШОР, УОР | O29: 7.73 | P29: Q | Q29: 7.74 | T29: =MIN(O29,Q29,S29) -> 7.73 | U29: =IF(OR(T29="",T29="н/я",T29="сошёл",T29="сошла",EXACT("дискв", LEFT(T29,5))),"",LOOKUP(T29,$Y$2:$AR$2,$Y$3:$AR$3)) -> кмс | V29: 10 | W29: Родионова А.И., Безиков М.В.
D30: 11 | E30: пф10 | G30: 137 | H30: КРАВЦОВА | I30: Яна | J30: 36178 | K30: КМС | L30: Санкт-Петербург-2 | N30: УОР №1, ЦОП "ШВСМ л/атл." (СПб) | O30: 7.83 | P30: Q | Q30: 7.75 | T30: =MIN(O30,Q30,S30) -> 7.75 | U30: =IF(OR(T30="",T30="н/я",T30="сошёл",T30="сошла",EXACT("дискв", LEFT(T30,5))),"",LOOKUP(T30,$Y$2:$AR$2,$Y$3:$AR$3)) -> кмс | V30: 9 | W30: Ловачева К.С., Назаров В.И.
D31: 12 | E31: пф12 | G31: 196 | H31: ДАНЧЕНКО | I31: Наталья | J31: 35905 | K31: КМС | L31: Омская область | N31: СибГУФК, БУ ОО ООЦСП | O31: 7.8 | P31: q | Q31: 7.78 | T31: =MIN(O31,Q31,S31) -> 7.78 | U31: =IF(OR(T31="",T31="н/я",T31="сошёл",T31="сошла",EXACT("дискв", LEFT(T31,5))),"",LOOKUP(T31,$Y$2:$AR$2,$Y$3:$AR$3)) -> кмс | V31: 8 | W31: Коновалов В.Н.
D32: 12 | E32: пф13 | G32: 283 | H32: ВОЛКОВА | I32: Анастасия | J32: 36664 | K32: КМС | L32: Тульская область | N32: ГУТОЦСП -СШОР | O32: 7.81 | P32: q | Q32: 7.78 | T32: =MIN(O32,Q32,S32) -> 7.78 | U32: =IF(OR(T32="",T32="н/я",T32="сошёл",T32="сошла",EXACT("дискв", LEFT(T32,5))),"",LOOKUP(T32,$Y$2:$AR$2,$Y$3:$AR$3)) -> кмс | V32: 8 | W32: Ковтун Н.Н.
D33: 14 | E33: пф14 | G33: 21 | H33: САМОЙЛЕНКО | I33: Яна | J33: 35572 | K33: КМС | L33: Самарская область | N33: СШОР № 6 г. Самара, САМГТУ | O33: 7.82 | P33: q | Q33: 7.79 | T33: =MIN(O33,Q33,S33) -> 7.79 | U33: =IF(OR(T33="",T33="н/я",T33="сошёл",T33="сошла",EXACT("дискв", LEFT(T33,5))),"",LOOKUP(T33,$Y$2:$AR$2,$Y$3:$AR$3)) -> кмс | V33: 6 | W33: Белкова О.Н.
D34: 15 | E34: пф18 | G34: 479 | H34: НИКОЛАЕНКО | I34: Кристина | J34: 36443 | K34: КМС | L34: Саратовская область | N34: МКУ "СШОР№6" | O34: 7.89 | P34: q | Q34: 7.81 | T34: =MIN(O34,Q34,S34) -> 7.81 | U34: =IF(OR(T34="",T34="н/я",T34="сошёл",T34="сошла",EXACT("дискв", LEFT(T34,5))),"",LOOKUP(T34,$Y$2:$AR$2,$Y$3:$AR$3)) -> кмс | V34: 5 | W34: Кудашкина З.К., Беликов Ю.Б., Беликова Н.И.
D35: 16 | E35: пф11 | G35: 489 | H35: ТАТЬКОВА | I35: Анна | J35: 36333 | K35: КМС | L35: Волгоградская область | N35: СШОР, ВГАФК | O35: 7.79 | P35: q | Q35: 7.84 | T35: =MIN(O35,Q35,S35) -> 7.79 | U35: =IF(OR(T35="",T35="н/я",T35="сошёл",T35="сошла",EXACT("дискв", LEFT(T35,5))),"",LOOKUP(T35,$Y$2:$AR$2,$Y$3:$AR$3)) -> кмс | V35: лич | W35: Кайдалин В.С.
D36: 17 | E36: пф19 | G36: 302 | H36: ТКАЧЁВА | I36: Екатерина | J36: 36206 | K36: КМС | L36: Новосибирская область | N36: РЦСП СКиСР, НГПУ | O36: 7.89 | P36: q | Q36: 7.85 | T36: =MIN(O36,Q36,S36) -> 7.85 | U36: =IF(OR(T36="",T36="н/я",T36="сошёл",T36="сошла",EXACT("дискв", LEFT(T36,5))),"",LOOKUP(T36,$Y$2:$AR$2,$Y$3:$AR$3)) -> I | V36: 4 | W36: Бухашеев А.Г., Боярищева А.А.
D37: 18 | E37: пф23 | G37: 61 | H37: КАРПОВА | I37: Софья | J37: 37074 | K37: КМС | L37: Нижегородская область | N37: ЦСП, МБУ КСШОР № 1 | O37: 8.01 | P37: q | Q37: 7.87 | T37: =MIN(O37,Q37,S37) -> 7.87 | U37: =IF(OR(T37="",T37="н/я",T37="сошёл",T37="сошла",EXACT("дискв", LEFT(T37,5))),"",LOOKUP(T37,$Y$2:$AR$2,$Y$3:$AR$3)) -> I | V37: 3 | W37: Струева Ю.К., Герасимов А.В.
D38: 19 | E38: пф20 | G38: 323 | H38: МАКАРОВА | I38: Алиса | J38: 35650 | K38: КМС | L38: Свердловская область | N38: СШОР Спутник, ЦСП | O38: 7.97 | P38: q | Q38: 7.92 | T38: =MIN(O38,Q38,S38) -> 7.92 | U38: =IF(OR(T38="",T38="н/я",T38="сошёл",T38="сошла",EXACT("дискв", LEFT(T38,5))),"",LOOKUP(T38,$Y$2:$AR$2,$Y$3:$AR$3)) -> I | V38: 2 | W38: Заметаев О.Г., Чирков А.В.
D39: 20 | E39: пф16 | G39: 227 | H39: НИКИТИНА | I39: Елена | J39: 35918 | K39: КМС | L39: Омская область | N39: БУ ОО "СШОР" | O39: 7.85 | P39: q | Q39: 7.95 | T39: =MIN(O39,Q39,S39) -> 7.85 | U39: =IF(OR(T39="",T39="н/я",T39="сошёл",T39="сошла",EXACT("дискв", LEFT(T39,5))),"",LOOKUP(T39,$Y$2:$AR$2,$Y$3:$AR$3)) -> I | V39: 1 | W39: Люхман А.Н., Самбур Г.А.
D40: 21 | E40: пф17 | G40: 438 | H40: ДОВЖЕНКО | I40: Юлия | J40: 35818 | K40: КМС | L40: Ставропольский край | N40: ГБУ СК СШОР по л/а | O40: 7.87 | P40: q | Q40: 7.96 | T40: =MIN(O40,Q40,S40) -> 7.87 | U40: =IF(OR(T40="",T40="н/я",T40="сошёл",T40="сошла",EXACT("дискв", LEFT(T40,5))),"",LOOKUP(T40,$Y$2:$AR$2,$Y$3:$AR$3)) -> I | V40: лич | W40: Власов А.В., Городовиченко В.А.
D41: 22 | E41: пф21 | G41: 122 | H41: ЖУКОВА | I41: Марина | J41: 35857 | K41: КМС | L41: Санкт-Петербург | N41: СПб ГБУ СШОР "Академия легкой атлетики Санкт-Петербурга" | O41: 7.99 | P41: q | Q41: 7.98 | T41: =MIN(O41,Q41,S41) -> 7.98 | U41: =IF(OR(T41="",T41="н/я",T41="сошёл",T41="сошла",EXACT("дискв", LEFT(T41,5))),"",LOOKUP(T41,$Y$2:$AR$2,$Y$3:$AR$3)) -> I | V41: лич | W41: Клещенко Н.Е.
D42: 23 | E42: пф22 | G42: 337 | H42: ГРИЩЕНКО | I42: Алина | J42: 35736 | K42: КМС | L42: Ростовская область | N42: СШОР №8 г.Ростов-на-Дону | O42: 8.01 | P42: q | Q42: 8.04 | T42: =MIN(O42,Q42,S42) -> 8.01 | U42: =IF(OR(T42="",T42="н/я",T42="сошёл",T42="сошла",EXACT("дискв", LEFT(T42,5))),"",LOOKUP(T42,$Y$2:$AR$2,$Y$3:$AR$3)) -> I | V42: 1 | W42: Мешковский А.Н.
D43: 24 | E43: пф24 | G43: 59 | H43: КАЛИНИНА | I43: Ольга | J43: 36465 | K43: 1 | L43: Нижегородская область | N43: ДЮСШ "Нижегородец", УОР | O43: 8.15 | P43: q | Q43: 8.14 | T43: =MIN(O43,Q43,S43) -> 8.14 | U43: =IF(OR(T43="",T43="н/я",T43="сошёл",T43="сошла",EXACT("дискв", LEFT(T43,5))),"",LOOKUP(T43,$Y$2:$AR$2,$Y$3:$AR$3)) -> I | V43: 1 | W43: Кондратьева Е.С., Борисенко Е.М.
D44: 25 | G44: 331 | H44: ТУМАЛАЕВА | I44: Айдан | J44: 35980 | K44: 1 | L44: Республика Дагестан | N44: СШ№2 | O44: 8.22 | T44: =MIN(O44,Q44,S44) -> 8.22 | U44: =IF(OR(T44="",T44="н/я",T44="сошёл",T44="сошла",EXACT("дискв", LEFT(T44,5))),"",LOOKUP(T44,$Y$2:$AR$2,$Y$3:$AR$3)) -> I | V44: 1 | W44: Гвиниашвили А.Н., Хасаев А.Г.
D45: 26 | G45: 441 | H45: ЛОБОЙКО | I45: Елена | J45: 35945 | K45: КМС | L45: Ставропольский край | N45: ГБУ СК СШОР по л/а, СУОР | O45: 8.28 | T45: =MIN(O45,Q45,S45) -> 8.28 | U45: =IF(OR(T45="",T45="н/я",T45="сошёл",T45="сошла",EXACT("дискв", LEFT(T45,5))),"",LOOKUP(T45,$Y$2:$AR$2,$Y$3:$AR$3)) -> II | V45: 1 | W45: Лобойко В.В.
D46: 26 | G46: 166 | H46: СЕГЛИНА | I46: Полина | J46: 35976 | K46: КМС | L46: Санкт-Петербург | N46: СПб ГБУ СШОР "Академия легкой атлетики Санкт-Петербурга" | O46: 8.28 | T46: =MIN(O46,Q46,S46) -> 8.28 | U46: =IF(OR(T46="",T46="н/я",T46="сошёл",T46="сошла",EXACT("дискв", LEFT(T46,5))),"",LOOKUP(T46,$Y$2:$AR$2,$Y$3:$AR$3)) -> II | V46: лич | W46: Кузнецова С.В.
D47: 28 | G47: 95 | H47: НАВАЦКАЯ | I47: Софья | J47: 36202 | K47: 1 | L47: Вологодская область | N47: АУ ФКиС ВО "ЦСП" | O47: 8.29 | T47: =MIN(O47,Q47,S47) -> 8.29 | U47: =IF(OR(T47="",T47="н/я",T47="сошёл",T47="сошла",EXACT("дискв", LEFT(T47,5))),"",LOOKUP(T47,$Y$2:$AR$2,$Y$3:$AR$3)) -> II | V47: 1 | W47: Селюцкий С.А.
G48: 306 | H48: ДЖАБКО | I48: Софья | J48: 35485 | K48: КМС | L48: Смоленская область | N48: СШОР им. Ф.Т.Михеенко | O48: r/med | W48: Федоров Л.Л., Федорова Т.С.
H55: Главный судья соревнований | N55: Уйк А.Г. /СПб, ССВк/
H57: Главный секретарь соревнований | N57: Алексеева О.К. /СПб, ССВк/

Sheet 400Д
I1: МИНИСТЕРСТВО СПОРТА РОССИЙСКОЙ ФЕДЕРАЦИИ | S1: 49 | T1: 52.44 | U1: 52.441 | V1: 55.24 | W1: 55.241 | X1: 58.54 | Y1: 58.541 | Z1: 1.00,00 | AA1: 1.00,01 | AB1: 1.00,02 | AC1: 1.00,03 | AD1: 1.00,04 | AE1: 1.00,05 | AF1: 1.00,06 | AG1: 1.00,07 | AH1: 1.00,08 | AI1: 1.00,09 | AJ1: 1.00,10 | AK1: 1.00,11 | AL1: 1.00,12 | AM1: 1.00,13 | AN1: 1.00,14 | AO1: 1.00,15 | AP1: 1.00,16 | AQ1: 1.00,17 | AR1: 1.00,18 | AS1: 1.00,19 | AT1: 1.00,20 | AU1: 1.00,21 | AV1: 1.00,22 | AW1: 1.00,23 | AX1: 1.00,24 | AY1: 1.00,25 | AZ1: 1.00,26 | BA1: 1.00,27 | BB1: 1.00,28 | BC1: 1.00,29 | BD1: 1.00,30 | BE1: 1.00,31 | BF1: 1.00,32 | BG1: 1.00,33 | BH1: 1.00,34 | BI1: 1.00,35 | BJ1: 1.00,36 | BK1: 1.00,37 | BL1: 1.00,38 | BM1: 1.00,39 | BN1: 1.00,40 | BO1: 1.00,41 | BP1: 1.00,42 | BQ1: 1.00,43 | BR1: 1.00,44 | BS1: 1.00,45 | BT1: 1.00,46 | BU1: 1.00,47 | BV1: 1.00,48 | BW1: 1.00,49 | BX1: 1.00,50 | BY1: 1.00,51 | BZ1: 1.00,52 | CA1: 1.00,53 | CB1: 1.00,54 | CC1: 1.00,55 | CD1: 1.00,56 | CE1: 1.00,57 | CF1: 1.00,58 | CG1: 1.00,59 | CH1: 1.00,60 | CI1: 1.00,61 | CJ1: 1.00,62 | CK1: 1.00,63 | CL1: 1.00,64 | CM1: 1.00,65 | CN1: 1.00,66 | CO1: 1.00,67 | CP1: 1.00,68 | CQ1: 1.00,69 | CR1: 1.00,70 | CS1: 1.00,71 | CT1: 1.00,72 | CU1: 1.00,73 | CV1: 1.00,74 | CW1: 1.00,75 | CX1: 1.00,76 | CY1: 1.00,77 | CZ1: 1.00,78 | DA1: 1.00,79 | DB1: 1.00,80 | DC1: 1.00,81 | DD1: 1.00,82 | DE1: 1.00,83 | DF1: 1.00,84 | DG1: 1.00,85 | DH1: 1.00,86 | DI1: 1.00,87 | DJ1: 1.00,88 | DK1: 1.00,89 | DL1: 1.00,90 | DM1: 1.00,91 | DN1: 1.00,92 | DO1: 1.00,93 | DP1: 1.00,94 | DQ1: 1.00,95 | DR1: 1.00,96 | DS1: 1.00,97 | DT1: 1.00,98 | DU1: 1.00,99 | DV1: 1.01,00 | DW1: 1.01,01 | DX1: 1.01,02 | DY1: 1.01,03 | DZ1: 1.01,04 | EA1: 1.01,05 | EB1: 1.01,06 | EC1: 1.01,07 | ED1: 1.01,08 | EE1: 1.01,09 | EF1: 1.01,10 | EG1: 1.01,11 | EH1: 1.01,12 | EI1: 1.01,13 | EJ1: 1.01,14 | EK1: 1.01,15 | EL1: 1.01,16 | EM1: 1.01,17 | EN1: 1.01,18 | EO1: 1.01,19 | EP1: 1.01,20 | EQ1: 1.01,21 | ER1: 1.01,22 | ES1: 1.01,23 | ET1: 1.01,24 | EU1: 1.01,25 | EV1: 1.01,26 | EW1: 1.01,27 | EX1: 1.01,28 | EY1: 1.01,29 | EZ1: 1.01,30 | FA1: 1.01,31 | FB1: 1.01,32 | FC1: 1.01,33 | FD1: 1.01,34 | FE1: 1.01,35 | FF1: 1.01,36 | FG1: 1.01,37 | FH1: 1.01,38 | FI1: 1.01,39 | FJ1: 1.01,40 | FK1: 1.01,41 | FL1: 1.01,42 | FM1: 1.01,43 | FN1: 1.01,44 | FO1: 1.01,45 | FP1: 1.01,46 | FQ1: 1.01,47 | FR1: 1.01,48 | FS1: 1.01,49 | FT1: 1.01,50 | FU1: 1.01,51 | FV1: 1.01,52 | FW1: 1.01,53 | FX1: 1.01,54 | FY1: 1.01,55 | FZ1: 1.01,56 | GA1: 1.01,57 | GB1: 1.01,58 | GC1: 1.01,59 | GD1: 1.01,60 | GE1: 1.01,61 | GF1: 1.01,62 | GG1: 1.01,63 | GH1: 1.01,64 | GI1: 1.01,65 | GJ1: 1.01,66 | GK1: 1.01,67 | GL1: 1.01,68 | GM1: 1.01,69 | GN1: 1.01,70 | GO1: 1.01,71 | GP1: 1.01,72 | GQ1: 1.01,73 | GR1: 1.01,74 | GS1: 1.01,75 | GT1: 1.01,76 | GU1: 1.01,77 | GV1: 1.01,78 | GW1: 1.01,79 | GX1: 1.01,80 | GY1: 1.01,81 | GZ1: 1.01,82 | HA1: 1.01,83 | HB1: 1.01,84 | HC1: 1.01,85 | HD1: 1.01,86 | HE1: 1.01,87 | HF1: 1.01,88 | HG1: 1.01,89 | HH1: 1.01,90 | HI1: 1.01,91 | HJ1: 1.01,92 | HK1: 1.01,93 | HL1: 1.01,94 | HM1: 1.01,95 | HN1: 1.01,96 | HO1: 1.01,97 | HP1: 1.01,98 | HQ1: 1.01,99 | HR1: 1.02,00 | HS1: 1.02,01 | HT1: 1.02,02 | HU1: 1.02,03 | HV1: 1.02,04 | HW1: 1.02,05 | HX1: 1.02,06 | HY1: 1.02,07 | HZ1: 1.02,08 | IA1: 1.02,09 | IB1: 1.02,10 | IC1: 1.02,11 | ID1: 1.02,12 | IE1: 1.02,13 | IF1: 1.02,14 | IG1: 1.02,15 | IH1: 1.02,16 | II1: 1.02,17 | IJ1: 1.02,18 | IK1: 1.02,19 | IL1: 1.02,20 | IM1: 1.02,21 | IN1: 1.02,22 | IO1: 1.02,23 | IP1: 1.02,24 | IQ1: 1.02,25 | IR1: 1.02,26 | IS1: 1.02,27 | IT1: 1.02,28 | IU1: 1.02,29 | IV1: 1.02,30 | IW1: 1.02,31 | IX1: 1.02,32 | IY1: 1.02,33 | IZ1: 1.02,34 | JA1: 1.02,35 | JB1: 1.02,36 | JC1: 1.02,37 | JD1: 1.02,38 | JE1: 1.02,39 | JF1: 1.02,40 | JG1: 1.02,41 | JH1: 1.02,42 | JI1: 1.02,43 | JJ1: 1.02,44 | JK1: 1.02,45 | JL1: 1.02,46 | JM1: 1.02,47 | JN1: 1.02,48 | JO1: 1.02,49 | JP1: 1.02,50 | JQ1: 1.02,51 | JR1: 1.02,52 | JS1: 1.02,53 | JT1: 1.02,54 | JU1: 1.02,541 | JV1: 1.07,04 | JW1: 1.07,041 | JX1: 1.12,04 | JY1: 1.12,041 | JZ1: 1.18,04 | KA1: 1.18,041 | KB1: 1.25,04 | KC1: 1.25,041 | KD1: 1.31,54 | KE1: 1.31,541
I2: ВСЕРОССИЙСКАЯ ФЕДЕРАЦИЯ ЛЕГКОЙ АТЛЕТИКИ | S2: мсмк | T2: мсмк | U2: мс | V2: мс | W2: кмс | X2: кмс | Y2: I | Z2: I | AA2: I | AB2: I | AC2: I | AD2: I | AE2: I | AF2: I | AG2: I | AH2: I | AI2: I | AJ2: I | AK2: I | AL2: I | AM2: I | AN2: I | AO2: I | AP2: I | AQ2: I | AR2: I | AS2: I | AT2: I | AU2: I | AV2: I | AW2: I | AX2: I | AY2: I | AZ2: I | BA2: I | BB2: I | BC2: I | BD2: I | BE2: I | BF2: I | BG2: I | BH2: I | BI2: I | BJ2: I | BK2: I | BL2: I | BM2: I | BN2: I | BO2: I | BP2: I | BQ2: I | BR2: I | BS2: I | BT2: I | BU2: I | BV2: I | BW2: I | BX2: I | BY2: I | BZ2: I | CA2: I | CB2: I | CC2: I | CD2: I | CE2: I | CF2: I | CG2: I | CH2: I | CI2: I | CJ2: I | CK2: I | CL2: I | CM2: I | CN2: I | CO2: I | CP2: I | CQ2: I | CR2: I | CS2: I | CT2: I | CU2: I | CV2: I | CW2: I | CX2: I | CY2: I | CZ2: I | DA2: I | DB2: I | DC2: I | DD2: I | DE2: I | DF2: I | DG2: I | DH2: I | DI2: I | DJ2: I | DK2: I | DL2: I | DM2: I | DN2: I | DO2: I | DP2: I | DQ2: I | DR2: I | DS2: I | DT2: I | DU2: I | DV2: I | DW2: I | DX2: I | DY2: I | DZ2: I | EA2: I | EB2: I | EC2: I | ED2: I | EE2: I | EF2: I | EG2: I | EH2: I | EI2: I | EJ2: I | EK2: I | EL2: I | EM2: I | EN2: I | EO2: I | EP2: I | EQ2: I | ER2: I | ES2: I | ET2: I | EU2: I | EV2: I | EW2: I | EX2: I | EY2: I | EZ2: I | FA2: I | FB2: I | FC2: I | FD2: I | FE2: I | FF2: I | FG2: I | FH2: I | FI2: I | FJ2: I | FK2: I | FL2: I | FM2: I | FN2: I | FO2: I | FP2: I | FQ2: I | FR2: I | FS2: I | FT2: I | FU2: I | FV2: I | FW2: I | FX2: I | FY2: I | FZ2: I | GA2: I | GB2: I | GC2: I | GD2: I | GE2: I | GF2: I | GG2: I | GH2: I | GI2: I | GJ2: I | GK2: I | GL2: I | GM2: I | GN2: I | GO2: I | GP2: I | GQ2: I | GR2: I | GS2: I | GT2: I | GU2: I | GV2: I | GW2: I | GX2: I | GY2: I | GZ2: I | HA2: I | HB2: I | HC2: I | HD2: I | HE2: I | HF2: I | HG2: I | HH2: I | HI2: I | HJ2: I | HK2: I | HL2: I | HM2: I | HN2: I | HO2: I | HP2: I | HQ2: I | HR2: I | HS2: I | HT2: I | HU2: I | HV2: I | HW2: I | HX2: I | HY2: I | HZ2: I | IA2: I | IB2: I | IC2: I | ID2: I | IE2: I | IF2: I | IG2: I | IH2: I | II2: I | IJ2: I | IK2: I | IL2: I | IM2: I | IN2: I | IO2: I | IP2: I | IQ2: I | IR2: I | IS2: I | IT2: I | IU2: I | IV2: I | IW2: I | IX2: I | IY2: I | IZ2: I | JA2: I | JB2: I | JC2: I | JD2: I | JE2: I | JF2: I | JG2: I | JH2: I | JI2: I | JJ2: I | JK2: I | JL2: I | JM2: I | JN2: I | JO2: I | JP2: I | JQ2: I | JR2: I | JS2: I | JT2: I | JU2: II | JV2: II | JW2: III | JX2: III | JY2: 1юн | JZ2: 1юн | KA2: 2юн | KB2: 2юн | KC2: 3юн | KD2: 3юн | KE2: б/р
I3: КОМИТЕТ ПО ФИЗИЧЕСКОЙ КУЛЬТУРЕ И СПОРТУ САНКТ-ПЕТЕРБУРГА
I4: СПОРТИВНАЯ ФЕДЕРАЦИЯ ЛЕГКОЙ АТЛЕТИКИ САНКТ-ПЕТЕРБУРГА
I6: Первенство России по легкой атлетике
I7: (среди юниоров и юниорок до 23 лет) в помещении
A8: 49.76 | C8: ВД Мира 23
A9: 49.76 | C9: ВД Европы 23 | I9: ИТОГОВЫЙ ПРОТОКОЛ
A10: 50.15 | C10: Рекорд России 23
I11: ЮНИОРКИ
A13: Санкт-Петербург, Легкоатлетический манеж | Q13: 19 - 20 февраля 2019 г.
A15: Место | B15: ф | C15: Номер | D15: Фамилия | E15: Имя | F15: Дата рожд | G15: Разр. | H15: Территория | J15: Команда | K15: Результаты | O15: Разряд | P15: Очки | Q15: Тренер
E17: 19 февраля 2019 г. | F17: Забеги 16:30 - 17:05 | Q17: Бег 400 м
E18: 20 февраля 2019 г. | F18: Финал 18:25 - 18:30 | K18: забеги | L18: Q | M18: финал
A20: 1 | B20: ф1 | C20: 296 | D20: БРАГИНА | E20: Анастасия | F20: 01.06.1998 | G20: МС | H20: Новосибирская область | J20: РЦСП СКиСР | K20: 53.98 | L20: q | M20: 55.03 | N20: =IF(OR(M20="",M20="dns",M20="dnf",M20="dq"),K20,IF(M20>K20,K20,M20)) -> 53.98 | O20: =IF(OR(K20="",K20="н/я",K20="сошёл",K20="сошла",EXACT("дискв", LEFT(K20,5))),"",LOOKUP(K20,$S$1:$IR$1,$S$2:$IR$2)) -> мс | P20: 25 | Q20: Бухашеев А.Г., Боярищева А.А., Ерофеев В.Б.
A21: 2 | B21: ф5 | C21: 139 | D21: КУЗМИНЧУК | E21: Олеся | F21: 04.12.1998 | G21: КМС | H21: Санкт-Петербург-1 | J21: СШОР № 2 Московского р-на | K21: 55.2 | L21: q | M21: 55.11 | N21: =IF(OR(M21="",M21="dns",M21="dnf",M21="dq"),K21,IF(M21>K21,K21,M21)) -> 55.11 | O21: =IF(OR(K21="",K21="н/я",K21="сошёл",K21="сошла",EXACT("дискв", LEFT(K21,5))),"",LOOKUP(K21,$S$1:$IR$1,$S$2:$IR$2)) -> мс | P21: 22 | Q21: Лотова Э.В.
A22: 3 | B22: ф3 | C22: 20 | D22: ПУЗИК | E22: Инна | F22: 22.01.1997 | G22: МС | H22: Самарская область | J22: СДЮСШОР 3 г. Тольятти | K22: 55.07 | L22: q | M22: 55.16 | N22: =IF(OR(M22="",M22="dns",M22="dnf",M22="dq"),K22,IF(M22>K22,K22,M22)) -> 55.07 | O22: =IF(OR(K22="",K22="н/я",K22="сошёл",K22="сошла",EXACT("дискв", LEFT(K22,5))),"",LOOKUP(K22,$S$1:$IR$1,$S$2:$IR$2)) -> мс | P22: 20 | Q22: Пузик О.В.
A23: 4 | B23: ф2 | C23: 240 | D23: ПАРЕНЧУК | E23: Лика | F23: 06.04.2002 | G23: КМС | H23: Алтайский край | J23: АКУОР | K23: 55 | L23: q | M23: 55.42 | N23: =IF(OR(M23="",M23="dns",M23="dnf",M23="dq"),K23,IF(M23>K23,K23,M23)) -> 55 | O23: =IF(OR(K23="",K23="н/я",K23="сошёл",K23="сошла",EXACT("дискв", LEFT(K23,5))),"",LOOKUP(K23,$S$1:$IR$1,$S$2:$IR$2)) -> мс | P23: 19 | Q23: Клевцова Н.В., Панина Е.А.
A24: 5 | B24: ф6 | C24: 55 | D24: МИГЛАН | E24: Мария | F24: 20.02.1997 | G24: КМС | H24: Тюменская область | J24: ОСШОР, СК ТюмГУ | K24: 55.3 | L24: q | M24: 55.53 | N24: =IF(OR(M24="",M24="dns",M24="dnf",M24="dq"),K24,IF(M24>K24,K24,M24)) -> 55.3 | O24: =IF(OR(K24="",K24="н/я",K24="сошёл",K24="сошла",EXACT("дискв", LEFT(K24,5))),"",LOOKUP(K24,$S$1:$IR$1,$S$2:$IR$2)) -> кмс | P24: 13 | Q24: Сергеев О.В.
A25: 6 | B25: ф4 | C25: 178 | D25: ТЮРИНА | E25: Екатерина | F25: 18.04.1997 | G25: МС | H25: Санкт-Петербург-1/Нижегородская область | J25: КСДЮСШОР №1, Омский УОР, ЦОП "ШВСМ л/атл." (СПб), ШВСМ по легкой атлетике(Санкт-Петербург) | K25: 55.16 | L25: q | M25: 55.69 | N25: =IF(OR(M25="",M25="dns",M25="dnf",M25="dq"),K25,IF(M25>K25,K25,M25)) -> 55.16 | O25: =IF(OR(K25="",K25="н/я",K25="сошёл",K25="сошла",EXACT("дискв", LEFT(K25,5))),"",LOOKUP(K25,$S$1:$IR$1,$S$2:$IR$2)) -> мс | P25: 17 | Q25: Куликова Е.Ю., Седова Н.А., Геворкян Р.О.
A26: 7 | C26: 407 | D26: БАУЛИНА | E26: Ирина | F26: 04.01.1999 | G26: КМС | H26: Воронежская область | J26: СДЮСШОР № 5 | K26: 55.36 | N26: =IF(OR(M26="",M26="dns",M26="dnf",M26="dq"),K26,IF(M26>K26,K26,M26)) -> 55.36 | O26: =IF(OR(K26="",K26="н/я",K26="сошёл",K26="сошла",EXACT("дискв", LEFT(K26,5))),"",LOOKUP(K26,$S$1:$IR$1,$S$2:$IR$2)) -> кмс | P26: 11 | Q26: Мащенко Р.М.
A27: 8 | C27: 80 | D27: КОНДРАШКИНА | E27: Юлия | F27: 10.08.1997 | G27: МС | H27: Краснодарский край | J27: ГБУ КК "РЦСП по л/а" | K27: 55.48 | N27: =IF(OR(M27="",M27="dns",M27="dnf",M27="dq"),K27,IF(M27>K27,K27,M27)) -> 55.48 | O27: =IF(OR(K27="",K27="н/я",K27="сошёл",K27="сошла",EXACT("дискв", LEFT(K27,5))),"",LOOKUP(K27,$S$1:$IR$1,$S$2:$IR$2)) -> кмс | P27: 10 | Q27: Вакарина М.Т., Кудрявцев В.Е.
A28: 9 | C28: 202 | D28: КОТЕЛЬНИКОВА | E28: Елена | F28: 03.04.1997 | G28: КМС | H28: Курская область | J28: СШОР "Урожай" | K28: 55.5 | N28: =IF(OR(M28="",M28="dns",M28="dnf",M28="dq"),K28,IF(M28>K28,K28,M28)) -> 55.5 | O28: =IF(OR(K28="",K28="н/я",K28="сошёл",K28="сошла",EXACT("дискв", LEFT(K28,5))),"",LOOKUP(K28,$S$1:$IR$1,$S$2:$IR$2)) -> кмс | P28: 9
A29: 10 | C29: 293 | D29: ДЕВЯТКИНА | E29: Ксения | F29: 17.08.1998 | G29: КМС | H29: Пензенская область | J29: ДЮСШ 6 | K29: 55.64 | N29: =IF(OR(M29="",M29="dns",M29="dnf",M29="dq"),K29,IF(M29>K29,K29,M29)) -> 55.64 | O29: =IF(OR(K29="",K29="н/я",K29="сошёл",K29="сошла",EXACT("дискв", LEFT(K29,5))),"",LOOKUP(K29,$S$1:$IR$1,$S$2:$IR$2)) -> кмс | P29: 8 | Q29: Гарынов А.
A30: 11 | C30: 324 | D30: БИБИК | E30: Татьяна | F30: 27.02.2000 | G30: КМС | H30: Свердловская область | J30: УОР, ЛУЧ, ЦСП | K30: 55.73 | N30: =IF(OR(M30="",M30="dns",M30="dnf",M30="dq"),K30,IF(M30>K30,K30,M30)) -> 55.73 | O30: =IF(OR(K30="",K30="н/я",K30="сошёл",K30="сошла",EXACT("дискв", LEFT(K30,5))),"",LOOKUP(K30,$S$1:$IR$1,$S$2:$IR$2)) -> кмс | P30: 7 | Q30: Колчанов Н.Г., Марьин Ю.С.
A31: 12 | C31: 274 | D31: КРАСНОВА | E31: Карина | F31: 09.07.2000 | G31: КМС | H31: Московская область/Тульская область | J31: СДЮСШОР, ГБУ МО "СШОР", ШВМС, ГБУ МО "ЦСП ОВС" | K31: 55.99 | N31: =IF(OR(M31="",M31="dns",M31="dnf",M31="dq"),K31,IF(M31>K31,K31,M31)) -> 55.99 | O31: =IF(OR(K31="",K31="н/я",K31="сошёл",K31="сошла",EXACT("дискв", LEFT(K31,5))),"",LOOKUP(K31,$S$1:$IR$1,$S$2:$IR$2)) -> кмс | P31: лич | Q31: Кузнецов А.В., Соболева Л.И., Чебыкина Т.Г., Матюхин Н.И.
A32: 13 | C32: 133 | D32: КОПРОВА | E32: Екатерина | F32: 07.02.1999 | G32: КМС | H32: Санкт-Петербург | J32: ЦОП "ШВСМ л/атл." (СПб) | K32: 56.24 | N32: =IF(OR(M32="",M32="dns",M32="dnf",M32="dq"),K32,IF(M32>K32,K32,M32)) -> 56.24 | O32: =IF(OR(K32="",K32="н/я",K32="сошёл",K32="сошла",EXACT("дискв", LEFT(K32,5))),"",LOOKUP(K32,$S$1:$IR$1,$S$2:$IR$2)) -> кмс | P32: лич | Q32: Куликова Е.Ю., Калина Т.В.
A33: 14 | C33: 301 | D33: РУДЕНКО | E33: Ксения | F33: 17.05.1998 | G33: КМС | H33: Новосибирская область | J33: СШОР "Фламинго" | K33: 56.38 | N33: =IF(OR(M33="",M33="dns",M33="dnf",M33="dq"),K33,IF(M33>K33,K33,M33)) -> 56.38 | O33: =IF(OR(K33="",K33="н/я",K33="сошёл",K33="сошла",EXACT("дискв", LEFT(K33,5))),"",LOOKUP(K33,$S$1:$IR$1,$S$2:$IR$2)) -> кмс | P33: 6 | Q33: Габидулин О.В.
A34: 15 | C34: 218 | D34: ИВАНОВА | E34: Екатерина | F34: 15.05.1998 | G34: МС | H34: Иркутская область | J34: СШОР ШВСМ, ГУОР | K34: 56.51 | N34: =IF(OR(M34="",M34="dns",M34="dnf",M34="dq"),K34,IF(M34>K34,K34,M34)) -> 56.51 | O34: =IF(OR(K34="",K34="н/я",K34="сошёл",K34="сошла",EXACT("дискв", LEFT(K34,5))),"",LOOKUP(K34,$S$1:$IR$1,$S$2:$IR$2)) -> кмс | P34: 5 | Q34: Шкурбицкий В.Л., Болсун Е.И.
A35: 16 | C35: 268 | D35: АГАПОВА | E35: Алёна | F35: 21.02.1998 | G35: КМС | H35: Московская область | J35: ГБУ МО "СШОР" | K35: 56.64 | N35: =IF(OR(M35="",M35="dns",M35="dnf",M35="dq"),K35,IF(M35>K35,K35,M35)) -> 56.64 | O35: =IF(OR(K35="",K35="н/я",K35="сошёл",K35="сошла",EXACT("дискв", LEFT(K35,5))),"",LOOKUP(K35,$S$1:$IR$1,$S$2:$IR$2)) -> кмс | P35: лич | Q35: Бесшапошников О.Ю., Иванов Е.В., Иванова Г.Ф.
A36: 17 | C36: 499 | D36: КУЧЕНЕВА | E36: Юлия | F36: 11.09.1999 | G36: КМС | H36: Волгоградская область | J36: СШОР 10, ВУОР | K36: 56.65 | N36: =IF(OR(M36="",M36="dns",M36="dnf",M36="dq"),K36,IF(M36>K36,K36,M36)) -> 56.65 | O36: =IF(OR(K36="",K36="н/я",K36="сошёл",K36="сошла",EXACT("дискв", LEFT(K36,5))),"",LOOKUP(K36,$S$1:$IR$1,$S$2:$IR$2)) -> кмс | P36: 4 | Q36: Арькова Н.В., Невежин В.И., Горкавченко В.В.
A37: 18 | C37: 433 | D37: ЦЫГАНОВА | E37: Виктория | F37: 01.07.1997 | G37: КМС | H37: Москва | J37: СШОР ЦСКА | K37: 56.67 | N37: =IF(OR(M37="",M37="dns",M37="dnf",M37="dq"),K37,IF(M37>K37,K37,M37)) -> 56.67 | O37: =IF(OR(K37="",K37="н/я",K37="сошёл",K37="сошла",EXACT("дискв", LEFT(K37,5))),"",LOOKUP(K37,$S$1:$IR$1,$S$2:$IR$2)) -> кмс | P37: лич | Q37: Филатова Е.А., Филатова М.И.
A38: 18 | C38: 66 | D38: ВАСИЛЬЕВА | E38: Лиана | F38: 07.07.2001 | G38: КМС | H38: Нижегородская область/Чувашская республика | J38: ЧУОР им. В. Краснова, МБУ ДО КСДЮСШОР № 1, СШОР №1 имени В.Егоровой | K38: 56.67 | N38: =IF(OR(M38="",M38="dns",M38="dnf",M38="dq"),K38,IF(M38>K38,K38,M38)) -> 56.67 | O38: =IF(OR(K38="",K38="н/я",K38="сошёл",K38="сошла",EXACT("дискв", LEFT(K38,5))),"",LOOKUP(K38,$S$1:$IR$1,$S$2:$IR$2)) -> кмс | P38: 3 | Q38: Смирнов С.В., Солоденов Е.В., Солоденова И.В.
A39: 20 | C39: 481 | D39: ГОЛОВЧАНСКАЯ | E39: Маргарита | F39: 18.11.1999 | G39: КМС | H39: Волгоградская область | J39: ВКОР, СШОР 10 | K39: 56.85 | N39: =IF(OR(M39="",M39="dns",M39="dnf",M39="dq"),K39,IF(M39>K39,K39,M39)) -> 56.85 | O39: =IF(OR(K39="",K39="н/я",K39="сошёл",K39="сошла",EXACT("дискв", LEFT(K39,5))),"",LOOKUP(K39,$S$1:$IR$1,$S$2:$IR$2)) -> кмс | P39: лич | Q39: Арькова Н.В., Минахметова О.В.
A40: 21 | C40: 203 | D40: РЫБКИНА | E40: Анастасия | F40: 14.04.1999 | G40: КМС | H40: Курская область | J40: СШОР Урожай | K40: 57.01 | N40: =IF(OR(M40="",M40="dns",M40="dnf",M40="dq"),K40,IF(M40>K40,K40,M40)) -> 57.01 | O40: =IF(OR(K40="",K40="н/я",K40="сошёл",K40="сошла",EXACT("дискв", LEFT(K40,5))),"",LOOKUP(K40,$S$1:$IR$1,$S$2:$IR$2)) -> кмс | P40: 2
A41: 22 | C41: 207 | D41: МАНЦУРОВА | E41: Кристина | F41: 26.08.1999 | G41: 1 | H41: Курская область | J41: СШОР Урожай | K41: 57.16 | N41: =IF(OR(M41="",M41="dns",M41="dnf",M41="dq"),K41,IF(M41>K41,K41,M41)) -> 57.16 | O41: =IF(OR(K41="",K41="н/я",K41="сошёл",K41="сошла",EXACT("дискв", LEFT(K41,5))),"",LOOKUP(K41,$S$1:$IR$1,$S$2:$IR$2)) -> кмс | P41: лич | Q41: Яковлева Е.Н.
A42: 23 | C42: 200 | D42: АЛТУХОВА | E42: Екатерина | F42: 04.08.2000 | G42: 1 | H42: Курская область | J42: СШОР Железногорск | K42: 57.25 | N42: =IF(OR(M42="",M42="dns",M42="dnf",M42="dq"),K42,IF(M42>K42,K42,M42)) -> 57.25 | O42: =IF(OR(K42="",K42="н/я",K42="сошёл",K42="сошла",EXACT("дискв", LEFT(K42,5))),"",LOOKUP(K42,$S$1:$IR$1,$S$2:$IR$2)) -> кмс | P42: 1 | Q42: Шумаков Е.Г., Тихонов А.В., Тихонова М.С.
A43: 24 | C43: 127 | D43: ИВАНОВА | E43: Виктория | F43: 07.07.2000 | G43: КМС | H43: Санкт-Петербург | J43: ЦОП "ШВСМ л/атл." (СПб) | K43: 57.31 | N43: =IF(OR(M43="",M43="dns",M43="dnf",M43="dq"),K43,IF(M43>K43,K43,M43)) -> 57.31 | O43: =IF(OR(K43="",K43="н/я",K43="сошёл",K43="сошла",EXACT("дискв", LEFT(K43,5))),"",LOOKUP(K43,$S$1:$IR$1,$S$2:$IR$2)) -> кмс | P43: лич | Q43: Агарков В.Н., Пономарев В.В., Куликова Е.Ю.
A44: 25 | C44: 151 | D44: МОСОЛОВА | E44: Ксения | F44: 05.01.1999 | G44: КМС | H44: Санкт-Петербург | J44: СПб ГБУ СШОР "Академия легкой атлетики Санкт-Петербурга" | K44: 57.43 | N44: =IF(OR(M44="",M44="dns",M44="dnf",M44="dq"),K44,IF(M44>K44,K44,M44)) -> 57.43 | O44: =IF(OR(K44="",K44="н/я",K44="сошёл",K44="сошла",EXACT("дискв", LEFT(K44,5))),"",LOOKUP(K44,$S$1:$IR$1,$S$2:$IR$2)) -> кмс | P44: лич | Q44: Бабчин О.И.
A45: 26 | C45: 30 | D45: КНЯЗЕВА | E45: Янита | F45: 23.10.1998 | G45: КМС | H45: Самарская область | J45: СГСПУ, Красный Яр | K45: 57.48 | N45: =IF(OR(M45="",M45="dns",M45="dnf",M45="dq"),K45,IF(M45>K45,K45,M45)) -> 57.48 | O45: =IF(OR(K45="",K45="н/я",K45="сошёл",K45="сошла",EXACT("дискв", LEFT(K45,5))),"",LOOKUP(K45,$S$1:$IR$1,$S$2:$IR$2)) -> кмс | P45: лич | Q45: Лобанов А.А.
A46: 27 | C46: 39 | D46: ГРИШИНА | E46: Екатерина | F46: 31.08.1999 | G46: КМС | H46: Курганская область | J46: КУОР | K46: 57.51 | N46: =IF(OR(M46="",M46="dns",M46="dnf",M46="dq"),K46,IF(M46>K46,K46,M46)) -> 57.51 | O46: =IF(OR(K46="",K46="н/я",K46="сошёл",K46="сошла",EXACT("дискв", LEFT(K46,5))),"",LOOKUP(K46,$S$1:$IR$1,$S$2:$IR$2)) -> кмс | P46: 1 | Q46: Хаменя С.В., Колесникова Е.А.
A47: 28 | C47: 215 | D47: СКОРОБОГАТОВА | E47: Дарья | F47: 04.05.1997 | G47: КМС | H47: Иркутская область | J47: СШОР ШВСМ | K47: 57.58 | N47: =IF(OR(M47="",M47="dns",M47="dnf",M47="dq"),K47,IF(M47>K47,K47,M47)) -> 57.58 | O47: =IF(OR(K47="",K47="н/я",K47="сошёл",K47="сошла",EXACT("дискв", LEFT(K47,5))),"",LOOKUP(K47,$S$1:$IR$1,$S$2:$IR$2)) -> кмс | P47: 1 | Q47: Шкурбицкий В.Л., Болсун Е.И., Толмачева Е.П.
A48: 29 | C48: 388 | D48: МИКРЮКОВА | E48: Анна | F48: 23.03.2001 | G48: КМС | H48: Москва | J48: СШОР-24, ГБОУ МССУОР №2 | K48: 57.71 | N48: =IF(OR(M48="",M48="dns",M48="dnf",M48="dq"),K48,IF(M48>K48,K48,M48)) -> 57.71 | O48: =IF(OR(K48="",K48="н/я",K48="сошёл",K48="сошла",EXACT("дискв", LEFT(K48,5))),"",LOOKUP(K48,$S$1:$IR$1,$S$2:$IR$2)) -> кмс | P48: лич | Q48: Фролова Т.С., Фролов Н.А., Симонов Р.Р.
A49: 29 | C49: 462 | D49: НИКИТИНА | E49: Анастасия | F49: 05.04.1999 | G49: КМС | H49: Челябинская область | J49: СШОР Елесиной | K49: 57.71 | N49: =IF(OR(M49="",M49="dns",M49="dnf",M49="dq"),K49,IF(M49>K49,K49,M49)) -> 57.71 | O49: =IF(OR(K49="",K49="н/я",K49="сошёл",K49="сошла",EXACT("дискв", LEFT(K49,5))),"",LOOKUP(K49,$S$1:$IR$1,$S$2:$IR$2)) -> кмс | P49: 1 | Q49: Казачук А.Б.
A50: 31 | C50: 198 | D50: ЛЕОНОВА | E50: Алина | F50: 02.10.1998 | G50: КМС | H50: Омская область | J50: БУ ОО "СШОР", Любинский район | K50: 57.73 | N50: =IF(OR(M50="",M50="dns",M50="dnf",M50="dq"),K50,IF(M50>K50,K50,M50)) -> 57.73 | O50: =IF(OR(K50="",K50="н/я",K50="сошёл",K50="сошла",EXACT("дискв", LEFT(K50,5))),"",LOOKUP(K50,$S$1:$IR$1,$S$2:$IR$2)) -> кмс | P50: 1 | Q50: Самойлович С.А.
A51: 32 | C51: 295 | D51: БОГОМОЛОВА | E51: Инесса | F51: 24.06.1997 | G51: КМС | H51: Новосибирская область | J51: СШОР "Фламинго" | K51: 57.86 | N51: =IF(OR(M51="",M51="dns",M51="dnf",M51="dq"),K51,IF(M51>K51,K51,M51)) -> 57.86 | O51: =IF(OR(K51="",K51="н/я",K51="сошёл",K51="сошла",EXACT("дискв", LEFT(K51,5))),"",LOOKUP(K51,$S$1:$IR$1,$S$2:$IR$2)) -> кмс | P51: 1 | Q51: Зайцева О.В., Зюзько Л.В., Шашкова О.О.
A52: 33 | C52: 465 | D52: ЧАПКАЕВА | E52: Валерия | F52: 17.08.1998 | G52: КМС | H52: Краснодарский край/Челябинская область | J52: СК М-М СШОР | K52: 58.12 | N52: =IF(OR(M52="",M52="dns",M52="dnf",M52="dq"),K52,IF(M52>K52,K52,M52)) -> 58.12 | O52: =IF(OR(K52="",K52="н/я",K52="сошёл",K52="сошла",EXACT("дискв", LEFT(K52,5))),"",LOOKUP(K52,$S$1:$IR$1,$S$2:$IR$2)) -> кмс | P52: 1 | Q52: Парамонова И.П.
A53: 34 | C53: 219 | D53: ЛИСТКОВА | E53: Валентина | F53: 13.12.1999 | G53: КМС | H53: Иркутская область | J53: СШ "Юный динамовец", ГУОР | K53: 58.29 | N53: =IF(OR(M53="",M53="dns",M53="dnf",M53="dq"),K53,IF(M53>K53,K53,M53)) -> 58.29 | O53: =IF(OR(K53="",K53="н/я",K53="сошёл",K53="сошла",EXACT("дискв", LEFT(K53,5))),"",LOOKUP(K53,$S$1:$IR$1,$S$2:$IR$2)) -> кмс | P53: 1 | Q53: Татарченко Ю.Ю.
A54: 35 | C54: 146 | D54: ЛУКАШКИНА | E54: Анна | F54: 14.02.2001 | G54: КМС | H54: Санкт-Петербург | J54: СПб ГБПОУ "УОР № 1 | K54: 58.6 | N54: =IF(OR(M54="",M54="dns",M54="dnf",M54="dq"),K54,IF(M54>K54,K54,M54)) -> 58.6 | O54: =IF(OR(K54="",K54="н/я",K54="сошёл",K54="сошла",EXACT("дискв", LEFT(K54,5))),"",LOOKUP(K54,$S$1:$IR$1,$S$2:$IR$2)) -> I | P54: лич | Q54: Шекин Д.А., Бахвалова Е.А.
A55: 36 | C55: 143 | D55: ЛОПУНОВА | E55: Екатерина | F55: 01.06.1998 | G55: КМС | H55: Санкт-Петербург | J55: ЦОП "ШВСМ л/атл." (СПб) | K55: 58.66 | N55: =IF(OR(M55="",M55="dns",M55="dnf",M55="dq"),K55,IF(M55>K55,K55,M55)) -> 58.66 | O55: =IF(OR(K55="",K55="н/я",K55="сошёл",K55="сошла",EXACT("дискв", LEFT(K55,5))),"",LOOKUP(K55,$S$1:$IR$1,$S$2:$IR$2)) -> I | P55: лич | Q55: Зверева Т.Г., Куликова Е.Ю.
A56: 37 | C56: 53 | D56: ПАРХОМЧУК | E56: Виктория | F56: 20.08.1998 | G56: КМС | H56: Тюменская область | J56: ОСШОР, ДЮСАШ "НЕГЕ" | K56: 59.52 | N56: =IF(OR(M56="",M56="dns",M56="dnf",M56="dq"),K56,IF(M56>K56,K56,M56)) -> 59.52 | O56: =IF(OR(K56="",K56="н/я",K56="сошёл",K56="сошла",EXACT("дискв", LEFT(K56,5))),"",LOOKUP(K56,$S$1:$IR$1,$S$2:$IR$2)) -> I | P56: 1 | Q56: Игнатьев Н.П.
A57: 38 | C57: 129 | D57: КАЧАЕВА | E57: Дарья | F57: 29.05.2002 | G57: КМС | H57: Санкт-Петербург | J57: СПб ГБУ СШОР "Академия легкой атлетики Санкт-Петербурга" | K57: 59.64 | N57: =IF(OR(M57="",M57="dns",M57="dnf",M57="dq"),K57,IF(M57>K57,K57,M57)) -> 59.64 | O57: =IF(OR(K57="",K57="н/я",K57="сошёл",K57="сошла",EXACT("дискв", LEFT(K57,5))),"",LOOKUP(K57,$S$1:$IR$1,$S$2:$IR$2)) -> I | P57: лич | Q57: Бежан Н.Ф.
A58: 39 | C58: 29 | D58: ЛАГУТИНА | E58: Екатерина | F58: 05.10.1999 | G58: КМС | H58: Самарская область | J58: СШОР № 2 г. Самара | K58: 59.85 | N58: =IF(OR(M58="",M58="dns",M58="dnf",M58="dq"),K58,IF(M58>K58,K58,M58)) -> 59.85 | O58: =IF(OR(K58="",K58="н/я",K58="сошёл",K58="сошла",EXACT("дискв", LEFT(K58,5))),"",LOOKUP(K58,$S$1:$IR$1,$S$2:$IR$2)) -> I | P58: лич | Q58: Зайцев И.С., Андронов Ю.В.
A59: 40 | C59: 474 | D59: ПОДКОРЫТОВА | E59: Анна | F59: 09.12.1999 | G59: 1 | H59: Челябинская область | J59: СШОР Мосеева | K59: 1.00,20 | N59: =IF(OR(M59="",M59="dns",M59="dnf",M59="dq"),K59,IF(M59>K59,K59,M59)) -> 1.00,20 | O59: =IF(OR(K59="",K59="н/я",K59="сошёл",K59="сошла",EXACT("дискв", LEFT(K59,5))),"",LOOKUP(K59,$S$1:$IR$1,$S$2:$IR$2)) -> I | P59: лич | Q59: Денисова Л.В., Бабич К.В.
A60: 41 | C60: 117 | D60: ГОЛИКОВА | E60: Екатерина | F60: 17.09.2000 | G60: 1 | H60: Санкт-Петербург/Архангельская область | J60: СПб ГБУ СШОР "Академия легкой атлетики Санкт-Петербурга" | K60: 1.00,29 | N60: =IF(OR(M60="",M60="dns",M60="dnf",M60="dq"),K60,IF(M60>K60,K60,M60)) -> 1.00,29 | O60: =IF(OR(K60="",K60="н/я",K60="сошёл",K60="сошла",EXACT("дискв", LEFT(K60,5))),"",LOOKUP(K60,$S$1:$IR$1,$S$2:$IR$2)) -> I | P60: лич | Q60: Брюхова О.Б., Клещенко Н.Е.
A61: 42 | C61: 476 | D61: УСОЛЬЦЕВА | E61: Екатерина | F61: 23.06.1999 | G61: КМС | H61: Челябинская область | J61: СШОР Мосеева | K61: 1.01,63 | N61: =IF(OR(M61="",M61="dns",M61="dnf",M61="dq"),K61,IF(M61>K61,K61,M61)) -> 1.01,63 | O61: =IF(OR(K61="",K61="н/я",K61="сошёл",K61="сошла",EXACT("дискв", LEFT(K61,5))),"",LOOKUP(K61,$S$1:$IR$1,$S$2:$IR$2)) -> I | P61: лич | Q61: Трегубова В.В.
O64: =IF(OR(K64="",K64="н/я",K64="сошёл",K64="сошла",EXACT("дискв", LEFT(K64,5))),"",LOOKUP(K64,$S$1:$IR$1,$S$2:$IR$2))
O65: =IF(OR(K65="",K65="н/я",K65="сошёл",K65="сошла",EXACT("дискв", LEFT(K65,5))),"",LOOKUP(K65,$S$1:$IR$1,$S$2:$IR$2))
D66: Главный судья соревнований | J66: Уйк А.Г. /СПб, ССВк/ | O66: =IF(OR(K66="",K66="н/я",K66="сошёл",K66="сошла",EXACT("дискв", LEFT(K66,5))),"",LOOKUP(K66,$S$1:$IR$1,$S$2:$IR$2))
O67: =IF(OR(K67="",K67="н/я",K67="сошёл",K67="сошла",EXACT("дискв", LEFT(K67,5))),"",LOOKUP(K67,$S$1:$IR$1,$S$2:$IR$2))
D68: Главный секретарь соревнований | I68: Бондарева А.В. /СПб, ССВк/ | J68: Алексеева О.К. /СПб, ССВк/ | O68: =IF(OR(K68="",K68="н/я",K68="сошёл",K68="сошла",EXACT("дискв", LEFT(K68,5))),"",LOOKUP(K68,$S$1:$IR$1,$S$2:$IR$2))
O69: =IF(OR(K69="",K69="н/я",K69="сошёл",K69="сошла",EXACT("дискв", LEFT(K69,5))),"",LOOKUP(K69,$S$1:$IR$1,$S$2:$IR$2))
O70: =IF(OR(K70="",K70="н/я",K70="сошёл",K70="сошла",EXACT("дискв", LEFT(K70,5))),"",LOOKUP(K70,$S$1:$IR$1,$S$2:$IR$2))
O71: =IF(OR(K71="",K71="н/я",K71="сошёл",K71="сошла",EXACT("дискв", LEFT(K71,5))),"",LOOKUP(K71,$S$1:$IR$1,$S$2:$IR$2))
O72: =IF(OR(K72="",K72="н/я",K72="сошёл",K72="сошла",EXACT("дискв", LEFT(K72,5))),"",LOOKUP(K72,$S$1:$IR$1,$S$2:$IR$2))
O73: =IF(OR(K73="",K73="н/я",K73="сошёл",K73="сошла",EXACT("дискв", LEFT(K73,5))),"",LOOKUP(K73,$S$1:$IR$1,$S$2:$IR$2))

Sheet 800Д
J1: МИНИСТЕРСТВО СПОРТА РОССИЙСКОЙ ФЕДЕРАЦИИ | S1: 1.55,15 | T1: 2.01,84 | U1: 2.01,841 | V1: 2.07,24 | W1: 2.07,241 | X1: 2.16,84 | Y1: 2.16,841 | Z1: 2.26,84 | AA1: 2.26,841 | AB1: 2.37,84 | AC1: 2.37,841 | AD1: 2.49,84 | AE1: 2.49,841 | AF1: 3.02,84 | AG1: 3.02,841 | AH1: 3.17,84 | AI1: 3.17,841 | AJ1: 3.36,84 | AK1: 3.36,841
J2: ВСЕРОССИЙСКАЯ ФЕДЕРАЦИЯ ЛЕГКОЙ АТЛЕТИКИ | S2: мсмк | T2: мсмк | U2: мс | V2: мс | W2: кмс | X2: кмс | Y2: I | Z2: I | AA2: II | AB2: II | AC2: III | AD2: III | AE2: 1юн | AF2: 1юн | AG2: 2юн | AH2: 2юн | AI2: 3юн | AJ2: 3юн | AK2: б/р
J3: КОМИТЕТ ПО ФИЗИЧЕСКОЙ КУЛЬТУРЕ И СПОРТУ САНКТ-ПЕТЕРБУРГА
J4: СПОРТИВНАЯ ФЕДЕРАЦИЯ ЛЕГКОЙ АТЛЕТИКИ САНКТ-ПЕТЕРБУРГА
S5: 15515 | T5: 20184 | U5: 20184.01 | V5: 20724 | W5: 20724.01 | X5: 21684 | Y5: 21684.01 | Z5: 22684 | AA5: 22684.01 | AB5: 23784 | AC5: 23784.01 | AD5: 24984 | AE5: 24984.01 | AF5: 30284 | AG5: 30284.01 | AH5: 31784 | AI5: 31784.01 | AJ5: 33684 | AK5: 33684.01
J6: Первенство России по легкой атлетике | S6: мсмк | T6: мсмк | U6: мс | V6: мс | W6: кмс | X6: кмс | Y6: I | Z6: I | AA6: II | AB6: II | AC6: III | AD6: III | AE6: 1юн | AF6: 1юн | AG6: 2юн | AH6: 2юн | AI6: 3юн | AJ6: 3юн | AK6: б/р
J7: (среди юниоров и юниорок до 23 лет) в помещении
A8: 1.57,55 | C8: ВД Мира 23
A9: 1.58,42 | C9: ВД Европы 23 | J9: ИТОГОВЫЙ ПРОТОКОЛ
A10: 1.59,35 | C10: Рекорд России 23
J11: ЮНИОРКИ
A13: Санкт-Петербург, Легкоатлетический манеж | Q13: 19 - 20 февраля 2019 г.
A15: Место | B15: ф | C15: Номер | D15: Фамилия | E15: Имя | F15: Дата рожд | G15: Разр. | H15: Территория | J15: Организация | K15: Результаты | O15: Разряд | P15: Очки | Q15: Тренер
E17: 19 февраля 2019 г. | F17: Забеги 15:00 - 15:25 | Q17: Бег 800 м
E18: 20 февраля 2019 г. | F18: Финал 17:00 - 17:05 | K18: забеги | L18: Q | M18: финал
A20: 1 | B20: ф4 | C20: 253 | D20: АЛЕКСЕЕВА | E20: Екатерина | F20: 22.05.1998 | G20: МС | H20: Московская область Ставропольский край | J20: РЦСП, ДЮСШ Ессентуки, ГБУ МО "ЦСП ОВС" | K20: 2.10,03 | L20: Q | M20: 2.08,86 | N20: =IF(OR(M20="",M20="dns",M20="dnf",M20="dq"),K20,IF(M20>K20,K20,M20)) -> 2.08,86 | O20: =IF(OR(K20="",K20="н/я",K20="сошёл",K20="сошла",EXACT("дискв", LEFT(K20,5))),"",LOOKUP(K20,$V$1:$IU$1,$V$2:$IU$2)) -> кмс | P20: 20 | Q20: Лемзин В.И.
A21: 2 | B21: ф6 | C21: 197 | D21: КРИКУН | E21: Наталья | F21: 24.06.1999 | G21: КМС | H21: Омская область | J21: БУ ОО "СШОР", СибГУОР, БУ ОО ООЦСП | K21: 2.10,20 | L21: Q | M21: 2.10,07 | N21: =IF(OR(M21="",M21="dns",M21="dnf",M21="dq"),K21,IF(M21>K21,K21,M21)) -> 2.10,07 | O21: =IF(OR(K21="",K21="н/я",K21="сошёл",K21="сошла",EXACT("дискв", LEFT(K21,5))),"",LOOKUP(K21,$V$1:$IU$1,$V$2:$IU$2)) -> кмс | P21: 17 | Q21: Новошинская А.Г.
A22: 3 | B22: ф8 | C22: 33 | D22: ТОЛМАЧЁВА | E22: Екатерина | F22: 13.11.1997 | G22: КМС | H22: Мурманская область | J22: ЦСП, СШОР-4 | K22: 2.10,22 | L22: Q | M22: 2.10,63 | N22: =IF(OR(M22="",M22="dns",M22="dnf",M22="dq"),K22,IF(M22>K22,K22,M22)) -> 2.10,22 | O22: =IF(OR(K22="",K22="н/я",K22="сошёл",K22="сошла",EXACT("дискв", LEFT(K22,5))),"",LOOKUP(K22,$V$1:$IU$1,$V$2:$IU$2)) -> кмс | P22: 15 | Q22: Кацан Т.Н.
A23: 4 | B23: ф2 | C23: 52 | D23: КОЛЕНТЕЕВА | E23: Кристина | F23: 23.07.1998 | G23: КМС | H23: Тюменская область | J23: ЦСП 72, ДЮСШ Ишим | K23: 2.09,91 | L23: Q | M23: 2.10,72 | N23: =IF(OR(M23="",M23="dns",M23="dnf",M23="dq"),K23,IF(M23>K23,K23,M23)) -> 2.09,91 | O23: =IF(OR(K23="",K23="н/я",K23="сошёл",K23="сошла",EXACT("дискв", LEFT(K23,5))),"",LOOKUP(K23,$V$1:$IU$1,$V$2:$IU$2)) -> кмс | P23: 14 | Q23: Краус А.А., Сивченко А.В., Скаморовский О.А.
A24: 5 | B24: ф5 | C24: 267 | D24: ЦЫГАНОВА | E24: Елизавета | F24: 10.10.1997 | G24: КМС | H24: Московская область | J24: ГБУ МО "ЦСП ОВС", ГБУ МО "СШОР", СШОР "Авангард" | K24: 2.10,10 | L24: Q | M24: 2.11,13 | N24: =IF(OR(M24="",M24="dns",M24="dnf",M24="dq"),K24,IF(M24>K24,K24,M24)) -> 2.10,10 | O24: =IF(OR(K24="",K24="н/я",K24="сошёл",K24="сошла",EXACT("дискв", LEFT(K24,5))),"",LOOKUP(K24,$V$1:$IU$1,$V$2:$IU$2)) -> кмс | P24: 13 | Q24: Белоусов А.О., Сычаев М.М., Сударева Н.И.
A25: 6 | B25: ф1 | C25: 214 | D25: ГУЩЕНЕЦ | E25: Ирина | F25: 23.10.2000 | G25: КМС | H25: Иркутская область | J25: СШОР ШВСМ, ГУОР | K25: 2.09,44 | L25: Q | M25: 2.11,49 | N25: =IF(OR(M25="",M25="dns",M25="dnf",M25="dq"),K25,IF(M25>K25,K25,M25)) -> 2.09,44 | O25: =IF(OR(K25="",K25="н/я",K25="сошёл",K25="сошла",EXACT("дискв", LEFT(K25,5))),"",LOOKUP(K25,$V$1:$IU$1,$V$2:$IU$2)) -> кмс | P25: 12 | Q25: Шкурбицкий В.Л., Болсун Е.И., Николаенко А.В.
A26: 7 | B26: ф7 | C26: 459 | D26: ЛУНЕВА | E26: Элина | F26: 29.01.1997 | G26: КМС | H26: Челябинская область | J26: СШОР Мосеева | K26: 2.10,22 | L26: Q | M26: 2.13,16 | N26: =IF(OR(M26="",M26="dns",M26="dnf",M26="dq"),K26,IF(M26>K26,K26,M26)) -> 2.10,22 | O26: =IF(OR(K26="",K26="н/я",K26="сошёл",K26="сошла",EXACT("дискв", LEFT(K26,5))),"",LOOKUP(K26,$V$1:$IU$1,$V$2:$IU$2)) -> кмс | P26: 11 | Q26: Князев С.А., Гаврикова Г.В., Гавриков С.А.
A27: 8 | B27: ф3 | C27: 391 | D27: САМУЙЛОВА | E27: Екатерина | F27: 05.11.1999 | G27: КМС | H27: Москва Тверская область | J27: ГБУ "ЦСП по легкой атлетике", МУДО "КС СДЮСШОР № 1№ г. Ржева | K27: 2.09,99 | L27: Q | M27: 2.14,89 | N27: =IF(OR(M27="",M27="dns",M27="dnf",M27="dq"),K27,IF(M27>K27,K27,M27)) -> 2.09,99 | O27: =IF(OR(K27="",K27="н/я",K27="сошёл",K27="сошла",EXACT("дискв", LEFT(K27,5))),"",LOOKUP(K27,$V$1:$IU$1,$V$2:$IU$2)) -> кмс | P27: лич/10 | Q27: Фролова Т.С., Комолов В.А.
A28: 9 | C28: 217 | D28: СУДОС | E28: Анастасия | F28: 01.04.1997 | G28: КМС | H28: Иркутская область | J28: СШ "Юный динамовец" | K28: 2.10,34 | N28: =IF(OR(M28="",M28="dns",M28="dnf",M28="dq"),K28,IF(M28>K28,K28,M28)) -> 2.10,34 | O28: =IF(OR(K28="",K28="н/я",K28="сошёл",K28="сошла",EXACT("дискв", LEFT(K28,5))),"",LOOKUP(K28,$V$1:$IU$1,$V$2:$IU$2)) -> кмс | P28: 9 | Q28: Лузгин А.Ю.
A29: 10 | C29: 26 | D29: ТРУБИНА | E29: Екатерина | F29: 08.07.1997 | G29: КМС | H29: Самарская область | J29: СШОР № 2 г. Самара, Самарский университет | K29: 2.10,84 | N29: =IF(OR(M29="",M29="dns",M29="dnf",M29="dq"),K29,IF(M29>K29,K29,M29)) -> 2.10,84 | O29: =LOOKUP(N20,$S$1:$AK$1,$S$2:$AK$2) -> кмс | P29: 8 | Q29: Зайцев И.С., Андронов Ю.В.
A30: 11 | C30: 271 | D30: ЗИМИНА | E30: Дарья | F30: 05.10.1999 | G30: КМС | H30: Московская область Курская область | J30: ГБУ МО "СШОР", ГБУ МО "ЦСП ОВС" | K30: 2.11,30 | N30: =IF(OR(M30="",M30="dns",M30="dnf",M30="dq"),K30,IF(M30>K30,K30,M30)) -> 2.11,30 | O30: =LOOKUP(N21,$S$1:$AK$1,$S$2:$AK$2) -> кмс | P30: лич | Q30: Белоусов А.О., Пауков А.В.
A31: 12 | C31: 272 | D31: ИЗОТОВА | E31: Марина | F31: 15.03.2001 | G31: КМС | H31: Московская область | J31: СК "Альтаир", УОР №1 | K31: 2.11,38 | N31: =IF(OR(M31="",M31="dns",M31="dnf",M31="dq"),K31,IF(M31>K31,K31,M31)) -> 2.11,38 | O31: =LOOKUP(N22,$S$1:$AK$1,$S$2:$AK$2) -> кмс | P31: лич | Q31: Сударева Н.И., Попков Е.Н.
A32: 13 | C32: 165 | D32: РУДАКОВА | E32: Екатерина | F32: 20.03.2001 | G32: КМС | H32: Санкт-Петербург | J32: СШ Красногвардейского района ( Санкт-Петербург) | K32: 2.11,50 | N32: =IF(OR(M32="",M32="dns",M32="dnf",M32="dq"),K32,IF(M32>K32,K32,M32)) -> 2.11,50 | O32: =LOOKUP(N23,$S$1:$AK$1,$S$2:$AK$2) -> кмс | P32: лич | Q32: Волкова И.В., Волков А.А.
A33: 14 | C33: 252 | D33: АГЕЙЧЕНКОВА | E33: Елена | F33: 03.04.1999 | G33: КМС | H33: Московская область Брянская область | J33: БГУОР, БО СШОР по легкой атлетике им.В.Д.Самотесова, ГБУ МО "СШОР", ГБУ МО "ЦСП ОВС" | K33: 2.11,79 | N33: =IF(OR(M33="",M33="dns",M33="dnf",M33="dq"),K33,IF(M33>K33,K33,M33)) -> 2.11,79 | O33: =LOOKUP(N24,$S$1:$AK$1,$S$2:$AK$2) -> кмс | P33: 7 | Q33: Белова С.И., Белова Е.А., Шармин Е.А.
A34: 15 | C34: 464 | D34: СИМОНОВА | E34: Александра | F34: 17.12.1998 | G34: КМС | H34: Челябинская область | J34: СШОР Миасс | K34: 2.11,90 | N34: =IF(OR(M34="",M34="dns",M34="dnf",M34="dq"),K34,IF(M34>K34,K34,M34)) -> 2.11,90 | O34: =LOOKUP(N25,$S$1:$AK$1,$S$2:$AK$2) -> кмс | P34: 6 | Q34: Ромжаев А.И., Кирасирова О.Ю.
A35: 16 | C35: 250 | D35: ЧЕРНЫХ | E35: Арина | F35: 05.10.1998 | G35: КМС | H35: Приморский край | J35: ШВСМ, ДВФУ | K35: 2.11,98 | N35: =IF(OR(M35="",M35="dns",M35="dnf",M35="dq"),K35,IF(M35>K35,K35,M35)) -> 2.11,98 | O35: =LOOKUP(N26,$S$1:$AK$1,$S$2:$AK$2) -> кмс | P35: 5 | Q35: Анисимов ВН
A36: 17 | C36: 496 | D36: ЗАВАРЗИНА | E36: Анжелика | F36: 19.07.1998 | G36: КМС | H36: Волгоградская область | J36: СШОР | K36: 2.12,10 | N36: =IF(OR(M36="",M36="dns",M36="dnf",M36="dq"),K36,IF(M36>K36,K36,M36)) -> 2.12,10 | O36: =LOOKUP(N27,$S$1:$AK$1,$S$2:$AK$2) -> кмс | P36: 4 | Q36: Типаев В.Н., Кайдалин В.С.
A37: 18 | C37: 229 | D37: ЗЫРЯНОВА | E37: Ксения | F37: 30.01.1998 | G37: КМС | H37: Пермский край | J37: г.Пермь СДЮСШОР 1, Динамо, ГКАУ ЦСП ПЕРМСКОГО КРАЯ | K37: 2.12,11 | N37: =IF(OR(M37="",M37="dns",M37="dnf",M37="dq"),K37,IF(M37>K37,K37,M37)) -> 2.12,11 | O37: =LOOKUP(N28,$S$1:$AK$1,$S$2:$AK$2) -> кмс | P37: 3 | Q37: Суворов Н.В., Суворова Т.Н.
A38: 19 | C38: 225 | D38: БЛОХИНА | E38: Екатерина | F38: 28.03.1997 | G38: КМС | H38: Омская область | J38: БУ ОО "СШОР", СибГУФК | K38: 2.12,13 | N38: =IF(OR(M38="",M38="dns",M38="dnf",M38="dq"),K38,IF(M38>K38,K38,M38)) -> 2.12,13 | O38: =LOOKUP(N29,$S$1:$AK$1,$S$2:$AK$2) -> кмс | P38: 2 | Q38: Новошинская А.Г.
A39: 20 | C39: 428 | D39: ТИХОНОВА | E39: Дарья | F39: 15.08.1998 | G39: КМС | H39: Москва | J39: ГБУ ФСО "ЮМ" СШОР им.бр. Знаменских | K39: 2.12,36 | N39: =IF(OR(M39="",M39="dns",M39="dnf",M39="dq"),K39,IF(M39>K39,K39,M39)) -> 2.12,36 | O39: =LOOKUP(N30,$S$1:$AK$1,$S$2:$AK$2) -> кмс | P39: лич | Q39: Васяткин А.В., Васяткин В.П.
A40: 21 | C40: 270 | D40: ЖУКОВА | E40: Полина | F40: 06.08.1998 | G40: КМС | H40: Московская область Санкт-Петербург | J40: ГБУ МО "СШОР по л/а" | K40: 2.12,38 | N40: =IF(OR(M40="",M40="dns",M40="dnf",M40="dq"),K40,IF(M40>K40,K40,M40)) -> 2.12,38 | O40: =LOOKUP(N31,$S$1:$AK$1,$S$2:$AK$2) -> кмс | P40: лич | Q40: Морозов В.И., Белоусов А.О.
A41: 22 | C41: 408 | D41: БУРЕЕВА | E41: Олеся | F41: 05.07.1998 | G41: КМС | H41: Воронежская область | J41: СШОР-21 | K41: 2.12,91 | N41: =IF(OR(M41="",M41="dns",M41="dnf",M41="dq"),K41,IF(M41>K41,K41,M41)) -> 2.12,91 | O41: =LOOKUP(N32,$S$1:$AK$1,$S$2:$AK$2) -> кмс | P41: 1 | Q41: Омельченко Д.А., Бабкин А.П., Демиденкова Г.А.
A42: 23 | C42: 448 | D42: ШАЛИМОВА | E42: Анастасия | F42: 21.05.1998 | G42: КМС | H42: Орловская область | J42: СШОР "Олимп" | K42: 2.13,10 | N42: =IF(OR(M42="",M42="dns",M42="dnf",M42="dq"),K42,IF(M42>K42,K42,M42)) -> 2.13,10 | O42: =LOOKUP(N33,$S$1:$AK$1,$S$2:$AK$2) -> кмс | P42: 1 | Q42: Комаров А.И.
A43: 24 | C43: 191 | D43: РУХЛЯДЕВА | E43: Мария | F43: 27.11.1999 | G43: 1 | H43: Свердловская область | K43: 2.13,12 | N43: =IF(OR(M43="",M43="dns",M43="dnf",M43="dq"),K43,IF(M43>K43,K43,M43)) -> 2.13,12 | O43: =LOOKUP(N34,$S$1:$AK$1,$S$2:$AK$2) -> кмс | P43: лич
A44: 25 | C44: 173 | D44: СОЛОМЕИНА | E44: Полина | F44: 04.09.2000 | G44: КМС | H44: Санкт-Петербург | J44: СПб ГБУ СШОР "Академия легкой атлетики Санкт-Петербурга" | K44: 2.13,66 | N44: =IF(OR(M44="",M44="dns",M44="dnf",M44="dq"),K44,IF(M44>K44,K44,M44)) -> 2.13,66 | O44: =LOOKUP(N35,$S$1:$AK$1,$S$2:$AK$2) -> кмс | P44: лич | Q44: Глушак П.Б., Глушак Н.М.
A45: 26 | C45: 186 | D45: ШКАЛЕНКОВА | E45: Кристина | F45: 17.01.2001 | G45: КМС | H45: Санкт-Петербург | J45: ГБУ СШОР №2 Московского района Санкт-Петербург | K45: 2.15,55 | N45: =IF(OR(M45="",M45="dns",M45="dnf",M45="dq"),K45,IF(M45>K45,K45,M45)) -> 2.15,55 | O45: =LOOKUP(N36,$S$1:$AK$1,$S$2:$AK$2) -> кмс | P45: лич | Q45: Лотова Э.В., Харитонов С.В.
A46: 27 | C46: 278 | D46: ПАХОМОВА | E46: Кристина | F46: 20.11.1999 | G46: КМС | H46: Московская область Курская область | J46: СШОР Железногорск, УОР 1 | K46: 2.15,76 | N46: =IF(OR(M46="",M46="dns",M46="dnf",M46="dq"),K46,IF(M46>K46,K46,M46)) -> 2.15,76 | O46: =LOOKUP(N37,$S$1:$AK$1,$S$2:$AK$2) -> кмс | P46: лич/1 | Q46: Тихонов А.В., Тихонова М.С., Сударева Н.И.
A47: 28 | C47: 114 | D47: ВОСТРИКОВА | E47: Ирина | F47: 04.08.1999 | G47: КМС | H47: Санкт-Петербург | J47: СПб ГБУ СШОР "Академия легкой атлетики Санкт-Петербурга", СПб ГБПОУ "УОР № 1 | K47: 2.16,23 | N47: =IF(OR(M47="",M47="dns",M47="dnf",M47="dq"),K47,IF(M47>K47,K47,M47)) -> 2.16,23 | O47: =LOOKUP(N38,$S$1:$AK$1,$S$2:$AK$2) -> кмс | P47: лич | Q47: Сафонова Н.В., Сафонов И.Н.
A48: 29 | C48: 511 | D48: САИТОВА | E48: Алина | F48: 13.12.1999 | G48: 1 | H48: Республика Башкортостан | J48: СШОР 21 | K48: 2.16,77 | N48: =IF(OR(M48="",M48="dns",M48="dnf",M48="dq"),K48,IF(M48>K48,K48,M48)) -> 2.16,77 | O48: =LOOKUP(N39,$S$1:$AK$1,$S$2:$AK$2) -> кмс | P48: 1 | Q48: Яковлева Е.Ш., Алексеев Г.И.
A49: 30 | C49: 512 | D49: САНКИНА | E49: Анастасия | F49: 14.05.1998 | G49: 1 | H49: Республика Башкортостан | J49: Стадион им.Гастелло | K49: 2.17,92 | N49: =IF(OR(M49="",M49="dns",M49="dnf",M49="dq"),K49,IF(M49>K49,K49,M49)) -> 2.17,92 | O49: I | P49: 1 | Q49: Иванова В.С.
A50: 31 | C50: 226 | D50: КУПРИЕНКО | E50: Анастасия | F50: 26.01.1999 | G50: 1 | H50: Омская область | J50: Калачинский район | K50: 2.18,45 | N50: =IF(OR(M50="",M50="dns",M50="dnf",M50="dq"),K50,IF(M50>K50,K50,M50)) -> 2.18,45 | O50: I | P50: лич
D57: Главный судья соревнований | K57: Уйк А.Г. /СПб, ССВк/
D59: Главный секретарь соревнований | K59: Алексеева О.К. /СПб, ССВк/

Sheet 3000Д
K1: МИНИСТЕРСТВО СПОРТА РОССИЙСКОЙ ФЕДЕРАЦИИ | S1: 84520 | T1: 85424 | U1: 85424.1 | V1: 91724 | W1: 91724.1 | X1: 100024 | Y1: 100024.1 | Z1: 104724 | AA1: 104724.1 | AB1: 114224 | AC1: 114224.1 | AD1: 124724 | AE1: 124724.1 | AF1: 135224 | AG1: 135224.1 | AH1: 145724 | AI1: 145724.1 | AJ1: 161224 | AK1: 161224.1
K2: ВСЕРОССИЙСКАЯ ФЕДЕРАЦИЯ ЛЕГКОЙ АТЛЕТИКИ | S2: мсмк | T2: мсмк | U2: мс | V2: мс | W2: кмс | X2: кмс | Y2: I | Z2: I | AA2: II | AB2: II | AC2: III | AD2: III | AE2: 1юн | AF2: 1юн | AG2: 2юн | AH2: 2юн | AI2: 3юн | AJ2: 3юн | AK2: б/р
K3: КОМИТЕТ ПО ФИЗИЧЕСКОЙ КУЛЬТУРЕ И СПОРТУ САНКТ-ПЕТЕРБУРГА
K4: СПОРТИВНАЯ ФЕДЕРАЦИЯ ЛЕГКОЙ АТЛЕТИКИ САНКТ-ПЕТЕРБУРГА | S4: 8.45,20 | T4: 8.54,24 | U4: 8.54,241 | V4: 9.17,24 | W4: 9.17,241 | X4: 10.00,24 | Y4: 10.00,241 | Z4: 10.47,24 | AA4: 10.47,241 | AB4: 11.42,24 | AC4: 11.42,241 | AD4: 12.47,24 | AE4: 12.47,241 | AF4: 13.52,24 | AG4: 13.52,241 | AH4: 14.57,24 | AI4: 14.57,241 | AJ4: 16.12,24 | AK4: 16.12,241
S5: мсмк | T5: мсмк | U5: мс | V5: мс | W5: кмс | X5: кмс | Y5: I | Z5: I | AA5: II | AB5: II | AC5: III | AD5: III | AE5: 1юн | AF5: 1юн | AG5: 2юн | AH5: 2юн | AI5: 3юн | AJ5: 3юн | AK5: б/р
K6: Первенство России по легкой атлетике
K7: (среди юниоров и юниорок до 23 лет) в помещении
D8: 8.23,74 | E8: ВД Мира 23
D9: 8.39,79 | E9: ВД Европы 23 | K9: ИТОГОВЫЙ ПРОТОКОЛ
D10: 8.52,12 | E10: Рекорд России 23
K11: ЮНИОРКИ
D13: Санкт-Петербург, Легкоатлетический манеж | Q13: 19 февраля 2019 г.
D15: Место | E15: Номер | F15: Фамилия | G15: Имя | H15: Дата рожд | I15: Разр. | J15: Территория | L15: Организация | M15: Результат | O15: Разряд | P15: Очки | Q15: Тренер
F17: 19 февраля 2019 г. | J17: Финальные забеги 18:30 - 18:45 | Q17: Бег 3000 м
D19: 1 | E19: 157 | F19: ПАВЛЕНКО | G19: Любовь | H19: 35689 | I19: КМС | J19: Санкт-Петербург-1 Тамбовская область | L19: ЦОП "ШВСМ л/атл." (СПб), ТОГАУ "Спортивная школа "Мичуринский центр подготовки спортивного резерва" | M19: 9.32,85 | N19: =VALUE(SUBSTITUTE(SUBSTITUTE(M19,".",""),",","")) -> 93285 | O19: =IF(OR(N19="",N19="н/я",N19="сошёл",N19="сошла",EXACT("дискв", LEFT(N19,5))),"",LOOKUP(N19,$S$1:$AK$1,$S$2:$AK$2)) -> кмс | P19: 20 | Q19: Алексеева Н.А., Мироненко В.И.
D20: 2 | E20: 263 | F20: ПАУШКИНА | G20: Елена | H20: 36107 | I20: КМС | J20: Московская область Хабаровский край | L20: ДЮСШ №4, ГБУ МО "ЦОВС", СДЮШОР №4 | M20: 9.33,03 | N20: =VALUE(SUBSTITUTE(SUBSTITUTE(M20,".",""),",","")) -> 93303 | O20: =IF(OR(N20="",N20="н/я",N20="сошёл",N20="сошла",EXACT("дискв", LEFT(N20,5))),"",LOOKUP(N20,$S$1:$AK$1,$S$2:$AK$2)) -> кмс | P20: 17 | Q20: Цыганова Н.П., Божко В.А., Гроза В.Л.
D21: 3 | E21: 7 | F21: КСЕНОФОНТОВА | G21: Анна | H21: 36124 | I21: КМС | J21: Республика Бурятия | L21: СШОР №1, ЦСП РБ | M21: 9.34,03 | N21: =VALUE(SUBSTITUTE(SUBSTITUTE(M21,".",""),",","")) -> 93403 | O21: =IF(OR(N21="",N21="н/я",N21="сошёл",N21="сошла",EXACT("дискв", LEFT(N21,5))),"",LOOKUP(N21,$S$1:$AK$1,$S$2:$AK$2)) -> кмс | P21: 15 | Q21: Спиридонов Е.С.
D22: 4 | E22: 376 | F22: БЕСПАЛОВА | G22: Екатерина | H22: 35755 | I22: КМС | J22: Москва Смоленская область | L22: ГБУ "ЦСП по легкой атлетике", ЦСП (Смоленская область) | M22: 9.35,66 | N22: =VALUE(SUBSTITUTE(SUBSTITUTE(M22,".",""),",","")) -> 93566 | O22: =IF(OR(N22="",N22="н/я",N22="сошёл",N22="сошла",EXACT("дискв", LEFT(N22,5))),"",LOOKUP(N22,$S$1:$AK$1,$S$2:$AK$2)) -> кмс | P22: лич/14 | Q22: Осипов С.А., Кругликов Н.И.
D23: 5 | E23: 506 | F23: ГАДЕЛЬШИНА | G23: Альбина | H23: 36005 | I23: КМС | J23: Республика Башкортостан | L23: МБУ "СШОР № 21" ГО г. Уфа | M23: 9.38,34 | N23: =VALUE(SUBSTITUTE(SUBSTITUTE(M23,".",""),",","")) -> 93834 | O23: =IF(OR(N23="",N23="н/я",N23="сошёл",N23="сошла",EXACT("дискв", LEFT(N23,5))),"",LOOKUP(N23,$S$1:$AK$1,$S$2:$AK$2)) -> кмс | P23: 13 | Q23: Ополева С.Ю., Хисамов И.Н., Арефьев В.С.
D24: 6 | E24: 370 | F24: ЮМИНОВА | G24: Елизавета | H24: 36508 | I24: КМС | J24: Москва-2 | L24: МССУОР No 1 | M24: 9.47,54 | N24: =VALUE(SUBSTITUTE(SUBSTITUTE(M24,".",""),",","")) -> 94754 | O24: =IF(OR(N24="",N24="н/я",N24="сошёл",N24="сошла",EXACT("дискв", LEFT(N24,5))),"",LOOKUP(N24,$S$1:$AK$1,$S$2:$AK$2)) -> кмс | P24: 12 | Q24: Фролова Т.С., Жуйков В.Л., Фролов Н.А.
D25: 7 | E25: 394 | F25: АЛГАЕВА | G25: Алина | H25: 36208 | I25: КМС | J25: Республика Татарстан | L25: УОР | M25: 9.57,70 | N25: =VALUE(SUBSTITUTE(SUBSTITUTE(M25,".",""),",","")) -> 95770 | O25: =IF(OR(N25="",N25="н/я",N25="сошёл",N25="сошла",EXACT("дискв", LEFT(N25,5))),"",LOOKUP(N25,$S$1:$AK$1,$S$2:$AK$2)) -> кмс | P25: 11 | Q25: Павлов И.Л.
D26: 8 | E26: 48 | F26: ЛИХАЧЕВА | G26: Юлия | H26: 36033 | I26: МС | J26: Красноярский край | L26: Академия летних видов спорта, СШОР"Спутник" | M26: 9.58,39 | N26: =VALUE(SUBSTITUTE(SUBSTITUTE(M26,".",""),",","")) -> 95839 | O26: =IF(OR(N26="",N26="н/я",N26="сошёл",N26="сошла",EXACT("дискв", LEFT(N26,5))),"",LOOKUP(N26,$S$1:$AK$1,$S$2:$AK$2)) -> кмс | P26: 10 | Q26: Ромащенко А.А., Вашкевич И.Е., Чалый Ю.В.
D27: 9 | E27: 327 | F27: ТАРАКАНОВА | G27: Полина | H27: 36341 | I27: КМС | J27: Московская область Ярославская область | L27: ГУОР г. Щелково, МУ СШОР № 19 | M27: 9.59,06 | N27: =VALUE(SUBSTITUTE(SUBSTITUTE(M27,".",""),",","")) -> 95906 | O27: =IF(OR(N27="",N27="н/я",N27="сошёл",N27="сошла",EXACT("дискв", LEFT(N27,5))),"",LOOKUP(N27,$S$1:$AK$1,$S$2:$AK$2)) -> кмс | P27: 9 | Q27: Тараканова Ю.Ф., Тараканов А.В., Гойшик Т.Г., Симаков К.С.
D28: 10 | E28: 453 | F28: ЖИВОТКО | G28: Анастасия | H28: 35847 | I28: КМС | J28: Челябинская область | L28: СШОР Мосеева | M28: 10.00,57 | N28: =VALUE(SUBSTITUTE(SUBSTITUTE(M28,".",""),",","")) -> 100057 | O28: =IF(OR(N28="",N28="н/я",N28="сошёл",N28="сошла",EXACT("дискв", LEFT(N28,5))),"",LOOKUP(N28,$S$1:$AK$1,$S$2:$AK$2)) -> I | P28: лич | Q28: Колпаков В.Л., Блажко Д.П.
D29: 11 | E29: 507 | F29: ГИБАДУЛЛИНА | G29: Альфия | H29: 35850 | I29: КМС | J29: Республика Башкортостан | L29: СШОР№21 | M29: 10.05,28 | N29: =VALUE(SUBSTITUTE(SUBSTITUTE(M29,".",""),",","")) -> 100528 | O29: =IF(OR(N29="",N29="н/я",N29="сошёл",N29="сошла",EXACT("дискв", LEFT(N29,5))),"",LOOKUP(N29,$S$1:$AK$1,$S$2:$AK$2)) -> I | P29: 8 | Q29: Алексеев Г.И.
D30: 12 | E30: 183 | F30: ШИЛИНА | G30: Алиса | H30: 35913 | I30: КМС | J30: Санкт-Петербург-1 | L30: СПб ГБУ СШОР "Академия легкой атлетики Санкт-Петербурга" | M30: 10.13,30 | N30: =VALUE(SUBSTITUTE(SUBSTITUTE(M30,".",""),",","")) -> 101330 | O30: =IF(OR(N30="",N30="н/я",N30="сошёл",N30="сошла",EXACT("дискв", LEFT(N30,5))),"",LOOKUP(N30,$S$1:$AK$1,$S$2:$AK$2)) -> I | P30: 7 | Q30: Виленский Е.А.
O31: =IF(OR(M31="",M31="н/я",M31="сошёл",M31="сошла",EXACT("дискв", LEFT(M31,5))),"",LOOKUP(M31,$S$1:$AL$1,$S$2:$AL$2))
F34: Главный судья соревнований | M34: Уйк А.Г. /СПб, ССВк/
F36: Главный секретарь соревнований | M36: Алексеева О.К. /СПб, ССВк/
O37: =IF(OR(M37="",M37="н/я",M37="сошёл",M37="сошла",EXACT("дискв", LEFT(M37,5))),"",LOOKUP(M37,$S$1:$AL$1,$S$2:$AL$2))
O38: =IF(OR(M38="",M38="н/я",M38="сошёл",M38="сошла",EXACT("дискв", LEFT(M38,5))),"",LOOKUP(M38,$S$1:$AL$1,$S$2:$AL$2))

Sheet 60сбД
K1: МИНИСТЕРСТВО СПОРТА РОССИЙСКОЙ ФЕДЕРАЦИИ | V1: 7.5 | W1: 8.12 | X1: 8.121 | Y1: 8.54 | Z1: 8.541 | AA1: 9.04 | AB1: 9.041 | AC1: 9.64 | AD1: 9.641 | AE1: 10.34 | AF1: 10.341 | AG1: 11.14 | AH1: 11.141 | AI1: - | AJ1: - | AK1: - | AL1: -
K2: ВСЕРОССИЙСКАЯ ФЕДЕРАЦИЯ ЛЕГКОЙ АТЛЕТИКИ | V2: мсмк | W2: мсмк | X2: мс | Y2: мс | Z2: кмс | AA2: кмс | AB2: I | AC2: I | AD2: II | AE2: II | AF2: III | AG2: III | AH2: 1юн | AI2: б/р | AJ2: б/р | AK2: б/р | AL2: б/р | AM2: б/р | AN2: б/р
K3: КОМИТЕТ ПО ФИЗИЧЕСКОЙ КУЛЬТУРЕ И СПОРТУ САНКТ-ПЕТЕРБУРГА
K4: СПОРТИВНАЯ ФЕДЕРАЦИЯ ЛЕГКОЙ АТЛЕТИКИ САНКТ-ПЕТЕРБУРГА
K6: Первенство России по легкой атлетике
K7: (среди юниоров и юниорок до 23 лет) в помещении
A8: 7.77 | D8: ВД Мира 23
A9: 7.77 | D9: ВД Европы 23 | K9: ИТОГОВЫЙ ПРОТОКОЛ
A10: 7.91 | D10: Рекорд России 23
K11: ЮНИОРКИ
A13: Санкт-Петербург, Легкоатлетический манеж | T13: 19 февраля 2019 г.
A15: Место | B15: пф | C15: ф | D15: Номер | E15: Фамилия | F15: Имя | G15: Дата рожд | H15: Разр. | I15: Территория | K15: Организация | L15: Результаты | R15: Разряд | S15: Очки | T15: Тренер
L16: забеги | M16: Q | N16: п/фин | O16: Q | P16: финал
E18: 19 февраля 2019 г. | G18: Забеги 10:40 - 10:55 Полуфиналы 16:20-16:25 Финал 18:20 - 18:25 | T18: Бег с барьерами 60 м (0,84 м)
A20: 1 | B20: пф1 | C20: ф4 | D20: 83 | E20: ЧЕРВИНСКАЯ | F20: Вероника | G20: 35974 | H20: МС | I20: Краснодарский край | K20: ГБУ КК "РЦСП по л/а" | L20: 8.41 | M20: Q | N20: 8.3 | O20: Q | P20: 8.3 | Q20: =MIN(L20,N20,P20) -> 8.3 | R20: =IF(OR(Q20="",Q20="н/я",Q20="сошёл",Q20="сошла",EXACT("дискв", LEFT(Q20,5))),"",LOOKUP(Q20,$V$1:$AO$1,$V$2:$AO$2)) -> мс | S20: 25 | T20: Дементьев С.Б., Глебов В.Д., Дементьева Т.В.
A21: 2 | B21: пф2 | C21: ф5 | D21: 299 | E21: ПЕЧЁНКИНА | F21: Вероника | G21: 35673 | H21: МС | I21: Новосибирская область | K21: РЦСП СКиСР | L21: 8.47 | M21: Q | N21: 8.4 | O21: Q | P21: 8.38 | Q21: =MIN(L21,N21,P21) -> 8.38 | R21: =IF(OR(Q21="",Q21="н/я",Q21="сошёл",Q21="сошла",EXACT("дискв", LEFT(Q21,5))),"",LOOKUP(Q21,$V$1:$AO$1,$V$2:$AO$2)) -> мс | S21: 22 | T21: Печёнкин Г.В.
A22: 3 | B22: пф5 | C22: ф6 | D22: 185 | E22: ШИШКИНА | F22: Дарья | G22: 36273 | H22: КМС | I22: Санкт-Петербург-1 Республика Карелия | K22: МУ "СШОР№3", ЦОП "ШВСМ л/атл." (СПб) | L22: 8.54 | M22: Q | N22: 8.55 | O22: Q | P22: 8.44 | Q22: =MIN(L22,N22,P22) -> 8.44 | R22: =IF(OR(Q22="",Q22="н/я",Q22="сошёл",Q22="сошла",EXACT("дискв", LEFT(Q22,5))),"",LOOKUP(Q22,$V$1:$AO$1,$V$2:$AO$2)) -> мс | S22: 20 | T22: Воробьев С.А., Кишкин А.Ю., Климов А.Г.
A23: 4 | B23: пф9 | C23: ф2 | D23: 374 | E23: ГРАУДЫНЬ | F23: Полина | G23: 35963 | H23: КМС | I23: Москва | K23: СШОР Юность Москвы по л/а им.бр.Знаменских | L23: 8.68 | M23: q | N23: 8.65 | O23: q | P23: 8.51 | Q23: =MIN(L23,N23,P23) -> 8.51 | R23: =IF(OR(Q23="",Q23="н/я",Q23="сошёл",Q23="сошла",EXACT("дискв", LEFT(Q23,5))),"",LOOKUP(Q23,$V$1:$AO$1,$V$2:$AO$2)) -> мс | S23: лич | T23: Граудынь В.В., Палеха С.Н.
A24: 5 | B24: пф3 | C24: ф3 | D24: 254 | E24: БОЛДЫРЕВА | F24: Ирина | G24: 37020 | H24: КМС | I24: Московская область | K24: ГУОР, ГБУ МО "СШОР", ГБУ МО "ЦСП ОВС" | L24: 8.66 | M24: Q | N24: 8.55 | O24: Q | P24: 8.54 | Q24: =MIN(L24,N24,P24) -> 8.54 | R24: =IF(OR(Q24="",Q24="н/я",Q24="сошёл",Q24="сошла",EXACT("дискв", LEFT(Q24,5))),"",LOOKUP(Q24,$V$1:$AO$1,$V$2:$AO$2)) -> мс | S24: 19 | T24: Горлов В.А., Лапина С.М.
A25: 6 | B25: пф4 | C25: ф7 | D25: 456 | E25: КЛЕЩЕВА | F25: Кристина | G25: 36245 | H25: МС | I25: Челябинская область | K25: СШОР Елесиной | L25: 8.69 | M25: Q | N25: 8.64 | O25: Q | P25: 8.66 | Q25: =MIN(L25,N25,P25) -> 8.64 | R25: =IF(OR(Q25="",Q25="н/я",Q25="сошёл",Q25="сошла",EXACT("дискв", LEFT(Q25,5))),"",LOOKUP(Q25,$V$1:$AO$1,$V$2:$AO$2)) -> кмс | S25: 13 | T25: Ермолаев С.В., Гангало Н.Н.
A26: 7 | B26: пф6 | C26: ф8 | D26: 452 | E26: ЕФИМЕНКО | F26: Кристина | G26: 35853 | H26: КМС | I26: Челябинская область | K26: СШОР Елесиной | L26: 8.65 | M26: Q | N26: 8.68 | O26: Q | P26: 8.69 | Q26: =MIN(L26,N26,P26) -> 8.65 | R26: =IF(OR(Q26="",Q26="н/я",Q26="сошёл",Q26="сошла",EXACT("дискв", LEFT(Q26,5))),"",LOOKUP(Q26,$V$1:$AO$1,$V$2:$AO$2)) -> кмс | S26: 12 | T26: Ермолаев С.В., Береглазов В.Н.
A27: 7 | B27: пф8 | C27: ф1 | D27: 396 | E27: СЕРОВА | F27: Ульяна | G27: 36139 | H27: КМС | I27: Республика Татарстан | K27: ПГАФКСИТ, СШОР АТЛЕТИКА | L27: 8.79 | M27: Q | N27: 8.76 | O27: q | P27: 8.69 | Q27: =MIN(L27,N27,P27) -> 8.69 | R27: =IF(OR(Q27="",Q27="н/я",Q27="сошёл",Q27="сошла",EXACT("дискв", LEFT(Q27,5))),"",LOOKUP(Q27,$V$1:$AO$1,$V$2:$AO$2)) -> кмс | S27: 12 | T27: Миннеханова Р.Р., Барышников А.С.
A28: 9 | B28: пф7 | D28: 38 | E28: КИСЕЛЕВА | F28: Татьяна | G28: 35467 | H28: КМС | I28: Курганская область | K28: ГБУ СШОР №1, ШГПУ, ГАУ ЦСП КО | L28: 8.76 | M28: Q | N28: 8.77 | Q28: =MIN(L28,N28,P28) -> 8.76 | R28: =IF(OR(Q28="",Q28="н/я",Q28="сошёл",Q28="сошла",EXACT("дискв", LEFT(Q28,5))),"",LOOKUP(Q28,$V$1:$AO$1,$V$2:$AO$2)) -> кмс | S28: 10 | T28: Третьяков В.Г., Павлова Н.С.
A29: 10 | B29: пф11 | D29: 118 | E29: ГРОМОВА | F29: Валерия | G29: 36624 | H29: КМС | I29: Санкт-Петербург-2 | K29: СПб ГБУ СШОР "Академия легкой атлетики Санкт-Петербурга" | L29: 8.87 | M29: q | N29: 8.86 | Q29: =MIN(L29,N29,P29) -> 8.86 | R29: =IF(OR(Q29="",Q29="н/я",Q29="сошёл",Q29="сошла",EXACT("дискв", LEFT(Q29,5))),"",LOOKUP(Q29,$V$1:$AO$1,$V$2:$AO$2)) -> кмс | S29: 9 | T29: Шекин Д.А., Бахвалова Е.А.
A30: 11 | B30: пф10 | D30: 409 | E30: ВОРОБЬЕВА | F30: Анастасия | G30: 36251 | H30: КМС | I30: Воронежская область | K30: СДЮСШОР № 5 | L30: 8.77 | M30: q | N30: 8.93 | Q30: =MIN(L30,N30,P30) -> 8.77 | R30: =IF(OR(Q30="",Q30="н/я",Q30="сошёл",Q30="сошла",EXACT("дискв", LEFT(Q30,5))),"",LOOKUP(Q30,$V$1:$AO$1,$V$2:$AO$2)) -> кмс | S30: 8 | T30: Мащенко Р.М.
A31: 12 | B31: пф12 | D31: 504 | E31: ФОМИНА | F31: Ольга | G31: 36160 | H31: КМС | I31: Волгоградская область | K31: СШОР | L31: 8.94 | M31: q | N31: 8.94 | Q31: =MIN(L31,N31,P31) -> 8.94 | R31: =IF(OR(Q31="",Q31="н/я",Q31="сошёл",Q31="сошла",EXACT("дискв", LEFT(Q31,5))),"",LOOKUP(Q31,$V$1:$AO$1,$V$2:$AO$2)) -> кмс | S31: 7 | T31: Кондратьева Т.Г.
A32: 13 | B32: пф14 | D32: 321 | E32: РОДИОНОВА | F32: Мария | G32: 36397 | H32: 1 | I32: Свердловская область | K32: УРФУ, ЦСП | L32: 8.99 | M32: q | N32: 8.99 | Q32: =MIN(L32,N32,P32) -> 8.99 | R32: =IF(OR(Q32="",Q32="н/я",Q32="сошёл",Q32="сошла",EXACT("дискв", LEFT(Q32,5))),"",LOOKUP(Q32,$V$1:$AO$1,$V$2:$AO$2)) -> кмс | S32: 6 | T32: Сыроешкина С.В.
A33: 14 | B33: пф13 | D33: 119 | E33: ДАНИЕЛЯН | F33: Татьяна | G33: 35752 | H33: КМС | I33: Санкт-Петербург | K33: СПб ГБУ СШОР "Академия легкой атлетики Санкт-Петербурга" | L33: 8.98 | M33: q | N33: 9.05 | Q33: =MIN(L33,N33,P33) -> 8.98 | R33: =IF(OR(Q33="",Q33="н/я",Q33="сошёл",Q33="сошла",EXACT("дискв", LEFT(Q33,5))),"",LOOKUP(Q33,$V$1:$AO$1,$V$2:$AO$2)) -> кмс | S33: лич | T33: Соколов И.А., Соколова Е.В.
A34: 15 | B34: пф16 | D34: 334 | E34: ЯКОВЛЕВА | F34: Ксения | G34: 36755 | H34: КМС | I34: Республика Карелия | K34: МУ "СШОР№3" | L34: 9.15 | M34: q | N34: 9.06 | Q34: =MIN(L34,N34,P34) -> 9.06 | R34: =IF(OR(Q34="",Q34="н/я",Q34="сошёл",Q34="сошла",EXACT("дискв", LEFT(Q34,5))),"",LOOKUP(Q34,$V$1:$AO$1,$V$2:$AO$2)) -> I | S34: 5 | T34: Ушинская Е.К., Суворова В.В.
A35: 16 | B35: пф15 | D35: 224 | E35: МЕЛЬНИК | F35: Виктория | G35: 36451 | H35: КМС | I35: Омская область | K35: БУ ОО "СШОР", СибГУФК | L35: 9.05 | M35: q | N35: 9.21 | Q35: =MIN(L35,N35,P35) -> 9.05 | R35: =IF(OR(Q35="",Q35="н/я",Q35="сошёл",Q35="сошла",EXACT("дискв", LEFT(Q35,5))),"",LOOKUP(Q35,$V$1:$AO$1,$V$2:$AO$2)) -> I | S35: 4 | T35: Высоцкая О.Д.
A36: 17 | D36: 15 | E36: ИВАНЮК | F36: Евгения | G36: 35792 | H36: КМС | I36: Самарская область | K36: СШОР № 2 г. Самара | L36: 9.17 | Q36: =MIN(L36,N36,P36) -> 9.17 | R36: =IF(OR(Q36="",Q36="н/я",Q36="сошёл",Q36="сошла",EXACT("дискв", LEFT(Q36,5))),"",LOOKUP(Q36,$V$1:$AO$1,$V$2:$AO$2)) -> I | S36: 3 | T36: Лобачёва Е.Н.
A37: 18 | D37: 5 | E37: ПОБОЙКИНА | F37: Александра | G37: 36978 | H37: 1 | I37: Ленинградская область | K37: СШОР "Фаворит" г.Выборг | L37: 9.18 | Q37: =MIN(L37,N37,P37) -> 9.18 | R37: =IF(OR(Q37="",Q37="н/я",Q37="сошёл",Q37="сошла",EXACT("дискв", LEFT(Q37,5))),"",LOOKUP(Q37,$V$1:$AO$1,$V$2:$AO$2)) -> I | S37: 2 | T37: Волков А.В., Волкова Е.В.
A38: 19 | D38: 172 | E38: СМИРНОВА | F38: Нина | G38: 36376 | H38: КМС | I38: Санкт-Петербург | K38: ЦОП "ШВСМ л/атл." (СПб) | L38: 9.21 | Q38: =MIN(L38,N38,P38) -> 9.21 | R38: =IF(OR(Q38="",Q38="н/я",Q38="сошёл",Q38="сошла",EXACT("дискв", LEFT(Q38,5))),"",LOOKUP(Q38,$V$1:$AO$1,$V$2:$AO$2)) -> I | S38: лич | T38: Вересова Е.А., Попкова Е.Н.
A39: 20 | D39: 169 | E39: СКОКОВА | F39: Анна | G39: 37046 | H39: КМС | I39: Санкт-Петербург Самарская область | K39: СПб ГБПОУ "УОР № 1 | L39: 9.24 | Q39: =MIN(L39,N39,P39) -> 9.24 | R39: =IF(OR(Q39="",Q39="н/я",Q39="сошёл",Q39="сошла",EXACT("дискв", LEFT(Q39,5))),"",LOOKUP(Q39,$V$1:$AO$1,$V$2:$AO$2)) -> I | S39: лич | T39: Шекин Д.А., Савинов А.В.
A40: 21 | D40: 419 | E40: ГРЕКОВА | F40: Екатерина | G40: 36002 | H40: 1 | I40: Тверская область | K40: ОДЮСШ | L40: 9.39 | Q40: =MIN(L40,N40,P40) -> 9.39 | R40: =IF(OR(Q40="",Q40="н/я",Q40="сошёл",Q40="сошла",EXACT("дискв", LEFT(Q40,5))),"",LOOKUP(Q40,$V$1:$AO$1,$V$2:$AO$2)) -> I | S40: 1 | T40: Рубцова А.Н.
A41: 22 | D41: 126 | E41: ИВАНОВА | F41: Анна | G41: 36335 | H41: КМС | I41: Санкт-Петербург | K41: СПб ГБУ СШОР "Академия легкой атлетики Санкт-Петербурга" | L41: 9.41 | Q41: =MIN(L41,N41,P41) -> 9.41 | R41: =IF(OR(Q41="",Q41="н/я",Q41="сошёл",Q41="сошла",EXACT("дискв", LEFT(Q41,5))),"",LOOKUP(Q41,$V$1:$AO$1,$V$2:$AO$2)) -> I | S41: лич | T41: Шекин Д.А., Бахвалова Е.А.
A42: 23 | D42: 483 | E42: ЗИНЧЕНКО | F42: Евгения | G42: 35652 | H42: КМС | I42: Волгоградская область | K42: СШОР | L42: 9.86 | Q42: =MIN(L42,N42,P42) -> 9.86 | R42: =IF(OR(Q42="",Q42="н/я",Q42="сошёл",Q42="сошла",EXACT("дискв", LEFT(Q42,5))),"",LOOKUP(Q42,$V$1:$AO$1,$V$2:$AO$2)) -> II | S42: лич | T42: Усков М.А.
D43: 179 | E43: ФЕДУЛОВА | F43: Евгения | G43: 36073 | H43: КМС | I43: Санкт-Петербург | K43: СПб ГБУ СШОР "Академия легкой атлетики Санкт-Петербурга" | L43: DNF | Q43: =MIN(L43,N43,P43) -> 0 | S43: лич | T43: Соколов И.А., Соколова Е.В.
F50: Главный судья соревнований | N50: Уйк А.Г. /СПб, ССВк/
F52: Главный секретарь соревнований | N52: Алексеева О.К. /СПб, ССВк/

Sheet ШесД
J1: МИНИСТЕРСТВО СПОРТА РОССИЙСКОЙ ФЕДЕРАЦИИ | AJ1: МИНИСТЕРСТВО СПОРТА РОССИЙСКОЙ ФЕДЕРАЦИИ | BN1: 0 | BO1: 180 | BP1: 200 | BQ1: 220 | BR1: 240 | BS1: 280 | BT1: 320 | BU1: 365 | BV1: 410 | BW1: 455
J2: ВСЕРОССИЙСКАЯ ФЕДЕРАЦИЯ ЛЕГКОЙ АТЛЕТИКИ | AJ2: ВСЕРОССИЙСКАЯ ФЕДЕРАЦИЯ ЛЕГКОЙ АТЛЕТИКИ | BN2: б/р | BO2: 3юн | BP2: 2юн | BQ2: 1юн | BR2: III | BS2: II | BT2: I | BU2: кмс | BV2: мс | BW2: мсмк
J3: КОМИТЕТ ПО ФИЗИЧЕСКОЙ КУЛЬТУРЕ И СПОРТУ САНКТ-ПЕТЕРБУРГА | AJ3: КОМИТЕТ ПО ФИЗИЧЕСКОЙ КУЛЬТУРЕ И СПОРТУ САНКТ-ПЕТЕРБУРГА
J4: СПОРТИВНАЯ ФЕДЕРАЦИЯ ЛЕГКОЙ АТЛЕТИКИ САНКТ-ПЕТЕРБУРГА | AJ4: СПОРТИВНАЯ ФЕДЕРАЦИЯ ЛЕГКОЙ АТЛЕТИКИ САНКТ-ПЕТЕРБУРГА
J6: Первенство России по легкой атлетике | AJ6: Прыжок с шестом
J7: (среди юниоров и юниорок до 23 лет) в помещении | AJ7: (приложение к протоколу)
B9: 4.87 | C9: Рекорд Мира 23 | J9: ИТОГОВЫЙ ПРОТОКОЛ | AJ9: ЮНИОРКИ
B10: 4.87 | C10: Рекорд Европы 23
B11: 4.86 | C11: Рекорд России 23 | J11: ЮНИОРКИ
B13: Санкт-Петербург, Легкоатлетический манеж | P13: 19- 21 февраля 2019 г. | R13: =B13 -> Санкт-Петербург, Легкоатлетический манеж | BK13: =D17 -> 19 февраля 2019 г.
B15: Место | C15: Номер | D15: Фамилия Имя | F15: Дата рожд | G15: Разр. | H15: Территория | J15: Организация | K15: А | L15: Б | M15: Результат | N15: Разряд | O15: Очки | P15: Тренер | R15: Место | S15: № | T15: Фамилия Имя | V15: 335 | Y15: 350 | AB15: 365 | AE15: 380 | AH15: 390 | AK15: 400 | AN15: 410 | AQ15: 420 | AT15: 430 | AW15: 445 | AZ15: 456 | BI15: А | BJ15: Б | BK15: Рез-тат
D17: 19 февраля 2019 г. | J17: Финальные соревнования 16:45 - 18:10 | P17: Прыжок с шестом | V17: 1 | W17: 2 | X17: 3 | Y17: 1 | Z17: 2 | AA17: 3 | AB17: 1 | AC17: 2 | AD17: 3 | AE17: 1 | AF17: 2 | AG17: 3 | AH17: 1 | AI17: 2 | AJ17: 3 | AK17: 1 | AL17: 2 | AM17: 3 | AN17: 1 | AO17: 2 | AP17: 3 | AQ17: 1 | AR17: 2 | AS17: 3 | AT17: 1 | AU17: 2 | AV17: 3 | AW17: 1 | AX17: 2 | AY17: 3 | AZ17: 1 | BA17: 2 | BB17: 3
B19: 1 | C19: 358 | D19: ГАТАУЛЛИНА | E19: Аксана | F19: 36724 | G19: МС | H19: Москва-1 | J19: ГБУ "ЦСП по легкой атлетике", ЦСКА | K19: =BI19 -> 2 | L19: =BJ19 -> 1 | M19: =BK19 -> 430 | N19: =LOOKUP(M19,$BN$1:$BW$1,$BN$2:$BW$2) -> мс | O19: 25 | P19: Гатауллин Р.А., Решетникова Т.В. | R19: 1 | S19: =C19 -> 358 | T19: =D19 -> ГАТАУЛЛИНА | U19: =E19 -> Аксана | AT19: Х | AU19: 0 | AW19: Х | AX19: Х | AY19: - | AZ19: Х | BI19: 2 | BJ19: 1 | BK19: 430
B20: 2 | C20: 255 | D20: БОНДАРЕНКО | E20: Елизавета | F20: 36342 | G20: МС | H20: Московская область Ростовская область | J20: ДЮСШ № 1 Ростов-на-Дону, УОР №2, ГБУ МО "ЦСП ОВС" | K20: =BI20 -> 1 | L20: =BJ20 -> 1 | M20: =BK20 -> 420 | N20: =LOOKUP(M20,$BN$1:$BW$1,$BN$2:$BW$2) -> мс | O20: 22 | P20: Бондаренко В.Г., Ишрефова Х. | R20: 2 | S20: =C20 -> 255 | T20: =D20 -> БОНДАРЕНКО | U20: =E20 -> Елизавета | AN20: Х | AO20: 0 | AQ20: 0 | AT20: Х | AU20: Х | AV20: Х | BI20: 1 | BJ20: 1 | BK20: 420
B21: 3 | C21: 220 | D21: КЛЮЖЕВА | E21: Нина | F21: 35757 | G21: МС | H21: Иркутская область | J21: СШОР "Олимпиец", ЦСП | K21: =BI21 -> 2 | L21: =BJ21 -> 2 | M21: =BK21 -> 400 | N21: =LOOKUP(M21,$BN$1:$BW$1,$BN$2:$BW$2) -> кмс | O21: 15 | P21: Гуров А.А. | R21: 3 | S21: =C21 -> 220 | T21: =D21 -> КЛЮЖЕВА | U21: =E21 -> Нина | AE21: Х | AF21: 0 | AH21: - | AK21: Х | AL21: 0 | AN21: Х | AO21: Х | AP21: Х | BI21: 2 | BJ21: 2 | BK21: 400
B22: 4 | C22: 371 | D22: БРЯНЧИНА | E22: Екатерина | F22: 36110 | G22: МС | H22: Москва-2 | J22: СШОР МГФСО | K22: =BI22 -> 1 | L22: =BJ22 -> 0 | M22: =BK22 -> 390 | N22: =LOOKUP(M22,$BN$1:$BW$1,$BN$2:$BW$2) -> кмс | O22: 14 | P22: Кучеряну М.И., Кучеряну С.М., Лавриненко Н.Ф. | R22: 4 | S22: =C22 -> 371 | T22: =D22 -> БРЯНЧИНА | U22: =E22 -> Екатерина | AE22: 0 | AH22: 0 | AK22: Х | AL22: Х | AM22: Х | BI22: 1 | BJ22: 0 | BK22: 390
B23: 5 | C23: 216 | D23: НИКОНОВА | E23: Валерия | F23: 35826 | G23: МС | H23: Иркутская область | J23: СШОР ШВСМ | K23: =BI23 -> 1 | L23: =BJ23 -> 0 | M23: =BK23 -> 380 | N23: =LOOKUP(M23,$BN$1:$BW$1,$BN$2:$BW$2) -> кмс | O23: 13 | P23: Волков К.Ю. | R23: 5 | S23: =C23 -> 216 | T23: =D23 -> НИКОНОВА | U23: =E23 -> Валерия | AB23: 0 | AE23: 0 | AH23: - | AK23: Х | AL23: Х | AM23: Х | BI23: 1 | BJ23: 0 | BK23: 380
B24: 6 | C24: 429 | D24: ФАХРУТДИНОВА | E24: Милана | F24: 36068 | G24: МС | H24: Москва | J24: ГБУ "МГФСО" | K24: =BI24 -> 2 | L24: =BJ24 -> 3 | M24: =BK24 -> 380 | N24: =LOOKUP(M24,$BN$1:$BW$1,$BN$2:$BW$2) -> кмс | O24: 12 | P24: Диаздинов О.В., Овчинник И.В. | R24: 6 | S24: =C24 -> 429 | T24: =D24 -> ФАХРУТДИНОВА | U24: =E24 -> Милана | AB24: Х | AC24: Х | AD24: 0 | AE24: Х | AF24: 0 | AH24: Х | AI24: Х | AJ24: Х | BI24: 2 | BJ24: 3 | BK24: 380
B25: 7 | C25: 421 | D25: НЕРУБЕНКО | E25: Людмила | F25: 35905 | G25: КМС | H25: Белгородская область | J25: МБУДО ДЮСШ №2 | K25: =BI25 -> 1 | L25: =BJ25 -> 0 | M25: =BK25 -> 365 | N25: =LOOKUP(M25,$BN$1:$BW$1,$BN$2:$BW$2) -> кмс | O25: 11 | P25: Кушкин В.Ю. | R25: 7 | S25: =C25 -> 421 | T25: =D25 -> НЕРУБЕНКО | U25: =E25 -> Людмила | AB25: 0 | AE25: Х | AF25: Х | AG25: Х | BI25: 1 | BJ25: 0 | BK25: 365
