Workbook
Name prugok: [1]Кресты!#REF!
Name prugok: [1]Кресты!#REF!
Name prugok: [2]Кресты!#REF!
Name prugok: [3]Кресты!#REF!
Name prugok: [3]Кресты!#REF!
Name prugok: [3]Кресты!#REF!
Name prugok: [3]Кресты!#REF!
Name prugok: [4]Кресты!#REF!
Name Город: [5]Z_all!$H$1:$H$65536
Name Город: [5]Z_all!$H$1:$H$65536
Name Город: [5]Z_all!$H$1:$H$65536
Name Город: [6]Z_all!$H$1:$H$65536
Name Город: [5]Z_all!$H$1:$H$65536
Name Город: [7]Z_all!$H$1:$H$65536
Name ГР: [5]Z_all!$E$1:$E$65536
Name ГР: [5]Z_all!$E$1:$E$65536
Name ГР: [5]Z_all!$E$1:$E$65536
Name ГР: [6]Z_all!$E$1:$E$65536
Name ГР: [5]Z_all!$E$1:$E$65536
Name ГР: [7]Z_all!$E$1:$E$65536
Name Звание: [5]Z_all!$F$1:$F$65536
Name Звание: [5]Z_all!$F$1:$F$65536
Name Звание: [5]Z_all!$F$1:$F$65536
Name Звание: [6]Z_all!$F$1:$F$65536
Name Звание: [5]Z_all!$F$1:$F$65536
Name Звание: [7]Z_all!$F$1:$F$65536
Name Код_Результатов: [8]Кресты!#REF!
Name Код_Результатов: [8]Кресты!#REF!
Name Код_Результатов: [8]Кресты!#REF!
Name Код_Результатов: [8]Кресты!#REF!
Name Код_Результатов: [9]Кресты!#REF!
Name Код_Результатов: [9]Кресты!#REF!
Name Код_Результатов: [9]Кресты!#REF!
Name Код_Результатов: [10]Кресты!#REF!
Name Код_Результатов: [11]Кресты!#REF!
Name Код_Результатов: [8]Кресты!#REF!
Name КодУч: [5]Z_all!$A$1:$A$65536
Name КодУч: [5]Z_all!$A$1:$A$65536
Name КодУч: [5]Z_all!$A$1:$A$65536
Name КодУч: [6]Z_all!$A$1:$A$65536
Name КодУч: [5]Z_all!$A$1:$A$65536
Name КодУч: [7]Z_all!$A$1:$A$65536
Name компер: [8]Кресты!#REF!
Name компер: [8]Кресты!#REF!
Name компер: [8]Кресты!#REF!
Name компер: [8]Кресты!#REF!
Name компер: [9]Кресты!#REF!
Name компер: [12]Кресты!#REF!
Name компер: [12]Кресты!#REF!
Name компер: [10]Кресты!#REF!
Name компер: [11]Кресты!#REF!
Name компер: [8]Кресты!#REF!
Name НомУч: [5]Z_all!$B$1:$B$65536
Name НомУч: [5]Z_all!$B$1:$B$65536
Name НомУч: [5]Z_all!$B$1:$B$65536
Name НомУч: [6]Z_all!$B$1:$B$65536
Name НомУч: [5]Z_all!$B$1:$B$65536
Name НомУч: [7]Z_all!$B$1:$B$65536
Name Общество: [5]Z_all!$I$1:$I$65536
Name Общество: [5]Z_all!$I$1:$I$65536

Sheet Тит

Sheet ГСК
A1: МИНИСТЕРСТВО СПОРТА РОССИЙСКОЙ ФЕДЕРАЦИИ ВСЕРОССИЙСКАЯ ФЕДЕРАЦИЯ ЛЕГКОЙ АТЛЕТИКИ КОМИТЕТ ПО ФИЗИЧЕСКОЙ КУЛЬТУРЕ И СПОРТУ САНКТ-ПЕТЕРБУРГА СПОРТИВНАЯ ФЕДЕРАЦИЯ ЛЕГКОЙ АТЛЕТИКИ САНКТ-ПЕТЕРБУРГА
A7: Первенство России по легкой атлетике (среди юниоров и юниорок до 23 лет) в помещении
B9: г. Санкт-Петербург | H9: СК «Легкоатлетический манеж» | N9: 19-21 февраля 2019 года
A11: ГЛАВНАЯ СУДЕЙСКАЯ КОЛЛЕГИЯ
B14: Главный судья соревнований | K14: - | L14: УЙК Антон Гергардович /СПб, ССВк/
B15: Главный секретарь соревнований | K15: - | L15: АЛЕКСЕЕВА Ольга Кямильевна /СПб, ССВк/
B16: Технический делегат | K16: - | L16: ШПАК Виктор Алексеевич /Москва, ССВк/
B17: Директор соревнований | K17: - | L17: ТАРАСЕНКО Юлия Викторовна /СПб/
B18: Заместитель главного судьи по кадрам | K18: - | L18: СОЛОМЯНКО Юлия Станиславовна /СПб, ССВк/
B19: Рефери по бегу | K19: - | L19: АЛЕКСЕЕВ Виктор Георгиевич /СПб, ССВк/
B20: Рефери по вертикальным прыжкам и метаниям | K20: - | L20: ПОЧИНСКИЙ Михаил Владимирович /СПб, ССВк/
B21: Рефери по горизонтальным прыжкам | K21: - | L21: ОРЛОВ Максим Петрович /СПб, ССВк/
B22: Технический менеджер | K22: - | L22: ТЯГУНОВ Виктор Александрович /СПб, CCВк/
B23: Координатор службы старта | K23: - | L23: ЕФРЕМОВ Сергей Алексеевич /Ряз.обл, CCВк/
B24: Руководитель службы информации и церемониалов | K24: - | L24: ВЯЗНЕР Борис Яковлевич /СПб, ССВк/
B25: Заместитель главного секретаря | K25: - | L25: БОНДАРЕВА Анна Витальевна /СПб, ССВк/
B26: Заместитель главного секретаря | K26: - | L26: КЛЕЙН Ирина Сергеевна /СПб, ССВк/
A28: АППЕЛЯЦИОННОЕ ЖЮРИ
B30: Директор соревнований | K30: - | L30: ТАРАСЕНКО Юлия Викторовна /СПб/
B31: Технический делегат | K31: - | L31: ШПАК Виктор Алексеевич /Москва, ССВк/
K32: - | L32: КУЛИКОВ Владимир Яковлевич /СПб, ССВк/
D35: Главный судья соревнований | L35: Уйк А.Г. /СПб, ССВк/
D38: Главный секретарь соревнований | L38: Алексеева О.К. /СПб, ССВк/

Sheet 60Ю
N1: МИНИСТЕРСТВО СПОРТА РОССИЙСКОЙ ФЕДЕРАЦИИ
N2: ВСЕРОССИЙСКАЯ ФЕДЕРАЦИЯ ЛЕГКОЙ АТЛЕТИКИ | Y2: 5 | Z2: 6.7 | AA2: 6.701 | AB2: 6.84 | AC2: 6.841 | AD2: 7.04 | AE2: 7.041 | AF2: 7.34 | AG2: 7.341 | AH2: 7.64 | AI2: 7.641 | AJ2: 8.04 | AK2: 8.041 | AL2: 8.44 | AM2: 8.441 | AN2: 8.94 | AO2: 8.941 | AP2: 9.54 | AQ2: 9.541
N3: КОМИТЕТ ПО ФИЗИЧЕСКОЙ КУЛЬТУРЕ И СПОРТУ САНКТ-ПЕТЕРБУРГА | Y3: мсмк | Z3: мсмк | AA3: мс | AB3: мс | AC3: кмс | AD3: кмс | AE3: I | AF3: I | AG3: II | AH3: II | AI3: III | AJ3: III | AK3: 1юн | AL3: 1юн | AM3: 2юн | AN3: 2юн | AO3: 3юн | AP3: 3юн | AQ3: б/р
N4: СПОРТИВНАЯ ФЕДЕРАЦИЯ ЛЕГКОЙ АТЛЕТИКИ САНКТ-ПЕТЕРБУРГА
N6: Первенство России по легкой атлетике
N7: (среди юниоров и юниорок до 23 лет) в помещении
D9: 6.45 | G9: Рекорд Мира 23 | N9: СТАРТОВЫЙ ПРОТОКОЛ
D10: 6.48 | G10: Рекорд Европы 23
D11: 6.59 | G11: Рекорд России 23
N12: ЮНИОРЫ
D13: Санкт-Петербург, Легкоатлетический манеж | W13: 19 - 21февраля 2019 г.
D15: Место | E15: пф | F15: ф | G15: Номер | H15: Фамилия | I15: Имя | J15: Дата рожд | K15: Разр. | L15: Территория | N15: Организация | O15: Результаты | U15: Разряд | V15: ОЧКИ | W15: Тренер
O16: забеги | P16: Q | Q16: п/фин | R16: Q | S16: финал
H18: 19 февраля 2019 г. | J18: Забеги 11:40-12:05 Полуфиналы 17:20 -17:35 Финал 19:00-19:05 | W18: Бег 60 м
D20: 1 | E20: пф2 | F20: ф3 | G20: 257 | H20: ЗАВАЛИЙ | I20: Алексей | J20: 29.01.1998 | K20: КМС | L20: Московская область Смоленская область | N20: ГБУ МО "СШОР по легкой атлетике", СОГБУ "СШОР им Ф.Т. Михеенко", ГБУ МО "ЦСП ОВС" | O20: 6.89 | P20: Q | Q20: 6.74 | R20: Q | S20: 6.73 | T20: =MIN(O20,Q20,S20) -> 6.73 | U20: =IF(OR(T20="",T20="н/я",T20="сошёл",T20="сошла",EXACT("дискв", LEFT(T20,5))),"",LOOKUP(T20,$Y$2:$AR$2,$Y$3:$AR$3)) -> мс | V20: 25 | W20: Андреев В.В., Ефременков А.С.
D21: 2 | E21: пф1 | F21: ф5 | G21: 201 | H21: ДОМАРЕВ | I21: Вадим | J21: 14.04.2000 | K21: 1 | L21: Курская область | N21: СШОР Урожай | O21: 6.83 | P21: Q | Q21: 6.82 | R21: Q | S21: 6.81 | T21: =MIN(O21,Q21,S21) -> 6.81 | U21: =IF(OR(T21="",T21="н/я",T21="сошёл",T21="сошла",EXACT("дискв", LEFT(T21,5))),"",LOOKUP(T21,$Y$2:$AR$2,$Y$3:$AR$3)) -> мс | V21: 22 | W21: Анозин В.М.
D22: 3 | E22: пф6 | F22: ф6 | G22: 44 | H22: ЧАБАН | I22: Никита | J22: 01.04.1997 | K22: МС | L22: Красноярский край | N22: Академия летних видов спорта, СШОР"Спутник" | O22: 6.93 | P22: Q | Q22: 6.84 | R22: Q | S22: 6.82 | T22: =MIN(O22,Q22,S22) -> 6.82 | U22: =IF(OR(T22="",T22="н/я",T22="сошёл",T22="сошла",EXACT("дискв", LEFT(T22,5))),"",LOOKUP(T22,$Y$2:$AR$2,$Y$3:$AR$3)) -> мс | V22: 20 | W22: Артемьев П.П.
D23: 4 | E23: пф7 | F23: ф7 | G23: 404 | H23: ПИВОВАРОВ | I23: Даниил | J23: 13.04.1999 | K23: КМС | L23: Республика Татарстан | N23: ПГАФКСИТ, СШОР АТЛЕТИКА | O23: 6.92 | P23: Q | Q23: 6.87 | R23: q | S23: 6.87 | T23: =MIN(O23,Q23,S23) -> 6.87 | U23: =IF(OR(T23="",T23="н/я",T23="сошёл",T23="сошла",EXACT("дискв", LEFT(T23,5))),"",LOOKUP(T23,$Y$2:$AR$2,$Y$3:$AR$3)) -> кмс | V23: 14 | W23: Захарчук Д.Г.
D24: 5 | E24: пф13 | F24: ф8 | G24: 373 | H24: БОНДАРЕВ | I24: Николай | J24: 28.03.1998 | K24: КМС | L24: Москва | N24: СШОР Юность Москвы по л/а им.бр.Знаменских | O24: 6.94 | P24: q | Q24: 6.917 | R24: q | S24: 6.88 | T24: =MIN(O24,Q24,S24) -> 6.88 | U24: =IF(OR(T24="",T24="н/я",T24="сошёл",T24="сошла",EXACT("дискв", LEFT(T24,5))),"",LOOKUP(T24,$Y$2:$AR$2,$Y$3:$AR$3)) -> кмс | V24: лич | W24: Иванов В.М.
D25: 6 | E25: пф3 | F25: ф1 | G25: 361 | H25: УСОВ | I25: Алексей | J25: 24.02.1998 | K25: МС | L25: Москва-2 | N25: ГБУ "МГФСО" | O25: 6.9 | P25: Q | Q25: 6.87 | R25: Q | S25: 6.9 | T25: =MIN(O25,Q25,S25) -> 6.87 | U25: =IF(OR(T25="",T25="н/я",T25="сошёл",T25="сошла",EXACT("дискв", LEFT(T25,5))),"",LOOKUP(T25,$Y$2:$AR$2,$Y$3:$AR$3)) -> кмс | V25: 13 | W25: Баранов А.В.
D26: 6 | E26: пф5 | F26: ф4 | G26: 332 | H26: ЛУКИН | I26: Андрей | J26: 28.02.1998 | K26: МС | L26: Республика Карелия | N26: МУ "СШОР№3" | O26: 6.92 | P26: Q | Q26: 6.87 | R26: Q | S26: 6.9 | T26: =MIN(O26,Q26,S26) -> 6.87 | U26: =IF(OR(T26="",T26="н/я",T26="сошёл",T26="сошла",EXACT("дискв", LEFT(T26,5))),"",LOOKUP(T26,$Y$2:$AR$2,$Y$3:$AR$3)) -> кмс | V26: 13 | W26: Сигарева А.Ю., Смирнов А.Б.
D27: 8 | E27: пф15 | F27: ф2 | G27: 36 | H27: ГУРОВ | I27: Андрей | J27: 20.09.1998 | K27: КМС | L27: Москва Брянская область | N27: ФАУ МО РФ ЦСКА, ГБУ БО СШОР по легкой атлетике им. В.Д. Самотесова., БГУОР | O27: 6.97 | P27: q | Q27: 6.92 | R27: Q | S27: 6.94 | T27: =MIN(O27,Q27,S27) -> 6.92 | U27: =IF(OR(T27="",T27="н/я",T27="сошёл",T27="сошла",EXACT("дискв", LEFT(T27,5))),"",LOOKUP(T27,$Y$2:$AR$2,$Y$3:$AR$3)) -> кмс | V27: 11 | W27: Гуров В.В., Шемигон О.С., Шемигон С.С.
D28: 9 | E28: пф9 | G28: 56 | H28: ПРОТАСОВ | I28: Александр | J28: 30.08.1997 | K28: КМС | L28: Тюменская область | N28: ОСШОР, СК ТюмГУ | O28: 6.96 | P28: Q | Q28: 6.92 | T28: =MIN(O28,Q28,S28) -> 6.92 | U28: =IF(OR(T28="",T28="н/я",T28="сошёл",T28="сошла",EXACT("дискв", LEFT(T28,5))),"",LOOKUP(T28,$Y$2:$AR$2,$Y$3:$AR$3)) -> кмс | V28: 10 | W28: Аксенов Е.Н.
D29: 10 | E29: пф8 | G29: 318 | H29: ТОКАРЕВ | I29: Алексей | J29: 20.12.1998 | K29: КМС | L29: Свердловская область | N29: СК СПУТНИК, СШОР Спутник, ЦСП | O29: 6.93 | P29: Q | Q29: 6.93 | T29: =MIN(O29,Q29,S29) -> 6.93 | U29: =IF(OR(T29="",T29="н/я",T29="сошёл",T29="сошла",EXACT("дискв", LEFT(T29,5))),"",LOOKUP(T29,$Y$2:$AR$2,$Y$3:$AR$3)) -> кмс | V29: 9 | W29: Заметаев О.Г., Мерзлякова Н.В.
D30: 11 | E30: пф11 | G30: 43 | H30: НИКОЛАЕВ | I30: Александр | J30: 06.05.1999 | K30: 1 | L30: Хабаровский край | N30: СШ "Максимум" | O30: 7.01 | P30: Q | Q30: 6.94 | T30: =MIN(O30,Q30,S30) -> 6.94 | U30: =IF(OR(T30="",T30="н/я",T30="сошёл",T30="сошла",EXACT("дискв", LEFT(T30,5))),"",LOOKUP(T30,$Y$2:$AR$2,$Y$3:$AR$3)) -> кмс | V30: 8 | W30: Ерченко Е.П.
D31: 11 | E31: пф19 | G31: 9 | H31: ЕФИМОВ | I31: Александр | J31: 28.02.1999 | K31: КМС | L31: Брянская область | N31: БО СШОР по легкой атлетике им.В.Д.Самотесова | O31: 7.04 | P31: q | Q31: 6.94 | T31: =MIN(O31,Q31,S31) -> 6.94 | U31: =IF(OR(T31="",T31="н/я",T31="сошёл",T31="сошла",EXACT("дискв", LEFT(T31,5))),"",LOOKUP(T31,$Y$2:$AR$2,$Y$3:$AR$3)) -> кмс | V31: 8 | W31: Трубин Ю.Н., Карташов В.А.
D32: 13 | E32: пф4 | G32: 67 | H32: ПЛОХОЙ | I32: Евгений | J32: 04.07.1998 | K32: КМС | L32: Краснодарский край ЮФО (К) | N32: ГБУ КК "РЦСП по л/а", МБУ "СШОР №2 г. Симферополь" | O32: 6.92 | P32: Q | Q32: 6.96 | T32: =MIN(O32,Q32,S32) -> 6.92 | U32: =IF(OR(T32="",T32="н/я",T32="сошёл",T32="сошла",EXACT("дискв", LEFT(T32,5))),"",LOOKUP(T32,$Y$2:$AR$2,$Y$3:$AR$3)) -> кмс | V32: 6 | W32: Азизьян А.А., Селицкая С.С.
D33: 13 | E33: пф14 | G33: 285 | H33: РОЖНОВ | I33: Артём | J33: 03.03.1998 | K33: КМС | L33: Тульская область | N33: ГУТОЦСП -СШОР | O33: 6.97 | P33: q | Q33: 6.96 | T33: =MIN(O33,Q33,S33) -> 6.96 | U33: =IF(OR(T33="",T33="н/я",T33="сошёл",T33="сошла",EXACT("дискв", LEFT(T33,5))),"",LOOKUP(T33,$Y$2:$AR$2,$Y$3:$AR$3)) -> кмс | V33: 6 | W33: Веселова С.Ю., Ковтун Н.Н.
D34: 13 | E34: пф16 | G34: 316 | H34: ЛАПТЕВ | I34: Алексей | J34: 13.05.1998 | K34: КМС | L34: Свердловская область | N34: СК ЛУЧ, ЦСП | O34: 6.99 | P34: q | Q34: 6.96 | T34: =MIN(O34,Q34,S34) -> 6.96 | U34: =IF(OR(T34="",T34="н/я",T34="сошёл",T34="сошла",EXACT("дискв", LEFT(T34,5))),"",LOOKUP(T34,$Y$2:$AR$2,$Y$3:$AR$3)) -> кмс | V34: 6 | W34: Ясников В.И.
D35: 16 | E35: пф22 | G35: 27 | H35: ШАМАРИН | I35: Владислав | J35: 23.07.1998 | K35: КМС | L35: Самарская область | N35: Самарский университет, ГАУ СШОР № 6 | O35: 7.05 | P35: q | Q35: 6.98 | T35: =MIN(O35,Q35,S35) -> 6.98 | U35: =IF(OR(T35="",T35="н/я",T35="сошёл",T35="сошла",EXACT("дискв", LEFT(T35,5))),"",LOOKUP(T35,$Y$2:$AR$2,$Y$3:$AR$3)) -> кмс | V35: 3 | W35: Лобачев В.С., Дмитриев В.М.
D36: 17 | E36: пф10 | G36: 291 | H36: ЕЖОВ | I36: Иван | J36: 01.06.1999 | K36: КМС | L36: Пензенская область | N36: КСШОР | O36: 6.99 | P36: Q | Q36: 6.99 | T36: =MIN(O36,Q36,S36) -> 6.99 | U36: =IF(OR(T36="",T36="н/я",T36="сошёл",T36="сошла",EXACT("дискв", LEFT(T36,5))),"",LOOKUP(T36,$Y$2:$AR$2,$Y$3:$AR$3)) -> кмс | V36: 2 | W36: Невокшанов Б.В.
D37: 17 | E37: пф17 | G37: 480 | H37: ГАЛОЧКИН | I37: Никита | J37: 28.04.1998 | K37: КМС | L37: Волгоградская область | N37: ВКОР, СШОР | O37: 7.02 | P37: q | Q37: 6.99 | T37: =MIN(O37,Q37,S37) -> 6.99 | U37: =IF(OR(T37="",T37="н/я",T37="сошёл",T37="сошла",EXACT("дискв", LEFT(T37,5))),"",LOOKUP(T37,$Y$2:$AR$2,$Y$3:$AR$3)) -> кмс | V37: лич | W37: Догонкин В.А., Солоушкина Н.И., Догонкин В.В.
D38: 19 | E38: пф20 | G38: 45 | H38: МЕНЬКОВ | I38: Виктор | J38: 06.12.1998 | K38: 1 | L38: Красноярский край | N38: Академия летних видов спорта, СШОР"Спутник" | O38: 7.04 | P38: q | Q38: 7.01 | T38: =MIN(O38,Q38,S38) -> 7.01 | U38: =IF(OR(T38="",T38="н/я",T38="сошёл",T38="сошла",EXACT("дискв", LEFT(T38,5))),"",LOOKUP(T38,$Y$2:$AR$2,$Y$3:$AR$3)) -> кмс | V38: 1 | W38: Мочалов С.С., Мочалова Е.С.
D39: 20 | E39: пф21 | G39: 47 | H39: ЛОМОВ | I39: Евгений | J39: 12.10.1999 | K39: КМС | L39: Красноярский край | N39: СШОР"Спутник", г Красноярск | O39: 7.05 | P39: q | Q39: 7.06 | T39: =MIN(O39,Q39,S39) -> 7.05 | U39: =IF(OR(T39="",T39="н/я",T39="сошёл",T39="сошла",EXACT("дискв", LEFT(T39,5))),"",LOOKUP(T39,$Y$2:$AR$2,$Y$3:$AR$3)) -> I | V39: 1 | W39: Чалый Ю.В., Носенко А.А.
D40: 20 | E40: пф23 | G40: 242 | H40: КАТРЕНКО | I40: Виталий | J40: 12.10.1998 | K40: КМС | L40: Саратовская область | N40: МКУ "СШОР№6" | O40: 7.08 | P40: q | Q40: 7.06 | T40: =MIN(O40,Q40,S40) -> 7.06 | U40: =IF(OR(T40="",T40="н/я",T40="сошёл",T40="сошла",EXACT("дискв", LEFT(T40,5))),"",LOOKUP(T40,$Y$2:$AR$2,$Y$3:$AR$3)) -> I | V40: 1 | W40: Прокофьева Е.П., Ломтев Е.А.
D41: 22 | E41: пф18 | G41: 12 | H41: АБАИМОВ | I41: Александр | J41: 21.05.1998 | K41: КМС | L41: Самарская область | N41: СШОР № 2 г. Самара | O41: 7.03 | P41: q | Q41: 7.1 | T41: =MIN(O41,Q41,S41) -> 7.03 | U41: =IF(OR(T41="",T41="н/я",T41="сошёл",T41="сошла",EXACT("дискв", LEFT(T41,5))),"",LOOKUP(T41,$Y$2:$AR$2,$Y$3:$AR$3)) -> кмс | V41: 1 | W41: Иванова И.Ю.
D42: 23 | E42: пф12 | G42: 93 | H42: КОНОНЕНКО | I42: Павел | J42: 02.02.1997 | K42: КМС | L42: Вологодская область | N42: АУ ФКиС ВО "ЦСП" | O42: 7.05 | P42: Q | Q42: 7.11 | T42: =MIN(O42,Q42,S42) -> 7.05 | U42: =IF(OR(T42="",T42="н/я",T42="сошёл",T42="сошла",EXACT("дискв", LEFT(T42,5))),"",LOOKUP(T42,$Y$2:$AR$2,$Y$3:$AR$3)) -> I | V42: 1 | W42: Столбова О.В.
D43: 24 | E43: пф24 | G43: 234 | H43: БОБЫЛЕВ | I43: Денис | J43: 01.03.1999 | K43: КМС | L43: Республика Северная Осетия — Алания | N43: ГБУ СШОР по л/а | O43: 7.091 | P43: q | Q43: 7.12 | T43: =MIN(O43,Q43,S43) -> 7.091 | U43: =IF(OR(T43="",T43="н/я",T43="сошёл",T43="сошла",EXACT("дискв", LEFT(T43,5))),"",LOOKUP(T43,$Y$2:$AR$2,$Y$3:$AR$3)) -> I | V43: 1 | W43: Шиян Т.Н., Шиян О.В.
D44: 25 | G44: 467 | H44: БИКТИМИРОВ | I44: Егор | J44: 24.06.1999 | K44: КМС | L44: Челябинская область | N44: СШОР Миасс | O44: 7.096 | T44: =MIN(O44,Q44,S44) -> 7.096 | U44: =IF(OR(T44="",T44="н/я",T44="сошёл",T44="сошла",EXACT("дискв", LEFT(T44,5))),"",LOOKUP(T44,$Y$2:$AR$2,$Y$3:$AR$3)) -> I | V44: лич | W44: Ромжаев А.И., Кочарина Е.В., Шестаев В.А.
D45: 26 | G45: 182 | H45: ШАРОВ | I45: Степан | J45: 16.08.1999 | K45: 1 | L45: Санкт-Петербург | N45: СПб ГБУ СШОР "Академия легкой атлетики Санкт-Петербурга" | O45: 7.11 | T45: =MIN(O45,Q45,S45) -> 7.11 | U45: =IF(OR(T45="",T45="н/я",T45="сошёл",T45="сошла",EXACT("дискв", LEFT(T45,5))),"",LOOKUP(T45,$Y$2:$AR$2,$Y$3:$AR$3)) -> I | V45: лич | W45: Линдер В.И.
...

Sheet 400Ю
L1: МИНИСТЕРСТВО СПОРТА РОССИЙСКОЙ ФЕДЕРАЦИИ | V1: 40 | W1: 46.7 | X1: 46.701 | Y1: 48.14 | Z1: 48.141 | AA1: 50.54 | AB1: 50.541 | AC1: 53.04 | AD1: 53.041 | AE1: 56.64 | AF1: 56.641 | AG1: 1.00,00 | AH1: 1.00,01 | AI1: 1.00,02 | AJ1: 1.00,03 | AK1: 1.00,04 | AL1: 1.00,05 | AM1: 1.00,06 | AN1: 1.00,07 | AO1: 1.00,08 | AP1: 1.00,09 | AQ1: 1.00,10 | AR1: 1.00,11 | AS1: 1.00,12 | AT1: 1.00,13 | AU1: 1.00,14 | AV1: 1.00,15 | AW1: 1.00,16 | AX1: 1.00,17 | AY1: 1.00,18 | AZ1: 1.00,19 | BA1: 1.00,20 | BB1: 1.00,21 | BC1: 1.00,22 | BD1: 1.00,23 | BE1: 1.00,24 | BF1: 1.00,25 | BG1: 1.00,26 | BH1: 1.00,27 | BI1: 1.00,28 | BJ1: 1.00,29 | BK1: 1.00,30 | BL1: 1.00,31 | BM1: 1.00,32 | BN1: 1.00,33 | BO1: 1.00,34 | BP1: 1.00,35 | BQ1: 1.00,36 | BR1: 1.00,37 | BS1: 1.00,38 | BT1: 1.00,39 | BU1: 1.00,40 | BV1: 1.00,41 | BW1: 1.00,42 | BX1: 1.00,43 | BY1: 1.00,44 | BZ1: 1.00,45 | CA1: 1.00,46 | CB1: 1.00,47 | CC1: 1.00,48 | CD1: 1.00,49 | CE1: 1.00,50 | CF1: 1.00,51 | CG1: 1.00,52 | CH1: 1.00,53 | CI1: 1.00,54 | CJ1: 1.00,55 | CK1: 1.00,56 | CL1: 1.00,57 | CM1: 1.00,58 | CN1: 1.00,59 | CO1: 1.00,60 | CP1: 1.00,61 | CQ1: 1.00,62 | CR1: 1.00,63 | CS1: 1.00,64 | CT1: 1.00,65 | CU1: 1.00,66 | CV1: 1.00,67 | CW1: 1.00,68 | CX1: 1.00,69 | CY1: 1.00,70 | CZ1: 1.00,71 | DA1: 1.00,72 | DB1: 1.00,73 | DC1: 1.00,74 | DD1: 1.00,75 | DE1: 1.00,76 | DF1: 1.00,77 | DG1: 1.00,78 | DH1: 1.00,79 | DI1: 1.00,80 | DJ1: 1.00,81 | DK1: 1.00,82 | DL1: 1.00,83 | DM1: 1.00,84 | DN1: 1.00,85 | DO1: 1.00,86 | DP1: 1.00,87 | DQ1: 1.00,88 | DR1: 1.00,89 | DS1: 1.00,90 | DT1: 1.00,91 | DU1: 1.00,92 | DV1: 1.00,93 | DW1: 1.00,94 | DX1: 1.00,95 | DY1: 1.00,96 | DZ1: 1.00,97 | EA1: 1.00,98 | EB1: 1.00,99 | EC1: 1.01,00 | ED1: 1.01,01 | EE1: 1.01,02 | EF1: 1.01,03 | EG1: 1.01,04 | EH1: 1.01,041 | EI1: 1.06,04 | EJ1: 1.06,041 | EK1: 1.11,54 | EL1: 1.11,541 | EM1: 1.17,24 | EN1: 1.17,241
L2: ВСЕРОССИЙСКАЯ ФЕДЕРАЦИЯ ЛЕГКОЙ АТЛЕТИКИ | V2: мсмк | W2: мсмк | X2: мс | Y2: мс | Z2: кмс | AA2: кмс | AB2: I | AC2: I | AD2: II | AE2: II | AF2: III | AG2: III | AH2: III | AI2: III | AJ2: III | AK2: III | AL2: III | AM2: III | AN2: III | AO2: III | AP2: III | AQ2: III | AR2: III | AS2: III | AT2: III | AU2: III | AV2: III | AW2: III | AX2: III | AY2: III | AZ2: III | BA2: III | BB2: III | BC2: III | BD2: III | BE2: III | BF2: III | BG2: III | BH2: III | BI2: III | BJ2: III | BK2: III | BL2: III | BM2: III | BN2: III | BO2: III | BP2: III | BQ2: III | BR2: III | BS2: III | BT2: III | BU2: III | BV2: III | BW2: III | BX2: III | BY2: III | BZ2: III | CA2: III | CB2: III | CC2: III | CD2: III | CE2: III | CF2: III | CG2: III | CH2: III | CI2: III | CJ2: III | CK2: III | CL2: III | CM2: III | CN2: III | CO2: III | CP2: III | CQ2: III | CR2: III | CS2: III | CT2: III | CU2: III | CV2: III | CW2: III | CX2: III | CY2: III | CZ2: III | DA2: III | DB2: III | DC2: III | DD2: III | DE2: III | DF2: III | DG2: III | DH2: III | DI2: III | DJ2: III | DK2: III | DL2: III | DM2: III | DN2: III | DO2: III | DP2: III | DQ2: III | DR2: III | DS2: III | DT2: III | DU2: III | DV2: III | DW2: III | DX2: III | DY2: III | DZ2: III | EA2: III | EB2: III | EC2: III | ED2: III | EE2: III | EF2: III | EG2: III | EH2: 1юн | EI2: 1юн | EJ2: 2юн | EK2: 2юн | EL2: 3юн | EM2: 3юн | EN2: б/р
L3: КОМИТЕТ ПО ФИЗИЧЕСКОЙ КУЛЬТУРЕ И СПОРТУ САНКТ-ПЕТЕРБУРГА
L4: СПОРТИВНАЯ ФЕДЕРАЦИЯ ЛЕГКОЙ АТЛЕТИКИ САНКТ-ПЕТЕРБУРГА
L6: Первенство России по легкой атлетике
L7: (среди юниоров и юниорок до 23 лет) в помещении
D8: 44.57 | F8: Рекорд Мира 23
D9: 45.39 | F9: Рекорд Европы 23 | L9: ИТОГОВЫЙ ПРОТОКОЛ
D10: 46.18 | F10: Рекорд России 23
L11: ЮНИОРЫ
D13: Санкт-Петербург, Легкоатлетический манеж | T13: 19 - 21 февраля 2019 г.
D15: Место | E15: ф | F15: Номер | G15: Фамилия | H15: Имя | I15: Дата рожд | J15: Разр. | K15: Территория | M15: Команда | N15: Результаты | R15: Разряд | S15: ОЧКИ | T15: Тренер
H17: 19 февраля 2019 г. | I17: Забеги 17:35 - 18:10 | T17: Бег 400 м
H18: 20 февраля 2019 г. | I18: Финал 18:35 -18:40 | N18: забеги | O18: Q | P18: финал
D20: 1 | E20: ф1 | F20: 308 | G20: ВЕРХОВЫХ | H20: Рудольф | I20: 03.09.1998 | J20: МС | K20: Свердловская область Челябинская область | M20: СШОР Мосеева, ЦСП | N20: 47.37 | O20: q | P20: 47.02 | Q20: =IF(OR(P20="",P20="dns",P20="dnf",P20="dq"),N20,IF(P20>N20,N20,P20)) -> 47.02 | R20: =IF(OR(Q20="",Q20="н/я",Q20="сошёл",Q20="сошла",EXACT("дискв", LEFT(Q20,5))),"",LOOKUP(Q20,$S$1:$AK$1,$S$2:$AK$2)) -> мс | S20: 25 | T20: Трегубова В.В., Хрущелева Н.П., Петалова О.В.
D21: 2 | E21: ф2 | F21: 264 | G21: ФЕДЯЕВ | H21: Максим | I21: 01.12.1997 | J21: МСМК | K21: Московская область Курская область | M21: МБУ СШОР "Железногорск", УОР №1 Московская обл, ГБУ МО "ЦСП ОВС", СШОР Железногорск | N21: 47.67 | O21: q | P21: 47.5 | Q21: =IF(OR(P21="",P21="dns",P21="dnf",P21="dq"),N21,IF(P21>N21,N21,P21)) -> 47.5 | R21: =IF(OR(Q21="",Q21="н/я",Q21="сошёл",Q21="сошла",EXACT("дискв", LEFT(Q21,5))),"",LOOKUP(Q21,$S$1:$AK$1,$S$2:$AK$2)) -> мс | S21: 22 | T21: Тихонов А.В., Тихонова М.С., Сударева Н.И.
D22: 3 | E22: ф3 | F22: 238 | G22: РАЗУМОВ | H22: Дмитрий | I22: 19.08.1999 | J22: МС | K22: Томская область | M22: СДЮСШОР № 1, ТО СШОР, СибГУОР | N22: 48.05 | O22: q | P22: 47.72 | Q22: 48.05 | R22: =IF(OR(Q22="",Q22="н/я",Q22="сошёл",Q22="сошла",EXACT("дискв", LEFT(Q22,5))),"",LOOKUP(Q22,$S$1:$AK$1,$S$2:$AK$2)) -> мс | S22: 20 | T22: Андреев А.А., Сергеева Е.А., Геворкян Р.О.
D23: 4 | E23: ф4 | F23: 265 | G23: ФИЛИППОВ | H23: Егор | I23: 04.07.1999 | J23: МС | K23: Московская область | M23: ГБУ МО "СШОР", ВС СКА, ГБУ МО "ЦСП ОВС" | N23: 48.22 | O23: q | P23: 47.74 | Q23: =IF(OR(P23="",P23="dns",P23="dnf",P23="dq"),N23,IF(P23>N23,N23,P23)) -> 47.74 | R23: =IF(OR(Q23="",Q23="н/я",Q23="сошёл",Q23="сошла",EXACT("дискв", LEFT(Q23,5))),"",LOOKUP(Q23,$S$1:$AK$1,$S$2:$AK$2)) -> мс | S23: 19 | T23: Чебыкина Т.Г., Матюхин Н.И., Ларюкова Е.М.
D24: 5 | E24: ф5 | F24: 261 | G24: КАРАСЁВ | H24: Леонид | I24: 30.07.1998 | J24: МС | K24: Московская область Брянская область | M24: БГУОР, БО СШОР по легкой атлетике им.В.Д.Самотесова, ГБУ МО "СШОР", ГБУ МО "ЦСП ОВС" | N24: 48.23 | O24: q | P24: 48.18 | Q24: =IF(OR(P24="",P24="dns",P24="dnf",P24="dq"),N24,IF(P24>N24,N24,P24)) -> 48.18 | R24: =IF(OR(Q24="",Q24="н/я",Q24="сошёл",Q24="сошла",EXACT("дискв", LEFT(Q24,5))),"",LOOKUP(Q24,$S$1:$AK$1,$S$2:$AK$2)) -> кмс | S24: 13 | T24: Белова С.И., Белова Е.А., Шармин Е.А.
D25: 6 | E25: ф6 | F25: 54 | G25: КУКАЛЕВ | H25: Вадим | I25: 22.08.1998 | J25: КМС | K25: Тюменская область | M25: ЦСП 72 | N25: 48.35 | O25: q | P25: 48.98 | Q25: =IF(OR(P25="",P25="dns",P25="dnf",P25="dq"),N25,IF(P25>N25,N25,P25)) -> 48.35 | R25: =IF(OR(Q25="",Q25="н/я",Q25="сошёл",Q25="сошла",EXACT("дискв", LEFT(Q25,5))),"",LOOKUP(Q25,$S$1:$AK$1,$S$2:$AK$2)) -> кмс | S25: 12 | T25: Сивченко А.В., Краус А.А., Ледовская О.А.
D26: 7 | E26: ф7 | F26: 443 | G26: НИКИТИН | H26: Олег | I26: 06.06.1997 | J26: КМС | K26: Ульяновская область | M26: ССШОР по лёгкой атлетике | N26: 48.45 | Q26: =IF(OR(P26="",P26="dns",P26="dnf",P26="dq"),N26,IF(P26>N26,N26,P26)) -> 48.45 | R26: =IF(OR(Q26="",Q26="н/я",Q26="сошёл",Q26="сошла",EXACT("дискв", LEFT(Q26,5))),"",LOOKUP(Q26,$S$1:$AK$1,$S$2:$AK$2)) -> кмс | S26: 11 | T26: Маркин М.О.
D27: 8 | E27: ф8 | F27: 386 | G27: ЛОГИНОВ | H27: Иван | I27: 19.06.1997 | J27: МС | K27: Москва Владимирская область | M27: ГБУ "ЦСП по легкой атлетике", СШОР ЮНОСТЬ МОСКВЫ, СШОР-4, СДЮСШОР-4 | N27: 48.5 | Q27: =IF(OR(P27="",P27="dns",P27="dnf",P27="dq"),N27,IF(P27>N27,N27,P27)) -> 48.5 | R27: =IF(OR(Q27="",Q27="н/я",Q27="сошёл",Q27="сошла",EXACT("дискв", LEFT(Q27,5))),"",LOOKUP(Q27,$S$1:$AK$1,$S$2:$AK$2)) -> кмс | S27: лич | T27: Бурлаков О.П.
D28: 9 | F28: 162 | G28: ПРОКОФЬЕВ | H28: Константин | I28: 03.11.1997 | J28: КМС | K28: Санкт-Петербург-1 | M28: СПб ГБУ СШОР "Академия легкой атлетики Санкт-Петербурга" | N28: 48.61 | Q28: =IF(OR(P28="",P28="dns",P28="dnf",P28="dq"),N28,IF(P28>N28,N28,P28)) -> 48.61 | R28: =IF(OR(Q28="",Q28="н/я",Q28="сошёл",Q28="сошла",EXACT("дискв", LEFT(Q28,5))),"",LOOKUP(Q28,$S$1:$AK$1,$S$2:$AK$2)) -> кмс | S28: 10 | T28: Седых Л.А., Жубряков Г.Н.
D29: 10 | F29: 60 | G29: КАРПОВ | H29: Андрей | I29: 11.02.1997 | J29: КМС | K29: Нижегородская область | M29: ДЮСШ "Икар", МБУ КСШОР № 1 | N29: 48.73 | Q29: =IF(OR(P29="",P29="dns",P29="dnf",P29="dq"),N29,IF(P29>N29,N29,P29)) -> 48.73 | R29: =IF(OR(Q29="",Q29="н/я",Q29="сошёл",Q29="сошла",EXACT("дискв", LEFT(Q29,5))),"",LOOKUP(Q29,$S$1:$AK$1,$S$2:$AK$2)) -> кмс | S29: 9 | T29: Ясницкий К.В.
D30: 11 | F30: 204 | G30: ФЁДОРОВ | H30: Андрей | I30: 08.02.1997 | J30: КМС | K30: Курская область | M30: СШОР Железногорск | N30: 48.77 | Q30: =IF(OR(P30="",P30="dns",P30="dnf",P30="dq"),N30,IF(P30>N30,N30,P30)) -> 48.77 | R30: =IF(OR(Q30="",Q30="н/я",Q30="сошёл",Q30="сошла",EXACT("дискв", LEFT(Q30,5))),"",LOOKUP(Q30,$S$1:$AK$1,$S$2:$AK$2)) -> кмс | S30: 8 | T30: Орехов А.В., Орехов Р.А.
D31: 12 | F31: 475 | G31: СИДОРОВ | H31: Алексей | I31: 22.01.1997 | J31: КМС | K31: Челябинская область | M31: СШОР Мосеева | N31: 48.86 | Q31: =IF(OR(P31="",P31="dns",P31="dnf",P31="dq"),N31,IF(P31>N31,N31,P31)) -> 48.86 | R31: =IF(OR(Q31="",Q31="н/я",Q31="сошёл",Q31="сошла",EXACT("дискв", LEFT(Q31,5))),"",LOOKUP(Q31,$S$1:$AK$1,$S$2:$AK$2)) -> кмс | S31: лич | T31: Метликина Л.П., Петров Д.Ю.
D32: 13 | F32: 86 | G32: МАСЮТЕНКО | H32: Александр | I32: 27.04.1998 | J32: КМС | K32: Краснодарский край | M32: "ГБУ КК "ЦОП по Л/А", ГБУ КК "РЦСП по л/а" | N32: 49.02 | Q32: =IF(OR(P32="",P32="dns",P32="dnf",P32="dq"),N32,IF(P32>N32,N32,P32)) -> 49.02 | R32: =IF(OR(Q32="",Q32="н/я",Q32="сошёл",Q32="сошла",EXACT("дискв", LEFT(Q32,5))),"",LOOKUP(Q32,$S$1:$AK$1,$S$2:$AK$2)) -> кмс | S32: лич | T32: Романов А.В.
D33: 14 | F33: 375 | G33: ГЕДАЕВ | H33: Олег | I33: 01.09.1998 | J33: КМС | K33: Москва | M33: ГБУ "ЦСП по легкой атлетике" | N33: 49.04 | Q33: =IF(OR(P33="",P33="dns",P33="dnf",P33="dq"),N33,IF(P33>N33,N33,P33)) -> 49.04 | R33: =IF(OR(Q33="",Q33="н/я",Q33="сошёл",Q33="сошла",EXACT("дискв", LEFT(Q33,5))),"",LOOKUP(Q33,$S$1:$AK$1,$S$2:$AK$2)) -> кмс | S33: лич | T33: Вдовин М.В., Полоницкий А.Е.
D34: 15 | F34: 314 | G34: МАРКУНАСОВ | H34: Антон | I34: 07.11.1998 | J34: КМС | K34: Свердловская область Челябинская область | M34: СК Спутник; УОР, СШОР Мосеева, ЦСП | N34: 49.07 | Q34: =IF(OR(P34="",P34="dns",P34="dnf",P34="dq"),N34,IF(P34>N34,N34,P34)) -> 49.07 | R34: =IF(OR(Q34="",Q34="н/я",Q34="сошёл",Q34="сошла",EXACT("дискв", LEFT(Q34,5))),"",LOOKUP(Q34,$S$1:$AK$1,$S$2:$AK$2)) -> кмс | S34: 7 | T34: Аллеборн Е.В., Хрущелева Н.П., Шарков С.В.
D35: 16 | F35: 276 | G35: ЛЫСЕНКО | H35: Владимир | I35: 10.06.1998 | J35: МС | K35: Московская область | M35: ГБУ МО "ЦСП ОВС", УОР №2 | N35: 49.09 | Q35: =IF(OR(P35="",P35="dns",P35="dnf",P35="dq"),N35,IF(P35>N35,N35,P35)) -> 49.09 | R35: =IF(OR(Q35="",Q35="н/я",Q35="сошёл",Q35="сошла",EXACT("дискв", LEFT(Q35,5))),"",LOOKUP(Q35,$S$1:$AK$1,$S$2:$AK$2)) -> кмс | S35: лич | T35: Мащенко Р.М.
D36: 17 | F36: 28 | G36: ШКУРОВ | H36: Алексей | I36: 17.06.1998 | J36: КМС | K36: Самарская область | M36: СШОР № 2 г. Самара | N36: 49.13 | Q36: =IF(OR(P36="",P36="dns",P36="dnf",P36="dq"),N36,IF(P36>N36,N36,P36)) -> 49.13 | R36: =IF(OR(Q36="",Q36="н/я",Q36="сошёл",Q36="сошла",EXACT("дискв", LEFT(Q36,5))),"",LOOKUP(Q36,$S$1:$AK$1,$S$2:$AK$2)) -> кмс | S36: 6 | T36: Татаренков А.В., Лобачёва Е.Н.
D37: 18 | F37: 145 | G37: ЛУКАХИН | H37: Даниил | I37: 15.06.1998 | J37: КМС | K37: Санкт-Петербург | M37: СПб ГБУ СШОР "Академия легкой атлетики Санкт-Петербурга" | N37: 49.18 | Q37: =IF(OR(P37="",P37="dns",P37="dnf",P37="dq"),N37,IF(P37>N37,N37,P37)) -> 49.18 | R37: =IF(OR(Q37="",Q37="н/я",Q37="сошёл",Q37="сошла",EXACT("дискв", LEFT(Q37,5))),"",LOOKUP(Q37,$S$1:$AK$1,$S$2:$AK$2)) -> кмс | S37: лич | T37: Семененок М.Е., Лапина Н.П.
D38: 19 | F38: 37 | G38: МАТВЕЕВ | H38: Никита | I38: 28.03.2000 | J38: КМС | K38: Ямало-Ненецкий автономный округ Владимирская область | M38: СДЮСШОР АВАНГАРД, СШОР-4, СДЮСШОР 4 | N38: 49.23 | Q38: =IF(OR(P38="",P38="dns",P38="dnf",P38="dq"),N38,IF(P38>N38,N38,P38)) -> 49.23 | R38: =IF(OR(Q38="",Q38="н/я",Q38="сошёл",Q38="сошла",EXACT("дискв", LEFT(Q38,5))),"",LOOKUP(Q38,$S$1:$AK$1,$S$2:$AK$2)) -> кмс | S38: 5 | T38: Плотников П.Н., Хангельдиев Г.А., Плотников А.Н.
D39: 20 | F39: 390 | G39: РУБЦОВ | H39: Артем | I39: 30.05.1998 | J39: КМС | K39: Москва Оренбургская область | M39: ГБУ "МГФСО", ГАУ "ЦСП Оренбургской области" | N39: 49.46 | Q39: =IF(OR(P39="",P39="dns",P39="dnf",P39="dq"),N39,IF(P39>N39,N39,P39)) -> 49.46 | R39: =IF(OR(Q39="",Q39="н/я",Q39="сошёл",Q39="сошла",EXACT("дискв", LEFT(Q39,5))),"",LOOKUP(Q39,$S$1:$AK$1,$S$2:$AK$2)) -> кмс | S39: лич | T39: Голубенко Ю.И., Кирамов С.Х.
D40: 21 | F40: 40 | G40: РОДИЧЕВ | H40: Никита | I40: 31.01.1999 | J40: КМС | K40: Курганская область | M40: КУОР | N40: 49.47 | Q40: =IF(OR(P40="",P40="dns",P40="dnf",P40="dq"),N40,IF(P40>N40,N40,P40)) -> 49.47 | R40: =IF(OR(Q40="",Q40="н/я",Q40="сошёл",Q40="сошла",EXACT("дискв", LEFT(Q40,5))),"",LOOKUP(Q40,$S$1:$AK$1,$S$2:$AK$2)) -> кмс | S40: 4 | T40: Хаменя С.В., Колесникова Е.А.
D41: 22 | F41: 312 | G41: ПРАЩЕРУК | H41: Евгений | I41: 23.07.1997 | J41: КМС | K41: Свердловская область | M41: СК ЛУЧ, РГППУ, ЦСП | N41: 49.53 | Q41: =IF(OR(P41="",P41="dns",P41="dnf",P41="dq"),N41,IF(P41>N41,N41,P41)) -> 49.53 | R41: =IF(OR(Q41="",Q41="н/я",Q41="сошёл",Q41="сошла",EXACT("дискв", LEFT(Q41,5))),"",LOOKUP(Q41,$S$1:$AK$1,$S$2:$AK$2)) -> кмс | S41: 3 | T41: Гусаренко В.С., Колпаков Н.В.
D42: 23 | F42: 442 | G42: ГРИГОРЧЕНКО | H42: Дмитрий | I42: 08.02.1998 | J42: КМС | K42: Ульяновская область | M42: ССШОР по лёгкой атлетике | N42: 49.56 | Q42: =IF(OR(P42="",P42="dns",P42="dnf",P42="dq"),N42,IF(P42>N42,N42,P42)) -> 49.56 | R42: =IF(OR(Q42="",Q42="н/я",Q42="сошёл",Q42="сошла",EXACT("дискв", LEFT(Q42,5))),"",LOOKUP(Q42,$S$1:$AK$1,$S$2:$AK$2)) -> кмс | S42: 2 | T42: Ковалев А.Л., Краснобаев А.А.
D43: 24 | F43: 290 | G43: БАСТЫЛОВ | H43: Кирилл | I43: 10.10.1998 | J43: КМС | K43: Пензенская область | M43: КСШОР | N43: 49.66 | Q43: =IF(OR(P43="",P43="dns",P43="dnf",P43="dq"),N43,IF(P43>N43,N43,P43)) -> 49.66 | R43: =IF(OR(Q43="",Q43="н/я",Q43="сошёл",Q43="сошла",EXACT("дискв", LEFT(Q43,5))),"",LOOKUP(Q43,$S$1:$AK$1,$S$2:$AK$2)) -> кмс | S43: 1 | T43: Краснов Р.Б.
D44: 25 | F44: 392 | G44: САФРОНОВ | H44: Эдуард | I44: 15.09.1998 | J44: КМС | K44: Москва | M44: ГБУ "МГФСО" | N44: 49.75 | Q44: =IF(OR(P44="",P44="dns",P44="dnf",P44="dq"),N44,IF(P44>N44,N44,P44)) -> 49.75 | R44: =IF(OR(Q44="",Q44="н/я",Q44="сошёл",Q44="сошла",EXACT("дискв", LEFT(Q44,5))),"",LOOKUP(Q44,$S$1:$AK$1,$S$2:$AK$2)) -> кмс | S44: лич
D45: 26 | F45: 468 | G45: БЫЗОВ | H45: Михаил | I45: 12.05.1999 | J45: КМС | K45: Челябинская область | M45: СШОР Елесиной | N45: 49.78 | Q45: =IF(OR(P45="",P45="dns",P45="dnf",P45="dq"),N45,IF(P45>N45,N45,P45)) -> 49.78 | R45: =IF(OR(Q45="",Q45="н/я",Q45="сошёл",Q45="сошла",EXACT("дискв", LEFT(Q45,5))),"",LOOKUP(Q45,$S$1:$AK$1,$S$2:$AK$2)) -> кмс | S45: лич | T45: Казачук А.Б.
...

Sheet 800Ю
M1: МИНИСТЕРСТВО СПОРТА РОССИЙСКОЙ ФЕДЕРАЦИИ | V1: 1.30,00 | W1: 1.48,10 | X1: 1.48,101 | Y1: 1.50,84 | Z1: 1.50,841 | AA1: 1.56,34 | AB1: 1.56,341 | AC1: 2.02,84 | AD1: 2.02,841 | AE1: 2.11,84 | AF1: 2.11,841 | AG1: 2.21,84 | AH1: 2.21,841 | AI1: 2.32,84 | AJ1: 2.32,841 | AK1: 2.44,84 | AL1: 2.44,841 | AM1: 2.59,84 | AN1: 2.59,841
M2: ВСЕРОССИЙСКАЯ ФЕДЕРАЦИЯ ЛЕГКОЙ АТЛЕТИКИ | V2: мсмк | W2: мсмк | X2: мс | Y2: мс | Z2: кмс | AA2: кмс | AB2: I | AC2: I | AD2: II | AE2: II | AF2: III | AG2: III | AH2: 1юн | AI2: 1юн | AJ2: 2юн | AK2: 2юн | AL2: 3юн | AM2: 3юн | AN2: б/р
M3: КОМИТЕТ ПО ФИЗИЧЕСКОЙ КУЛЬТУРЕ И СПОРТУ САНКТ-ПЕТЕРБУРГА
M4: СПОРТИВНАЯ ФЕДЕРАЦИЯ ЛЕГКОЙ АТЛЕТИКИ САНКТ-ПЕТЕРБУРГА
M6: Первенство России по легкой атлетике | V6: 1.30,00 | W6: 1.48,10 | X6: 1.48,101 | Y6: 1.50,84 | Z6: 1.50,841 | AA6: 1.56,34 | AB6: 1.56,341 | AC6: 2.02,84 | AD6: 2.02,841 | AE6: 2.11,84 | AF6: 2.11,841 | AG6: 2.21,84 | AH6: 2.21,841 | AI6: 2.32,84 | AJ6: 2.32,841 | AK6: 2.44,84 | AL6: 2.44,841 | AM6: 2.59,84 | AN6: 2.59,841
M7: (среди юниоров и юниорок до 23 лет) в помещении | V7: мсмк | W7: мсмк | X7: мс | Y7: мс | Z7: кмс | AA7: кмс | AB7: I | AC7: I | AD7: II | AE7: II | AF7: III | AG7: III | AH7: 1юн | AI7: 1юн | AJ7: 2юн | AK7: 2юн | AL7: 3юн | AM7: 3юн | AN7: б/р
D8: 1.44,15 | F8: Рекорд Мира 23
D9: 1.44,15 | F9: Рекорд Европы 23 | M9: ИТОГОВЫЙ ПРОТОКОЛ
D10: 1.44,15 | F10: Рекорд России 23
M11: ЮНИОРЫ
D13: Санкт-Петербург, Легкоатлетический манеж | T13: 19 - 21 февраля 2019 г.
D15: Место | E15: ф | F15: Номер | G15: Фамилия | H15: Имя | I15: Дата рожд | J15: Разр. | K15: Территория | M15: Организация | N15: Результаты | R15: Разряд | S15: ОЧКИ | T15: Тренер
H17: 19 февраля 2019 г. | I17: Забеги 15:40 -16:05 | T17: Бег 800 м
H18: 20 февраля 2019 г. | I18: Финал 17:10 - 17:15 | N18: забеги | O18: Q | P18: финал
D20: 1 | E20: ф1 | F20: 259 | G20: ЗУЕВ | H20: Константин | I20: 23.12.1998 | J20: КМС | K20: Московская область | M20: ДЮСШ "Сатурн", УОР №1 | N20: 1.50,23 | O20: Q | P20: 1.50,17 | Q20: =IF(OR(P20="",P20="dns",P20="dnf",P20="dq"),N20,IF(P20>N20,N20,P20)) -> 1.50,17 | R20: =LOOKUP(Q20,$V$1:$AN$1,$V$2:$AN$2) -> мс | S20: 25 | T20: Никифоров А.М., Сударева Н.И.
D21: 2 | E21: ф4 | F21: 344 | G21: РАЩУПКИН | H21: Игорь | I21: 03.09.1997 | J21: КМС | K21: Москва-1 | M21: СШОР Юность Москвы по л/а им.бр.Знаменских | N21: 1.51,38 | O21: Q | P21: 1.50,20 | Q21: =IF(OR(P21="",P21="dns",P21="dnf",P21="dq"),N21,IF(P21>N21,N21,P21)) -> 1.50,20 | R21: =LOOKUP(Q21,$V$1:$AN$1,$V$2:$AN$2) -> мс | S21: 22 | T21: Граудынь В.В., Бирюков В.Н.
D22: 3 | E22: ф6 | F22: 446 | G22: ШМЕЛЕВ | H22: Ярослав | I22: 02.02.2000 | J22: КМС | K22: Ульяновская область | M22: ССШОР по лёгкой атлетике | N22: 1.52,20 | O22: Q | P22: 1.51,90 | Q22: =IF(OR(P22="",P22="dns",P22="dnf",P22="dq"),N22,IF(P22>N22,N22,P22)) -> 1.51,90 | R22: =LOOKUP(Q22,$V$1:$AN$1,$V$2:$AN$2) -> кмс | S22: 15 | T22: Павлова Р.А., Лаврентьев В.А., Анисимова Е.А.
D23: 4 | E23: ф3 | F23: 91 | G23: МОРОЗКИН | H23: Вадим | I23: 30.09.1997 | J23: КМС | K23: Республика Мордовия | M23: СШОР им П.Г. Болотникова | N23: 1.50,80 | O23: Q | P23: 1.52,01 | Q23: =IF(OR(P23="",P23="dns",P23="dnf",P23="dq"),N23,IF(P23>N23,N23,P23)) -> 1.50,80 | R23: =LOOKUP(Q23,$V$1:$AN$1,$V$2:$AN$2) -> мс | S23: 19 | T23: Аверкин В.В., Нуштаев Е.А.
D24: 5 | E24: ф5 | F24: 514 | G24: МАЗНЫЙ | H24: Богдан | I24: 26.10.1999 | J24: КМС | K24: ЮФО (К) | M24: ГБУ РК "СШОР по легкой атлетике № 1" | N24: 1.52,01 | O24: Q | P24: 1.52,44 | Q24: =IF(OR(P24="",P24="dns",P24="dnf",P24="dq"),N24,IF(P24>N24,N24,P24)) -> 1.52,01 | R24: =LOOKUP(Q24,$V$1:$AN$1,$V$2:$AN$2) -> кмс | S24: 13 | T24: Дубовик А.И.
D25: 6 | E25: ф8 | F25: 393 | G25: СИНЕНКОВ | H25: Кирилл | I25: 29.08.1998 | J25: КМС | K25: Москва | M25: ГБУ ФСО "ЮМ" СШОР им.бр. Знаменских | N25: 1.52,92 | O25: Q | P25: 1.52,60 | Q25: =IF(OR(P25="",P25="dns",P25="dnf",P25="dq"),N25,IF(P25>N25,N25,P25)) -> 1.52,60 | R25: =LOOKUP(Q25,$V$1:$AN$1,$V$2:$AN$2) -> кмс | S25: лич | T25: Фоменков Ю.Н.
D26: 7 | E26: ф2 | F26: 466 | G26: ЧЕШЕВ | H26: Максим | I26: 25.12.1997 | J26: КМС | K26: Челябинская область | M26: СШОР 1 Магнитогорск | N26: 1.50,73 | O26: Q | P26: 1.53,87 | Q26: =IF(OR(P26="",P26="dns",P26="dnf",P26="dq"),N26,IF(P26>N26,N26,P26)) -> 1.50,73 | R26: =LOOKUP(Q26,$V$1:$AN$1,$V$2:$AN$2) -> мс | S26: 17 | T26: Чешев А.А.
D27: 8 | E27: ф7 | F27: 74 | G27: СМОЛЬНЯКОВСКИЙ | H27: Даниил | I27: 06.04.1998 | J27: КМС | K27: Краснодарский край Ставропольский край | M27: ЦСКА, ГБУ СК РЦСП, ГБУ КК "РЦСП по л/а" | N27: 1.52,79 | O27: Q | P27: 1.54,29 | Q27: =IF(OR(P27="",P27="dns",P27="dnf",P27="dq"),N27,IF(P27>N27,N27,P27)) -> 1.52,79 | R27: =LOOKUP(Q27,$V$1:$AN$1,$V$2:$AN$2) -> кмс | S27: 11 | T27: Иванов Н.А., Татаринцев А.Г., Татаринцев С.А.
D28: 9 | F28: 241 | G28: САВЛУКОВ | H28: Савелий | I28: 06.01.2000 | J28: 1 | K28: Алтайский край | M28: г.Барнаул СШОР № 2 | N28: 1.53,18 | Q28: =IF(OR(P28="",P28="dns",P28="dnf",P28="dq"),N28,IF(P28>N28,N28,P28)) -> 1.53,18 | R28: =LOOKUP(Q28,$V$1:$AN$1,$V$2:$AN$2) -> кмс | S28: 10 | T28: Клевцова Н.В., Панина Е.А.
D29: 10 | F29: 460 | G29: МЯГКИЙ | H29: Марк | I29: 11.04.1998 | J29: КМС | K29: Челябинская область | M29: СШОР Мосеева | N29: 1.53,36 | Q29: =IF(OR(P29="",P29="dns",P29="dnf",P29="dq"),N29,IF(P29>N29,N29,P29)) -> 1.53,36 | R29: =LOOKUP(Q29,$V$1:$AN$1,$V$2:$AN$2) -> кмс | S29: 9 | T29: Князев С.А.
D30: 11 | F30: 248 | G30: КОЛМАГОРОВ | H30: Эдуард | I30: 04.04.1999 | J30: КМС | K30: Забайкальский край | M30: ЗабГУ, МБУ "СШОР №2" г. Чита, ГУ "РЦСП" | N30: 1.53,42 | Q30: =IF(OR(P30="",P30="dns",P30="dnf",P30="dq"),N30,IF(P30>N30,N30,P30)) -> 1.53,42 | R30: =LOOKUP(Q30,$V$1:$AN$1,$V$2:$AN$2) -> кмс | S30: 8 | T30: Седаков С.Э.
D31: 12 | F31: 142 | G31: ЛИМОНОВ | H31: Егор | I31: 22.06.1999 | J31: 1 | K31: Санкт-Петербург | M31: Беговой клуб " Второе дыхание" | N31: 1.53,58 | Q31: =IF(OR(P31="",P31="dns",P31="dnf",P31="dq"),N31,IF(P31>N31,N31,P31)) -> 1.53,58 | R31: =LOOKUP(Q31,$V$1:$AN$1,$V$2:$AN$2) -> кмс | S31: лич | T31: Бабчин О.И.
D32: 13 | F32: 87 | G32: РАХМАНОВ | H32: Руслан | I32: 24.04.1997 | J32: КМС | K32: Краснодарский край | M32: ГБУ КК "РЦСП по л/а", "ГБУ КК "ЦОП по Л/А" | N32: 1.53,60 | Q32: =IF(OR(P32="",P32="dns",P32="dnf",P32="dq"),N32,IF(P32>N32,N32,P32)) -> 1.53,60 | R32: =LOOKUP(Q32,$V$1:$AN$1,$V$2:$AN$2) -> кмс | S32: лич | T32: Гуков А.О.
D33: 14 | F33: 338 | G33: КРИВЧИКОВ | H33: Егор | I33: 07.05.1998 | J33: КМС | K33: Ростовская область | M33: РОУОР | N33: 1.53,82 | Q33: =IF(OR(P33="",P33="dns",P33="dnf",P33="dq"),N33,IF(P33>N33,N33,P33)) -> 1.53,82 | R33: =LOOKUP(Q33,$V$1:$AN$1,$V$2:$AN$2) -> кмс | S33: 7 | T33: Чижов В.Е., Вовк Т.И.
D34: 15 | F34: 342 | G34: БУБНЕВ | H34: Алексей | I34: 16.03.1998 | J34: КМС | K34: Калужская область | M34: СШОР "Темп" г. Калуги | N34: 1.53,86 | Q34: =IF(OR(P34="",P34="dns",P34="dnf",P34="dq"),N34,IF(P34>N34,N34,P34)) -> 1.53,86 | R34: =LOOKUP(Q34,$V$1:$AN$1,$V$2:$AN$2) -> кмс | S34: 6 | T34: Зайцева З.Х., Богданов Д.А.
D35: 16 | F35: 167 | G35: СЕМЕНОВ | H35: Владислав | I35: 07.06.1999 | J35: КМС | K35: Санкт-Петербург | M35: СПб ГБУ СШОР "Академия легкой атлетики Санкт-Петербурга", СПб ГБПОУ "УОР № 1 | N35: 1.54,20 | Q35: =IF(OR(P35="",P35="dns",P35="dnf",P35="dq"),N35,IF(P35>N35,N35,P35)) -> 1.54,20 | R35: =LOOKUP(Q35,$V$1:$AN$1,$V$2:$AN$2) -> кмс | S35: лич | T35: Жолнерович В.И., Семенов В.
D36: 17 | F36: 155 | G36: НОСКОВ | H36: Владислав | I36: 19.12.1997 | J36: КМС | K36: Санкт-Петербург | M36: СПб ГБУ СШОР "Академия легкой атлетики Санкт-Петербурга" | N36: 1.54,21 | Q36: =IF(OR(P36="",P36="dns",P36="dnf",P36="dq"),N36,IF(P36>N36,N36,P36)) -> 1.54,21 | R36: =LOOKUP(Q36,$V$1:$AN$1,$V$2:$AN$2) -> кмс | S36: лич | T36: Глушак П.Б., Глушак Н.М.
D37: 18 | F37: 177 | G37: ТКАЧ | H37: Владислав | I37: 18.04.1999 | J37: КМС | K37: Санкт-Петербург | M37: СШ Красногвардейского района ( Санкт-Петербург) | N37: 1.54,56 | Q37: =IF(OR(P37="",P37="dns",P37="dnf",P37="dq"),N37,IF(P37>N37,N37,P37)) -> 1.54,56 | R37: =LOOKUP(Q37,$V$1:$AN$1,$V$2:$AN$2) -> кмс | S37: лич | T37: Морозова Н.И., Морозов В.И.
D38: 19 | F38: 401 | G38: ЗАХАРОВ | H38: Эдгар | I38: 26.04.2001 | J38: КМС | K38: Республика Татарстан | M38: ДЮСШ 1 Бавлы | N38: 1.54,70 | Q38: =IF(OR(P38="",P38="dns",P38="dnf",P38="dq"),N38,IF(P38>N38,N38,P38)) -> 1.54,70 | R38: =LOOKUP(Q38,$V$1:$AN$1,$V$2:$AN$2) -> кмс | S38: 5 | T38: Фахриев М.М.
D39: 20 | F39: 313 | G39: ЕМЕЛЬЯНОВ | H39: Денис | I39: 18.01.1999 | J39: КМС | K39: Свердловская область | M39: ЛУЧ, ЕЭТК, ЦСП | N39: 1.54,72 | Q39: =IF(OR(P39="",P39="dns",P39="dnf",P39="dq"),N39,IF(P39>N39,N39,P39)) -> 1.54,72 | R39: =LOOKUP(Q39,$V$1:$AN$1,$V$2:$AN$2) -> кмс | S39: 4 | T39: Львов Г.Г., Масаев Е.Р., Масаева Е.В.
D40: 21 | F40: 461 | G40: НИКИТИН | H40: Артемий | I40: 26.07.1999 | J40: КМС | K40: Челябинская область | M40: СШОР 1 Магнитогорск | N40: 1.54,73 | Q40: =IF(OR(P40="",P40="dns",P40="dnf",P40="dq"),N40,IF(P40>N40,N40,P40)) -> 1.54,73 | R40: =LOOKUP(Q40,$V$1:$AN$1,$V$2:$AN$2) -> кмс | S40: 3 | T40: Андреева М.В., Андреев А.Н., Рыжкова Т.В.
D41: 22 | F41: 64 | G41: ПОСТВАЙКИН | H41: Кирилл | I41: 27.07.1997 | J41: 1 | K41: Нижегородская область | M41: НА МВД РФ, МБУ КСШОР № 1 | N41: 1.54,85 | Q41: =IF(OR(P41="",P41="dns",P41="dnf",P41="dq"),N41,IF(P41>N41,N41,P41)) -> 1.54,85 | R41: =LOOKUP(Q41,$V$1:$AN$1,$V$2:$AN$2) -> кмс | S41: 2 | T41: Свиридов А.И., Ясницкий К.В.
D42: 23 | F42: 288 | G42: КОМИССАРЕНКО | H42: Станислав | I42: 07.12.1998 | J42: КМС | K42: Рязанская область | M42: СШОР "Олимпиец" | N42: 1.55,07 | Q42: =IF(OR(P42="",P42="dns",P42="dnf",P42="dq"),N42,IF(P42>N42,N42,P42)) -> 1.55,07 | R42: =LOOKUP(Q42,$V$1:$AN$1,$V$2:$AN$2) -> кмс | S42: 1 | T42: Куделина Н.М.
D43: 24 | F43: 13 | G43: АСТРАХАНСКИЙ | H43: Алексей | I43: 05.02.1999 | J43: 1 | K43: Самарская область | M43: СДЮСШОР 3 ТОЛЬЯТТИ | N43: 1.55,27 | Q43: =IF(OR(P43="",P43="dns",P43="dnf",P43="dq"),N43,IF(P43>N43,N43,P43)) -> 1.55,27 | R43: =LOOKUP(Q43,$V$1:$AN$1,$V$2:$AN$2) -> кмс | S43: 1 | T43: Матрин Н.А.
D44: 25 | F44: 34 | G44: ПРОХОРЕЦ | H44: Алексей | I44: 31.10.1999 | J44: КМС | K44: Брянская область | M44: БГУОР, БО СШОР по легкой атлетике им.В.Д.Самотесова | N44: 1.55,49 | Q44: =IF(OR(P44="",P44="dns",P44="dnf",P44="dq"),N44,IF(P44>N44,N44,P44)) -> 1.55,49 | R44: =LOOKUP(Q44,$V$1:$AN$1,$V$2:$AN$2) -> кмс | S44: 1 | T44: Белова С.И., Белова Е.А.
D45: 26 | F45: 387 | G45: ЛЯЛЮШКИН | H45: Дмитрий | I45: 19.06.2001 | J45: 1 | K45: Москва | M45: СШ № 82 | N45: 1.55,53 | Q45: =IF(OR(P45="",P45="dns",P45="dnf",P45="dq"),N45,IF(P45>N45,N45,P45)) -> 1.55,53 | R45: =LOOKUP(Q45,$V$1:$AN$1,$V$2:$AN$2) -> кмс | S45: лич | T45: Ионов С.В.
...

Sheet 3000Ю
K1: МИНИСТЕРСТВО СПОРТА РОССИЙСКОЙ ФЕДЕРАЦИИ | S1: 73024 | T1: 75424 | U1: 75424.01 | V1: 80724 | W1: 80724.01 | X1: 83224 | Y1: 83224.01 | Z1: 90224 | AA1: 90224.01 | AB1: 94224 | AC1: 94224.01 | AD1: 102224 | AE1: 102224.01 | AF1: 110224 | AG1: 110224.01 | AH1: 120224 | AI1: 120224.01 | AJ1: 132224 | AK1: 132224.01
K2: ВСЕРОССИЙСКАЯ ФЕДЕРАЦИЯ ЛЕГКОЙ АТЛЕТИКИ | S2: мсмк | T2: мсмк | U2: мс | V2: мс | W2: кмс | X2: кмс | Y2: I | Z2: I | AA2: II | AB2: II | AC2: III | AD2: III | AE2: 1юн | AF2: 1юн | AG2: 2юн | AH2: 2юн | AI2: 3юн | AJ2: 3юн | AK2: б/р
K3: КОМИТЕТ ПО ФИЗИЧЕСКОЙ КУЛЬТУРЕ И СПОРТУ САНКТ-ПЕТЕРБУРГА
K4: СПОРТИВНАЯ ФЕДЕРАЦИЯ ЛЕГКОЙ АТЛЕТИКИ САНКТ-ПЕТЕРБУРГА | S4: 7.30,24 | T4: 7.54,24 | U4: 7.54,241 | V4: 8.07,24 | W4: 8.07,241 | X4: 8.32,24 | Y4: 8.32,241 | Z4: 9.02,24 | AA4: 9.02,241 | AB4: 9.42,24 | AC4: 9.42,241 | AD4: 10.22,24 | AE4: 10.22,241 | AF4: 11.02,24 | AG4: 11.02,241 | AH4: 12.02,24 | AI4: 12.02,241 | AJ4: 13.22,24 | AK4: 13.22,241
S5: мсмк | T5: мсмк | U5: мс | V5: мс | W5: кмс | X5: кмс | Y5: I | Z5: I | AA5: II | AB5: II | AC5: III | AD5: III | AE5: 1юн | AF5: 1юн | AG5: 2юн | AH5: 2юн | AI5: 3юн | AJ5: 3юн | AK5: б/р
K6: Первенство России по легкой атлетике
K7: (среди юниоров и юниорок до 23 лет) в помещении
D8: 7.24,90 | E8: Рекорд Мира 23
D9: 7.41,48 | E9: Рекорд Европы 23 | K9: ИТОГОВЫЙ ПРОТОКОЛ
D10: 7.52,90 | E10: Рекорд России 23
K11: ЮНИОРЫ
D13: Санкт-Петербург, Легкоатлетический манеж | Q13: 19 - 21 февраля 2019 г.
D15: Место | E15: Номер | F15: Фамилия | G15: Имя | H15: Дата рожд | I15: Разр. | J15: Территория | L15: Организация | M15: Результаты | O15: Разряд | P15: Очки | Q15: Тренер
F17: 19 февраля 2019 г. | J17: Финальные забеги 19:15-19:40 | Q17: Бег 3000 м
D19: 1 | E19: 68 | F19: ПЛОХОТНИКОВ | G19: Константин | H19: 24.03.1997 | I19: МС | J19: Краснодарский край | L19: ГБУ КК "РЦСП по л/а", "ГБУ КК "ЦОП по Л/А" | N19: 8.06,28 | O19: мс | P19: 25 | Q19: Гуков А.О., Синюк А.В., Фарносов В.А.
D20: 2 | E20: 246 | F20: ПОПОВ | G20: Андрей | H20: 20.04.1997 | I20: КМС | J20: Забайкальский край | L20: ГУ РЦСП, ЗабГУ, ГБУ СШОР №2 Забайкальского края | N20: 8.14,49 | O20: кмс | P20: 17 | Q20: Ящук Н.С., Комогоров В.Г., Приладных Е.В.
D21: 3 | E21: 463 | F21: СВЕЧНИКОВ | G21: Александр | H21: 21.02.2000 | I21: КМС | J21: Челябинская область | L21: СШОР Мосеева, УралГУФК | N21: 8.15,90 | O21: кмс | P21: 15 | Q21: Сайко Е.В., Сайко Р.И., Василенкова Н.В.
D22: 4 | E22: 399 | F22: ДЯТЛОВ | G22: Кирилл | H22: 25.07.1997 | I22: КМС | J22: Республика Татарстан | L22: ДЮСШ СТРЕЛА, ПГАФКСИТ | N22: 8.16,58 | O22: кмс | P22: 14 | Q22: Павлов И.Л., Миннеханова Р.Р.
D23: 5 | E23: 447 | F23: ГОЛОКТИОНОВ | G23: Тимофей | H23: 31.08.1999 | I23: 1 | J23: Орловская область | L23: СШОР № 1 | N23: 8.16,79 | O23: кмс | P23: 13 | Q23: Петров Н.Д.
D24: 6 | E24: 400 | F24: ЕГОРОВ | G24: Геннадий | H24: 16.04.1997 | I24: КМС | J24: Республика Татарстан | L24: ДЮСШ СТРЕЛА | N24: 8.17,56 | O24: кмс | P24: 12 | Q24: Павлов В.Л.
D25: 7 | E25: 305 | F25: ДВОРЕЦКИЙ | G25: Никита | H25: 18.07.1997 | I25: МС | J25: Брянская область Смоленская область | L25: СШОР им. Ф.Т.Михеенко, СГАФКСТ, ГБУ БО СШОР по легкой атлетике им. В.Д. Самотесова. | N25: 8.18,16 | O25: кмс | P25: 11 | Q25: Столяров И.В., Настенко А.В.
D26: 8 | E26: 90 | F26: МАРКИН | G26: Максим | H26: 13.12.1999 | I26: КМС | J26: Республика Мордовия | L26: СШОР им. П.Г. Болотникова, СШОР ПО Л/А, Инсарская ДЮСШ | N26: 8.18,95 | O26: кмс | P26: 10 | Q26: Кулагов К.А., Аверкин В.В.
D27: 9 | E27: 287 | F27: КУЗНЕЦОВ | G27: Максим | H27: 28.04.1998 | I27: КМС | J27: Рязанская область | L27: СШОР "Олимпиец" | N27: 8.21,06 | O27: кмс | P27: 9 | Q27: Куделина Н.М.
D28: 10 | E28: 6 | F28: СОЛОВЬЕВ | G28: Сергей | H28: 05.10.1997 | I28: 1 | J28: Республика Бурятия | L28: СШОР №1, СК БГУ, ЦСП РБ | N28: 8.24,02 | O28: кмс | P28: 8 | Q28: Темников Г.И.
D29: 11 | E29: 413 | F29: ЕГИНОВ | G29: Тимофей | H29: 01.01.2000 | I29: КМС | J29: Чувашская республика Ярославская область | L29: БПОУ "Чебоксарское УОР имени В.М. Краснова" Минспорта Чувашии | N29: 8.24,35 | O29: кмс | P29: 7 | Q29: Суворов Г.М., Петров А.С.
D30: 12 | E30: 221 | F30: ВАЛЮХОВ | G30: Никита | H30: 13.12.1997 | I30: КМС | J30: Иркутская область | L30: СШ "Юный динамовец" | N30: 8.24,88 | O30: кмс | P30: 6 | Q30: Коновалов И.А., Лукьянова Н.О.
... D37: 19 | E37: 247 | F37: МАГОМЕТОВ | G37: Антон | H37: 02.05.1998 | I37: 1 | J37: Забайкальский край | L37: ЗабГУ, ГБУ СШОР №2 Забайкальского края, ГУ "РЦСП" | N37: 8.42,48 | O37: I | P37: 1 | Q37: Ящук Н.С., Комогоров В.Г., Приладных Е.В.
D38: 20 | E38: 75 | F38: КАЛАШНИКОВ | G38: Юрий | H38: 06.01.1999 | I38: КМС | J38: Краснодарский край | L38: ДЮСШ-1, ГБУ КК "РЦСП по л/а" | N38: 8.43,09 | O38: I | P38: 1
D39: 21 | E39: 345 | F39: ВАСИЛЬЕВ | G39: Александр | H39: 08.02.1997 | I39: КМС | J39: Москва-1 Чувашская республика | L39: ГБУ "ФСО Юность Москвы" Москомспорта, БУ "СШОР № 1 им. В. Егоровой" Минспорта Чувашии | N39: 8.44,10 | O39: I | P39: 1 | Q39: Петров А.С., Суворов Г.М.
D40: 22 | E40: 273 | F40: КИРГИЗОВ | G40: Михаил | H40: 11.05.1998 | I40: КМС | J40: Московская область Чувашская республика | L40: ГБУ МО "СШОР", ЧУОР им. В. Краснова, СШОР№3 | N40: 8.45,62 | O40: I | P40: лич | Q40: Давалов В.Н.
E41: 509 | F41: ПЕТРОВ | G41: Андрей | H41: 21.09.1997 | I41: 1 | J41: Республика Башкортостан | L41: СШОР 21 | N41: DNF | Q41: Арефьев В.С.
E42: 432 | F42: ЦАРАПКИН | G42: Максим | H42: 15.04.1998 | I42: КМС | J42: Москва Пензенская область | L42: ГБУ "ЦСП по легкой атлетике", РА, КСШОР, ЦСП | N42: DNF | P42: лич | Q42: Плескач-Стыркина С.П., Бусырев А.В.
F44: Главный судья соревнований | N44: Уйк А.Г. /СПб, ССВк/
F46: Главный секретарь соревнований | N46: Алексеева О.К. /СПб, ССВк/
O47: =IF(OR(N47="",N47="н/я",N47="сошёл",N47="сошла",EXACT("дискв", LEFT(N47,5))),"",LOOKUP(N47,$S$1:$AK$1,$S$2:$AK$2))
O48: =IF(OR(N48="",N48="н/я",N48="сошёл",N48="сошла",EXACT("дискв", LEFT(N48,5))),"",LOOKUP(N48,$S$1:$AK$1,$S$2:$AK$2))
O49: =IF(OR(N49="",N49="н/я",N49="сошёл",N49="сошла",EXACT("дискв", LEFT(N49,5))),"",LOOKUP(N49,$S$1:$AK$1,$S$2:$AK$2))
O50: =IF(OR(N50="",N50="н/я",N50="сошёл",N50="сошла",EXACT("дискв", LEFT(N50,5))),"",LOOKUP(N50,$S$1:$AK$1,$S$2:$AK$2))
O51: =IF(OR(N51="",N51="н/я",N51="сошёл",N51="сошла",EXACT("дискв", LEFT(N51,5))),"",LOOKUP(N51,$S$1:$AK$1,$S$2:$AK$2))
O52: =IF(OR(N52="",N52="н/я",N52="сошёл",N52="сошла",EXACT("дискв", LEFT(N52,5))),"",LOOKUP(N52,$S$1:$AK$1,$S$2:$AK$2))
...

Sheet 60сбЮ
N1: МИНИСТЕРСТВО СПОРТА РОССИЙСКОЙ ФЕДЕРАЦИИ | Y1: 7 | Z1: 7.72 | AA1: 7.721 | AB1: 8.1 | AC1: 8.101 | AD1: 8.54 | AE1: 8.541 | AF1: 9.04 | AG1: 9.041 | AH1: 9.64 | AI1: 9.641 | AJ1: 10.24 | AK1: 10.241
N2: ВСЕРОССИЙСКАЯ ФЕДЕРАЦИЯ ЛЕГКОЙ АТЛЕТИКИ | Y2: мсмк | Z2: мсмк | AA2: мс | AB2: мс | AC2: кмс | AD2: кмс | AE2: I | AF2: I | AG2: II | AH2: II | AI2: III | AJ2: III | AK2: б/р | AL2: б/р | AM2: 2юн | AN2: 2юн | AO2: б/р | AP2: б/р | AQ2: б/р
N3: КОМИТЕТ ПО ФИЗИЧЕСКОЙ КУЛЬТУРЕ И СПОРТУ САНКТ-ПЕТЕРБУРГА
N4: СПОРТИВНАЯ ФЕДЕРАЦИЯ ЛЕГКОЙ АТЛЕТИКИ САНКТ-ПЕТЕРБУРГА
N6: Первенство России по легкой атлетике
N7: (среди юниоров и юниорок до 23 лет) в помещении
D8: 7.33 | G8: Рекорд Мира 23
D9: 7.41 | G9: Рекорд Европы 23 | N9: ИТОГОВЫЙ ПРОТОКОЛ
D10: 7.52 | G10: Рекорд России 23
N11: ЮНИОРЫ
D13: Санкт-Петербург, Легкоатлетический манеж | W13: 19 - 21 февраля 2019 г.
D15: Место | E15: пф | F15: ф | G15: Номер | H15: Фамилия | I15: Имя | J15: Дата рожд | K15: Разр. | L15: Территория | N15: Организация | O15: Результаты | U15: Разряд | V15: Очки | W15: Тренер
O16: забеги | P16: Q | Q16: п/фин | R16: Q | S16: финал
H18: 19 февраля 2019 г. | J18: Забеги 10:00-10:25 Полуфиналы 15:30-15:40 Финал 18:45-18:50 | W18: Бег с барьерами 60 м (1,067 м)
D20: 1 | E20: пф7 | F20: ф1 | G20: 193 | H20: МАЛЯРЕНКО | I20: Григорий | J20: 28.12.1998 | K20: КМС | L20: Омская область | N20: СибГУОР, БУ ОО ООЦСП, БУ ОО "СШОР", ЦСКА | O20: 8.17 | P20: Q | Q20: 7.98 | R20: Q | S20: 7.91 | T20: =MIN(O20,Q20,S20) -> 7.91 | U20: =IF(OR(T20="",T20="н/я",T20="сошёл",T20="сошла",EXACT("дискв", LEFT(T20,5))),"",LOOKUP(T20,$Y$1:$AR$1,$Y$2:$AR$2)) -> мс | V20: 25 | W20: Линкевич Н.С.
D21: 2 | E21: пф4 | F21: ф5 | G21: 311 | H21: ЕГОРОВ | I21: Глеб | J21: 27.06.1997 | K21: КМС | L21: Свердловская область | N21: СК ЛУЧ, ЦСП | O21: 8.02 | P21: Q | Q21: 8.06 | R21: Q | S21: 7.94 | T21: =MIN(O21,Q21,S21) -> 7.94 | U21: =IF(OR(T21="",T21="н/я",T21="сошёл",T21="сошла",EXACT("дискв", LEFT(T21,5))),"",LOOKUP(T21,$Y$1:$AR$1,$Y$2:$AR$2)) -> мс | V21: 22 | W21: Жуков А.В., Жукова Н.В.
D22: 3 | E22: пф8 | F22: ф3 | G22: 500 | H22: ЛОБКОВ | I22: Максим | J22: 20.05.1997 | K22: МС | L22: Волгоградская область | N22: ЦСКА, СШОР | O22: 8.07 | P22: Q | Q22: 8.1 | R22: Q | S22: 7.995 | T22: =MIN(O22,Q22,S22) -> 7.995 | U22: =IF(OR(T22="",T22="н/я",T22="сошёл",T22="сошла",EXACT("дискв", LEFT(T22,5))),"",LOOKUP(T22,$Y$1:$AR$1,$Y$2:$AR$2)) -> мс | V22: 20 | W22: Кайдалин В.С.
D23: 4 | E23: пф5 | F23: ф2 | G23: 70 | H23: ПРОЦЕНКО | I23: Антон | J23: 27.07.1997 | K23: КМС | L23: Краснодарский край | N23: ГБУ КК "РЦСП по л/а" | O23: 8.23 | P23: Q | Q23: 8 | R23: Q | S23: 7.999 | T23: =MIN(O23,Q23,S23) -> 7.999 | U23: =IF(OR(T23="",T23="н/я",T23="сошёл",T23="сошла",EXACT("дискв", LEFT(T23,5))),"",LOOKUP(T23,$Y$1:$AR$1,$Y$2:$AR$2)) -> мс | V23: 19 | W23: Сагалов А.П.
D24: 5 | E24: пф2 | F24: ф4 | G24: 335 | H24: КИРЕЕВ | I24: Кирилл | J24: 28.08.1997 | K24: КМС | L24: Ростовская область | N24: ДЮСШ-1 г.Ростов-на-Дону, РОУОР | O24: 8.18 | P24: Q | Q24: 8.01 | R24: Q | S24: 8.01 | T24: =MIN(O24,Q24,S24) -> 8.01 | U24: =IF(OR(T24="",T24="н/я",T24="сошёл",T24="сошла",EXACT("дискв", LEFT(T24,5))),"",LOOKUP(T24,$Y$1:$AR$1,$Y$2:$AR$2)) -> мс | V24: 18 | W24: Солянкин И.П., Давиденко А.П., Коваленко А.В.
D25: 6 | E25: пф12 | F25: ф6 | G25: 280 | H25: РУДЧЕНКО | I25: Александр | J25: 08.03.1999 | K25: КМС | L25: Московская область | N25: ГБУ МО "СШОР", УОР №1 | O25: 8.25 | P25: q | Q25: 8.13 | R25: Q | S25: 8.13 | T25: =MIN(O25,Q25,S25) -> 8.13 | U25: =IF(OR(T25="",T25="н/я",T25="сошёл",T25="сошла",EXACT("дискв", LEFT(T25,5))),"",LOOKUP(T25,$Y$1:$AR$1,$Y$2:$AR$2)) -> кмс | V25: лич | W25: Арабаджев С.И., Арабаджева С.Б., Ефремов Ю.Н.
D26: 7 | E26: пф10 | F26: ф7 | G26: 347 | H26: КУЗНЕЦОВ | I26: Артем | J26: 29.07.1999 | K26: КМС | L26: Москва-1 Владимирская область | N26: ГБУ "ЦСП по легкой атлетике", СШОР-4 | O26: 8.2 | P26: Q | Q26: 8.18 | R26: q | S26: 8.15 | T26: =MIN(O26,Q26,S26) -> 8.15 | U26: =IF(OR(T26="",T26="н/я",T26="сошёл",T26="сошла",EXACT("дискв", LEFT(T26,5))),"",LOOKUP(T26,$Y$1:$AR$1,$Y$2:$AR$2)) -> кмс | V26: 12 | W26: Кравцова К.О., Бурлаков О.П., Коробова П.А.
D27: 8 | E27: пф13 | F27: ф8 | G27: 88 | H27: БАКАЙ | I27: Алексей | J27: 21.01.1999 | K27: КМС | L27: Краснодарский край | N27: ГБУ КК "РЦСП по л/а", СШ "Лидер" | O27: 8.27 | P27: q | Q27: 8.18 | R27: q | S27: r/med | T27: =MIN(O27,Q27,S27) -> 8.18 | U27: =IF(OR(T27="",T27="н/я",T27="сошёл",T27="сошла",EXACT("дискв", LEFT(T27,5))),"",LOOKUP(T27,$Y$1:$AR$1,$Y$2:$AR$2)) -> кмс | V27: лич | W27: Гладкова О.С.
D28: 9 | E28: пф11 | G28: 309 | H28: КРАВЦОВ | I28: Святoслав | J28: 13.07.1998 | K28: КМС | L28: Свердловская область | N28: ДЮСШ Росток, ЦСП, СК ЛУЧ | O28: 8.21 | P28: q | Q28: 8.2 | T28: =MIN(O28,Q28,S28) -> 8.2 | U28: =IF(OR(T28="",T28="н/я",T28="сошёл",T28="сошла",EXACT("дискв", LEFT(T28,5))),"",LOOKUP(T28,$Y$1:$AR$1,$Y$2:$AR$2)) -> кмс | V28: 11 | W28: Жуков А.В., Масаев Е.Р.
D29: 10 | E29: пф6 | G29: 71 | H29: РЫЛЬЩИКОВ | I29: Денис | J29: 30.07.1998 | K29: КМС | L29: Краснодарский край | N29: "ГБУ КК "ЦОП по Л/А", ГБУ КК "РЦСП по л/а" | O29: 8.42 | P29: Q | Q29: 8.23 | T29: =MIN(O29,Q29,S29) -> 8.23 | U29: =IF(OR(T29="",T29="н/я",T29="сошёл",T29="сошла",EXACT("дискв", LEFT(T29,5))),"",LOOKUP(T29,$Y$1:$AR$1,$Y$2:$AR$2)) -> кмс | V29: 10 | W29: Чернов С.А., Горбунова Т.А.
D30: 11 | E30: пф9 | G30: 235 | H30: ВОРОНЧУК | I30: Андрей | J30: 07.09.2001 | K30: КМС | L30: Томская область | N30: СДЮСШОР "Лидер" | O30: 8.29 | P30: Q | Q30: 8.25 | T30: =MIN(O30,Q30,S30) -> 8.25 | U30: =IF(OR(T30="",T30="н/я",T30="сошёл",T30="сошла",EXACT("дискв", LEFT(T30,5))),"",LOOKUP(T30,$Y$1:$AR$1,$Y$2:$AR$2)) -> кмс | V30: 9 | W30: Устюгова И.А.
D31: 12 | E31: пф15 | G31: 440 | H31: ЛАМКОВ | I31: Арсен | J31: 05.05.1999 | K31: КМС | L31: Ставропольский край Карачаево-Черкесская республика | N31: ГБУ СК СШОР по л/а | O31: 8.32 | P31: q | Q31: 8.26 | T31: =MIN(O31,Q31,S31) -> 8.26 | U31: =IF(OR(T31="",T31="н/я",T31="сошёл",T31="сошла",EXACT("дискв", LEFT(T31,5))),"",LOOKUP(T31,$Y$1:$AR$1,$Y$2:$AR$2)) -> кмс | V31: лич | W31: Титаренко И.Г., Кувалдина Т.В.
D32: 13 | E32: пф16 | G32: 423 | H32: АБУДКОВ | I32: Андрей | J32: 20.06.1997 | K32: КМС | L32: Ставропольский край Карачаево-Черкесская республика | N32: ГБУ СК СШОР по л/а | O32: 8.33 | P32: q | Q32: 8.37 | T32: =MIN(O32,Q32,S32) -> 8.33 | U32: =IF(OR(T32="",T32="н/я",T32="сошёл",T32="сошла",EXACT("дискв", LEFT(T32,5))),"",LOOKUP(T32,$Y$1:$AR$1,$Y$2:$AR$2)) -> кмс | V32: 8 | W32: Бурняшова Г.С., Кувалдина Т.В.
D33: 14 | E33: пф1 | G33: 298 | H33: ЛАМАНОВ | I33: Евгений | J33: 20.02.2000 | K33: КМС | L33: Новосибирская область | N33: СШОР "Фламинго", НУКОР | O33: 8.22 | P33: Q | Q33: 8.42 | T33: =MIN(O33,Q33,S33) -> 8.22 | U33: =IF(OR(T33="",T33="н/я",T33="сошёл",T33="сошла",EXACT("дискв", LEFT(T33,5))),"",LOOKUP(T33,$Y$1:$AR$1,$Y$2:$AR$2)) -> кмс | V33: 7 | W33: Зайцева О.В., Зюзько Л.В., Кишеева Е.А.
D34: 14 | E34: пф14 | G34: 112 | H34: ВАСИЛЬЕВ | I34: Артём | J34: 09.11.1999 | K34: КМС | L34: Санкт-Петербург-2 | N34: ЦОП "ШВСМ л/атл." (СПб) | O34: 8.32 | P34: q | Q34: 8.42 | T34: =MIN(O34,Q34,S34) -> 8.32 | U34: =IF(OR(T34="",T34="н/я",T34="сошёл",T34="сошла",EXACT("дискв", LEFT(T34,5))),"",LOOKUP(T34,$Y$1:$AR$1,$Y$2:$AR$2)) -> кмс | V34: 7 | W34: Скляров В.В., Баталов А.В.
D35: 16 | E35: пф3 | G35: 189 | H35: СПИРИДОНОВ | I35: Олег | J35: 16.08.1999 | K35: МС | L35: Калининградская область Санкт-Петербург-1 | N35: СШОР №4, УОР, СПб ГБУ СШОР "Академия легкой атлетики Санкт-Петербурга", СШОР "Академия л/а СПб" | O35: 8.19 | P35: Q | Q35: DNF | T35: =MIN(O35,Q35,S35) -> 8.19 | U35: =IF(OR(T35="",T35="н/я",T35="сошёл",T35="сошла",EXACT("дискв", LEFT(T35,5))),"",LOOKUP(T35,$Y$1:$AR$1,$Y$2:$AR$2)) -> кмс | V35: 5 | W35: Слушкин В.К., Смирягин Е.В., Смирягина Ю.И., Антунович Г.П.
D36: 17 | G36: 403 | H36: ПЕРЕВОЩИКОВ | I36: Артур | J36: 02.06.1999 | K36: КМС | L36: Республика Татарстан | N36: Шинник | O36: 8.4 | T36: =MIN(O36,Q36,S36) -> 8.4 | U36: =IF(OR(T36="",T36="н/я",T36="сошёл",T36="сошла",EXACT("дискв", LEFT(T36,5))),"",LOOKUP(T36,$Y$1:$AR$1,$Y$2:$AR$2)) -> кмс | V36: 4 | W36: Сайфиев Н.Н., Сайфиева Е.Ю.
D37: 18 | G37: 42 | H37: НИКИШИН | I37: Никита | J37: 22.04.1998 | K37: КМС | L37: Хабаровский край | N37: СШ "Максимум" | O37: 8.41 | T37: =MIN(O37,Q37,S37) -> 8.41 | U37: =IF(OR(T37="",T37="н/я",T37="сошёл",T37="сошла",EXACT("дискв", LEFT(T37,5))),"",LOOKUP(T37,$Y$1:$AR$1,$Y$2:$AR$2)) -> кмс | V37: 3 | W37: Ерченко Е.П.
D38: 19 | G38: 184 | H38: ШИРЯГИН | I38: Герман | J38: 22.07.1998 | K38: КМС | L38: Санкт-Петербург | N38: ГБУ СШ "Манеж" Петродворцового р-на (Санкт-Петербург) | O38: 8.42 | T38: =MIN(O38,Q38,S38) -> 8.42 | U38: =IF(OR(T38="",T38="н/я",T38="сошёл",T38="сошла",EXACT("дискв", LEFT(T38,5))),"",LOOKUP(T38,$Y$1:$AR$1,$Y$2:$AR$2)) -> кмс | V38: лич | W38: Попов А.М., Попова С.Ю.
D39: 20 | G39: 11 | H39: НЕЧАЕВ | I39: Александр | J39: 09.02.1999 | K39: КМС | L39: Республика Саха (Якутия) | N39: ГБУ РС (Я) РЦСП | O39: 8.43 | T39: =MIN(O39,Q39,S39) -> 8.43 | U39: =IF(OR(T39="",T39="н/я",T39="сошёл",T39="сошла",EXACT("дискв", LEFT(T39,5))),"",LOOKUP(T39,$Y$1:$AR$1,$Y$2:$AR$2)) -> кмс | V39: 2 | W39: Нечаев П.А.
D40: 21 | G40: 65 | H40: ШУБИН | I40: Даниил | J40: 10.10.2001 | K40: 1 | L40: Нижегородская область | N40: УОР 1, МБУ КСШОР № 1 | O40: 8.52 | T40: =MIN(O40,Q40,S40) -> 8.52 | U40: =IF(OR(T40="",T40="н/я",T40="сошёл",T40="сошла",EXACT("дискв", LEFT(T40,5))),"",LOOKUP(T40,$Y$1:$AR$1,$Y$2:$AR$2)) -> кмс | V40: 1 | W40: Шишкин В.В.
D41: 22 | G41: 233 | H41: ДЯТЛОВ | I41: Марк | J41: 27.08.1997 | K41: КМС | L41: Республика Северная Осетия — Алания | N41: ГБУ СШОР по л/а | O41: 8.53 | T41: =MIN(O41,Q41,S41) -> 8.53 | U41: =IF(OR(T41="",T41="н/я",T41="сошёл",T41="сошла",EXACT("дискв", LEFT(T41,5))),"",LOOKUP(T41,$Y$1:$AR$1,$Y$2:$AR$2)) -> кмс | V41: 1 | W41: Ляднов В.А., Ляднова Т.С.
D42: 23 | G42: 132 | H42: КОНОВАЛОВ | I42: Александр | J42: 03.08.1997 | K42: КМС | L42: Санкт-Петербург | N42: СПб ГБУ СШОР "Академия легкой атлетики Санкт-Петербурга" | O42: 8.59 | T42: =MIN(O42,Q42,S42) -> 8.59 | U42: =IF(OR(T42="",T42="н/я",T42="сошёл",T42="сошла",EXACT("дискв", LEFT(T42,5))),"",LOOKUP(T42,$Y$1:$AR$1,$Y$2:$AR$2)) -> I | V42: лич | W42: Ворохобко Т.Л.
D43: 24 | G43: 472 | H43: НАЗАРОВ | I43: Данил | J43: 15.04.1998 | K43: КМС | L43: Челябинская область | N43: МБУ СШОР "ЮНОСТЬ-МЕТАР" | O43: 8.63 | T43: =MIN(O43,Q43,S43) -> 8.63 | U43: =IF(OR(T43="",T43="н/я",T43="сошёл",T43="сошла",EXACT("дискв", LEFT(T43,5))),"",LOOKUP(T43,$Y$1:$AR$1,$Y$2:$AR$2)) -> I | V43: лич | W43: Ветрова Е.М.
D44: 25 | G44: 284 | H44: КРАМСКОЙ | I44: Андрей | J44: 03.09.1999 | K44: 1 | L44: Тульская область | N44: ГУТОЦСП, СШОР л/а | O44: 8.64 | T44: =MIN(O44,Q44,S44) -> 8.64 | U44: =IF(OR(T44="",T44="н/я",T44="сошёл",T44="сошла",EXACT("дискв", LEFT(T44,5))),"",LOOKUP(T44,$Y$1:$AR$1,$Y$2:$AR$2)) -> I | V44: 1 | W44: Осетров А.И., Осетрова Т.Б.
D45: 26 | G45: 230 | H45: ОКУЛОВ | I45: Евгений | J45: 09.06.1997 | K45: КМС | L45: Пермский край | N45: СДЮСШОР СТАРТ | O45: 8.67 | T45: =MIN(O45,Q45,S45) -> 8.67 | U45: =IF(OR(T45="",T45="н/я",T45="сошёл",T45="сошла",EXACT("дискв", LEFT(T45,5))),"",LOOKUP(T45,$Y$1:$AR$1,$Y$2:$AR$2)) -> I | V45: 1 | W45: Дойков В.А.
...

Sheet ВысЮ
J1: МИНИСТЕРСТВО СПОРТА РОССИЙСКОЙ ФЕДЕРАЦИИ | W1: 0 | X1: 130 | Y1: 140 | Z1: 150 | AA1: 160 | AB1: 175 | AC1: 190 | AD1: 200 | AE1: 215 | AF1: 228
J2: ВСЕРОССИЙСКАЯ ФЕДЕРАЦИЯ ЛЕГКОЙ АТЛЕТИКИ | W2: б/р | X2: 3юн | Y2: 2юн | Z2: 1юн | AA2: III | AB2: II | AC2: I | AD2: кмс | AE2: мс | AF2: мсмк
J3: КОМИТЕТ ПО ФИЗИЧЕСКОЙ КУЛЬТУРЕ И СПОРТУ САНКТ-ПЕТЕРБУРГА
J4: СПОРТИВНАЯ ФЕДЕРАЦИЯ ЛЕГКОЙ АТЛЕТИКИ САНКТ-ПЕТЕРБУРГА
J6: Первенство России по легкой атлетике
J7: (среди юниоров и юниорок до 23 лет) в помещении
B9: 2.43 | C9: Рекорд Мира 23 | J9: ИТОГОВЫЙ ПРОТОКОЛ
B10: 2.41 | C10: Рекорд Европы 23
B11: 2.39 | C11: Рекорд России 23 | J11: ЮНИОРЫ
B13: Санкт-Петербург, Легкоатлетический манеж | U13: 19- 21 февраля 2019 г.
B15: Место | C15: Номер | D15: Фамилия Имя | F15: Дата рожд | G15: Разр. | H15: Территория | J15: Организация | K15: А | L15: Б | M15: Рез-тат | O15: А | P15: Б | Q15: Рез-тат | S15: Разряд | T15: Очки | U15: Тренер
D17: 19 февраля 2019 г. | E17: Квалификация 12:25 - 13:45 | U17: Прыжок в высоту
