Workbook
Name prugok: [1]Кресты!#REF!
Name prugok: [1]Кресты!#REF!
Name prugok: [1]Кресты!#REF!
Name prugok: [2]Кресты!#REF!
Name prugok: [2]Кресты!#REF!
Name prugok: [1]Кресты!#REF!
Name Город: [3]Z_all!$H$1:$H$65536
Name Город: [3]Z_all!$H$1:$H$65536
Name Город: [4]Z_all!$H$1:$H$65536
Name ГР: [3]Z_all!$E$1:$E$65536
Name ГР: [3]Z_all!$E$1:$E$65536
Name ГР: [4]Z_all!$E$1:$E$65536
Name Звание: [3]Z_all!$F$1:$F$65536
Name Звание: [3]Z_all!$F$1:$F$65536
Name Звание: [4]Z_all!$F$1:$F$65536
Name Код_Результатов: [5]Кресты!#REF!
Name Код_Результатов: [5]Кресты!#REF!
Name Код_Результатов: [6]Кресты!#REF!
Name КодУч: [3]Z_all!$A$1:$A$65536
Name КодУч: [3]Z_all!$A$1:$A$65536
Name КодУч: [4]Z_all!$A$1:$A$65536
Name компер: [7]Кресты!#REF!
Name компер: [7]Кресты!#REF!
Name компер: [6]Кресты!#REF!
Name НомУч: [3]Z_all!$B$1:$B$65536
Name НомУч: [3]Z_all!$B$1:$B$65536
Name НомУч: [4]Z_all!$B$1:$B$65536
Name Общество: [3]Z_all!$I$1:$I$65536
Name Общество: [3]Z_all!$I$1:$I$65536
Name Общество: [4]Z_all!$I$1:$I$65536
Name Пол: [3]Z_all!$C$1:$C$65536
Name Пол: [3]Z_all!$C$1:$C$65536
Name Пол: [4]Z_all!$C$1:$C$65536
Name р1: [8]Кресты!#REF!
Name р1: [8]Кресты!#REF!
Name р1: [9]Кресты!#REF!
Name Рез: [5]Кресты!#REF!
Name Рез: [5]Кресты!#REF!
Name Рез: [6]Кресты!#REF!
Name Результат: [10]ПРОТОКОЛ!$Z$1:$Z$65536
Name Результат: [10]ПРОТОКОЛ!$Z$1:$Z$65536
Name Результат: [11]ПРОТОКОЛ!$Z$1:$Z$65536
Name Результаты: [5]Кресты!#REF!
Name Результаты: [5]Кресты!#REF!
Name Результаты: [6]Кресты!#REF!
Name Стр: [3]Z_all!$G$1:$G$65536
Name Стр: [3]Z_all!$G$1:$G$65536
Name Стр: [4]Z_all!$G$1:$G$65536
Name Тре_нер: #REF!
Name Тре_нер: #REF!
Name Тре_нер: #REF!
Name Тре_нер: #REF!
Name Тре_нер: #REF!
Name Тренер: [3]Z_all!$J$1:$J$65536
Name Тренер: [3]Z_all!$J$1:$J$65536
Name Тренер: [4]Z_all!$J$1:$J$65536
Name ФИ: [3]Z_all!$D$1:$D$65536
Name ФИ: [3]Z_all!$D$1:$D$65536
Name ФИ: [4]Z_all!$D$1:$D$65536
Name Школа: #REF!

Sheet 400Д(2)
F1: МИНИСТЕРСТВО СПОРТА РОССИЙСКОЙ ФЕДЕРАЦИИ
F2: ВСЕРОССИЙСКАЯ ФЕДЕРАЦИЯ ЛЕГКОЙ АТЛЕТИКИ
F3: КОМИТЕТ ПО ФИЗИЧЕСКОЙ КУЛЬТУРЕ И СПОРТУ САНКТ-ПЕТЕРБУРГА
F4: СПОРТИВНАЯ ФЕДЕРАЦИЯ ЛЕГКОЙ АТЛЕТИКИ САНКТ-ПЕТЕРБУРГА
F6: Первенство России по легкой атлетике
F7: (среди юниоров и юниорок до 23 лет) в помещении
A9: 49.76 | B9: ВД Мира 23 | F9: Бег 400 м
A10: 49.76 | B10: ВД Европы 23 | F10: Забеги
A11: 50.15 | B11: Рекорд России 23 | F11: ЮНИОРКИ
J13: ='[12]400Д'!H17 -> 19 февраля 2019 г.
I14: Начало: | J14: 0.6875
A15: Санкт-Петербург, Легкоатлетический манеж | I15: Окончание:
B17: Фамилия | C17: Имя | D17: Дата рожд | E17: Разряд | F17: Команда | G17: № уч. | H17: Приход | I17: Результат | J17: Примечание
B18: 1 забег
A19: 1 | K19: 11
A20: 2 | B20: =VLOOKUP($K20,'[12]400Д'!$D$20:$W$145,4,FALSE) -> КАЧАЕВА | C20: =VLOOKUP($K20,'[12]400Д'!$D$20:$W$145,5,FALSE) -> Дарья | D20: =VLOOKUP($K20,'[12]400Д'!$D$20:$W$145,6,FALSE) -> 29.05.2002 | E20: =VLOOKUP($K20,'[12]400Д'!$D$20:$W$145,7,FALSE) -> КМС | F20: =VLOOKUP($K20,'[12]400Д'!$D$20:$W$145,8,FALSE) -> Санкт-Петербург | G20: =VLOOKUP($K20,'[12]400Д'!$D$20:$W$145,3,FALSE) -> 129 | J20: лич | K20: 12
A21: 3 | B21: =VLOOKUP($K21,'[12]400Д'!$D$20:$W$145,4,FALSE) -> КНЯЗЕВА | C21: =VLOOKUP($K21,'[12]400Д'!$D$20:$W$145,5,FALSE) -> Янита | D21: =VLOOKUP($K21,'[12]400Д'!$D$20:$W$145,6,FALSE) -> 23.10.1998 | E21: =VLOOKUP($K21,'[12]400Д'!$D$20:$W$145,7,FALSE) -> КМС | F21: =VLOOKUP($K21,'[12]400Д'!$D$20:$W$145,8,FALSE) -> Самарская область | G21: =VLOOKUP($K21,'[12]400Д'!$D$20:$W$145,3,FALSE) -> 30 | J21: лич | K21: 13
A22: 4 | B22: =VLOOKUP($K22,'[12]400Д'!$D$20:$W$145,4,FALSE) -> ДЕВЯТКИНА | C22: =VLOOKUP($K22,'[12]400Д'!$D$20:$W$145,5,FALSE) -> Ксения | D22: =VLOOKUP($K22,'[12]400Д'!$D$20:$W$145,6,FALSE) -> 17.08.1998 | E22: =VLOOKUP($K22,'[12]400Д'!$D$20:$W$145,7,FALSE) -> КМС | F22: =VLOOKUP($K22,'[12]400Д'!$D$20:$W$145,8,FALSE) -> Пензенская область | G22: =VLOOKUP($K22,'[12]400Д'!$D$20:$W$145,3,FALSE) -> 293 | K22: 14
A23: 5 | B23: =VLOOKUP($K23,'[12]400Д'!$D$20:$W$145,4,FALSE) -> КАТЕЛЬНИКОВА | C23: =VLOOKUP($K23,'[12]400Д'!$D$20:$W$145,5,FALSE) -> Елена | D23: =VLOOKUP($K23,'[12]400Д'!$D$20:$W$145,6,FALSE) -> 03.04.1997 | E23: =VLOOKUP($K23,'[12]400Д'!$D$20:$W$145,7,FALSE) -> КМС | F23: =VLOOKUP($K23,'[12]400Д'!$D$20:$W$145,8,FALSE) -> Курская область | G23: =VLOOKUP($K23,'[12]400Д'!$D$20:$W$145,3,FALSE) -> 202 | K23: 15
A24: 6 | B24: =VLOOKUP($K24,'[12]400Д'!$D$20:$W$145,4,FALSE) -> КУЧЕНЕВА | C24: =VLOOKUP($K24,'[12]400Д'!$D$20:$W$145,5,FALSE) -> Юлия | D24: =VLOOKUP($K24,'[12]400Д'!$D$20:$W$145,6,FALSE) -> 11.09.1999 | E24: =VLOOKUP($K24,'[12]400Д'!$D$20:$W$145,7,FALSE) -> КМС | F24: =VLOOKUP($K24,'[12]400Д'!$D$20:$W$145,8,FALSE) -> Волгоградская область | G24: =VLOOKUP($K24,'[12]400Д'!$D$20:$W$145,3,FALSE) -> 499 | K24: 16
B26: 2 забег
A27: 1 | K27: 21
A28: 2 | B28: =VLOOKUP($K28,'[12]400Д'!$D$20:$W$145,4,FALSE) -> ЛОПУНОВА | C28: =VLOOKUP($K28,'[12]400Д'!$D$20:$W$145,5,FALSE) -> Екатерина | D28: =VLOOKUP($K28,'[12]400Д'!$D$20:$W$145,6,FALSE) -> 01.06.1998 | E28: =VLOOKUP($K28,'[12]400Д'!$D$20:$W$145,7,FALSE) -> КМС | F28: =VLOOKUP($K28,'[12]400Д'!$D$20:$W$145,8,FALSE) -> Санкт-Петербург | G28: =VLOOKUP($K28,'[12]400Д'!$D$20:$W$145,3,FALSE) -> 143 | J28: лич | K28: 22
A29: 3 | B29: =VLOOKUP($K29,'[12]400Д'!$D$20:$W$145,4,FALSE) -> ЦЫГАНОВА | C29: =VLOOKUP($K29,'[12]400Д'!$D$20:$W$145,5,FALSE) -> Виктория | D29: =VLOOKUP($K29,'[12]400Д'!$D$20:$W$145,6,FALSE) -> 01.07.1997 | E29: =VLOOKUP($K29,'[12]400Д'!$D$20:$W$145,7,FALSE) -> КМС | F29: =VLOOKUP($K29,'[12]400Д'!$D$20:$W$145,8,FALSE) -> Москва | G29: =VLOOKUP($K29,'[12]400Д'!$D$20:$W$145,3,FALSE) -> 433 | J29: лич | K29: 23
A30: 4 | B30: =VLOOKUP($K30,'[12]400Д'!$D$20:$W$145,4,FALSE) -> РУДЕНКО | C30: =VLOOKUP($K30,'[12]400Д'!$D$20:$W$145,5,FALSE) -> Ксения | D30: =VLOOKUP($K30,'[12]400Д'!$D$20:$W$145,6,FALSE) -> 17.05.1998 | E30: =VLOOKUP($K30,'[12]400Д'!$D$20:$W$145,7,FALSE) -> КМС | F30: =VLOOKUP($K30,'[12]400Д'!$D$20:$W$145,8,FALSE) -> Новосибирская область | G30: =VLOOKUP($K30,'[12]400Д'!$D$20:$W$145,3,FALSE) -> 301 | K30: 24
A31: 5 | B31: =VLOOKUP($K31,'[12]400Д'!$D$20:$W$145,4,FALSE) -> КОПРОВА | C31: =VLOOKUP($K31,'[12]400Д'!$D$20:$W$145,5,FALSE) -> Екатерина | D31: =VLOOKUP($K31,'[12]400Д'!$D$20:$W$145,6,FALSE) -> 07.02.1999 | E31: =VLOOKUP($K31,'[12]400Д'!$D$20:$W$145,7,FALSE) -> КМС | F31: =VLOOKUP($K31,'[12]400Д'!$D$20:$W$145,8,FALSE) -> Санкт-Петербург | G31: =VLOOKUP($K31,'[12]400Д'!$D$20:$W$145,3,FALSE) -> 133 | J31: лич | K31: 25
A32: 6 | B32: =VLOOKUP($K32,'[12]400Д'!$D$20:$W$145,4,FALSE) -> ИВАНОВА | C32: =VLOOKUP($K32,'[12]400Д'!$D$20:$W$145,5,FALSE) -> Екатерина | D32: =VLOOKUP($K32,'[12]400Д'!$D$20:$W$145,6,FALSE) -> 15.05.1998 | E32: =VLOOKUP($K32,'[12]400Д'!$D$20:$W$145,7,FALSE) -> МС | F32: =VLOOKUP($K32,'[12]400Д'!$D$20:$W$145,8,FALSE) -> Иркутская область | G32: =VLOOKUP($K32,'[12]400Д'!$D$20:$W$145,3,FALSE) -> 218 | K32: 26
B34: 3 забег
A35: 1 | K35: 31
A36: 2 | B36: =VLOOKUP($K36,'[12]400Д'!$D$20:$W$145,4,FALSE) -> ГРИШИНА | C36: =VLOOKUP($K36,'[12]400Д'!$D$20:$W$145,5,FALSE) -> Екатерина | D36: =VLOOKUP($K36,'[12]400Д'!$D$20:$W$145,6,FALSE) -> 31.08.1999 | E36: =VLOOKUP($K36,'[12]400Д'!$D$20:$W$145,7,FALSE) -> КМС | F36: =VLOOKUP($K36,'[12]400Д'!$D$20:$W$145,8,FALSE) -> Курганская область | G36: =VLOOKUP($K36,'[12]400Д'!$D$20:$W$145,3,FALSE) -> 39 | K36: 32
A37: 3 | B37: =VLOOKUP($K37,'[12]400Д'!$D$20:$W$145,4,FALSE) -> МИКРЮКОВА | C37: =VLOOKUP($K37,'[12]400Д'!$D$20:$W$145,5,FALSE) -> Анна | D37: =VLOOKUP($K37,'[12]400Д'!$D$20:$W$145,6,FALSE) -> 26.03.2001 | E37: =VLOOKUP($K37,'[12]400Д'!$D$20:$W$145,7,FALSE) -> КМС | F37: =VLOOKUP($K37,'[12]400Д'!$D$20:$W$145,8,FALSE) -> Москва | G37: =VLOOKUP($K37,'[12]400Д'!$D$20:$W$145,3,FALSE) -> 388 | J37: лич | K37: 33
A38: 4 | B38: =VLOOKUP($K38,'[12]400Д'!$D$20:$W$145,4,FALSE) -> МИГЛАН | C38: =VLOOKUP($K38,'[12]400Д'!$D$20:$W$145,5,FALSE) -> Мария | D38: =VLOOKUP($K38,'[12]400Д'!$D$20:$W$145,6,FALSE) -> 20.02.1997 | E38: =VLOOKUP($K38,'[12]400Д'!$D$20:$W$145,7,FALSE) -> КМС | F38: =VLOOKUP($K38,'[12]400Д'!$D$20:$W$145,8,FALSE) -> Тюменская область | G38: =VLOOKUP($K38,'[12]400Д'!$D$20:$W$145,3,FALSE) -> 55 | K38: 34
A39: 5 | B39: =VLOOKUP($K39,'[12]400Д'!$D$20:$W$145,4,FALSE) -> КУЗМИНЧУК | C39: =VLOOKUP($K39,'[12]400Д'!$D$20:$W$145,5,FALSE) -> Олеся | D39: =VLOOKUP($K39,'[12]400Д'!$D$20:$W$145,6,FALSE) -> 04.12.1998 | E39: =VLOOKUP($K39,'[12]400Д'!$D$20:$W$145,7,FALSE) -> КМС | F39: =VLOOKUP($K39,'[12]400Д'!$D$20:$W$145,8,FALSE) -> Санкт-Петербург-1 | G39: =VLOOKUP($K39,'[12]400Д'!$D$20:$W$145,3,FALSE) -> 139 | K39: 35
A40: 6 | B40: =VLOOKUP($K40,'[12]400Д'!$D$20:$W$145,4,FALSE) -> БОГОМОЛОВА | C40: =VLOOKUP($K40,'[12]400Д'!$D$20:$W$145,5,FALSE) -> Инесса | D40: =VLOOKUP($K40,'[12]400Д'!$D$20:$W$145,6,FALSE) -> 24.06.1997 | E40: =VLOOKUP($K40,'[12]400Д'!$D$20:$W$145,7,FALSE) -> КМС | F40: =VLOOKUP($K40,'[12]400Д'!$D$20:$W$145,8,FALSE) -> Новосибирская область | G40: =VLOOKUP($K40,'[12]400Д'!$D$20:$W$145,3,FALSE) -> 295 | K40: 36
B42: 4 забег
A43: 1 | K43: 41
A44: 2 | B44: =VLOOKUP($K44,'[12]400Д'!$D$20:$W$145,4,FALSE) -> ЛИСТКОВА | C44: =VLOOKUP($K44,'[12]400Д'!$D$20:$W$145,5,FALSE) -> Валентина | D44: =VLOOKUP($K44,'[12]400Д'!$D$20:$W$145,6,FALSE) -> 13.12.1999 | E44: =VLOOKUP($K44,'[12]400Д'!$D$20:$W$145,7,FALSE) -> КМС | F44: =VLOOKUP($K44,'[12]400Д'!$D$20:$W$145,8,FALSE) -> Иркутская область | G44: =VLOOKUP($K44,'[12]400Д'!$D$20:$W$145,3,FALSE) -> 219 | K44: 42
A45: 3 | B45: =VLOOKUP($K45,'[12]400Д'!$D$20:$W$145,4,FALSE) -> Чапкаева | C45: =VLOOKUP($K45,'[12]400Д'!$D$20:$W$145,5,FALSE) -> Валерия | D45: =VLOOKUP($K45,'[12]400Д'!$D$20:$W$145,6,FALSE) -> 17.08.1998 | E45: =VLOOKUP($K45,'[12]400Д'!$D$20:$W$145,7,FALSE) -> КМС | F45: =VLOOKUP($K45,'[12]400Д'!$D$20:$W$145,8,FALSE) -> Краснодарский край/Челябинская область | G45: =VLOOKUP($K45,'[12]400Д'!$D$20:$W$145,3,FALSE) -> 465 | K45: 43
A46: 4 | B46: =VLOOKUP($K46,'[12]400Д'!$D$20:$W$145,4,FALSE) -> ГОЛОВЧАНСКАЯ | C46: =VLOOKUP($K46,'[12]400Д'!$D$20:$W$145,5,FALSE) -> Маргарита | D46: =VLOOKUP($K46,'[12]400Д'!$D$20:$W$145,6,FALSE) -> 18.11.1999 | E46: =VLOOKUP($K46,'[12]400Д'!$D$20:$W$145,7,FALSE) -> КМС | F46: =VLOOKUP($K46,'[12]400Д'!$D$20:$W$145,8,FALSE) -> Волгоградская область | G46: =VLOOKUP($K46,'[12]400Д'!$D$20:$W$145,3,FALSE) -> 481 | J46: лич | K46: 44
A47: 5 | B47: =VLOOKUP($K47,'[12]400Д'!$D$20:$W$145,4,FALSE) -> ВАСИЛЬЕВА | C47: =VLOOKUP($K47,'[12]400Д'!$D$20:$W$145,5,FALSE) -> Лиана | D47: =VLOOKUP($K47,'[12]400Д'!$D$20:$W$145,6,FALSE) -> 07.07.2001 | E47: =VLOOKUP($K47,'[12]400Д'!$D$20:$W$145,7,FALSE) -> КМС | F47: =VLOOKUP($K47,'[12]400Д'!$D$20:$W$145,8,FALSE) -> Нижегородская область/Чувашская республика | G47: =VLOOKUP($K47,'[12]400Д'!$D$20:$W$145,3,FALSE) -> 66 | K47: 45
A48: 6 | B48: =VLOOKUP($K48,'[12]400Д'!$D$20:$W$145,4,FALSE) -> АЛТУХОВА | C48: =VLOOKUP($K48,'[12]400Д'!$D$20:$W$145,5,FALSE) -> Екатерина | D48: =VLOOKUP($K48,'[12]400Д'!$D$20:$W$145,6,FALSE) -> 04.08.2000 | E48: =VLOOKUP($K48,'[12]400Д'!$D$20:$W$145,7,FALSE) -> 1 | F48: =VLOOKUP($K48,'[12]400Д'!$D$20:$W$145,8,FALSE) -> Курская область | G48: =VLOOKUP($K48,'[12]400Д'!$D$20:$W$145,3,FALSE) -> 200 | K48: 46
B50: 5 забег
A51: 1 | K51: 51
A52: 2 | B52: =VLOOKUP($K52,'[12]400Д'!$D$20:$W$145,4,FALSE) -> УСОЛЬЦЕВА | C52: =VLOOKUP($K52,'[12]400Д'!$D$20:$W$145,5,FALSE) -> Екатерина | D52: =VLOOKUP($K52,'[12]400Д'!$D$20:$W$145,6,FALSE) -> 23.06.1999 | E52: =VLOOKUP($K52,'[12]400Д'!$D$20:$W$145,7,FALSE) -> КМС | F52: =VLOOKUP($K52,'[12]400Д'!$D$20:$W$145,8,FALSE) -> Челябинская область | G52: =VLOOKUP($K52,'[12]400Д'!$D$20:$W$145,3,FALSE) -> 476 | J52: лич | K52: 52
A53: 3 | B53: =VLOOKUP($K53,'[12]400Д'!$D$20:$W$145,4,FALSE) -> СКОРОБОГАТОВА | C53: =VLOOKUP($K53,'[12]400Д'!$D$20:$W$145,5,FALSE) -> Дарья | D53: =VLOOKUP($K53,'[12]400Д'!$D$20:$W$145,6,FALSE) -> 04.05.1997 | E53: =VLOOKUP($K53,'[12]400Д'!$D$20:$W$145,7,FALSE) -> КМС | F53: =VLOOKUP($K53,'[12]400Д'!$D$20:$W$145,8,FALSE) -> Иркутская область | G53: =VLOOKUP($K53,'[12]400Д'!$D$20:$W$145,3,FALSE) -> 215 | K53: 53
A54: 4 | B54: =VLOOKUP($K54,'[12]400Д'!$D$20:$W$145,4,FALSE) -> МОСОЛОВА | C54: =VLOOKUP($K54,'[12]400Д'!$D$20:$W$145,5,FALSE) -> Ксения | D54: =VLOOKUP($K54,'[12]400Д'!$D$20:$W$145,6,FALSE) -> 05.01.1999 | E54: =VLOOKUP($K54,'[12]400Д'!$D$20:$W$145,7,FALSE) -> КМС | F54: =VLOOKUP($K54,'[12]400Д'!$D$20:$W$145,8,FALSE) -> Санкт-Петербург | G54: =VLOOKUP($K54,'[12]400Д'!$D$20:$W$145,3,FALSE) -> 151 | K54: 54
A55: 5 | B55: =VLOOKUP($K55,'[12]400Д'!$D$20:$W$145,4,FALSE) -> БИБИК | C55: =VLOOKUP($K55,'[12]400Д'!$D$20:$W$145,5,FALSE) -> Татьяна | D55: =VLOOKUP($K55,'[12]400Д'!$D$20:$W$145,6,FALSE) -> 27.02.2000 | E55: =VLOOKUP($K55,'[12]400Д'!$D$20:$W$145,7,FALSE) -> КМС | F55: =VLOOKUP($K55,'[12]400Д'!$D$20:$W$145,8,FALSE) -> Свердловская область | G55: =VLOOKUP($K55,'[12]400Д'!$D$20:$W$145,3,FALSE) -> 324 | K55: 55
A56: 6 | B56: =VLOOKUP($K56,'[12]400Д'!$D$20:$W$145,4,FALSE) -> ПУЗИК | C56: =VLOOKUP($K56,'[12]400Д'!$D$20:$W$145,5,FALSE) -> Инна | D56: =VLOOKUP($K56,'[12]400Д'!$D$20:$W$145,6,FALSE) -> 22.01.1997 | E56: =VLOOKUP($K56,'[12]400Д'!$D$20:$W$145,7,FALSE) -> МС | F56: =VLOOKUP($K56,'[12]400Д'!$D$20:$W$145,8,FALSE) -> Самарская область | G56: =VLOOKUP($K56,'[12]400Д'!$D$20:$W$145,3,FALSE) -> 20 | K56: 56
B58: 6 забег
A59: 1 | K59: 61
A60: 2 | B60: =VLOOKUP($K60,'[12]400Д'!$D$20:$W$145,4,FALSE) -> ИВАНОВА | C60: =VLOOKUP($K60,'[12]400Д'!$D$20:$W$145,5,FALSE) -> Виктория | D60: =VLOOKUP($K60,'[12]400Д'!$D$20:$W$145,6,FALSE) -> 07.07.2000 | E60: =VLOOKUP($K60,'[12]400Д'!$D$20:$W$145,7,FALSE) -> КМС | F60: =VLOOKUP($K60,'[12]400Д'!$D$20:$W$145,8,FALSE) -> Санкт-Петербург | G60: =VLOOKUP($K60,'[12]400Д'!$D$20:$W$145,3,FALSE) -> 127 | J60: лич | K60: 62
A61: 3 | B61: =VLOOKUP($K61,'[12]400Д'!$D$20:$W$145,4,FALSE) -> ЛУКАШКИНА | C61: =VLOOKUP($K61,'[12]400Д'!$D$20:$W$145,5,FALSE) -> Анна | D61: =VLOOKUP($K61,'[12]400Д'!$D$20:$W$145,6,FALSE) -> 14.02.2001 | E61: =VLOOKUP($K61,'[12]400Д'!$D$20:$W$145,7,FALSE) -> КМС | F61: =VLOOKUP($K61,'[12]400Д'!$D$20:$W$145,8,FALSE) -> Санкт-Петербург | G61: =VLOOKUP($K61,'[12]400Д'!$D$20:$W$145,3,FALSE) -> 146 | J61: лич | K61: 63
A62: 4 | B62: =VLOOKUP($K62,'[12]400Д'!$D$20:$W$145,4,FALSE) -> МАНЦУРОВА | C62: =VLOOKUP($K62,'[12]400Д'!$D$20:$W$145,5,FALSE) -> Кристина | D62: =VLOOKUP($K62,'[12]400Д'!$D$20:$W$145,6,FALSE) -> 26.08.1999 | E62: =VLOOKUP($K62,'[12]400Д'!$D$20:$W$145,7,FALSE) -> 1 | F62: =VLOOKUP($K62,'[12]400Д'!$D$20:$W$145,8,FALSE) -> Курская область | G62: =VLOOKUP($K62,'[12]400Д'!$D$20:$W$145,3,FALSE) -> 207 | J62: лич | K62: 64
A63: 5 | B63: =VLOOKUP($K63,'[12]400Д'!$D$20:$W$145,4,FALSE) -> Кондрашкина | C63: =VLOOKUP($K63,'[12]400Д'!$D$20:$W$145,5,FALSE) -> Юлия | D63: =VLOOKUP($K63,'[12]400Д'!$D$20:$W$145,6,FALSE) -> 10.08.1997 | E63: =VLOOKUP($K63,'[12]400Д'!$D$20:$W$145,7,FALSE) -> МС | F63: =VLOOKUP($K63,'[12]400Д'!$D$20:$W$145,8,FALSE) -> Краснодарский край | G63: =VLOOKUP($K63,'[12]400Д'!$D$20:$W$145,3,FALSE) -> 80 | K63: 65
A64: 6 | B64: =VLOOKUP($K64,'[12]400Д'!$D$20:$W$145,4,FALSE) -> БАУЛИНА | C64: =VLOOKUP($K64,'[12]400Д'!$D$20:$W$145,5,FALSE) -> Ирина | D64: =VLOOKUP($K64,'[12]400Д'!$D$20:$W$145,6,FALSE) -> 04.01.1999 | E64: =VLOOKUP($K64,'[12]400Д'!$D$20:$W$145,7,FALSE) -> КМС | F64: =VLOOKUP($K64,'[12]400Д'!$D$20:$W$145,8,FALSE) -> Воронежская область | G64: =VLOOKUP($K64,'[12]400Д'!$D$20:$W$145,3,FALSE) -> 407 | K64: 66
B66: 7 забег
A67: 1 | B67: =VLOOKUP($K67,'[12]400Д'!$D$20:$W$145,4,FALSE) -> ПОДКОРЫТОВА | C67: =VLOOKUP($K67,'[12]400Д'!$D$20:$W$145,5,FALSE) -> Анна | D67: =VLOOKUP($K67,'[12]400Д'!$D$20:$W$145,6,FALSE) -> 09.12.1999 | E67: =VLOOKUP($K67,'[12]400Д'!$D$20:$W$145,7,FALSE) -> 1 | F67: =VLOOKUP($K67,'[12]400Д'!$D$20:$W$145,8,FALSE) -> Челябинская область | G67: =VLOOKUP($K67,'[12]400Д'!$D$20:$W$145,3,FALSE) -> 474 | J67: лич | K67: 71
A68: 2 | B68: =VLOOKUP($K68,'[12]400Д'!$D$20:$W$145,4,FALSE) -> ЛАГУТИНА | C68: =VLOOKUP($K68,'[12]400Д'!$D$20:$W$145,5,FALSE) -> Екатерина | D68: =VLOOKUP($K68,'[12]400Д'!$D$20:$W$145,6,FALSE) -> 05.10.1999 | E68: =VLOOKUP($K68,'[12]400Д'!$D$20:$W$145,7,FALSE) -> КМС | F68: =VLOOKUP($K68,'[12]400Д'!$D$20:$W$145,8,FALSE) -> Самарская область | G68: =VLOOKUP($K68,'[12]400Д'!$D$20:$W$145,3,FALSE) -> 29 | J68: лич | K68: 72
A69: 3 | B69: =VLOOKUP($K69,'[12]400Д'!$D$20:$W$145,4,FALSE) -> АГАПОВА | C69: =VLOOKUP($K69,'[12]400Д'!$D$20:$W$145,5,FALSE) -> Алёна | D69: =VLOOKUP($K69,'[12]400Д'!$D$20:$W$145,6,FALSE) -> 21.02.1998 | E69: =VLOOKUP($K69,'[12]400Д'!$D$20:$W$145,7,FALSE) -> КМС | F69: =VLOOKUP($K69,'[12]400Д'!$D$20:$W$145,8,FALSE) -> Московская область | G69: =VLOOKUP($K69,'[12]400Д'!$D$20:$W$145,3,FALSE) -> 268 | J69: лич | K69: 73
A70: 4 | B70: =VLOOKUP($K70,'[12]400Д'!$D$20:$W$145,4,FALSE) -> НИКИТИНА | C70: =VLOOKUP($K70,'[12]400Д'!$D$20:$W$145,5,FALSE) -> Анастасия | D70: =VLOOKUP($K70,'[12]400Д'!$D$20:$W$145,6,FALSE) -> 05.04.1999 | E70: =VLOOKUP($K70,'[12]400Д'!$D$20:$W$145,7,FALSE) -> КМС | F70: =VLOOKUP($K70,'[12]400Д'!$D$20:$W$145,8,FALSE) -> Челябинская область | G70: =VLOOKUP($K70,'[12]400Д'!$D$20:$W$145,3,FALSE) -> 462 | K70: 74
A71: 5 | B71: =VLOOKUP($K71,'[12]400Д'!$D$20:$W$145,4,FALSE) -> ПАРЕНЧУК | C71: =VLOOKUP($K71,'[12]400Д'!$D$20:$W$145,5,FALSE) -> Лика | D71: =VLOOKUP($K71,'[12]400Д'!$D$20:$W$145,6,FALSE) -> 06.04.2002 | E71: =VLOOKUP($K71,'[12]400Д'!$D$20:$W$145,7,FALSE) -> КМС | F71: =VLOOKUP($K71,'[12]400Д'!$D$20:$W$145,8,FALSE) -> Алтайский край | G71: =VLOOKUP($K71,'[12]400Д'!$D$20:$W$145,3,FALSE) -> 240 | K71: 75
A72: 6 | B72: =VLOOKUP($K72,'[12]400Д'!$D$20:$W$145,4,FALSE) -> КРАСНОВА | C72: =VLOOKUP($K72,'[12]400Д'!$D$20:$W$145,5,FALSE) -> Карина | D72: =VLOOKUP($K72,'[12]400Д'!$D$20:$W$145,6,FALSE) -> 09.07.2000 | E72: =VLOOKUP($K72,'[12]400Д'!$D$20:$W$145,7,FALSE) -> КМС | F72: =VLOOKUP($K72,'[12]400Д'!$D$20:$W$145,8,FALSE) -> Московская область/Тульская область | G72: =VLOOKUP($K72,'[12]400Д'!$D$20:$W$145,3,FALSE) -> 274 | J72: лич | K72: 76
B74: 8 забег
A75: 1 | B75: =VLOOKUP($K75,'[12]400Д'!$D$20:$W$145,4,FALSE) -> ГОЛИКОВА | C75: =VLOOKUP($K75,'[12]400Д'!$D$20:$W$145,5,FALSE) -> Екатерина | D75: =VLOOKUP($K75,'[12]400Д'!$D$20:$W$145,6,FALSE) -> 17.09.2000 | E75: =VLOOKUP($K75,'[12]400Д'!$D$20:$W$145,7,FALSE) -> 1 | F75: =VLOOKUP($K75,'[12]400Д'!$D$20:$W$145,8,FALSE) -> Санкт-Петербург/Архангельская область | G75: =VLOOKUP($K75,'[12]400Д'!$D$20:$W$145,3,FALSE) -> 117 | J75: лич | K75: 81
A76: 2 | B76: =VLOOKUP($K76,'[12]400Д'!$D$20:$W$145,4,FALSE) -> ПАРХОМЧУК | C76: =VLOOKUP($K76,'[12]400Д'!$D$20:$W$145,5,FALSE) -> Виктория | D76: =VLOOKUP($K76,'[12]400Д'!$D$20:$W$145,6,FALSE) -> 20.08.1998 | E76: =VLOOKUP($K76,'[12]400Д'!$D$20:$W$145,7,FALSE) -> КМС | F76: =VLOOKUP($K76,'[12]400Д'!$D$20:$W$145,8,FALSE) -> Тюменская область | G76: =VLOOKUP($K76,'[12]400Д'!$D$20:$W$145,3,FALSE) -> 53 | K76: 82
A77: 3 | B77: =VLOOKUP($K77,'[12]400Д'!$D$20:$W$145,4,FALSE) -> ЛЕОНОВА | C77: =VLOOKUP($K77,'[12]400Д'!$D$20:$W$145,5,FALSE) -> Алина | D77: =VLOOKUP($K77,'[12]400Д'!$D$20:$W$145,6,FALSE) -> 02.10.1998 | E77: =VLOOKUP($K77,'[12]400Д'!$D$20:$W$145,7,FALSE) -> КМС | F77: =VLOOKUP($K77,'[12]400Д'!$D$20:$W$145,8,FALSE) -> Омская область | G77: =VLOOKUP($K77,'[12]400Д'!$D$20:$W$145,3,FALSE) -> 198 | K77: 83
A78: 4 | B78: =VLOOKUP($K78,'[12]400Д'!$D$20:$W$145,4,FALSE) -> РЫБКИНА | C78: =VLOOKUP($K78,'[12]400Д'!$D$20:$W$145,5,FALSE) -> Анастасия | D78: =VLOOKUP($K78,'[12]400Д'!$D$20:$W$145,6,FALSE) -> 14.04.1999 | E78: =VLOOKUP($K78,'[12]400Д'!$D$20:$W$145,7,FALSE) -> КМС | F78: =VLOOKUP($K78,'[12]400Д'!$D$20:$W$145,8,FALSE) -> Курская область | G78: =VLOOKUP($K78,'[12]400Д'!$D$20:$W$145,3,FALSE) -> 203 | K78: 84
A79: 5 | B79: =VLOOKUP($K79,'[12]400Д'!$D$20:$W$145,4,FALSE) -> БРАГИНА | C79: =VLOOKUP($K79,'[12]400Д'!$D$20:$W$145,5,FALSE) -> Анастасия | D79: =VLOOKUP($K79,'[12]400Д'!$D$20:$W$145,6,FALSE) -> 01.06.1998 | E79: =VLOOKUP($K79,'[12]400Д'!$D$20:$W$145,7,FALSE) -> МС | F79: =VLOOKUP($K79,'[12]400Д'!$D$20:$W$145,8,FALSE) -> Новосибирская область | G79: =VLOOKUP($K79,'[12]400Д'!$D$20:$W$145,3,FALSE) -> 296 | K79: 85
A80: 6 | B80: =VLOOKUP($K80,'[12]400Д'!$D$20:$W$145,4,FALSE) -> ТЮРИНА | C80: =VLOOKUP($K80,'[12]400Д'!$D$20:$W$145,5,FALSE) -> Екатерина | D80: =VLOOKUP($K80,'[12]400Д'!$D$20:$W$145,6,FALSE) -> 18.04.1997 | E80: =VLOOKUP($K80,'[12]400Д'!$D$20:$W$145,7,FALSE) -> МС | F80: =VLOOKUP($K80,'[12]400Д'!$D$20:$W$145,8,FALSE) -> Санкт-Петербург-1/Нижегородская область | G80: =VLOOKUP($K80,'[12]400Д'!$D$20:$W$145,3,FALSE) -> 178 | K80: 86
B103: Рефери по бегу | G103: =[13]З!F15 -> Алексеев В.Г. /СПб, ССВк/
B104: Старший судья на финише | G104: =[13]З!F16 -> Шубина И.Ф. /СПб, ССВк/
B105: Старший хронометрист | G105: =[13]З!F17 -> Мичурина О.А. /СПб, ССВк/
B106: Секретарь | G106: =[13]З!F18 -> Пономарева С.Е. /СПб, ССВк/

Sheet 800Д(2)
F1: МИНИСТЕРСТВО СПОРТА РОССИЙСКОЙ ФЕДЕРАЦИИ
F2: ВСЕРОССИЙСКАЯ ФЕДЕРАЦИЯ ЛЕГКОЙ АТЛЕТИКИ
F3: КОМИТЕТ ПО ФИЗИЧЕСКОЙ КУЛЬТУРЕ И СПОРТУ САНКТ-ПЕТЕРБУРГА
F4: СПОРТИВНАЯ ФЕДЕРАЦИЯ ЛЕГКОЙ АТЛЕТИКИ САНКТ-ПЕТЕРБУРГА
F6: Первенство России по легкой атлетике
F7: (среди юниоров и юниорок до 23 лет) в помещении
F9: Бег 800 м
A10: 1.57,55 | B10: ВД Мира 23 | F10: Забеги
A11: 1.58,42 | B11: ВД Европы 23 | F11: ЮНИОРКИ
A12: 1.59,35 | B12: Рекорд России 23
J14: ='[12]800Д'!H17 -> 19 февраля 2019 г.
I15: Начало: | J15: 0.625
A16: Санкт-Петербург, Легкоатлетический манеж | I16: Окончание:
B18: Фамилия | C18: Имя | D18: Дата рожд | E18: Разряд | F18: Территория | G18: № уч. | H18: Приход | I18: Результат | J18: Примечание
B19: 1 забег
A20: 1 | B20: =VLOOKUP($K20,'[12]800Д'!$D$20:$Y$147,4,FALSE) -> ШКАЛЕНКОВА | C20: =VLOOKUP($K20,'[12]800Д'!$D$20:$Y$147,5,FALSE) -> Кристина | D20: =VLOOKUP($K20,'[12]800Д'!$D$20:$Y$147,6,FALSE) -> 17.01.2001 | E20: =VLOOKUP($K20,'[12]800Д'!$D$20:$Y$147,7,FALSE) -> КМС | F20: =VLOOKUP($K20,'[12]800Д'!$D$20:$Y$147,8,FALSE) -> Санкт-Петербург | G20: =VLOOKUP($K20,'[12]800Д'!$D$20:$Y$147,3,FALSE) -> 186 | J20: лич | K20: 11
A21: 2 | B21: =VLOOKUP($K21,'[12]800Д'!$D$20:$Y$147,4,FALSE) -> САМУЙЛОВА | C21: =VLOOKUP($K21,'[12]800Д'!$D$20:$Y$147,5,FALSE) -> Екатерина | D21: =VLOOKUP($K21,'[12]800Д'!$D$20:$Y$147,6,FALSE) -> 05.11.1999 | E21: =VLOOKUP($K21,'[12]800Д'!$D$20:$Y$147,7,FALSE) -> КМС | F21: =VLOOKUP($K21,'[12]800Д'!$D$20:$Y$147,8,FALSE) -> Москва Тверская область | G21: =VLOOKUP($K21,'[12]800Д'!$D$20:$Y$147,3,FALSE) -> 391 | J21: лич/к | K21: 12
A22: 3 | B22: =VLOOKUP($K22,'[12]800Д'!$D$20:$Y$147,4,FALSE) -> ПАХОМОВА | C22: =VLOOKUP($K22,'[12]800Д'!$D$20:$Y$147,5,FALSE) -> Кристина | D22: =VLOOKUP($K22,'[12]800Д'!$D$20:$Y$147,6,FALSE) -> 20.11.1999 | E22: =VLOOKUP($K22,'[12]800Д'!$D$20:$Y$147,7,FALSE) -> КМС | F22: =VLOOKUP($K22,'[12]800Д'!$D$20:$Y$147,8,FALSE) -> Московская область Курская область | G22: =VLOOKUP($K22,'[12]800Д'!$D$20:$Y$147,3,FALSE) -> 278 | J22: лич/к | K22: 13
A23: 4 | B23: =VLOOKUP($K23,'[12]800Д'!$D$20:$Y$147,4,FALSE) -> АГЕЙЧЕНКОВА | C23: =VLOOKUP($K23,'[12]800Д'!$D$20:$Y$147,5,FALSE) -> Елена | D23: =VLOOKUP($K23,'[12]800Д'!$D$20:$Y$147,6,FALSE) -> 03.04.1999 | E23: =VLOOKUP($K23,'[12]800Д'!$D$20:$Y$147,7,FALSE) -> КМС | F23: =VLOOKUP($K23,'[12]800Д'!$D$20:$Y$147,8,FALSE) -> Московская область Брянская область | G23: =VLOOKUP($K23,'[12]800Д'!$D$20:$Y$147,3,FALSE) -> 252 | K23: 14
A24: 5 | B24: =VLOOKUP($K24,'[12]800Д'!$D$20:$Y$147,4,FALSE) -> ЗАВАРЗИНА | C24: =VLOOKUP($K24,'[12]800Д'!$D$20:$Y$147,5,FALSE) -> Анжелика | D24: =VLOOKUP($K24,'[12]800Д'!$D$20:$Y$147,6,FALSE) -> 19.07.1998 | E24: =VLOOKUP($K24,'[12]800Д'!$D$20:$Y$147,7,FALSE) -> КМС | F24: =VLOOKUP($K24,'[12]800Д'!$D$20:$Y$147,8,FALSE) -> Волгоградская область | G24: =VLOOKUP($K24,'[12]800Д'!$D$20:$Y$147,3,FALSE) -> 496 | K24: 15
A25: 6 | B25: =VLOOKUP($K25,'[12]800Д'!$D$20:$Y$147,4,FALSE) -> ЧЕРНЫХ | C25: =VLOOKUP($K25,'[12]800Д'!$D$20:$Y$147,5,FALSE) -> Арина | D25: =VLOOKUP($K25,'[12]800Д'!$D$20:$Y$147,6,FALSE) -> 05.10.1998 | E25: =VLOOKUP($K25,'[12]800Д'!$D$20:$Y$147,7,FALSE) -> КМС | F25: =VLOOKUP($K25,'[12]800Д'!$D$20:$Y$147,8,FALSE) -> Приморский край | G25: =VLOOKUP($K25,'[12]800Д'!$D$20:$Y$147,3,FALSE) -> 250 | K25: 16
B26: 2 забег
A27: 1 | B27: =VLOOKUP($K27,'[12]800Д'!$D$20:$Y$147,4,FALSE) -> ТИХОНОВА | C27: =VLOOKUP($K27,'[12]800Д'!$D$20:$Y$147,5,FALSE) -> Дарья | D27: =VLOOKUP($K27,'[12]800Д'!$D$20:$Y$147,6,FALSE) -> 15.08.1998 | E27: =VLOOKUP($K27,'[12]800Д'!$D$20:$Y$147,7,FALSE) -> КМС | F27: =VLOOKUP($K27,'[12]800Д'!$D$20:$Y$147,8,FALSE) -> Москва | G27: =VLOOKUP($K27,'[12]800Д'!$D$20:$Y$147,3,FALSE) -> 428 | J27: лич | K27: 21
A28: 2 | B28: =VLOOKUP($K28,'[12]800Д'!$D$20:$Y$147,4,FALSE) -> ТРУБИНА | C28: =VLOOKUP($K28,'[12]800Д'!$D$20:$Y$147,5,FALSE) -> Екатерина | D28: =VLOOKUP($K28,'[12]800Д'!$D$20:$Y$147,6,FALSE) -> 08.07.1997 | E28: =VLOOKUP($K28,'[12]800Д'!$D$20:$Y$147,7,FALSE) -> КМС | F28: =VLOOKUP($K28,'[12]800Д'!$D$20:$Y$147,8,FALSE) -> Самарская область | G28: =VLOOKUP($K28,'[12]800Д'!$D$20:$Y$147,3,FALSE) -> 417 | K28: 22
A29: 3 | B29: =VLOOKUP($K29,'[12]800Д'!$D$20:$Y$147,4,FALSE) -> ЗЫРЯНОВА | C29: =VLOOKUP($K29,'[12]800Д'!$D$20:$Y$147,5,FALSE) -> Ксения | D29: =VLOOKUP($K29,'[12]800Д'!$D$20:$Y$147,6,FALSE) -> 30.01.1998 | E29: =VLOOKUP($K29,'[12]800Д'!$D$20:$Y$147,7,FALSE) -> КМС | F29: =VLOOKUP($K29,'[12]800Д'!$D$20:$Y$147,8,FALSE) -> Пермский край | G29: =VLOOKUP($K29,'[12]800Д'!$D$20:$Y$147,3,FALSE) -> 229 | K29: 23
A30: 4 | B30: =VLOOKUP($K30,'[12]800Д'!$D$20:$Y$147,4,FALSE) -> КРИКУН | C30: =VLOOKUP($K30,'[12]800Д'!$D$20:$Y$147,5,FALSE) -> Наталья | D30: =VLOOKUP($K30,'[12]800Д'!$D$20:$Y$147,6,FALSE) -> 24.06.1999 | E30: =VLOOKUP($K30,'[12]800Д'!$D$20:$Y$147,7,FALSE) -> КМС | F30: =VLOOKUP($K30,'[12]800Д'!$D$20:$Y$147,8,FALSE) -> Омская область | G30: =VLOOKUP($K30,'[12]800Д'!$D$20:$Y$147,3,FALSE) -> 197 | K30: 24
A31: 5 | B31: =VLOOKUP($K31,'[12]800Д'!$D$20:$Y$147,4,FALSE) -> ЛУНЕВА | C31: =VLOOKUP($K31,'[12]800Д'!$D$20:$Y$147,5,FALSE) -> Элина | D31: =VLOOKUP($K31,'[12]800Д'!$D$20:$Y$147,6,FALSE) -> 29.01.1997 | E31: =VLOOKUP($K31,'[12]800Д'!$D$20:$Y$147,7,FALSE) -> КМС | F31: =VLOOKUP($K31,'[12]800Д'!$D$20:$Y$147,8,FALSE) -> Челябинская область | G31: =VLOOKUP($K31,'[12]800Д'!$D$20:$Y$147,3,FALSE) -> 459 | K31: 25
A32: 6 | B32: =VLOOKUP($K32,'[12]800Д'!$D$20:$Y$147,4,FALSE) -> СОЛОМЕИНА | C32: =VLOOKUP($K32,'[12]800Д'!$D$20:$Y$147,5,FALSE) -> Полина | D32: =VLOOKUP($K32,'[12]800Д'!$D$20:$Y$147,6,FALSE) -> 04.09.2000 | E32: =VLOOKUP($K32,'[12]800Д'!$D$20:$Y$147,7,FALSE) -> КМС | F32: =VLOOKUP($K32,'[12]800Д'!$D$20:$Y$147,8,FALSE) -> Санкт-Петербург | G32: =VLOOKUP($K32,'[12]800Д'!$D$20:$Y$147,3,FALSE) -> 173 | J32: лич | K32: 26
B33: 3 забег
A34: 1 | K34: 31
A35: 2 | B35: =VLOOKUP($K35,'[12]800Д'!$D$20:$Y$147,4,FALSE) -> СИМОНОВА | C35: =VLOOKUP($K35,'[12]800Д'!$D$20:$Y$147,5,FALSE) -> Александра | D35: =VLOOKUP($K35,'[12]800Д'!$D$20:$Y$147,6,FALSE) -> 17.12.1998 | E35: =VLOOKUP($K35,'[12]800Д'!$D$20:$Y$147,7,FALSE) -> КМС | F35: =VLOOKUP($K35,'[12]800Д'!$D$20:$Y$147,8,FALSE) -> Челябинская область | G35: =VLOOKUP($K35,'[12]800Д'!$D$20:$Y$147,3,FALSE) -> 464 | K35: 32
A36: 3 | B36: =VLOOKUP($K36,'[12]800Д'!$D$20:$Y$147,4,FALSE) -> БУРЕЕВА | C36: =VLOOKUP($K36,'[12]800Д'!$D$20:$Y$147,5,FALSE) -> Олеся | D36: =VLOOKUP($K36,'[12]800Д'!$D$20:$Y$147,6,FALSE) -> 05.07.1998 | E36: =VLOOKUP($K36,'[12]800Д'!$D$20:$Y$147,7,FALSE) -> КМС | F36: =VLOOKUP($K36,'[12]800Д'!$D$20:$Y$147,8,FALSE) -> Воронежская область | G36: =VLOOKUP($K36,'[12]800Д'!$D$20:$Y$147,3,FALSE) -> 408 | K36: 33
A37: 4 | B37: =VLOOKUP($K37,'[12]800Д'!$D$20:$Y$147,4,FALSE) -> ИЗОТОВА | C37: =VLOOKUP($K37,'[12]800Д'!$D$20:$Y$147,5,FALSE) -> Марина | D37: =VLOOKUP($K37,'[12]800Д'!$D$20:$Y$147,6,FALSE) -> 15.03.2001 | E37: =VLOOKUP($K37,'[12]800Д'!$D$20:$Y$147,7,FALSE) -> КМС | F37: =VLOOKUP($K37,'[12]800Д'!$D$20:$Y$147,8,FALSE) -> Московская область | G37: =VLOOKUP($K37,'[12]800Д'!$D$20:$Y$147,3,FALSE) -> 272 | J37: лич | K37: 34
A38: 5 | B38: =VLOOKUP($K38,'[12]800Д'!$D$20:$Y$147,4,FALSE) -> ПАУШКИНА | C38: =VLOOKUP($K38,'[12]800Д'!$D$20:$Y$147,5,FALSE) -> Елена | D38: =VLOOKUP($K38,'[12]800Д'!$D$20:$Y$147,6,FALSE) -> 08.11.1998 | E38: =VLOOKUP($K38,'[12]800Д'!$D$20:$Y$147,7,FALSE) -> КМС | F38: =VLOOKUP($K38,'[12]800Д'!$D$20:$Y$147,8,FALSE) -> Московская область Хабаровский край | G38: =VLOOKUP($K38,'[12]800Д'!$D$20:$Y$147,3,FALSE) -> 263 | K38: 35
A39: 6 | B39: =VLOOKUP($K39,'[12]800Д'!$D$20:$Y$147,4,FALSE) -> САНКИНА | C39: =VLOOKUP($K39,'[12]800Д'!$D$20:$Y$147,5,FALSE) -> Анастасия | D39: =VLOOKUP($K39,'[12]800Д'!$D$20:$Y$147,6,FALSE) -> 14.05.1998 | E39: =VLOOKUP($K39,'[12]800Д'!$D$20:$Y$147,7,FALSE) -> 1 | F39: =VLOOKUP($K39,'[12]800Д'!$D$20:$Y$147,8,FALSE) -> Республика Башкортостан | G39: =VLOOKUP($K39,'[12]800Д'!$D$20:$Y$147,3,FALSE) -> 512 | K39: 36
B41: 4 забег
A42: 1 | K42: 41
A43: 2 | B43: =VLOOKUP($K43,'[12]800Д'!$D$20:$Y$147,4,FALSE) -> ЗИМИНА | C43: =VLOOKUP($K43,'[12]800Д'!$D$20:$Y$147,5,FALSE) -> Дарья | D43: =VLOOKUP($K43,'[12]800Д'!$D$20:$Y$147,6,FALSE) -> 05.10.1999 | E43: =VLOOKUP($K43,'[12]800Д'!$D$20:$Y$147,7,FALSE) -> КМС | F43: =VLOOKUP($K43,'[12]800Д'!$D$20:$Y$147,8,FALSE) -> Московская область Курская область | G43: =VLOOKUP($K43,'[12]800Д'!$D$20:$Y$147,3,FALSE) -> 270 | J43: лич | K43: 42
A44: 3 | B44: =VLOOKUP($K44,'[12]800Д'!$D$20:$Y$147,4,FALSE) -> РУДАКОВА | C44: =VLOOKUP($K44,'[12]800Д'!$D$20:$Y$147,5,FALSE) -> Екатерина | D44: =VLOOKUP($K44,'[12]800Д'!$D$20:$Y$147,6,FALSE) -> 20.03.2001 | E44: =VLOOKUP($K44,'[12]800Д'!$D$20:$Y$147,7,FALSE) -> КМС | F44: =VLOOKUP($K44,'[12]800Д'!$D$20:$Y$147,8,FALSE) -> Санкт-Петербург | G44: =VLOOKUP($K44,'[12]800Д'!$D$20:$Y$147,3,FALSE) -> 165 | J44: лич | K44: 43
A45: 4 | B45: =VLOOKUP($K45,'[12]800Д'!$D$20:$Y$147,4,FALSE) -> ЦЫГАНОВА | C45: =VLOOKUP($K45,'[12]800Д'!$D$20:$Y$147,5,FALSE) -> Елизавета | D45: =VLOOKUP($K45,'[12]800Д'!$D$20:$Y$147,6,FALSE) -> 10.10.1997 | E45: =VLOOKUP($K45,'[12]800Д'!$D$20:$Y$147,7,FALSE) -> КМС | F45: =VLOOKUP($K45,'[12]800Д'!$D$20:$Y$147,8,FALSE) -> Московская область | G45: =VLOOKUP($K45,'[12]800Д'!$D$20:$Y$147,3,FALSE) -> 267 | K45: 44
A46: 5 | B46: =VLOOKUP($K46,'[12]800Д'!$D$20:$Y$147,4,FALSE) -> ТОЛМАЧЁВА | C46: =VLOOKUP($K46,'[12]800Д'!$D$20:$Y$147,5,FALSE) -> Екатерина | D46: =VLOOKUP($K46,'[12]800Д'!$D$20:$Y$147,6,FALSE) -> 13.11.1997 | E46: =VLOOKUP($K46,'[12]800Д'!$D$20:$Y$147,7,FALSE) -> КМС | F46: =VLOOKUP($K46,'[12]800Д'!$D$20:$Y$147,8,FALSE) -> Мурманская область | G46: =VLOOKUP($K46,'[12]800Д'!$D$20:$Y$147,3,FALSE) -> 33 | K46: 45
A47: 6 | B47: =VLOOKUP($K47,'[12]800Д'!$D$20:$Y$147,4,FALSE) -> САИТОВА | C47: =VLOOKUP($K47,'[12]800Д'!$D$20:$Y$147,5,FALSE) -> Алина | D47: =VLOOKUP($K47,'[12]800Д'!$D$20:$Y$147,6,FALSE) -> 13.12.1999 | E47: =VLOOKUP($K47,'[12]800Д'!$D$20:$Y$147,7,FALSE) -> 1 | F47: =VLOOKUP($K47,'[12]800Д'!$D$20:$Y$147,8,FALSE) -> Республика Башкортостан | G47: =VLOOKUP($K47,'[12]800Д'!$D$20:$Y$147,3,FALSE) -> 511 | K47: 46
B49: 5 забег
A50: 1 | K50: 51
A51: 2 | B51: =VLOOKUP($K51,'[12]800Д'!$D$20:$Y$147,4,FALSE) -> ВОСТРИКОВА | C51: =VLOOKUP($K51,'[12]800Д'!$D$20:$Y$147,5,FALSE) -> Ирина | D51: =VLOOKUP($K51,'[12]800Д'!$D$20:$Y$147,6,FALSE) -> 04.08.1999 | E51: =VLOOKUP($K51,'[12]800Д'!$D$20:$Y$147,7,FALSE) -> КМС | F51: =VLOOKUP($K51,'[12]800Д'!$D$20:$Y$147,8,FALSE) -> Санкт-Петербург | G51: =VLOOKUP($K51,'[12]800Д'!$D$20:$Y$147,3,FALSE) -> 114 | J51: лич | K51: 52
A52: 3 | B52: =VLOOKUP($K52,'[12]800Д'!$D$20:$Y$147,4,FALSE) -> КОЛЕНТЕЕВА | C52: =VLOOKUP($K52,'[12]800Д'!$D$20:$Y$147,5,FALSE) -> Кристина | D52: =VLOOKUP($K52,'[12]800Д'!$D$20:$Y$147,6,FALSE) -> 23.07.1998 | E52: =VLOOKUP($K52,'[12]800Д'!$D$20:$Y$147,7,FALSE) -> КМС | F52: =VLOOKUP($K52,'[12]800Д'!$D$20:$Y$147,8,FALSE) -> Тюменская область | G52: =VLOOKUP($K52,'[12]800Д'!$D$20:$Y$147,3,FALSE) -> 52 | K52: 53
A53: 4 | B53: =VLOOKUP($K53,'[12]800Д'!$D$20:$Y$147,4,FALSE) -> ГУЩЕНЕЦ | C53: =VLOOKUP($K53,'[12]800Д'!$D$20:$Y$147,5,FALSE) -> Ирина | D53: =VLOOKUP($K53,'[12]800Д'!$D$20:$Y$147,6,FALSE) -> 23.10.2000 | E53: =VLOOKUP($K53,'[12]800Д'!$D$20:$Y$147,7,FALSE) -> КМС | F53: =VLOOKUP($K53,'[12]800Д'!$D$20:$Y$147,8,FALSE) -> Иркутская область | G53: =VLOOKUP($K53,'[12]800Д'!$D$20:$Y$147,3,FALSE) -> 214 | K53: 54
A54: 5 | B54: =VLOOKUP($K54,'[12]800Д'!$D$20:$Y$147,4,FALSE) -> БЛОХИНА | C54: =VLOOKUP($K54,'[12]800Д'!$D$20:$Y$147,5,FALSE) -> Екатерина | D54: =VLOOKUP($K54,'[12]800Д'!$D$20:$Y$147,6,FALSE) -> 28.03.1997 | E54: =VLOOKUP($K54,'[12]800Д'!$D$20:$Y$147,7,FALSE) -> КМС | F54: =VLOOKUP($K54,'[12]800Д'!$D$20:$Y$147,8,FALSE) -> Омская область | G54: =VLOOKUP($K54,'[12]800Д'!$D$20:$Y$147,3,FALSE) -> 225 | K54: 55
A55: 6 | B55: =VLOOKUP($K55,'[12]800Д'!$D$20:$Y$147,4,FALSE) -> РУХЛЯДЕВА | C55: =VLOOKUP($K55,'[12]800Д'!$D$20:$Y$147,5,FALSE) -> Мария | D55: =VLOOKUP($K55,'[12]800Д'!$D$20:$Y$147,6,FALSE) -> 27.11.1999 | E55: =VLOOKUP($K55,'[12]800Д'!$D$20:$Y$147,7,FALSE) -> 1 | F55: =VLOOKUP($K55,'[12]800Д'!$D$20:$Y$147,8,FALSE) -> Свердловская область | G55: =VLOOKUP($K55,'[12]800Д'!$D$20:$Y$147,3,FALSE) -> 191 | J55: лич | K55: 56
B57: 6 забег
A58: 1 | K58: 61
A59: 2 | B59: =VLOOKUP($K59,'[12]800Д'!$D$20:$Y$147,4,FALSE) -> КУПРИЕНКО | C59: =VLOOKUP($K59,'[12]800Д'!$D$20:$Y$147,5,FALSE) -> Анастасия | D59: =VLOOKUP($K59,'[12]800Д'!$D$20:$Y$147,6,FALSE) -> 26.01.1999 | E59: =VLOOKUP($K59,'[12]800Д'!$D$20:$Y$147,7,FALSE) -> 1 | F59: =VLOOKUP($K59,'[12]800Д'!$D$20:$Y$147,8,FALSE) -> Омская область | G59: =VLOOKUP($K59,'[12]800Д'!$D$20:$Y$147,3,FALSE) -> 226 | J59: лич | K59: 62
A60: 3 | B60: =VLOOKUP($K60,'[12]800Д'!$D$20:$Y$147,4,FALSE) -> СУДОС | C60: =VLOOKUP($K60,'[12]800Д'!$D$20:$Y$147,5,FALSE) -> Анастасия | D60: =VLOOKUP($K60,'[12]800Д'!$D$20:$Y$147,6,FALSE) -> 01.04.1997 | E60: =VLOOKUP($K60,'[12]800Д'!$D$20:$Y$147,7,FALSE) -> КМС | F60: =VLOOKUP($K60,'[12]800Д'!$D$20:$Y$147,8,FALSE) -> Иркутская область | G60: =VLOOKUP($K60,'[12]800Д'!$D$20:$Y$147,3,FALSE) -> 217 | K60: 63
A61: 4 | B61: =VLOOKUP($K61,'[12]800Д'!$D$20:$Y$147,4,FALSE) -> АЛЕКСЕЕВА | C61: =VLOOKUP($K61,'[12]800Д'!$D$20:$Y$147,5,FALSE) -> Екатерина | D61: =VLOOKUP($K61,'[12]800Д'!$D$20:$Y$147,6,FALSE) -> 22.05.1998 | E61: =VLOOKUP($K61,'[12]800Д'!$D$20:$Y$147,7,FALSE) -> МС | F61: =VLOOKUP($K61,'[12]800Д'!$D$20:$Y$147,8,FALSE) -> Московская область Ставропольский край | G61: =VLOOKUP($K61,'[12]800Д'!$D$20:$Y$147,3,FALSE) -> 253 | K61: 64
A62: 5 | B62: =VLOOKUP($K62,'[12]800Д'!$D$20:$Y$147,4,FALSE) -> ШАЛИМОВА | C62: =VLOOKUP($K62,'[12]800Д'!$D$20:$Y$147,5,FALSE) -> Анастасия | D62: =VLOOKUP($K62,'[12]800Д'!$D$20:$Y$147,6,FALSE) -> 21.05.1998 | E62: =VLOOKUP($K62,'[12]800Д'!$D$20:$Y$147,7,FALSE) -> КМС | F62: =VLOOKUP($K62,'[12]800Д'!$D$20:$Y$147,8,FALSE) -> Орловская область | G62: =VLOOKUP($K62,'[12]800Д'!$D$20:$Y$147,3,FALSE) -> 448 | K62: 65
A63: 6 | B63: =VLOOKUP($K63,'[12]800Д'!$D$20:$Y$147,4,FALSE) -> ЖУКОВА | C63: =VLOOKUP($K63,'[12]800Д'!$D$20:$Y$147,5,FALSE) -> Полина | D63: =VLOOKUP($K63,'[12]800Д'!$D$20:$Y$147,6,FALSE) -> 06.08.1998 | E63: =VLOOKUP($K63,'[12]800Д'!$D$20:$Y$147,7,FALSE) -> КМС | F63: =VLOOKUP($K63,'[12]800Д'!$D$20:$Y$147,8,FALSE) -> Московская область Санкт-Петербург | G63: =VLOOKUP($K63,'[12]800Д'!$D$20:$Y$147,3,FALSE) -> 270 | J63: лич | K63: 66
B106: Рефери по бегу | G106: =[13]З!F15 -> Алексеев В.Г. /СПб, ССВк/
B107: Старший судья на финише | G107: Куликов В.Я. /СПб, ССВк/
B108: Старший хронометрист | G108: =[13]З!F17 -> Мичурина О.А. /СПб, ССВк/
B109: Секретарь | G109: =[13]З!F18 -> Пономарева С.Е. /СПб, ССВк/

Sheet 3000Д(2)
F1: МИНИСТЕРСТВО СПОРТА РОССИЙСКОЙ ФЕДЕРАЦИИ
F2: ВСЕРОССИЙСКАЯ ФЕДЕРАЦИЯ ЛЕГКОЙ АТЛЕТИКИ
F3: КОМИТЕТ ПО ФИЗИЧЕСКОЙ КУЛЬТУРЕ И СПОРТУ САНКТ-ПЕТЕРБУРГА
F4: СПОРТИВНАЯ ФЕДЕРАЦИЯ ЛЕГКОЙ АТЛЕТИКИ САНКТ-ПЕТЕРБУРГА
F6: Первенство России по легкой атлетике
F7: (среди юниоров и юниорок до 23 лет) в помещении
A8: 8.23,74 | B8: ВД Мира 23
A9: 8.39,79 | B9: ВД Европы 23 | F9: Бег 3000 м
A10: 8.52,12 | B10: Рекорд России 23 | F10: Финальный забег
F11: ЮНИОРКИ
J13: ='[12]3000Д'!F17 -> 19 февраля 2019 г.
I14: Начало: | J14: 0.77083333
A15: Санкт-Петербург, Легкоатлетический манеж | I15: Окончание:
B17: Фамилия | C17: Имя | D17: Дата рожд | E17: Разряд | F17: Территория | G17: № уч. | H17: Приход | I17: Результат | J17: Примечание
B18: 1 забег
A19: 1 | B19: =VLOOKUP($K19,'[12]3000Д'!$D$19:$T$175,3,FALSE) -> ЛИХАЧЕВА | C19: =VLOOKUP($K19,'[12]3000Д'!$D$19:$T$175,4,FALSE) -> Юлия | D19: =VLOOKUP($K19,'[12]3000Д'!$D$19:$T$175,5,FALSE) -> 36033 | E19: =VLOOKUP($K19,'[12]3000Д'!$D$19:$T$175,6,FALSE) -> МС | F19: =VLOOKUP($K19,'[12]3000Д'!$D$19:$T$175,7,FALSE) -> Красноярский край | G19: =VLOOKUP($K19,'[12]3000Д'!$D$19:$T$175,2,FALSE) -> 48 | K19: 11
A20: 2 | B20: =VLOOKUP($K20,'[12]3000Д'!$D$19:$T$175,3,FALSE) -> БЕСПАЛОВА | C20: =VLOOKUP($K20,'[12]3000Д'!$D$19:$T$175,4,FALSE) -> Екатерина | D20: =VLOOKUP($K20,'[12]3000Д'!$D$19:$T$175,5,FALSE) -> 35755 | E20: =VLOOKUP($K20,'[12]3000Д'!$D$19:$T$175,6,FALSE) -> КМС | F20: =VLOOKUP($K20,'[12]3000Д'!$D$19:$T$175,7,FALSE) -> Москва Смоленская область | G20: =VLOOKUP($K20,'[12]3000Д'!$D$19:$T$175,2,FALSE) -> 376 | J20: лич/к | K20: 12
A21: 3 | B21: =VLOOKUP($K21,'[12]3000Д'!$D$19:$T$175,3,FALSE) -> ПАУШКИНА | C21: =VLOOKUP($K21,'[12]3000Д'!$D$19:$T$175,4,FALSE) -> Елена | D21: =VLOOKUP($K21,'[12]3000Д'!$D$19:$T$175,5,FALSE) -> 36107 | E21: =VLOOKUP($K21,'[12]3000Д'!$D$19:$T$175,6,FALSE) -> КМС | F21: =VLOOKUP($K21,'[12]3000Д'!$D$19:$T$175,7,FALSE) -> Московская область Хабаровский край | G21: =VLOOKUP($K21,'[12]3000Д'!$D$19:$T$175,2,FALSE) -> 263 | K21: 13
A22: 4 | B22: =VLOOKUP($K22,'[12]3000Д'!$D$19:$T$175,3,FALSE) -> ТАРАКАНОВА | C22: =VLOOKUP($K22,'[12]3000Д'!$D$19:$T$175,4,FALSE) -> Полина | D22: =VLOOKUP($K22,'[12]3000Д'!$D$19:$T$175,5,FALSE) -> 36341 | E22: =VLOOKUP($K22,'[12]3000Д'!$D$19:$T$175,6,FALSE) -> КМС | F22: =VLOOKUP($K22,'[12]3000Д'!$D$19:$T$175,7,FALSE) -> Московская область Ярославская область | G22: =VLOOKUP($K22,'[12]3000Д'!$D$19:$T$175,2,FALSE) -> 327 | K22: 14
A23: 5 | B23: =VLOOKUP($K23,'[12]3000Д'!$D$19:$T$175,3,FALSE) -> ГАДЕЛЬШИНА | C23: =VLOOKUP($K23,'[12]3000Д'!$D$19:$T$175,4,FALSE) -> Альбина | D23: =VLOOKUP($K23,'[12]3000Д'!$D$19:$T$175,5,FALSE) -> 36005 | E23: =VLOOKUP($K23,'[12]3000Д'!$D$19:$T$175,6,FALSE) -> КМС | F23: =VLOOKUP($K23,'[12]3000Д'!$D$19:$T$175,7,FALSE) -> Республика Башкортостан | G23: =VLOOKUP($K23,'[12]3000Д'!$D$19:$T$175,2,FALSE) -> 506 | K23: 15
A24: 6 | B24: =VLOOKUP($K24,'[12]3000Д'!$D$19:$T$175,3,FALSE) -> ПАУШКИНА | C24: =VLOOKUP($K24,'[12]3000Д'!$D$19:$T$175,4,FALSE) -> Ольга | D24: =VLOOKUP($K24,'[12]3000Д'!$D$19:$T$175,5,FALSE) -> 36107 | E24: =VLOOKUP($K24,'[12]3000Д'!$D$19:$T$175,6,FALSE) -> КМС | F24: =VLOOKUP($K24,'[12]3000Д'!$D$19:$T$175,7,FALSE) -> Московская область Хабаровский край | G24: =VLOOKUP($K24,'[12]3000Д'!$D$19:$T$175,2,FALSE) -> 277 | J24: лич/к | K24: 16
A25: 7 | B25: =VLOOKUP($K25,'[12]3000Д'!$D$19:$T$175,3,FALSE) -> ЮМИНОВА | C25: =VLOOKUP($K25,'[12]3000Д'!$D$19:$T$175,4,FALSE) -> Елизавета | D25: =VLOOKUP($K25,'[12]3000Д'!$D$19:$T$175,5,FALSE) -> 36508 | E25: =VLOOKUP($K25,'[12]3000Д'!$D$19:$T$175,6,FALSE) -> КМС | F25: =VLOOKUP($K25,'[12]3000Д'!$D$19:$T$175,7,FALSE) -> Москва-2 | G25: =VLOOKUP($K25,'[12]3000Д'!$D$19:$T$175,2,FALSE) -> 370 | K25: 17
A26: 8 | B26: =VLOOKUP($K26,'[12]3000Д'!$D$19:$T$175,3,FALSE) -> ШИЛИНА | C26: =VLOOKUP($K26,'[12]3000Д'!$D$19:$T$175,4,FALSE) -> Алиса | D26: =VLOOKUP($K26,'[12]3000Д'!$D$19:$T$175,5,FALSE) -> 35913 | E26: =VLOOKUP($K26,'[12]3000Д'!$D$19:$T$175,6,FALSE) -> КМС | F26: =VLOOKUP($K26,'[12]3000Д'!$D$19:$T$175,7,FALSE) -> Санкт-Петербург-1 | G26: =VLOOKUP($K26,'[12]3000Д'!$D$19:$T$175,2,FALSE) -> 183 | K26: 18
A27: 9 | B27: =VLOOKUP($K27,'[12]3000Д'!$D$19:$T$175,3,FALSE) -> КСЕНОФОНТОВА | C27: =VLOOKUP($K27,'[12]3000Д'!$D$19:$T$175,4,FALSE) -> Анна | D27: =VLOOKUP($K27,'[12]3000Д'!$D$19:$T$175,5,FALSE) -> 36124 | E27: =VLOOKUP($K27,'[12]3000Д'!$D$19:$T$175,6,FALSE) -> КМС | F27: =VLOOKUP($K27,'[12]3000Д'!$D$19:$T$175,7,FALSE) -> Республика Бурятия | G27: =VLOOKUP($K27,'[12]3000Д'!$D$19:$T$175,2,FALSE) -> 7 | K27: 19
A28: 10 | B28: =VLOOKUP($K28,'[12]3000Д'!$D$19:$T$175,3,FALSE) -> ЖИВОТКО | C28: =VLOOKUP($K28,'[12]3000Д'!$D$19:$T$175,4,FALSE) -> Анастасия | D28: =VLOOKUP($K28,'[12]3000Д'!$D$19:$T$175,5,FALSE) -> 35847 | E28: =VLOOKUP($K28,'[12]3000Д'!$D$19:$T$175,6,FALSE) -> КМС | F28: =VLOOKUP($K28,'[12]3000Д'!$D$19:$T$175,7,FALSE) -> Челябинская область | G28: =VLOOKUP($K28,'[12]3000Д'!$D$19:$T$175,2,FALSE) -> 453 | J28: лич | K28: 110
A29: 11 | B29: =VLOOKUP($K29,'[12]3000Д'!$D$19:$T$175,3,FALSE) -> ГИБАДУЛЛИНА | C29: =VLOOKUP($K29,'[12]3000Д'!$D$19:$T$175,4,FALSE) -> Альфия | D29: =VLOOKUP($K29,'[12]3000Д'!$D$19:$T$175,5,FALSE) -> 35850 | E29: =VLOOKUP($K29,'[12]3000Д'!$D$19:$T$175,6,FALSE) -> КМС | F29: =VLOOKUP($K29,'[12]3000Д'!$D$19:$T$175,7,FALSE) -> Республика Башкортостан | G29: =VLOOKUP($K29,'[12]3000Д'!$D$19:$T$175,2,FALSE) -> 507 | K29: 111
A30: 12 | B30: =VLOOKUP($K30,'[12]3000Д'!$D$19:$T$175,3,FALSE) -> АЛГАЕВА | C30: =VLOOKUP($K30,'[12]3000Д'!$D$19:$T$175,4,FALSE) -> Алина | D30: =VLOOKUP($K30,'[12]3000Д'!$D$19:$T$175,5,FALSE) -> 36208 | E30: =VLOOKUP($K30,'[12]3000Д'!$D$19:$T$175,6,FALSE) -> КМС | F30: =VLOOKUP($K30,'[12]3000Д'!$D$19:$T$175,7,FALSE) -> Республика Татарстан | G30: =VLOOKUP($K30,'[12]3000Д'!$D$19:$T$175,2,FALSE) -> 394 | K30: 112
A31: 13 | B31: =VLOOKUP($K31,'[12]3000Д'!$D$19:$T$175,3,FALSE) -> ПАВЛЕНКО | C31: =VLOOKUP($K31,'[12]3000Д'!$D$19:$T$175,4,FALSE) -> Любовь | D31: =VLOOKUP($K31,'[12]3000Д'!$D$19:$T$175,5,FALSE) -> 35689 | E31: =VLOOKUP($K31,'[12]3000Д'!$D$19:$T$175,6,FALSE) -> КМС | F31: =VLOOKUP($K31,'[12]3000Д'!$D$19:$T$175,7,FALSE) -> Санкт-Петербург-1 Тамбовская область | G31: =VLOOKUP($K31,'[12]3000Д'!$D$19:$T$175,2,FALSE) -> 157 | K31: 113
B53: Рефери по бегу | G53: =[13]З!F15 -> Алексеев В.Г. /СПб, ССВк/
B54: Старший судья на финише | G54: Куликов В.Я. /СПб, ССВк/
B55: Старший хронометрист | G55: =[13]З!F17 -> Мичурина О.А. /СПб, ССВк/
B56: Секретарь | G56: =[13]З!F18 -> Пономарева С.Е. /СПб, ССВк/

Sheet ШесД(2)
P1: МИНИСТЕРСТВО СПОРТА РОССИЙСКОЙ ФЕДЕРАЦИИ
P2: ВСЕРОССИЙСКАЯ ФЕДЕРАЦИЯ ЛЕГКОЙ АТЛЕТИКИ
P3: КОМИТЕТ ПО ФИЗИЧЕСКОЙ КУЛЬТУРЕ И СПОРТУ САНКТ-ПЕТЕРБУРГА
P4: СПОРТИВНАЯ ФЕДЕРАЦИЯ ЛЕГКОЙ АТЛЕТИКИ САНКТ-ПЕТЕРБУРГА
A6: 4.87 | B6: Рекорд Мира 23 | P6: Первенство России по легкой атлетике
A7: 4.87 | B7: Рекорд Европы 23 | P7: (среди юниоров и юниорок до 23 лет) в помещении
A8: 4.86 | B8: Рекорд России 23
N9: Прыжок с шестом
K10: (начальная высота - 280 см)
P12: ЮНИОРКИ | AQ12: =[14]ШесД!D17 -> 19 февраля 2019 г.
AP13: Начало: | AQ13: 0.69791667
A14: Санкт-Петербург, Легкоатлетический манеж | P14: Финальные соревнования | AP14: Окончание:
A16: № п/п | B16: № участ. | C16: Фамилия | D16: Имя | E16: Дата рожд | F16: Разряд | G16: Территория | AO16: А | AP16: Б | AQ16: Рез-тат | AR16: М | AS16: Прим.
B17: № уч. | E17: Г.р. | F17: Разряд | G17: Команда | H17: 1 | I17: 2 | J17: 3 | K17: 1 | L17: 2 | M17: 3 | N17: 1 | O17: 2 | P17: 3 | Q17: 1 | R17: 2 | S17: 3 | T17: 1 | U17: 2 | V17: 3 | W17: 1 | X17: 2 | Y17: 3 | Z17: 1 | AA17: 2 | AB17: 3 | AC17: 1 | AD17: 2 | AE17: 3 | AF17: 1 | AG17: 2 | AH17: 3 | AI17: 1 | AJ17: 2 | AK17: 3 | AL17: 1 | AM17: 2 | AN17: 3 | AP17: Б | AR17: Б | AS17: М
A18: 1 | B18: =[14]ШесД!C19 -> 395 | C18: =[14]ШесД!D19 -> ДАСАЕВА | D18: =[14]ШесД!E19 -> Диана | E18: =[14]ШесД!F19 -> 35508 | F18: =[14]ШесД!G19 -> КМС | G18: =[14]ШесД!H19 -> Республика Татарстан
A19: 2 | B19: =[14]ШесД!C20 -> 421 | C19: =[14]ШесД!D20 -> НЕРУБЕНКО | D19: =[14]ШесД!E20 -> Людмила | E19: =[14]ШесД!F20 -> 35905 | F19: =[14]ШесД!G20 -> КМС | G19: =[14]ШесД!H20 -> Белгородская область
A20: 3 | B20: =[14]ШесД!C21 -> 457 | C20: =[14]ШесД!D21 -> КОСТИНА | D20: =[14]ШесД!E21 -> Анна | E20: =[14]ШесД!F21 -> 36228 | F20: =[14]ШесД!G21 -> КМС | G20: =[14]ШесД!H21 -> Челябинская область
A21: 4 | B21: =[14]ШесД!C22 -> 429 | C21: =[14]ШесД!D22 -> ФАХРУТДИНОВА | D21: =[14]ШесД!E22 -> Милана | E21: =[14]ШесД!F22 -> 36068 | F21: =[14]ШесД!G22 -> МС | G21: =[14]ШесД!H22 -> Москва
A22: 5 | B22: =[14]ШесД!C23 -> 108 | C22: =[14]ШесД!D23 -> БЛАГОЧЕВСКАЯ | D22: =[14]ШесД!E23 -> Алена | E22: =[14]ШесД!F23 -> 35980 | F22: =[14]ШесД!G23 -> КМС | G22: =[14]ШесД!H23 -> Санкт-Петербург
A23: 6 | B23: =[14]ШесД!C24 -> 371 | C23: =[14]ШесД!D24 -> БРЯНЧИНА | D23: =[14]ШесД!E24 -> Екатерина | E23: =[14]ШесД!F24 -> 36110 | F23: =[14]ШесД!G24 -> МС | G23: =[14]ШесД!H24 -> Москва-2
A24: 7 | B24: =[14]ШесД!C25 -> 128 | C24: =[14]ШесД!D25 -> ИГНАТКОВА | D24: =[14]ШесД!E25 -> Серафима | E24: =[14]ШесД!F25 -> 36883 | F24: =[14]ШесД!G25 -> КМС | G24: =[14]ШесД!H25 -> Санкт-Петербург-2
A25: 8 | B25: =[14]ШесД!C26 -> 220 | C25: =[14]ШесД!D26 -> КЛЮЖЕВА | D25: =[14]ШесД!E26 -> Нина | E25: =[14]ШесД!F26 -> 35757 | F25: =[14]ШесД!G26 -> МС | G25: =[14]ШесД!H26 -> Иркутская область
A26: 9 | B26: =[14]ШесД!C27 -> 140 | C26: =[14]ШесД!D27 -> КУЛАГИНА | D26: =[14]ШесД!E27 -> Наталья | E26: =[14]ШесД!F27 -> 36286 | F26: =[14]ШесД!G27 -> КМС | G26: =[14]ШесД!H27 -> Санкт-Петербург-2
A27: 10 | B27: =[14]ШесД!C28 -> 255 | C27: =[14]ШесД!D28 -> БОНДАРЕНКО | D27: =[14]ШесД!E28 -> Елизавета | E27: =[14]ШесД!F28 -> 36342 | F27: =[14]ШесД!G28 -> МС | G27: =[14]ШесД!H28 -> Московская область Ростовская область
A28: 11 | B28: =[14]ШесД!C29 -> 216 | C28: =[14]ШесД!D29 -> НИКОНОВА | D28: =[14]ШесД!E29 -> Валерия | E28: =[14]ШесД!F29 -> 35826 | F28: =[14]ШесД!G29 -> МС | G28: =[14]ШесД!H29 -> Иркутская область
A29: 12 | B29: =[14]ШесД!C30 -> 358 | C29: =[14]ШесД!D30 -> ГАТАУЛЛИНА | D29: =[14]ШесД!E30 -> Аксана | E29: =[14]ШесД!F30 -> 36724 | F29: =[14]ШесД!G30 -> МС | G29: =[14]ШесД!H30 -> Москва-1
C36: Рефери по прыжкам: | T36: Секретарь:
C38: Старший судья на виде: | T38: Судьи:

Sheet 400Ю(2)
F1: МИНИСТЕРСТВО СПОРТА РОССИЙСКОЙ ФЕДЕРАЦИИ
F2: ВСЕРОССИЙСКАЯ ФЕДЕРАЦИЯ ЛЕГКОЙ АТЛЕТИКИ
F3: КОМИТЕТ ПО ФИЗИЧЕСКОЙ КУЛЬТУРЕ И СПОРТУ САНКТ-ПЕТЕРБУРГА
F4: СПОРТИВНАЯ ФЕДЕРАЦИЯ ЛЕГКОЙ АТЛЕТИКИ САНКТ-ПЕТЕРБУРГА
F6: Первенство России по легкой атлетике
F7: (среди юниоров и юниорок до 23 лет) в помещении
A9: 44.57 | B9: Рекорд Мира 23 | F9: Бег 400 м
A10: 45.39 | B10: Рекорд Европы 23 | F10: Забеги
A11: 46.18 | B11: Рекорд России 23 | F11: ЮНИОРЫ
J13: ='[15]400Ю'!H17 -> 19 февраля 2019 г.
I14: Начало: | J14: 0.73263889
A15: Санкт-Петербург, Легкоатлетический манеж | I15: Окончание:
B17: Фамилия | C17: Имя | D17: Дата рожд | E17: Разряд | F17: Команда | G17: № уч. | H17: Приход | I17: Результат | J17: Примечание
B18: 1 забег
A19: 1 | K19: 11
A20: 2 | B20: =VLOOKUP($K20,'[15]400Ю'!$D$20:$W$134,4,FALSE) -> ГАЛЫБИН | C20: =VLOOKUP($K20,'[15]400Ю'!$D$20:$W$134,5,FALSE) -> Игорь | D20: =VLOOKUP($K20,'[15]400Ю'!$D$20:$W$134,6,FALSE) -> 21.02.2001 | E20: =VLOOKUP($K20,'[15]400Ю'!$D$20:$W$134,7,FALSE) -> КМС | F20: =VLOOKUP($K20,'[15]400Ю'!$D$20:$W$134,8,FALSE) -> Ульяновская область | G20: =VLOOKUP($K20,'[15]400Ю'!$D$20:$W$134,3,FALSE) -> 412 | K20: 12
A21: 3 | B21: =VLOOKUP($K21,'[15]400Ю'!$D$20:$W$134,4,FALSE) -> СВЕТЛОВ | C21: =VLOOKUP($K21,'[15]400Ю'!$D$20:$W$134,5,FALSE) -> Даниил | D21: =VLOOKUP($K21,'[15]400Ю'!$D$20:$W$134,6,FALSE) -> 19.11.1999 | E21: =VLOOKUP($K21,'[15]400Ю'!$D$20:$W$134,7,FALSE) -> КМС | F21: =VLOOKUP($K21,'[15]400Ю'!$D$20:$W$134,8,FALSE) -> Ярославская область | G21: =VLOOKUP($K21,'[15]400Ю'!$D$20:$W$134,3,FALSE) -> 326 | K21: 13
A22: 4 | B22: =VLOOKUP($K22,'[15]400Ю'!$D$20:$W$134,4,FALSE) -> ЛЫСЕНКО | C22: =VLOOKUP($K22,'[15]400Ю'!$D$20:$W$134,5,FALSE) -> Владимир | D22: =VLOOKUP($K22,'[15]400Ю'!$D$20:$W$134,6,FALSE) -> 10.06.1998 | E22: =VLOOKUP($K22,'[15]400Ю'!$D$20:$W$134,7,FALSE) -> МС | F22: =VLOOKUP($K22,'[15]400Ю'!$D$20:$W$134,8,FALSE) -> Московская область | G22: =VLOOKUP($K22,'[15]400Ю'!$D$20:$W$134,3,FALSE) -> 276 | J22: лич | K22: 14
A23: 5 | B23: =VLOOKUP($K23,'[15]400Ю'!$D$20:$W$134,4,FALSE) -> МАТВЕЕВ | C23: =VLOOKUP($K23,'[15]400Ю'!$D$20:$W$134,5,FALSE) -> Никита | D23: =VLOOKUP($K23,'[15]400Ю'!$D$20:$W$134,6,FALSE) -> 28.03.2000 | E23: =VLOOKUP($K23,'[15]400Ю'!$D$20:$W$134,7,FALSE) -> КМС | F23: =VLOOKUP($K23,'[15]400Ю'!$D$20:$W$134,8,FALSE) -> Ямало-Ненецкий автономный округ Владимирская область | G23: =VLOOKUP($K23,'[15]400Ю'!$D$20:$W$134,3,FALSE) -> 37 | K23: 15
A24: 6 | B24: =VLOOKUP($K24,'[15]400Ю'!$D$20:$W$134,4,FALSE) -> СКОСАРЬ | C24: =VLOOKUP($K24,'[15]400Ю'!$D$20:$W$134,5,FALSE) -> Михаил | D24: =VLOOKUP($K24,'[15]400Ю'!$D$20:$W$134,6,FALSE) -> 31.03.1999 | E24: =VLOOKUP($K24,'[15]400Ю'!$D$20:$W$134,7,FALSE) -> КМС | F24: =VLOOKUP($K24,'[15]400Ю'!$D$20:$W$134,8,FALSE) -> Санкт-Петербург | G24: =VLOOKUP($K24,'[15]400Ю'!$D$20:$W$134,3,FALSE) -> 170 | J24: лич | K24: 16
B26: 2 забег
A27: 1 | K27: 21
A28: 2 | B28: =VLOOKUP($K28,'[15]400Ю'!$D$20:$W$134,4,FALSE) -> ЗУБКОВ | C28: =VLOOKUP($K28,'[15]400Ю'!$D$20:$W$134,5,FALSE) -> Илья | D28: =VLOOKUP($K28,'[15]400Ю'!$D$20:$W$134,6,FALSE) -> 26.01.1998 | E28: =VLOOKUP($K28,'[15]400Ю'!$D$20:$W$134,7,FALSE) -> КМС | F28: =VLOOKUP($K28,'[15]400Ю'!$D$20:$W$134,8,FALSE) -> Челябинская область | G28: =VLOOKUP($K28,'[15]400Ю'!$D$20:$W$134,3,FALSE) -> 470 | J28: лич | K28: 22
A29: 3 | B29: =VLOOKUP($K29,'[15]400Ю'!$D$20:$W$134,4,FALSE) -> ПРОСКУРИН | C29: =VLOOKUP($K29,'[15]400Ю'!$D$20:$W$134,5,FALSE) -> Никита | D29: =VLOOKUP($K29,'[15]400Ю'!$D$20:$W$134,6,FALSE) -> 14.06.1997 | E29: =VLOOKUP($K29,'[15]400Ю'!$D$20:$W$134,7,FALSE) -> КМС | F29: =VLOOKUP($K29,'[15]400Ю'!$D$20:$W$134,8,FALSE) -> Курская область | G29: =VLOOKUP($K29,'[15]400Ю'!$D$20:$W$134,3,FALSE) -> 205 | J29: лич | K29: 23
A30: 4 | B30: =VLOOKUP($K30,'[15]400Ю'!$D$20:$W$134,4,FALSE) -> КУКАЛЕВ | C30: =VLOOKUP($K30,'[15]400Ю'!$D$20:$W$134,5,FALSE) -> Вадим | D30: =VLOOKUP($K30,'[15]400Ю'!$D$20:$W$134,6,FALSE) -> 22.08.1998 | E30: =VLOOKUP($K30,'[15]400Ю'!$D$20:$W$134,7,FALSE) -> КМС | F30: =VLOOKUP($K30,'[15]400Ю'!$D$20:$W$134,8,FALSE) -> Тюменская область | G30: =VLOOKUP($K30,'[15]400Ю'!$D$20:$W$134,3,FALSE) -> 54 | K30: 24
A31: 5 | B31: =VLOOKUP($K31,'[15]400Ю'!$D$20:$W$134,4,FALSE) -> ВЕРХОВЫХ | C31: =VLOOKUP($K31,'[15]400Ю'!$D$20:$W$134,5,FALSE) -> Рудольф | D31: =VLOOKUP($K31,'[15]400Ю'!$D$20:$W$134,6,FALSE) -> 03.09.1998 | E31: =VLOOKUP($K31,'[15]400Ю'!$D$20:$W$134,7,FALSE) -> МС | F31: =VLOOKUP($K31,'[15]400Ю'!$D$20:$W$134,8,FALSE) -> Свердловская область Челябинская область | G31: =VLOOKUP($K31,'[15]400Ю'!$D$20:$W$134,3,FALSE) -> 308 | K31: 25
A32: 6 | B32: =VLOOKUP($K32,'[15]400Ю'!$D$20:$W$134,4,FALSE) -> СИДОРОВ | C32: =VLOOKUP($K32,'[15]400Ю'!$D$20:$W$134,5,FALSE) -> Алексей | D32: =VLOOKUP($K32,'[15]400Ю'!$D$20:$W$134,6,FALSE) -> 22.01.1997 | E32: =VLOOKUP($K32,'[15]400Ю'!$D$20:$W$134,7,FALSE) -> КМС | F32: =VLOOKUP($K32,'[15]400Ю'!$D$20:$W$134,8,FALSE) -> Челябинская область | G32: =VLOOKUP($K32,'[15]400Ю'!$D$20:$W$134,3,FALSE) -> 475 | J32: лич | K32: 26
B34: 3 забег
A35: 1 | K35: 31
A36: 2 | B36: =VLOOKUP($K36,'[15]400Ю'!$D$20:$W$134,4,FALSE) -> РОДИЧЕВ | C36: =VLOOKUP($K36,'[15]400Ю'!$D$20:$W$134,5,FALSE) -> Никита | D36: =VLOOKUP($K36,'[15]400Ю'!$D$20:$W$134,6,FALSE) -> 31.01.1999 | E36: =VLOOKUP($K36,'[15]400Ю'!$D$20:$W$134,7,FALSE) -> КМС | F36: =VLOOKUP($K36,'[15]400Ю'!$D$20:$W$134,8,FALSE) -> Курганская область | G36: =VLOOKUP($K36,'[15]400Ю'!$D$20:$W$134,3,FALSE) -> 40 | K36: 32
A37: 3 | B37: =VLOOKUP($K37,'[15]400Ю'!$D$20:$W$134,4,FALSE) -> ГЕДАЕВ | C37: =VLOOKUP($K37,'[15]400Ю'!$D$20:$W$134,5,FALSE) -> Олег | D37: =VLOOKUP($K37,'[15]400Ю'!$D$20:$W$134,6,FALSE) -> 01.09.1998 | E37: =VLOOKUP($K37,'[15]400Ю'!$D$20:$W$134,7,FALSE) -> КМС | F37: =VLOOKUP($K37,'[15]400Ю'!$D$20:$W$134,8,FALSE) -> Москва | G37: =VLOOKUP($K37,'[15]400Ю'!$D$20:$W$134,3,FALSE) -> 375 | J37: лич | K37: 33
A38: 4 | B38: =VLOOKUP($K38,'[15]400Ю'!$D$20:$W$134,4,FALSE) -> ПРОКОФЬЕВ | C38: =VLOOKUP($K38,'[15]400Ю'!$D$20:$W$134,5,FALSE) -> Константин | D38: =VLOOKUP($K38,'[15]400Ю'!$D$20:$W$134,6,FALSE) -> 03.11.1997 | E38: =VLOOKUP($K38,'[15]400Ю'!$D$20:$W$134,7,FALSE) -> КМС | F38: =VLOOKUP($K38,'[15]400Ю'!$D$20:$W$134,8,FALSE) -> Санкт-Петербург-1 | G38: =VLOOKUP($K38,'[15]400Ю'!$D$20:$W$134,3,FALSE) -> 162 | K38: 34
A39: 5 | B39: =VLOOKUP($K39,'[15]400Ю'!$D$20:$W$134,4,FALSE) -> ФЕДЯЕВ | C39: =VLOOKUP($K39,'[15]400Ю'!$D$20:$W$134,5,FALSE) -> Максим | D39: =VLOOKUP($K39,'[15]400Ю'!$D$20:$W$134,6,FALSE) -> 01.12.1997 | E39: =VLOOKUP($K39,'[15]400Ю'!$D$20:$W$134,7,FALSE) -> МСМК | F39: =VLOOKUP($K39,'[15]400Ю'!$D$20:$W$134,8,FALSE) -> Московская область Курская область | G39: =VLOOKUP($K39,'[15]400Ю'!$D$20:$W$134,3,FALSE) -> 264 | K39: 35
A40: 6 | B40: =VLOOKUP($K40,'[15]400Ю'!$D$20:$W$134,4,FALSE) -> ГОВОРУХА | C40: =VLOOKUP($K40,'[15]400Ю'!$D$20:$W$134,5,FALSE) -> Даниил | D40: =VLOOKUP($K40,'[15]400Ю'!$D$20:$W$134,6,FALSE) -> 16.08.1999 | E40: =VLOOKUP($K40,'[15]400Ю'!$D$20:$W$134,7,FALSE) -> 1 | F40: =VLOOKUP($K40,'[15]400Ю'!$D$20:$W$134,8,FALSE) -> Свердловская область | G40: =VLOOKUP($K40,'[15]400Ю'!$D$20:$W$134,3,FALSE) -> 310 | K40: 36
B42: 4 забег
A43: 1 | B43: =VLOOKUP($K43,'[15]400Ю'!$D$20:$W$134,4,FALSE) -> КУРБАНОВ | C43: =VLOOKUP($K43,'[15]400Ю'!$D$20:$W$134,5,FALSE) -> Курбан | D43: =VLOOKUP($K43,'[15]400Ю'!$D$20:$W$134,6,FALSE) -> 24.06.1998 | E43: =VLOOKUP($K43,'[15]400Ю'!$D$20:$W$134,7,FALSE) -> КМС | F43: =VLOOKUP($K43,'[15]400Ю'!$D$20:$W$134,8,FALSE) -> Республика Дагестан | G43: =VLOOKUP($K43,'[15]400Ю'!$D$20:$W$134,3,FALSE) -> 329 | K43: 41
A44: 2 | B44: =VLOOKUP($K44,'[15]400Ю'!$D$20:$W$134,4,FALSE) -> ШМЫГАРЁВ | C44: =VLOOKUP($K44,'[15]400Ю'!$D$20:$W$134,5,FALSE) -> Александр | D44: =VLOOKUP($K44,'[15]400Ю'!$D$20:$W$134,6,FALSE) -> 28.09.1999 | E44: =VLOOKUP($K44,'[15]400Ю'!$D$20:$W$134,7,FALSE) -> 1 | F44: =VLOOKUP($K44,'[15]400Ю'!$D$20:$W$134,8,FALSE) -> Курская область | G44: =VLOOKUP($K44,'[15]400Ю'!$D$20:$W$134,3,FALSE) -> 206 | J44: лич | K44: 42
A45: 3 | B45: =VLOOKUP($K45,'[15]400Ю'!$D$20:$W$134,4,FALSE) -> САПРЫКИН | C45: =VLOOKUP($K45,'[15]400Ю'!$D$20:$W$134,5,FALSE) -> Сергей | D45: =VLOOKUP($K45,'[15]400Ю'!$D$20:$W$134,6,FALSE) -> 11.08.1997 | E45: =VLOOKUP($K45,'[15]400Ю'!$D$20:$W$134,7,FALSE) -> КМС | F45: =VLOOKUP($K45,'[15]400Ю'!$D$20:$W$134,8,FALSE) -> Волгоградская область | G45: =VLOOKUP($K45,'[15]400Ю'!$D$20:$W$134,3,FALSE) -> 485 | J45: лич | K45: 43
A46: 4 | B46: =VLOOKUP($K46,'[15]400Ю'!$D$20:$W$134,4,FALSE) -> САФРОНОВ | C46: =VLOOKUP($K46,'[15]400Ю'!$D$20:$W$134,5,FALSE) -> Эдуард | D46: =VLOOKUP($K46,'[15]400Ю'!$D$20:$W$134,6,FALSE) -> 15.09.1998 | E46: =VLOOKUP($K46,'[15]400Ю'!$D$20:$W$134,7,FALSE) -> КМС | F46: =VLOOKUP($K46,'[15]400Ю'!$D$20:$W$134,8,FALSE) -> Москва | G46: =VLOOKUP($K46,'[15]400Ю'!$D$20:$W$134,3,FALSE) -> 392 | J46: лич | K46: 44
A47: 5 | B47: =VLOOKUP($K47,'[15]400Ю'!$D$20:$W$134,4,FALSE) -> ОЛЕНКОВИЧУС | C47: =VLOOKUP($K47,'[15]400Ю'!$D$20:$W$134,5,FALSE) -> Илья | D47: =VLOOKUP($K47,'[15]400Ю'!$D$20:$W$134,6,FALSE) -> 28.12.1998 | E47: =VLOOKUP($K47,'[15]400Ю'!$D$20:$W$134,7,FALSE) -> КМС | F47: =VLOOKUP($K47,'[15]400Ю'!$D$20:$W$134,8,FALSE) -> Санкт-Петербург | G47: =VLOOKUP($K47,'[15]400Ю'!$D$20:$W$134,3,FALSE) -> 156 | J47: лич | K47: 45
A48: 6 | B48: =VLOOKUP($K48,'[15]400Ю'!$D$20:$W$134,4,FALSE) -> МАРКУНАСОВ | C48: =VLOOKUP($K48,'[15]400Ю'!$D$20:$W$134,5,FALSE) -> Антон | D48: =VLOOKUP($K48,'[15]400Ю'!$D$20:$W$134,6,FALSE) -> 07.11.1998 | E48: =VLOOKUP($K48,'[15]400Ю'!$D$20:$W$134,7,FALSE) -> КМС | F48: =VLOOKUP($K48,'[15]400Ю'!$D$20:$W$134,8,FALSE) -> Свердловская область Челябинская область | G48: =VLOOKUP($K48,'[15]400Ю'!$D$20:$W$134,3,FALSE) -> 314 | K48: 46
B50: 5 забег
A51: 1 | B51: =VLOOKUP($K51,'[15]400Ю'!$D$20:$W$134,4,FALSE) -> ПИГАСОВ | C51: =VLOOKUP($K51,'[15]400Ю'!$D$20:$W$134,5,FALSE) -> Артём | D51: =VLOOKUP($K51,'[15]400Ю'!$D$20:$W$134,6,FALSE) -> 18.02.1998 | E51: =VLOOKUP($K51,'[15]400Ю'!$D$20:$W$134,7,FALSE) -> 1 | F51: =VLOOKUP($K51,'[15]400Ю'!$D$20:$W$134,8,FALSE) -> Ульяновская область | G51: =VLOOKUP($K51,'[15]400Ю'!$D$20:$W$134,3,FALSE) -> 444 | K51: 51
A52: 2 | B52: =VLOOKUP($K52,'[15]400Ю'!$D$20:$W$134,4,FALSE) -> БЕЛЯЕВ | C52: =VLOOKUP($K52,'[15]400Ю'!$D$20:$W$134,5,FALSE) -> Илья | D52: =VLOOKUP($K52,'[15]400Ю'!$D$20:$W$134,6,FALSE) -> 18.01.1998 | E52: =VLOOKUP($K52,'[15]400Ю'!$D$20:$W$134,7,FALSE) -> КМС | F52: =VLOOKUP($K52,'[15]400Ю'!$D$20:$W$134,8,FALSE) -> Вологодская область | G52: =VLOOKUP($K52,'[15]400Ю'!$D$20:$W$134,3,FALSE) -> 92 | K52: 52
A53: 3 | B53: =VLOOKUP($K53,'[15]400Ю'!$D$20:$W$134,4,FALSE) -> ЩЕПЕЛИН | C53: =VLOOKUP($K53,'[15]400Ю'!$D$20:$W$134,5,FALSE) -> Дмитрий | D53: =VLOOKUP($K53,'[15]400Ю'!$D$20:$W$134,6,FALSE) -> 24.12.1999 | E53: =VLOOKUP($K53,'[15]400Ю'!$D$20:$W$134,7,FALSE) -> КМС | F53: =VLOOKUP($K53,'[15]400Ю'!$D$20:$W$134,8,FALSE) -> Тюменская область | G53: =VLOOKUP($K53,'[15]400Ю'!$D$20:$W$134,3,FALSE) -> 57 | K53: 53
A54: 4 | B54: =VLOOKUP($K54,'[15]400Ю'!$D$20:$W$134,4,FALSE) -> ШЕПЕЛЕВ | C54: =VLOOKUP($K54,'[15]400Ю'!$D$20:$W$134,5,FALSE) -> Всеволод | D54: =VLOOKUP($K54,'[15]400Ю'!$D$20:$W$134,6,FALSE) -> 29.05.2001 | E54: =VLOOKUP($K54,'[15]400Ю'!$D$20:$W$134,7,FALSE) -> КМС | F54: =VLOOKUP($K54,'[15]400Ю'!$D$20:$W$134,8,FALSE) -> Самарская область | G54: =VLOOKUP($K54,'[15]400Ю'!$D$20:$W$134,3,FALSE) -> 31 | J54: лич | K54: 54
A55: 5 | B55: =VLOOKUP($K55,'[15]400Ю'!$D$20:$W$134,4,FALSE) -> РАЗУМОВ | C55: =VLOOKUP($K55,'[15]400Ю'!$D$20:$W$134,5,FALSE) -> Дмитрий | D55: =VLOOKUP($K55,'[15]400Ю'!$D$20:$W$134,6,FALSE) -> 19.08.1999 | E55: =VLOOKUP($K55,'[15]400Ю'!$D$20:$W$134,7,FALSE) -> МС | F55: =VLOOKUP($K55,'[15]400Ю'!$D$20:$W$134,8,FALSE) -> Томская область | G55: =VLOOKUP($K55,'[15]400Ю'!$D$20:$W$134,3,FALSE) -> 238 | K55: 55
A56: 6 | B56: =VLOOKUP($K56,'[15]400Ю'!$D$20:$W$134,4,FALSE) -> ШКУРОВ | C56: =VLOOKUP($K56,'[15]400Ю'!$D$20:$W$134,5,FALSE) -> Алексей | D56: =VLOOKUP($K56,'[15]400Ю'!$D$20:$W$134,6,FALSE) -> 17.06.1998 | E56: =VLOOKUP($K56,'[15]400Ю'!$D$20:$W$134,7,FALSE) -> КМС | F56: =VLOOKUP($K56,'[15]400Ю'!$D$20:$W$134,8,FALSE) -> Самарская область | G56: =VLOOKUP($K56,'[15]400Ю'!$D$20:$W$134,3,FALSE) -> 28 | K56: 56
B60: 6 забег
A61: 1 | B61: =VLOOKUP($K61,'[15]400Ю'!$D$20:$W$134,4,FALSE) -> МАКСИМЕНКО | C61: =VLOOKUP($K61,'[15]400Ю'!$D$20:$W$134,5,FALSE) -> Борислав | D61: =VLOOKUP($K61,'[15]400Ю'!$D$20:$W$134,6,FALSE) -> 08.07.1998 | E61: =VLOOKUP($K61,'[15]400Ю'!$D$20:$W$134,7,FALSE) -> КМС | F61: =VLOOKUP($K61,'[15]400Ю'!$D$20:$W$134,8,FALSE) -> Санкт-Петербург | G61: =VLOOKUP($K61,'[15]400Ю'!$D$20:$W$134,3,FALSE) -> 147 | J61: лич | K61: 61
A62: 2 | B62: =VLOOKUP($K62,'[15]400Ю'!$D$20:$W$134,4,FALSE) -> ГАПОНОВ | C62: =VLOOKUP($K62,'[15]400Ю'!$D$20:$W$134,5,FALSE) -> Дмитрий | D62: =VLOOKUP($K62,'[15]400Ю'!$D$20:$W$134,6,FALSE) -> 26.05.1997 | E62: =VLOOKUP($K62,'[15]400Ю'!$D$20:$W$134,7,FALSE) -> КМС | F62: =VLOOKUP($K62,'[15]400Ю'!$D$20:$W$134,8,FALSE) -> Санкт-Петербург Калужская область | G62: =VLOOKUP($K62,'[15]400Ю'!$D$20:$W$134,3,FALSE) -> 116 | J62: лич | K62: 62
A63: 3 | B63: =VLOOKUP($K63,'[15]400Ю'!$D$20:$W$134,4,FALSE) -> ШИТОВ | C63: =VLOOKUP($K63,'[15]400Ю'!$D$20:$W$134,5,FALSE) -> Даниил | D63: =VLOOKUP($K63,'[15]400Ю'!$D$20:$W$134,6,FALSE) -> 19.02.1999 | E63: =VLOOKUP($K63,'[15]400Ю'!$D$20:$W$134,7,FALSE) -> КМС | F63: =VLOOKUP($K63,'[15]400Ю'!$D$20:$W$134,8,FALSE) -> Самарская область | G63: =VLOOKUP($K63,'[15]400Ю'!$D$20:$W$134,3,FALSE) -> 32 | J63: лич | K63: 63
A64: 4 | B64: =VLOOKUP($K64,'[15]400Ю'!$D$20:$W$134,4,FALSE) -> МАСЮТЕНКО | C64: =VLOOKUP($K64,'[15]400Ю'!$D$20:$W$134,5,FALSE) -> Александр | D64: =VLOOKUP($K64,'[15]400Ю'!$D$20:$W$134,6,FALSE) -> 27.04.1998 | E64: =VLOOKUP($K64,'[15]400Ю'!$D$20:$W$134,7,FALSE) -> КМС | F64: =VLOOKUP($K64,'[15]400Ю'!$D$20:$W$134,8,FALSE) -> Краснодарский край | G64: =VLOOKUP($K64,'[15]400Ю'!$D$20:$W$134,3,FALSE) -> 86 | J64: лич | K64: 64
A65: 5 | B65: =VLOOKUP($K65,'[15]400Ю'!$D$20:$W$134,4,FALSE) -> КАРПОВ | C65: =VLOOKUP($K65,'[15]400Ю'!$D$20:$W$134,5,FALSE) -> Андрей | D65: =VLOOKUP($K65,'[15]400Ю'!$D$20:$W$134,6,FALSE) -> 11.02.1997 | E65: =VLOOKUP($K65,'[15]400Ю'!$D$20:$W$134,7,FALSE) -> КМС | F65: =VLOOKUP($K65,'[15]400Ю'!$D$20:$W$134,8,FALSE) -> Нижегородская область | G65: =VLOOKUP($K65,'[15]400Ю'!$D$20:$W$134,3,FALSE) -> 60 | K65: 65
A66: 6 | B66: =VLOOKUP($K66,'[15]400Ю'!$D$20:$W$134,4,FALSE) -> ЛОГИНОВ | C66: =VLOOKUP($K66,'[15]400Ю'!$D$20:$W$134,5,FALSE) -> Иван | D66: =VLOOKUP($K66,'[15]400Ю'!$D$20:$W$134,6,FALSE) -> 19.06.1997 | E66: =VLOOKUP($K66,'[15]400Ю'!$D$20:$W$134,7,FALSE) -> МС | F66: =VLOOKUP($K66,'[15]400Ю'!$D$20:$W$134,8,FALSE) -> Москва Владимирская область | G66: =VLOOKUP($K66,'[15]400Ю'!$D$20:$W$134,3,FALSE) -> 386 | J66: лич | K66: 66
B68: 7 забег
A69: 1 | B69: =VLOOKUP($K69,'[15]400Ю'!$D$20:$W$134,4,FALSE) -> АНТИПОВ | C69: =VLOOKUP($K69,'[15]400Ю'!$D$20:$W$134,5,FALSE) -> Георгий | D69: =VLOOKUP($K69,'[15]400Ю'!$D$20:$W$134,6,FALSE) -> 05.04.1999 | E69: =VLOOKUP($K69,'[15]400Ю'!$D$20:$W$134,7,FALSE) -> КМС | F69: =VLOOKUP($K69,'[15]400Ю'!$D$20:$W$134,8,FALSE) -> Санкт-Петербург | G69: =VLOOKUP($K69,'[15]400Ю'!$D$20:$W$134,3,FALSE) -> 105 | K69: 71
A70: 2 | B70: =VLOOKUP($K70,'[15]400Ю'!$D$20:$W$134,4,FALSE) -> КОЛМАГОРОВ | C70: =VLOOKUP($K70,'[15]400Ю'!$D$20:$W$134,5,FALSE) -> Эдуард | D70: =VLOOKUP($K70,'[15]400Ю'!$D$20:$W$134,6,FALSE) -> 04.04.1999 | E70: =VLOOKUP($K70,'[15]400Ю'!$D$20:$W$134,7,FALSE) -> КМС | F70: =VLOOKUP($K70,'[15]400Ю'!$D$20:$W$134,8,FALSE) -> Забайкальский край | G70: =VLOOKUP($K70,'[15]400Ю'!$D$20:$W$134,3,FALSE) -> 248 | K70: 72
A71: 3 | B71: =VLOOKUP($K71,'[15]400Ю'!$D$20:$W$134,4,FALSE) -> ПРАЩЕРУК | C71: =VLOOKUP($K71,'[15]400Ю'!$D$20:$W$134,5,FALSE) -> Евгений | D71: =VLOOKUP($K71,'[15]400Ю'!$D$20:$W$134,6,FALSE) -> 23.07.1997 | E71: =VLOOKUP($K71,'[15]400Ю'!$D$20:$W$134,7,FALSE) -> КМС | F71: =VLOOKUP($K71,'[15]400Ю'!$D$20:$W$134,8,FALSE) -> Свердловская область | G71: =VLOOKUP($K71,'[15]400Ю'!$D$20:$W$134,3,FALSE) -> 312 | K71: 73
A72: 4 | B72: =VLOOKUP($K72,'[15]400Ю'!$D$20:$W$134,4,FALSE) -> ФЁДОРОВ | C72: =VLOOKUP($K72,'[15]400Ю'!$D$20:$W$134,5,FALSE) -> Андрей | D72: =VLOOKUP($K72,'[15]400Ю'!$D$20:$W$134,6,FALSE) -> 08.02.1997 | E72: =VLOOKUP($K72,'[15]400Ю'!$D$20:$W$134,7,FALSE) -> КМС | F72: =VLOOKUP($K72,'[15]400Ю'!$D$20:$W$134,8,FALSE) -> Курская область | G72: =VLOOKUP($K72,'[15]400Ю'!$D$20:$W$134,3,FALSE) -> 204 | K72: 74
A73: 5 | B73: =VLOOKUP($K73,'[15]400Ю'!$D$20:$W$134,4,FALSE) -> ЛУЖИНСКИЙ | C73: =VLOOKUP($K73,'[15]400Ю'!$D$20:$W$134,5,FALSE) -> Кирилл | D73: =VLOOKUP($K73,'[15]400Ю'!$D$20:$W$134,6,FALSE) -> 20.03.1999 | E73: =VLOOKUP($K73,'[15]400Ю'!$D$20:$W$134,7,FALSE) -> МС | F73: =VLOOKUP($K73,'[15]400Ю'!$D$20:$W$134,8,FALSE) -> Санкт-Петербург Вологодская область | G73: =VLOOKUP($K73,'[15]400Ю'!$D$20:$W$134,3,FALSE) -> 144 | J73: лич | K73: 75
A74: 6 | B74: =VLOOKUP($K74,'[15]400Ю'!$D$20:$W$134,4,FALSE) -> РУБЦОВ | C74: =VLOOKUP($K74,'[15]400Ю'!$D$20:$W$134,5,FALSE) -> Артем | D74: =VLOOKUP($K74,'[15]400Ю'!$D$20:$W$134,6,FALSE) -> 30.05.1998 | E74: =VLOOKUP($K74,'[15]400Ю'!$D$20:$W$134,7,FALSE) -> КМС | F74: =VLOOKUP($K74,'[15]400Ю'!$D$20:$W$134,8,FALSE) -> Москва Оренбургская область | G74: =VLOOKUP($K74,'[15]400Ю'!$D$20:$W$134,3,FALSE) -> 390 | J74: лич | K74: 76
B76: 8 забег
A77: 1 | B77: =VLOOKUP($K77,'[15]400Ю'!$D$20:$W$134,4,FALSE) -> ГРЕКОВ | C77: =VLOOKUP($K77,'[15]400Ю'!$D$20:$W$134,5,FALSE) -> Роман | D77: =VLOOKUP($K77,'[15]400Ю'!$D$20:$W$134,6,FALSE) -> 15.02.1999 | E77: =VLOOKUP($K77,'[15]400Ю'!$D$20:$W$134,7,FALSE) -> КМС | F77: =VLOOKUP($K77,'[15]400Ю'!$D$20:$W$134,8,FALSE) -> Челябинская область | G77: =VLOOKUP($K77,'[15]400Ю'!$D$20:$W$134,3,FALSE) -> 469 | J77: лич | K77: 81
A78: 2 | B78: =VLOOKUP($K78,'[15]400Ю'!$D$20:$W$134,4,FALSE) -> НИКИТИН | C78: =VLOOKUP($K78,'[15]400Ю'!$D$20:$W$134,5,FALSE) -> Олег | D78: =VLOOKUP($K78,'[15]400Ю'!$D$20:$W$134,6,FALSE) -> 06.06.1997 | E78: =VLOOKUP($K78,'[15]400Ю'!$D$20:$W$134,7,FALSE) -> КМС | F78: =VLOOKUP($K78,'[15]400Ю'!$D$20:$W$134,8,FALSE) -> Ульяновская область | G78: =VLOOKUP($K78,'[15]400Ю'!$D$20:$W$134,3,FALSE) -> 443 | K78: 82
A79: 3 | B79: =VLOOKUP($K79,'[15]400Ю'!$D$20:$W$134,4,FALSE) -> ГРИГОРЧЕНКО | C79: =VLOOKUP($K79,'[15]400Ю'!$D$20:$W$134,5,FALSE) -> Дмитрий | D79: =VLOOKUP($K79,'[15]400Ю'!$D$20:$W$134,6,FALSE) -> 08.02.1998 | E79: =VLOOKUP($K79,'[15]400Ю'!$D$20:$W$134,7,FALSE) -> КМС | F79: =VLOOKUP($K79,'[15]400Ю'!$D$20:$W$134,8,FALSE) -> Ульяновская область | G79: =VLOOKUP($K79,'[15]400Ю'!$D$20:$W$134,3,FALSE) -> 442 | K79: 83
A80: 4 | B80: =VLOOKUP($K80,'[15]400Ю'!$D$20:$W$134,4,FALSE) -> ФИЛИППОВ | C80: =VLOOKUP($K80,'[15]400Ю'!$D$20:$W$134,5,FALSE) -> Егор | D80: =VLOOKUP($K80,'[15]400Ю'!$D$20:$W$134,6,FALSE) -> 04.07.1999 | E80: =VLOOKUP($K80,'[15]400Ю'!$D$20:$W$134,7,FALSE) -> МС | F80: =VLOOKUP($K80,'[15]400Ю'!$D$20:$W$134,8,FALSE) -> Московская область | G80: =VLOOKUP($K80,'[15]400Ю'!$D$20:$W$134,3,FALSE) -> 265 | K80: 84
A81: 5 | B81: =VLOOKUP($K81,'[15]400Ю'!$D$20:$W$134,4,FALSE) -> КАРАСЁВ | C81: =VLOOKUP($K81,'[15]400Ю'!$D$20:$W$134,5,FALSE) -> Леонид | D81: =VLOOKUP($K81,'[15]400Ю'!$D$20:$W$134,6,FALSE) -> 30.07.1998 | E81: =VLOOKUP($K81,'[15]400Ю'!$D$20:$W$134,7,FALSE) -> МС | F81: =VLOOKUP($K81,'[15]400Ю'!$D$20:$W$134,8,FALSE) -> Московская область Брянская область | G81: =VLOOKUP($K81,'[15]400Ю'!$D$20:$W$134,3,FALSE) -> 261 | K81: 85
A82: 6 | B82: =VLOOKUP($K82,'[15]400Ю'!$D$20:$W$134,4,FALSE) -> БЫЗОВ | C82: =VLOOKUP($K82,'[15]400Ю'!$D$20:$W$134,5,FALSE) -> Михаил | D82: =VLOOKUP($K82,'[15]400Ю'!$D$20:$W$134,6,FALSE) -> 12.05.1999 | E82: =VLOOKUP($K82,'[15]400Ю'!$D$20:$W$134,7,FALSE) -> КМС | F82: =VLOOKUP($K82,'[15]400Ю'!$D$20:$W$134,8,FALSE) -> Челябинская область | G82: =VLOOKUP($K82,'[15]400Ю'!$D$20:$W$134,3,FALSE) -> 468 | J82: лич | K82: 86
B84: 9 забег
A85: 1 | B85: =VLOOKUP($K85,'[15]400Ю'!$D$20:$W$134,4,FALSE) -> КОРНЕВ | C85: =VLOOKUP($K85,'[15]400Ю'!$D$20:$W$134,5,FALSE) -> Егор | D85: =VLOOKUP($K85,'[15]400Ю'!$D$20:$W$134,6,FALSE) -> 30.03.1998 | E85: =VLOOKUP($K85,'[15]400Ю'!$D$20:$W$134,7,FALSE) -> КМС | F85: =VLOOKUP($K85,'[15]400Ю'!$D$20:$W$134,8,FALSE) -> Волгоградская область | G85: =VLOOKUP($K85,'[15]400Ю'!$D$20:$W$134,3,FALSE) -> 484 | J85: лич | K85: 91
A86: 2 | B86: =VLOOKUP($K86,'[15]400Ю'!$D$20:$W$134,4,FALSE) -> МИШАКОВ | C86: =VLOOKUP($K86,'[15]400Ю'!$D$20:$W$134,5,FALSE) -> Дмитрий | D86: =VLOOKUP($K86,'[15]400Ю'!$D$20:$W$134,6,FALSE) -> 20.08.1999 | E86: =VLOOKUP($K86,'[15]400Ю'!$D$20:$W$134,7,FALSE) -> 1 | F86: =VLOOKUP($K86,'[15]400Ю'!$D$20:$W$134,8,FALSE) -> Санкт-Петербург | G86: =VLOOKUP($K86,'[15]400Ю'!$D$20:$W$134,3,FALSE) -> 150 | J86: лич | K86: 92
A87: 3 | B87: =VLOOKUP($K87,'[15]400Ю'!$D$20:$W$134,4,FALSE) -> БАСТЫЛОВ | C87: =VLOOKUP($K87,'[15]400Ю'!$D$20:$W$134,5,FALSE) -> Кирилл | D87: =VLOOKUP($K87,'[15]400Ю'!$D$20:$W$134,6,FALSE) -> 10.10.1998 | E87: =VLOOKUP($K87,'[15]400Ю'!$D$20:$W$134,7,FALSE) -> КМС | F87: =VLOOKUP($K87,'[15]400Ю'!$D$20:$W$134,8,FALSE) -> Пензенская область | G87: =VLOOKUP($K87,'[15]400Ю'!$D$20:$W$134,3,FALSE) -> 290 | K87: 93
A88: 4 | B88: =VLOOKUP($K88,'[15]400Ю'!$D$20:$W$134,4,FALSE) -> ЛУКАХИН | C88: =VLOOKUP($K88,'[15]400Ю'!$D$20:$W$134,5,FALSE) -> Даниил | D88: =VLOOKUP($K88,'[15]400Ю'!$D$20:$W$134,6,FALSE) -> 15.06.1998 | E88: =VLOOKUP($K88,'[15]400Ю'!$D$20:$W$134,7,FALSE) -> КМС | F88: =VLOOKUP($K88,'[15]400Ю'!$D$20:$W$134,8,FALSE) -> Санкт-Петербург | G88: =VLOOKUP($K88,'[15]400Ю'!$D$20:$W$134,3,FALSE) -> 145 | J88: лич | K88: 94
A89: 5 | B89: =VLOOKUP($K89,'[15]400Ю'!$D$20:$W$134,4,FALSE) -> ИВАНЧЕНКО | C89: =VLOOKUP($K89,'[15]400Ю'!$D$20:$W$134,5,FALSE) -> Антон | D89: =VLOOKUP($K89,'[15]400Ю'!$D$20:$W$134,6,FALSE) -> 17.04.1997 | E89: =VLOOKUP($K89,'[15]400Ю'!$D$20:$W$134,7,FALSE) -> КМС | F89: =VLOOKUP($K89,'[15]400Ю'!$D$20:$W$134,8,FALSE) -> Челябинская область | G89: =VLOOKUP($K89,'[15]400Ю'!$D$20:$W$134,3,FALSE) -> 455 | K89: 95
A90: 6 | B90: =VLOOKUP($K90,'[15]400Ю'!$D$20:$W$134,4,FALSE) -> КУТУЕВ | C90: =VLOOKUP($K90,'[15]400Ю'!$D$20:$W$134,5,FALSE) -> Роман | D90: =VLOOKUP($K90,'[15]400Ю'!$D$20:$W$134,6,FALSE) -> 05.05.2001 | E90: =VLOOKUP($K90,'[15]400Ю'!$D$20:$W$134,7,FALSE) -> КМС | F90: =VLOOKUP($K90,'[15]400Ю'!$D$20:$W$134,8,FALSE) -> Нижегородская область | G90: =VLOOKUP($K90,'[15]400Ю'!$D$20:$W$134,3,FALSE) -> 62 | K90: 96
B109: Рефери по бегу | G109: =[15]З!F15 -> Алексеев В.Г. /СПб, ССВк/
B110: Старший судья на финише | G110: Куликов В.Я. /СПБ, ССВк/
B111: Старший хронометрист | G111: =[15]З!F17 -> Мичурина О.А. /СПб, ССВк/
B112: Секретарь | G112: =[15]З!F18 -> Пономарева С.Е. /СПб, ССВк/

Sheet 800Ю(2)
F1: МИНИСТЕРСТВО СПОРТА РОССИЙСКОЙ ФЕДЕРАЦИИ
F2: ВСЕРОССИЙСКАЯ ФЕДЕРАЦИЯ ЛЕГКОЙ АТЛЕТИКИ
F3: КОМИТЕТ ПО ФИЗИЧЕСКОЙ КУЛЬТУРЕ И СПОРТУ САНКТ-ПЕТЕРБУРГА
F4: СПОРТИВНАЯ ФЕДЕРАЦИЯ ЛЕГКОЙ АТЛЕТИКИ САНКТ-ПЕТЕРБУРГА
F6: Первенство России по легкой атлетике
F7: (среди юниоров и юниорок до 23 лет) в помещении
F9: Бег 800 м
A10: 1.44,15 | B10: Рекорд Мира 23 | F10: Забеги
A11: 1.44,15 | B11: Рекорд Европы 23 | F11: ЮНИОРЫ
A12: 1.44,15 | B12: Рекорд России 23
J14: ='[15]800Ю'!H17 -> 19 февраля 2019 г.
I15: Начало: | J15: 0.65277778
A16: Санкт-Петербург, Легкоатлетический манеж | I16: Окончание:
B18: Фамилия | C18: Имя | D18: Дата рожд | E18: Разряд | F18: Территория | G18: № уч. | H18: Приход | I18: Результат | J18: Примечание
B19: 1 забег
A20: 1 | B20: =VLOOKUP($K20,'[15]800Ю'!$D$20:$W$134,4,FALSE) -> БЕРЕЗИН | C20: =VLOOKUP($K20,'[15]800Ю'!$D$20:$W$134,5,FALSE) -> Алексей | D20: =VLOOKUP($K20,'[15]800Ю'!$D$20:$W$134,6,FALSE) -> 09.10.1998 | E20: =VLOOKUP($K20,'[15]800Ю'!$D$20:$W$134,7,FALSE) -> КМС | F20: =VLOOKUP($K20,'[15]800Ю'!$D$20:$W$134,8,FALSE) -> Иркутская область | G20: =VLOOKUP($K20,'[15]800Ю'!$D$20:$W$134,3,FALSE) -> 222 | K20: 11
A21: 2 | B21: =VLOOKUP($K21,'[15]800Ю'!$D$20:$W$134,4,FALSE) -> РАХМАНОВ | C21: =VLOOKUP($K21,'[15]800Ю'!$D$20:$W$134,5,FALSE) -> Руслан | D21: =VLOOKUP($K21,'[15]800Ю'!$D$20:$W$134,6,FALSE) -> 24.04.1997 | E21: =VLOOKUP($K21,'[15]800Ю'!$D$20:$W$134,7,FALSE) -> КМС | F21: =VLOOKUP($K21,'[15]800Ю'!$D$20:$W$134,8,FALSE) -> Краснодарский край | G21: =VLOOKUP($K21,'[15]800Ю'!$D$20:$W$134,3,FALSE) -> 87 | J21: лич | K21: 12
A22: 3 | B22: =VLOOKUP($K22,'[15]800Ю'!$D$20:$W$134,4,FALSE) -> ВАЛИТОВ | C22: =VLOOKUP($K22,'[15]800Ю'!$D$20:$W$134,5,FALSE) -> Евгений | D22: =VLOOKUP($K22,'[15]800Ю'!$D$20:$W$134,6,FALSE) -> 13.08.1999 | E22: =VLOOKUP($K22,'[15]800Ю'!$D$20:$W$134,7,FALSE) -> КМС | F22: =VLOOKUP($K22,'[15]800Ю'!$D$20:$W$134,8,FALSE) -> Москва | G22: =VLOOKUP($K22,'[15]800Ю'!$D$20:$W$134,3,FALSE) -> 379 | J22: лич | K22: 13
A23: 4 | B23: =VLOOKUP($K23,'[15]800Ю'!$D$20:$W$134,4,FALSE) -> МАДЫШЕВ | C23: =VLOOKUP($K23,'[15]800Ю'!$D$20:$W$134,5,FALSE) -> Дмитрий | D23: =VLOOKUP($K23,'[15]800Ю'!$D$20:$W$134,6,FALSE) -> 01.01.1998 | E23: =VLOOKUP($K23,'[15]800Ю'!$D$20:$W$134,7,FALSE) -> 1 | F23: =VLOOKUP($K23,'[15]800Ю'!$D$20:$W$134,8,FALSE) -> Орловская область | G23: =VLOOKUP($K23,'[15]800Ю'!$D$20:$W$134,3,FALSE) -> 449 | K23: 14
A24: 5 | B24: =VLOOKUP($K24,'[15]800Ю'!$D$20:$W$134,4,FALSE) -> ЧЕШЕВ | C24: =VLOOKUP($K24,'[15]800Ю'!$D$20:$W$134,5,FALSE) -> Максим | D24: =VLOOKUP($K24,'[15]800Ю'!$D$20:$W$134,6,FALSE) -> 25.12.1997 | E24: =VLOOKUP($K24,'[15]800Ю'!$D$20:$W$134,7,FALSE) -> КМС | F24: =VLOOKUP($K24,'[15]800Ю'!$D$20:$W$134,8,FALSE) -> Челябинская область | G24: =VLOOKUP($K24,'[15]800Ю'!$D$20:$W$134,3,FALSE) -> 466 | K24: 15
A25: 6 | B25: =VLOOKUP($K25,'[15]800Ю'!$D$20:$W$134,4,FALSE) -> КУРДЮМОВ | C25: =VLOOKUP($K25,'[15]800Ю'!$D$20:$W$134,5,FALSE) -> Евгений | D25: =VLOOKUP($K25,'[15]800Ю'!$D$20:$W$134,6,FALSE) -> 11.02.1999 | E25: =VLOOKUP($K25,'[15]800Ю'!$D$20:$W$134,7,FALSE) -> 1 | F25: =VLOOKUP($K25,'[15]800Ю'!$D$20:$W$134,8,FALSE) -> Москва | G25: =VLOOKUP($K25,'[15]800Ю'!$D$20:$W$134,3,FALSE) -> 385 | J25: лич | K25: 16
B28: 2 забег
A29: 1 | B29: =VLOOKUP($K29,'[15]800Ю'!$D$20:$W$134,4,FALSE) -> МАРАКУЛИН | C29: =VLOOKUP($K29,'[15]800Ю'!$D$20:$W$134,5,FALSE) -> Артём | D29: =VLOOKUP($K29,'[15]800Ю'!$D$20:$W$134,6,FALSE) -> 18.05.1999 | E29: =VLOOKUP($K29,'[15]800Ю'!$D$20:$W$134,7,FALSE) -> 1 | F29: =VLOOKUP($K29,'[15]800Ю'!$D$20:$W$134,8,FALSE) -> Амурская область | G29: =VLOOKUP($K29,'[15]800Ю'!$D$20:$W$134,3,FALSE) -> 245 | K29: 21
A30: 2 | B30: =VLOOKUP($K30,'[15]800Ю'!$D$20:$W$134,4,FALSE) -> ТКАЧ | C30: =VLOOKUP($K30,'[15]800Ю'!$D$20:$W$134,5,FALSE) -> Владислав | D30: =VLOOKUP($K30,'[15]800Ю'!$D$20:$W$134,6,FALSE) -> 18.04.1999 | E30: =VLOOKUP($K30,'[15]800Ю'!$D$20:$W$134,7,FALSE) -> КМС | F30: =VLOOKUP($K30,'[15]800Ю'!$D$20:$W$134,8,FALSE) -> Санкт-Петербург | G30: =VLOOKUP($K30,'[15]800Ю'!$D$20:$W$134,3,FALSE) -> 177 | J30: лич | K30: 22
A31: 3 | B31: =VLOOKUP($K31,'[15]800Ю'!$D$20:$W$134,4,FALSE) -> КРИВЧИКОВ | C31: =VLOOKUP($K31,'[15]800Ю'!$D$20:$W$134,5,FALSE) -> Егор | D31: =VLOOKUP($K31,'[15]800Ю'!$D$20:$W$134,6,FALSE) -> 07.05.1998 | E31: =VLOOKUP($K31,'[15]800Ю'!$D$20:$W$134,7,FALSE) -> КМС | F31: =VLOOKUP($K31,'[15]800Ю'!$D$20:$W$134,8,FALSE) -> Ростовская область | G31: =VLOOKUP($K31,'[15]800Ю'!$D$20:$W$134,3,FALSE) -> 338 | K31: 23
A32: 4 | B32: =VLOOKUP($K32,'[15]800Ю'!$D$20:$W$134,4,FALSE) -> ФИЛИППОВ | C32: =VLOOKUP($K32,'[15]800Ю'!$D$20:$W$134,5,FALSE) -> Егор | D32: =VLOOKUP($K32,'[15]800Ю'!$D$20:$W$134,6,FALSE) -> 04.07.1999 | E32: =VLOOKUP($K32,'[15]800Ю'!$D$20:$W$134,7,FALSE) -> МС | F32: =VLOOKUP($K32,'[15]800Ю'!$D$20:$W$134,8,FALSE) -> Московская область | G32: =VLOOKUP($K32,'[15]800Ю'!$D$20:$W$134,3,FALSE) -> 265 | K32: 24
A33: 5 | B33: =VLOOKUP($K33,'[15]800Ю'!$D$20:$W$134,4,FALSE) -> СИНЕНКОВ | C33: =VLOOKUP($K33,'[15]800Ю'!$D$20:$W$134,5,FALSE) -> Кирилл | D33: =VLOOKUP($K33,'[15]800Ю'!$D$20:$W$134,6,FALSE) -> 29.08.1998 | E33: =VLOOKUP($K33,'[15]800Ю'!$D$20:$W$134,7,FALSE) -> КМС | F33: =VLOOKUP($K33,'[15]800Ю'!$D$20:$W$134,8,FALSE) -> Москва | G33: =VLOOKUP($K33,'[15]800Ю'!$D$20:$W$134,3,FALSE) -> 393 | J33: лич | K33: 25
A34: 6 | B34: =VLOOKUP($K34,'[15]800Ю'!$D$20:$W$134,4,FALSE) -> САВЧЕНКО | C34: =VLOOKUP($K34,'[15]800Ю'!$D$20:$W$134,5,FALSE) -> Михаил | D34: =VLOOKUP($K34,'[15]800Ю'!$D$20:$W$134,6,FALSE) -> 23.07.1999 | E34: =VLOOKUP($K34,'[15]800Ю'!$D$20:$W$134,7,FALSE) -> КМС | F34: =VLOOKUP($K34,'[15]800Ю'!$D$20:$W$134,8,FALSE) -> Свердловская область | G34: =VLOOKUP($K34,'[15]800Ю'!$D$20:$W$134,3,FALSE) -> 315 | K34: 26
B37: 3 забег
A38: 1 | B38: =VLOOKUP($K38,'[15]800Ю'!$D$20:$W$134,4,FALSE) -> ПОСТВАЙКИН | C38: =VLOOKUP($K38,'[15]800Ю'!$D$20:$W$134,5,FALSE) -> Кирилл | D38: =VLOOKUP($K38,'[15]800Ю'!$D$20:$W$134,6,FALSE) -> 27.07.1997 | E38: =VLOOKUP($K38,'[15]800Ю'!$D$20:$W$134,7,FALSE) -> 1 | F38: =VLOOKUP($K38,'[15]800Ю'!$D$20:$W$134,8,FALSE) -> Нижегородская область | G38: =VLOOKUP($K38,'[15]800Ю'!$D$20:$W$134,3,FALSE) -> 64 | K38: 31
A39: 2 | B39: =VLOOKUP($K39,'[15]800Ю'!$D$20:$W$134,4,FALSE) -> НОСКОВ | C39: =VLOOKUP($K39,'[15]800Ю'!$D$20:$W$134,5,FALSE) -> Владислав | D39: =VLOOKUP($K39,'[15]800Ю'!$D$20:$W$134,6,FALSE) -> 19.12.1997 | E39: =VLOOKUP($K39,'[15]800Ю'!$D$20:$W$134,7,FALSE) -> КМС | F39: =VLOOKUP($K39,'[15]800Ю'!$D$20:$W$134,8,FALSE) -> Санкт-Петербург | G39: =VLOOKUP($K39,'[15]800Ю'!$D$20:$W$134,3,FALSE) -> 155 | J39: лич | K39: 32
A40: 3 | B40: =VLOOKUP($K40,'[15]800Ю'!$D$20:$W$134,4,FALSE) -> ЗУБОВ | C40: =VLOOKUP($K40,'[15]800Ю'!$D$20:$W$134,5,FALSE) -> Никита | D40: =VLOOKUP($K40,'[15]800Ю'!$D$20:$W$134,6,FALSE) -> 07.02.1999 | E40: =VLOOKUP($K40,'[15]800Ю'!$D$20:$W$134,7,FALSE) -> КМС | F40: =VLOOKUP($K40,'[15]800Ю'!$D$20:$W$134,8,FALSE) -> Московская область Пермский край | G40: =VLOOKUP($K40,'[15]800Ю'!$D$20:$W$134,3,FALSE) -> 232 | J40: лич | K40: 33
A41: 4 | B41: =VLOOKUP($K41,'[15]800Ю'!$D$20:$W$134,4,FALSE) -> ШМЕЛЕВ | C41: =VLOOKUP($K41,'[15]800Ю'!$D$20:$W$134,5,FALSE) -> Ярослав | D41: =VLOOKUP($K41,'[15]800Ю'!$D$20:$W$134,6,FALSE) -> 02.02.2000 | E41: =VLOOKUP($K41,'[15]800Ю'!$D$20:$W$134,7,FALSE) -> КМС | F41: =VLOOKUP($K41,'[15]800Ю'!$D$20:$W$134,8,FALSE) -> Ульяновская область | G41: =VLOOKUP($K41,'[15]800Ю'!$D$20:$W$134,3,FALSE) -> 446 | K41: 34
A42: 5 | B42: =VLOOKUP($K42,'[15]800Ю'!$D$20:$W$134,4,FALSE) -> КОЛМАГОРОВ | C42: =VLOOKUP($K42,'[15]800Ю'!$D$20:$W$134,5,FALSE) -> Эдуард | D42: =VLOOKUP($K42,'[15]800Ю'!$D$20:$W$134,6,FALSE) -> 04.04.1999 | E42: =VLOOKUP($K42,'[15]800Ю'!$D$20:$W$134,7,FALSE) -> КМС | F42: =VLOOKUP($K42,'[15]800Ю'!$D$20:$W$134,8,FALSE) -> Забайкальский край | G42: =VLOOKUP($K42,'[15]800Ю'!$D$20:$W$134,3,FALSE) -> 248 | K42: 35
A43: 6 | B43: =VLOOKUP($K43,'[15]800Ю'!$D$20:$W$134,4,FALSE) -> ЛЯЛЮШКИН | C43: =VLOOKUP($K43,'[15]800Ю'!$D$20:$W$134,5,FALSE) -> Дмитрий | D43: =VLOOKUP($K43,'[15]800Ю'!$D$20:$W$134,6,FALSE) -> 19.06.2001 | E43: =VLOOKUP($K43,'[15]800Ю'!$D$20:$W$134,7,FALSE) -> 1 | F43: =VLOOKUP($K43,'[15]800Ю'!$D$20:$W$134,8,FALSE) -> Москва | G43: =VLOOKUP($K43,'[15]800Ю'!$D$20:$W$134,3,FALSE) -> 387 | J43: лич | K43: 36
B46: 4 забег
A47: 1 | B47: =VLOOKUP($K47,'[15]800Ю'!$D$20:$W$134,4,FALSE) -> ЧЕРНОВ | C47: =VLOOKUP($K47,'[15]800Ю'!$D$20:$W$134,5,FALSE) -> Андрей | D47: =VLOOKUP($K47,'[15]800Ю'!$D$20:$W$134,6,FALSE) -> 01.01.1998 | E47: =VLOOKUP($K47,'[15]800Ю'!$D$20:$W$134,7,FALSE) -> КМС | F47: =VLOOKUP($K47,'[15]800Ю'!$D$20:$W$134,8,FALSE) -> Москва | G47: =VLOOKUP($K47,'[15]800Ю'!$D$20:$W$134,3,FALSE) -> 435 | J47: лич | K47: 41
A48: 2 | B48: =VLOOKUP($K48,'[15]800Ю'!$D$20:$W$134,4,FALSE) -> АСТРАХАНСКИЙ | C48: =VLOOKUP($K48,'[15]800Ю'!$D$20:$W$134,5,FALSE) -> Алексей | D48: =VLOOKUP($K48,'[15]800Ю'!$D$20:$W$134,6,FALSE) -> 05.02.1999 | E48: =VLOOKUP($K48,'[15]800Ю'!$D$20:$W$134,7,FALSE) -> 1 | F48: =VLOOKUP($K48,'[15]800Ю'!$D$20:$W$134,8,FALSE) -> Самарская область | G48: =VLOOKUP($K48,'[15]800Ю'!$D$20:$W$134,3,FALSE) -> 13 | K48: 42
A49: 3 | B49: =VLOOKUP($K49,'[15]800Ю'!$D$20:$W$134,4,FALSE) -> СЕМЕНОВ | C49: =VLOOKUP($K49,'[15]800Ю'!$D$20:$W$134,5,FALSE) -> Владислав | D49: =VLOOKUP($K49,'[15]800Ю'!$D$20:$W$134,6,FALSE) -> 07.06.1999 | E49: =VLOOKUP($K49,'[15]800Ю'!$D$20:$W$134,7,FALSE) -> КМС | F49: =VLOOKUP($K49,'[15]800Ю'!$D$20:$W$134,8,FALSE) -> Санкт-Петербург | G49: =VLOOKUP($K49,'[15]800Ю'!$D$20:$W$134,3,FALSE) -> 167 | J49: лич | K49: 43
A50: 4 | B50: =VLOOKUP($K50,'[15]800Ю'!$D$20:$W$134,4,FALSE) -> БУБНЕВ | C50: =VLOOKUP($K50,'[15]800Ю'!$D$20:$W$134,5,FALSE) -> Алексей | D50: =VLOOKUP($K50,'[15]800Ю'!$D$20:$W$134,6,FALSE) -> 16.03.1998 | E50: =VLOOKUP($K50,'[15]800Ю'!$D$20:$W$134,7,FALSE) -> КМС | F50: =VLOOKUP($K50,'[15]800Ю'!$D$20:$W$134,8,FALSE) -> Калужская область | G50: =VLOOKUP($K50,'[15]800Ю'!$D$20:$W$134,3,FALSE) -> 342 | K50: 44
A51: 5 | B51: =VLOOKUP($K51,'[15]800Ю'!$D$20:$W$134,4,FALSE) -> ЕМЕЛЬЯНОВ | C51: =VLOOKUP($K51,'[15]800Ю'!$D$20:$W$134,5,FALSE) -> Денис | D51: =VLOOKUP($K51,'[15]800Ю'!$D$20:$W$134,6,FALSE) -> 18.01.1999 | E51: =VLOOKUP($K51,'[15]800Ю'!$D$20:$W$134,7,FALSE) -> КМС | F51: =VLOOKUP($K51,'[15]800Ю'!$D$20:$W$134,8,FALSE) -> Свердловская область | G51: =VLOOKUP($K51,'[15]800Ю'!$D$20:$W$134,3,FALSE) -> 313 | K51: 45
A52: 6 | B52: =VLOOKUP($K52,'[15]800Ю'!$D$20:$W$134,4,FALSE) -> ПРОХОРЕЦ | C52: =VLOOKUP($K52,'[15]800Ю'!$D$20:$W$134,5,FALSE) -> Алексей | D52: =VLOOKUP($K52,'[15]800Ю'!$D$20:$W$134,6,FALSE) -> 31.10.1999 | E52: =VLOOKUP($K52,'[15]800Ю'!$D$20:$W$134,7,FALSE) -> КМС | F52: =VLOOKUP($K52,'[15]800Ю'!$D$20:$W$134,8,FALSE) -> Брянская область | G52: =VLOOKUP($K52,'[15]800Ю'!$D$20:$W$134,3,FALSE) -> 34 | K52: 46
B55: 5 забег
A56: 1 | B56: =VLOOKUP($K56,'[15]800Ю'!$D$20:$W$134,4,FALSE) -> МАЗНЫЙ | C56: =VLOOKUP($K56,'[15]800Ю'!$D$20:$W$134,5,FALSE) -> Богдан | D56: =VLOOKUP($K56,'[15]800Ю'!$D$20:$W$134,6,FALSE) -> 26.10.1999 | E56: =VLOOKUP($K56,'[15]800Ю'!$D$20:$W$134,7,FALSE) -> КМС | F56: =VLOOKUP($K56,'[15]800Ю'!$D$20:$W$134,8,FALSE) -> ЮФО (К) | G56: =VLOOKUP($K56,'[15]800Ю'!$D$20:$W$134,3,FALSE) -> 514 | K56: 51
A57: 2 | B57: =VLOOKUP($K57,'[15]800Ю'!$D$20:$W$134,4,FALSE) -> ЛИМОНОВ | C57: =VLOOKUP($K57,'[15]800Ю'!$D$20:$W$134,5,FALSE) -> Егор | D57: =VLOOKUP($K57,'[15]800Ю'!$D$20:$W$134,6,FALSE) -> 22.06.1999 | E57: =VLOOKUP($K57,'[15]800Ю'!$D$20:$W$134,7,FALSE) -> 1 | F57: =VLOOKUP($K57,'[15]800Ю'!$D$20:$W$134,8,FALSE) -> Санкт-Петербург | G57: =VLOOKUP($K57,'[15]800Ю'!$D$20:$W$134,3,FALSE) -> 142 | J57: лич | K57: 52
A58: 3 | B58: =VLOOKUP($K58,'[15]800Ю'!$D$20:$W$134,4,FALSE) -> МЯГКИЙ | C58: =VLOOKUP($K58,'[15]800Ю'!$D$20:$W$134,5,FALSE) -> Марк | D58: =VLOOKUP($K58,'[15]800Ю'!$D$20:$W$134,6,FALSE) -> 11.04.1998 | E58: =VLOOKUP($K58,'[15]800Ю'!$D$20:$W$134,7,FALSE) -> КМС | F58: =VLOOKUP($K58,'[15]800Ю'!$D$20:$W$134,8,FALSE) -> Челябинская область | G58: =VLOOKUP($K58,'[15]800Ю'!$D$20:$W$134,3,FALSE) -> 460 | K58: 53
A59: 4 | B59: =VLOOKUP($K59,'[15]800Ю'!$D$20:$W$134,4,FALSE) -> РАЩУПКИН | C59: =VLOOKUP($K59,'[15]800Ю'!$D$20:$W$134,5,FALSE) -> Игорь | D59: =VLOOKUP($K59,'[15]800Ю'!$D$20:$W$134,6,FALSE) -> 03.09.1997 | E59: =VLOOKUP($K59,'[15]800Ю'!$D$20:$W$134,7,FALSE) -> КМС | F59: =VLOOKUP($K59,'[15]800Ю'!$D$20:$W$134,8,FALSE) -> Москва-1 | G59: =VLOOKUP($K59,'[15]800Ю'!$D$20:$W$134,3,FALSE) -> 344 | K59: 54
A60: 5 | B60: =VLOOKUP($K60,'[15]800Ю'!$D$20:$W$134,4,FALSE) -> АЛЕКСЕЕВ | C60: =VLOOKUP($K60,'[15]800Ю'!$D$20:$W$134,5,FALSE) -> Алексей | D60: =VLOOKUP($K60,'[15]800Ю'!$D$20:$W$134,6,FALSE) -> 14.07.1999 | E60: =VLOOKUP($K60,'[15]800Ю'!$D$20:$W$134,7,FALSE) -> КМС | F60: =VLOOKUP($K60,'[15]800Ю'!$D$20:$W$134,8,FALSE) -> Санкт-Петербург | G60: =VLOOKUP($K60,'[15]800Ю'!$D$20:$W$134,3,FALSE) -> 101 | J60: лич | K60: 55
A61: 6 | B61: =VLOOKUP($K61,'[15]800Ю'!$D$20:$W$134,4,FALSE) -> ЗАХАРОВ | C61: =VLOOKUP($K61,'[15]800Ю'!$D$20:$W$134,5,FALSE) -> Эдгар | D61: =VLOOKUP($K61,'[15]800Ю'!$D$20:$W$134,6,FALSE) -> 26.04.2001 | E61: =VLOOKUP($K61,'[15]800Ю'!$D$20:$W$134,7,FALSE) -> КМС | F61: =VLOOKUP($K61,'[15]800Ю'!$D$20:$W$134,8,FALSE) -> Республика Татарстан | G61: =VLOOKUP($K61,'[15]800Ю'!$D$20:$W$134,3,FALSE) -> 401 | K61: 56
B63: 6 забег
A64: 1 | K64: 61
A65: 2 | B65: =VLOOKUP($K65,'[15]800Ю'!$D$20:$W$134,4,FALSE) -> БЫСТРОВ | C65: =VLOOKUP($K65,'[15]800Ю'!$D$20:$W$134,5,FALSE) -> Максим | D65: =VLOOKUP($K65,'[15]800Ю'!$D$20:$W$134,6,FALSE) -> 14.12.1999 | E65: =VLOOKUP($K65,'[15]800Ю'!$D$20:$W$134,7,FALSE) -> КМС | F65: =VLOOKUP($K65,'[15]800Ю'!$D$20:$W$134,8,FALSE) -> Санкт-Петербург | G65: =VLOOKUP($K65,'[15]800Ю'!$D$20:$W$134,3,FALSE) -> 111 | J65: лич | K65: 62
A66: 3 | B66: =VLOOKUP($K66,'[15]800Ю'!$D$20:$W$134,4,FALSE) -> СМОЛЬНЯКОВСКИЙ | C66: =VLOOKUP($K66,'[15]800Ю'!$D$20:$W$134,5,FALSE) -> Даниил | D66: =VLOOKUP($K66,'[15]800Ю'!$D$20:$W$134,6,FALSE) -> 06.04.1998 | E66: =VLOOKUP($K66,'[15]800Ю'!$D$20:$W$134,7,FALSE) -> КМС | F66: =VLOOKUP($K66,'[15]800Ю'!$D$20:$W$134,8,FALSE) -> Краснодарский край Ставропольский край | G66: =VLOOKUP($K66,'[15]800Ю'!$D$20:$W$134,3,FALSE) -> 74 | K66: 63
A67: 4 | B67: =VLOOKUP($K67,'[15]800Ю'!$D$20:$W$134,4,FALSE) -> ЗУЕВ | C67: =VLOOKUP($K67,'[15]800Ю'!$D$20:$W$134,5,FALSE) -> Константин | D67: =VLOOKUP($K67,'[15]800Ю'!$D$20:$W$134,6,FALSE) -> 23.12.1998 | E67: =VLOOKUP($K67,'[15]800Ю'!$D$20:$W$134,7,FALSE) -> КМС | F67: =VLOOKUP($K67,'[15]800Ю'!$D$20:$W$134,8,FALSE) -> Московская область | G67: =VLOOKUP($K67,'[15]800Ю'!$D$20:$W$134,3,FALSE) -> 259 | K67: 64
A68: 5 | B68: =VLOOKUP($K68,'[15]800Ю'!$D$20:$W$134,4,FALSE) -> МОРОЗКИН | C68: =VLOOKUP($K68,'[15]800Ю'!$D$20:$W$134,5,FALSE) -> Вадим | D68: =VLOOKUP($K68,'[15]800Ю'!$D$20:$W$134,6,FALSE) -> 30.09.1997 | E68: =VLOOKUP($K68,'[15]800Ю'!$D$20:$W$134,7,FALSE) -> КМС | F68: =VLOOKUP($K68,'[15]800Ю'!$D$20:$W$134,8,FALSE) -> Республика Мордовия | G68: =VLOOKUP($K68,'[15]800Ю'!$D$20:$W$134,3,FALSE) -> 91 | K68: 65
A69: 6 | B69: =VLOOKUP($K69,'[15]800Ю'!$D$20:$W$134,4,FALSE) -> КУЗНЕЦОВ | C69: =VLOOKUP($K69,'[15]800Ю'!$D$20:$W$134,5,FALSE) -> Илья | D69: =VLOOKUP($K69,'[15]800Ю'!$D$20:$W$134,6,FALSE) -> 24.01.1997 | E69: =VLOOKUP($K69,'[15]800Ю'!$D$20:$W$134,7,FALSE) -> КМС | F69: =VLOOKUP($K69,'[15]800Ю'!$D$20:$W$134,8,FALSE) -> Рязанская область | G69: =VLOOKUP($K69,'[15]800Ю'!$D$20:$W$134,3,FALSE) -> 289 | K69: 66
B71: 7 забег
A72: 1 | K72: 71
A73: 2 | B73: =VLOOKUP($K73,'[15]800Ю'!$D$20:$W$134,4,FALSE) -> НИКИТИН | C73: =VLOOKUP($K73,'[15]800Ю'!$D$20:$W$134,5,FALSE) -> Артемий | D73: =VLOOKUP($K73,'[15]800Ю'!$D$20:$W$134,6,FALSE) -> 26.07.1999 | E73: =VLOOKUP($K73,'[15]800Ю'!$D$20:$W$134,7,FALSE) -> КМС | F73: =VLOOKUP($K73,'[15]800Ю'!$D$20:$W$134,8,FALSE) -> Челябинская область | G73: =VLOOKUP($K73,'[15]800Ю'!$D$20:$W$134,3,FALSE) -> 461 | K73: 72
A74: 3 | B74: =VLOOKUP($K74,'[15]800Ю'!$D$20:$W$134,4,FALSE) -> СМИРНОВ | C74: =VLOOKUP($K74,'[15]800Ю'!$D$20:$W$134,5,FALSE) -> Михаил | D74: =VLOOKUP($K74,'[15]800Ю'!$D$20:$W$134,6,FALSE) -> 05.08.1997 | E74: =VLOOKUP($K74,'[15]800Ю'!$D$20:$W$134,7,FALSE) -> КМС | F74: =VLOOKUP($K74,'[15]800Ю'!$D$20:$W$134,8,FALSE) -> Санкт-Петербург | G74: =VLOOKUP($K74,'[15]800Ю'!$D$20:$W$134,3,FALSE) -> 171 | J74: лич | K74: 73
A75: 4 | B75: =VLOOKUP($K75,'[15]800Ю'!$D$20:$W$134,4,FALSE) -> САВЛУКОВ | C75: =VLOOKUP($K75,'[15]800Ю'!$D$20:$W$134,5,FALSE) -> Савелий | D75: =VLOOKUP($K75,'[15]800Ю'!$D$20:$W$134,6,FALSE) -> 06.01.2000 | E75: =VLOOKUP($K75,'[15]800Ю'!$D$20:$W$134,7,FALSE) -> 1 | F75: =VLOOKUP($K75,'[15]800Ю'!$D$20:$W$134,8,FALSE) -> Алтайский край | G75: =VLOOKUP($K75,'[15]800Ю'!$D$20:$W$134,3,FALSE) -> 241 | K75: 74
A76: 5 | B76: =VLOOKUP($K76,'[15]800Ю'!$D$20:$W$134,4,FALSE) -> КОМИССАРЕНКО | C76: =VLOOKUP($K76,'[15]800Ю'!$D$20:$W$134,5,FALSE) -> Станислав | D76: =VLOOKUP($K76,'[15]800Ю'!$D$20:$W$134,6,FALSE) -> 07.12.1998 | E76: =VLOOKUP($K76,'[15]800Ю'!$D$20:$W$134,7,FALSE) -> КМС | F76: =VLOOKUP($K76,'[15]800Ю'!$D$20:$W$134,8,FALSE) -> Рязанская область | G76: =VLOOKUP($K76,'[15]800Ю'!$D$20:$W$134,3,FALSE) -> 288 | K76: 75
A77: 6 | B77: =VLOOKUP($K77,'[15]800Ю'!$D$20:$W$134,4,FALSE) -> ТИМКО | C77: =VLOOKUP($K77,'[15]800Ю'!$D$20:$W$134,5,FALSE) -> Вадим | D77: =VLOOKUP($K77,'[15]800Ю'!$D$20:$W$134,6,FALSE) -> 03.11.1997 | E77: =VLOOKUP($K77,'[15]800Ю'!$D$20:$W$134,7,FALSE) -> КМС | F77: =VLOOKUP($K77,'[15]800Ю'!$D$20:$W$134,8,FALSE) -> Республика Бурятия | G77: =VLOOKUP($K77,'[15]800Ю'!$D$20:$W$134,3,FALSE) -> 8 | K77: 76
B98: Рефери по бегу | G98: Алексеев В.Г. /СПб, ССВк/
B99: Старший судья на финише | G99: Куликов В.Я. /СПБ, ССВк/
B100: Старший хронометрист | G100: Мичурина О.А. /СПб, ССВк/
B101: Секретарь | G101: Пономарева С.Е. /СПб, ССВк/

Sheet 3000Ю(2)
F1: МИНИСТЕРСТВО СПОРТА РОССИЙСКОЙ ФЕДЕРАЦИИ
F2: ВСЕРОССИЙСКАЯ ФЕДЕРАЦИЯ ЛЕГКОЙ АТЛЕТИКИ
F3: КОМИТЕТ ПО ФИЗИЧЕСКОЙ КУЛЬТУРЕ И СПОРТУ САНКТ-ПЕТЕРБУРГА
F4: СПОРТИВНАЯ ФЕДЕРАЦИЯ ЛЕГКОЙ АТЛЕТИКИ САНКТ-ПЕТЕРБУРГА
F6: Первенство России по легкой атлетике
F7: (среди юниоров и юниорок до 23 лет) в помещении
A8: 7.24,90 | B8: Рекорд Мира 23
A9: 7.41,48 | B9: Рекорд Европы 23 | F9: Бег 3000 м
A10: 7.52,90 | B10: Рекорд России 23 | F10: Финальные забеги
F11: ЮНИОРЫ
J13: ='[15]3000Ю'!F17 -> 19 февраля 2019 г.
I14: Начало: | J14: 0.80208333
A15: Санкт-Петербург, Легкоатлетический манеж | I15: Окончание:
B17: Фамилия | C17: Имя | D17: Дата рожд | E17: Разряд | F17: Территория | G17: № уч. | H17: Приход | I17: Результат | J17: Примечание
B18: 1 забег
A19: 1 | B19: =VLOOKUP($K19,'[15]3000Ю'!$D$19:$U$163,3,FALSE) -> КОРОЛЬ | C19: =VLOOKUP($K19,'[15]3000Ю'!$D$19:$U$163,4,FALSE) -> Артём | D19: =VLOOKUP($K19,'[15]3000Ю'!$D$19:$U$163,5,FALSE) -> 27.08.1998 | E19: =VLOOKUP($K19,'[15]3000Ю'!$D$19:$U$163,6,FALSE) -> КМС | F19: =VLOOKUP($K19,'[15]3000Ю'!$D$19:$U$163,7,FALSE) -> Новосибирская область | G19: =VLOOKUP($K19,'[15]3000Ю'!$D$19:$U$163,2,FALSE) -> 297 | K19: 11
A20: 2 | B20: =VLOOKUP($K20,'[15]3000Ю'!$D$19:$U$163,3,FALSE) -> КУЗНЕЦОВ | C20: =VLOOKUP($K20,'[15]3000Ю'!$D$19:$U$163,4,FALSE) -> Максим | D20: =VLOOKUP($K20,'[15]3000Ю'!$D$19:$U$163,5,FALSE) -> 28.04.1998 | E20: =VLOOKUP($K20,'[15]3000Ю'!$D$19:$U$163,6,FALSE) -> КМС | F20: =VLOOKUP($K20,'[15]3000Ю'!$D$19:$U$163,7,FALSE) -> Рязанская область | G20: =VLOOKUP($K20,'[15]3000Ю'!$D$19:$U$163,2,FALSE) -> 287 | K20: 12
A21: 3 | B21: =VLOOKUP($K21,'[15]3000Ю'!$D$19:$U$163,3,FALSE) -> МАГОМЕТОВ | C21: =VLOOKUP($K21,'[15]3000Ю'!$D$19:$U$163,4,FALSE) -> Антон | D21: =VLOOKUP($K21,'[15]3000Ю'!$D$19:$U$163,5,FALSE) -> 02.05.1998 | E21: =VLOOKUP($K21,'[15]3000Ю'!$D$19:$U$163,6,FALSE) -> 1 | F21: =VLOOKUP($K21,'[15]3000Ю'!$D$19:$U$163,7,FALSE) -> Забайкальский край | G21: =VLOOKUP($K21,'[15]3000Ю'!$D$19:$U$163,2,FALSE) -> 247 | K21: 13
A22: 4 | B22: =VLOOKUP($K22,'[15]3000Ю'!$D$19:$U$163,3,FALSE) -> МАРКИН | C22: =VLOOKUP($K22,'[15]3000Ю'!$D$19:$U$163,4,FALSE) -> Максим | D22: =VLOOKUP($K22,'[15]3000Ю'!$D$19:$U$163,5,FALSE) -> 13.12.1999 | E22: =VLOOKUP($K22,'[15]3000Ю'!$D$19:$U$163,6,FALSE) -> КМС | F22: =VLOOKUP($K22,'[15]3000Ю'!$D$19:$U$163,7,FALSE) -> Республика Мордовия | G22: =VLOOKUP($K22,'[15]3000Ю'!$D$19:$U$163,2,FALSE) -> 90 | K22: 14
A23: 5 | B23: =VLOOKUP($K23,'[15]3000Ю'!$D$19:$U$163,3,FALSE) -> ПЕТРОВ | C23: =VLOOKUP($K23,'[15]3000Ю'!$D$19:$U$163,4,FALSE) -> Андрей | D23: =VLOOKUP($K23,'[15]3000Ю'!$D$19:$U$163,5,FALSE) -> 21.09.1997 | E23: =VLOOKUP($K23,'[15]3000Ю'!$D$19:$U$163,6,FALSE) -> 1 | F23: =VLOOKUP($K23,'[15]3000Ю'!$D$19:$U$163,7,FALSE) -> Республика Башкортостан | G23: =VLOOKUP($K23,'[15]3000Ю'!$D$19:$U$163,2,FALSE) -> 509 | K23: 15
A24: 6 | B24: =VLOOKUP($K24,'[15]3000Ю'!$D$19:$U$163,3,FALSE) -> ЕГОРОВ | C24: =VLOOKUP($K24,'[15]3000Ю'!$D$19:$U$163,4,FALSE) -> Геннадий | D24: =VLOOKUP($K24,'[15]3000Ю'!$D$19:$U$163,5,FALSE) -> 16.04.1997 | E24: =VLOOKUP($K24,'[15]3000Ю'!$D$19:$U$163,6,FALSE) -> КМС | F24: =VLOOKUP($K24,'[15]3000Ю'!$D$19:$U$163,7,FALSE) -> Республика Татарстан | G24: =VLOOKUP($K24,'[15]3000Ю'!$D$19:$U$163,2,FALSE) -> 400 | K24: 16
A25: 7 | B25: =VLOOKUP($K25,'[15]3000Ю'!$D$19:$U$163,3,FALSE) -> ПОПОВ | C25: =VLOOKUP($K25,'[15]3000Ю'!$D$19:$U$163,4,FALSE) -> Андрей | D25: =VLOOKUP($K25,'[15]3000Ю'!$D$19:$U$163,5,FALSE) -> 20.04.1997 | E25: =VLOOKUP($K25,'[15]3000Ю'!$D$19:$U$163,6,FALSE) -> КМС | F25: =VLOOKUP($K25,'[15]3000Ю'!$D$19:$U$163,7,FALSE) -> Забайкальский край | G25: =VLOOKUP($K25,'[15]3000Ю'!$D$19:$U$163,2,FALSE) -> 246 | K25: 17
A26: 8 | B26: =VLOOKUP($K26,'[15]3000Ю'!$D$19:$U$163,3,FALSE) -> РАКЧЕЕВ | C26: =VLOOKUP($K26,'[15]3000Ю'!$D$19:$U$163,4,FALSE) -> Дмитрий | D26: =VLOOKUP($K26,'[15]3000Ю'!$D$19:$U$163,5,FALSE) -> 05.08.1998 | E26: =VLOOKUP($K26,'[15]3000Ю'!$D$19:$U$163,6,FALSE) -> КМС | F26: =VLOOKUP($K26,'[15]3000Ю'!$D$19:$U$163,7,FALSE) -> Рязанская область | G26: =VLOOKUP($K26,'[15]3000Ю'!$D$19:$U$163,2,FALSE) -> 286 | K26: 18
A27: 9 | B27: =VLOOKUP($K27,'[15]3000Ю'!$D$19:$U$163,3,FALSE) -> СВЕЧНИКОВ | C27: =VLOOKUP($K27,'[15]3000Ю'!$D$19:$U$163,4,FALSE) -> Александр | D27: =VLOOKUP($K27,'[15]3000Ю'!$D$19:$U$163,5,FALSE) -> 21.02.2000 | E27: =VLOOKUP($K27,'[15]3000Ю'!$D$19:$U$163,6,FALSE) -> КМС | F27: =VLOOKUP($K27,'[15]3000Ю'!$D$19:$U$163,7,FALSE) -> Челябинская область | G27: =VLOOKUP($K27,'[15]3000Ю'!$D$19:$U$163,2,FALSE) -> 463 | K27: 19
A28: 10 | B28: =VLOOKUP($K28,'[15]3000Ю'!$D$19:$U$163,3,FALSE) -> БАЛАШОВ | C28: =VLOOKUP($K28,'[15]3000Ю'!$D$19:$U$163,4,FALSE) -> Максим | D28: =VLOOKUP($K28,'[15]3000Ю'!$D$19:$U$163,5,FALSE) -> 19.06.1998 | E28: =VLOOKUP($K28,'[15]3000Ю'!$D$19:$U$163,6,FALSE) -> 1 | F28: =VLOOKUP($K28,'[15]3000Ю'!$D$19:$U$163,7,FALSE) -> Томская область | G28: =VLOOKUP($K28,'[15]3000Ю'!$D$19:$U$163,2,FALSE) -> 237 | K28: 1
A29: 11 | B29: =VLOOKUP($K29,'[15]3000Ю'!$D$19:$U$163,3,FALSE) -> БАТЫРШИН | C29: =VLOOKUP($K29,'[15]3000Ю'!$D$19:$U$163,4,FALSE) -> Эдуард | D29: =VLOOKUP($K29,'[15]3000Ю'!$D$19:$U$163,5,FALSE) -> 04.12.1998 | E29: =VLOOKUP($K29,'[15]3000Ю'!$D$19:$U$163,6,FALSE) -> КМС | F29: =VLOOKUP($K29,'[15]3000Ю'!$D$19:$U$163,7,FALSE) -> Республика Башкортостан | G29: =VLOOKUP($K29,'[15]3000Ю'!$D$19:$U$163,2,FALSE) -> 498 | K29: 2
A30: 12 | B30: =VLOOKUP($K30,'[15]3000Ю'!$D$19:$U$163,3,FALSE) -> ВАЛЮХОВ | C30: =VLOOKUP($K30,'[15]3000Ю'!$D$19:$U$163,4,FALSE) -> Никита | D30: =VLOOKUP($K30,'[15]3000Ю'!$D$19:$U$163,5,FALSE) -> 13.12.1997 | E30: =VLOOKUP($K30,'[15]3000Ю'!$D$19:$U$163,6,FALSE) -> КМС | F30: =VLOOKUP($K30,'[15]3000Ю'!$D$19:$U$163,7,FALSE) -> Иркутская область | G30: =VLOOKUP($K30,'[15]3000Ю'!$D$19:$U$163,2,FALSE) -> 221 | K30: 3
... A38: 20 | B38: =VLOOKUP($K38,'[15]3000Ю'!$D$19:$U$163,3,FALSE) -> ПЕТРОВ | C38: =VLOOKUP($K38,'[15]3000Ю'!$D$19:$U$163,4,FALSE) -> Павел | D38: =VLOOKUP($K38,'[15]3000Ю'!$D$19:$U$163,5,FALSE) -> 12.08.1999 | E38: =VLOOKUP($K38,'[15]3000Ю'!$D$19:$U$163,6,FALSE) -> 2 | F38: =VLOOKUP($K38,'[15]3000Ю'!$D$19:$U$163,7,FALSE) -> Республика Башкортостан | G38: =VLOOKUP($K38,'[15]3000Ю'!$D$19:$U$163,2,FALSE) -> 510 | K38: 9
A39: 21 | B39: =VLOOKUP($K39,'[15]3000Ю'!$D$19:$U$163,3,FALSE) -> КИРГИЗОВ | C39: =VLOOKUP($K39,'[15]3000Ю'!$D$19:$U$163,4,FALSE) -> Михаил | D39: =VLOOKUP($K39,'[15]3000Ю'!$D$19:$U$163,5,FALSE) -> 11.05.1998 | E39: =VLOOKUP($K39,'[15]3000Ю'!$D$19:$U$163,6,FALSE) -> КМС | F39: =VLOOKUP($K39,'[15]3000Ю'!$D$19:$U$163,7,FALSE) -> Московская область Чувашская республика | G39: =VLOOKUP($K39,'[15]3000Ю'!$D$19:$U$163,2,FALSE) -> 273 | J39: лич | K39: 10
A40: 22 | B40: =VLOOKUP($K40,'[15]3000Ю'!$D$19:$U$163,3,FALSE) -> СОЛОВЬЕВ | C40: =VLOOKUP($K40,'[15]3000Ю'!$D$19:$U$163,4,FALSE) -> Сергей | D40: =VLOOKUP($K40,'[15]3000Ю'!$D$19:$U$163,5,FALSE) -> 05.10.1997 | E40: =VLOOKUP($K40,'[15]3000Ю'!$D$19:$U$163,6,FALSE) -> 1 | F40: =VLOOKUP($K40,'[15]3000Ю'!$D$19:$U$163,7,FALSE) -> Республика Бурятия | G40: =VLOOKUP($K40,'[15]3000Ю'!$D$19:$U$163,2,FALSE) -> 6 | K40: 20
A41: 23 | B41: =VLOOKUP($K41,'[15]3000Ю'!$D$19:$U$163,3,FALSE) -> ФЕДОТОВ | C41: =VLOOKUP($K41,'[15]3000Ю'!$D$19:$U$163,4,FALSE) -> Станислав | D41: =VLOOKUP($K41,'[15]3000Ю'!$D$19:$U$163,5,FALSE) -> 30.12.1998 | E41: =VLOOKUP($K41,'[15]3000Ю'!$D$19:$U$163,6,FALSE) -> КМС | F41: =VLOOKUP($K41,'[15]3000Ю'!$D$19:$U$163,7,FALSE) -> Москва-1 Чувашская республика | G41: =VLOOKUP($K41,'[15]3000Ю'!$D$19:$U$163,2,FALSE) -> 346 | K41: 21
A42: 24 | B42: =VLOOKUP($K42,'[15]3000Ю'!$D$19:$U$163,3,FALSE) -> ЦАРАПКИН | C42: =VLOOKUP($K42,'[15]3000Ю'!$D$19:$U$163,4,FALSE) -> Максим | D42: =VLOOKUP($K42,'[15]3000Ю'!$D$19:$U$163,5,FALSE) -> 15.04.1998 | E42: =VLOOKUP($K42,'[15]3000Ю'!$D$19:$U$163,6,FALSE) -> КМС | F42: =VLOOKUP($K42,'[15]3000Ю'!$D$19:$U$163,7,FALSE) -> Москва Пензенская область | G42: =VLOOKUP($K42,'[15]3000Ю'!$D$19:$U$163,2,FALSE) -> 432 | J42: лич | K42: 22
A43: 25 | B43: =VLOOKUP($K43,'[15]3000Ю'!$D$19:$U$163,3,FALSE) -> ШВЕЦОВ | C43: =VLOOKUP($K43,'[15]3000Ю'!$D$19:$U$163,4,FALSE) -> Пётр | D43: =VLOOKUP($K43,'[15]3000Ю'!$D$19:$U$163,5,FALSE) -> 14.07.1999 | E43: =VLOOKUP($K43,'[15]3000Ю'!$D$19:$U$163,6,FALSE) -> КМС | F43: =VLOOKUP($K43,'[15]3000Ю'!$D$19:$U$163,7,FALSE) -> Новосибирская область | G43: =VLOOKUP($K43,'[15]3000Ю'!$D$19:$U$163,2,FALSE) -> 303 | K43: 23
B49: Рефери по бегу | G49: Алексеев В.Г. /СПб, ССВк/
B50: Старший судья на финише | G50: Куликов В.Я. /СПБ, ССВк/
B51: Старший хронометрист | G51: Мичурина О.А. /СПб, ССВк/
B52: Секретарь | G52: Пономарева С.Е. /СПб, ССВк/

Sheet ЯдЮ(2)
H1: ВСЕРОССИЙСКАЯ ФЕДЕРАЦИЯ ЛЕГКОЙ АТЛЕТИКИ
H2: КОМИТЕТ ПО ФИЗИЧЕСКОЙ КУЛЬТУРЕ И СПОРТУ САНКТ-ПЕТЕРБУРГА
H3: СПОРТИВНАЯ ФЕДЕРАЦИЯ ЛЕГКОЙ АТЛЕТИКИ САНКТ-ПЕТЕРБУРГА
H4: САНКТ-ПЕТЕРБУРГСКАЯ КОЛЛЕГИЯ СУДЕЙ ПО ЛЕГКОЙ АТЛЕТИКЕ
H6: Первенство России по легкой атлетике
A7: 22 | B7: Рекорд Мира 23 | H7: (среди юниоров и юниорок до 23 лет) в помещении
A8: 22 | B8: Рекорд Европы 23
A9: 20.75 | B9: Рекорд России 23 | H9: Толкание ядра
H10: (вес снаряда - 7,26 кг)
H11: ЮНИОРЫ | P11: =[14]ЯдЮ!D18 -> 19 февраля 2019 г.
O12: Начало: | P12: 0.73611111
A13: Санкт-Петербург, Легкоатлетичесикй манеж | H13: Финальные соревнования | O13: Окончание:
A16: № | B16: № уч. | C16: Фамилия | D16: Имя | E16: Дата рожд | F16: Разряд | G16: Территория | H16: Результаты попыток | O16: Лучший | P16: Место | Q16: прим
A17: п/п | H17: 1 | I17: 2 | J17: 3 | L17: 4 | M17: 5 | N17: 6 | O17: результат
A18: 1 | B18: =[14]ЯдЮ!C20 -> 366 | C18: =[14]ЯдЮ!D20 -> КИРИЛЛОВ | D18: =[14]ЯдЮ!E20 -> Даниил | E18: =[14]ЯдЮ!F20 -> 36059 | F18: =[14]ЯдЮ!G20 -> МС | G18: =[14]ЯдЮ!H20 -> Москва-2
A19: 2 | B19: =[14]ЯдЮ!C21 -> 336 | C19: =[14]ЯдЮ!D21 -> НИКОНЕНКО | D19: =[14]ЯдЮ!E21 -> Дмитрий | E19: =[14]ЯдЮ!F21 -> 36300 | F19: =[14]ЯдЮ!G21 -> КМС | G19: =[14]ЯдЮ!H21 -> Ростовская область
A20: 3 | B20: =[14]ЯдЮ!C22 -> 397 | C20: =[14]ЯдЮ!D22 -> АЛЕХАНОВ | D20: =[14]ЯдЮ!E22 -> Данил | E20: =[14]ЯдЮ!F22 -> 35535 | F20: =[14]ЯдЮ!G22 -> КМС | G20: =[14]ЯдЮ!H22 -> Республика Татарстан
A21: 4 | B21: =[14]ЯдЮ!C23 -> 213 | C21: =[14]ЯдЮ!D23 -> СЕСЬКИН | D21: =[14]ЯдЮ!E23 -> Демьян | E21: =[14]ЯдЮ!F23 -> 35646 | F21: =[14]ЯдЮ!G23 -> МС | G21: =[14]ЯдЮ!H23 -> Москва-1 Санкт-Петербург-1
A22: 5 | B22: =[14]ЯдЮ!C24 -> 330 | C22: =[14]ЯдЮ!D24 -> НУРБАГАНДОВ | D22: =[14]ЯдЮ!E24 -> Арслан | E22: =[14]ЯдЮ!F24 -> 35701 | F22: =[14]ЯдЮ!G24 -> 2 | G22: =[14]ЯдЮ!H24 -> Республика Дагестан
A23: 6 | B23: =[14]ЯдЮ!C25 -> 377 | C23: =[14]ЯдЮ!D25 -> БРАЖНИКОВ | D23: =[14]ЯдЮ!E25 -> Евгений | E23: =[14]ЯдЮ!F25 -> 36093 | F23: =[14]ЯдЮ!G25 -> КМС | G23: =[14]ЯдЮ!H25 -> Москва
A24: 7 | B24: =[14]ЯдЮ!C26 -> 352 | C24: =[14]ЯдЮ!D26 -> КИРИЛЛОВ | D24: =[14]ЯдЮ!E26 -> Илья | E24: =[14]ЯдЮ!F26 -> 35808 | F24: =[14]ЯдЮ!G26 -> МС | G24: =[14]ЯдЮ!H26 -> Москва-1
A25: 8 | B25: =[14]ЯдЮ!C27 -> 420 | C25: =[14]ЯдЮ!D27 -> СЕЛИВЕРСТСОВ | D25: =[14]ЯдЮ!E27 -> Илья | E25: =[14]ЯдЮ!F27 -> 36373 | F25: =[14]ЯдЮ!G27 -> 1 | G25: =[14]ЯдЮ!H27 -> Тверская область
A26: 9 | B26: =[14]ЯдЮ!C28 -> 69 | C26: =[14]ЯдЮ!D28 -> ПАНЧЕХИН | D26: =[14]ЯдЮ!E28 -> Сергей | E26: =[14]ЯдЮ!F28 -> 35561 | F26: =[14]ЯдЮ!G28 -> МС | G26: =[14]ЯдЮ!H28 -> Краснодарский край
A27: 10 | B27: =[14]ЯдЮ!C29 -> 192 | C27: =[14]ЯдЮ!D29 -> БАБАНИН | D27: =[14]ЯдЮ!E29 -> Павел | E27: =[14]ЯдЮ!F29 -> 35605 | F27: =[14]ЯдЮ!G29 -> КМС | G27: =[14]ЯдЮ!H29 -> Омская область
A28: 11 | B28: =[14]ЯдЮ!C30 -> 367 | C28: =[14]ЯдЮ!D30 -> НИКИТИН | D28: =[14]ЯдЮ!E30 -> Дмитрий | E28: =[14]ЯдЮ!F30 -> 36465 | F28: =[14]ЯдЮ!G30 -> КМС | G28: =[14]ЯдЮ!H30 -> Москва-2 Омская область
C35: Рефери по прыжкам: | I35: Секретарь:
C37: Старший судья на виде: | I37: Судьи:
