Workbook
Name prugok: [1]Кресты!#REF!
Name prugok: [2]Кресты!#REF!
Name prugok: [2]Кресты!#REF!
Name prugok: [1]Кресты!#REF!
Name Город: [3]Z_all!$H$1:$H$65536
Name Город: [3]Z_all!$H$1:$H$65536
Name Город: [3]Z_all!$H$1:$H$65536
Name Город: [4]Z_all!$H$1:$H$65536
Name ГР: [3]Z_all!$E$1:$E$65536
Name ГР: [3]Z_all!$E$1:$E$65536
Name ГР: [3]Z_all!$E$1:$E$65536
Name ГР: [4]Z_all!$E$1:$E$65536
Name Звание: [3]Z_all!$F$1:$F$65536
Name Звание: [3]Z_all!$F$1:$F$65536
Name Звание: [3]Z_all!$F$1:$F$65536
Name Звание: [4]Z_all!$F$1:$F$65536
Name Код_Результатов: [5]Кресты!#REF!
Name Код_Результатов: [5]Кресты!#REF!
Name Код_Результатов: [5]Кресты!#REF!
Name Код_Результатов: [6]Кресты!#REF!
Name КодУч: [3]Z_all!$A$1:$A$65536
Name КодУч: [3]Z_all!$A$1:$A$65536
Name КодУч: [3]Z_all!$A$1:$A$65536
Name КодУч: [4]Z_all!$A$1:$A$65536
Name компер: [7]Кресты!#REF!
Name компер: [7]Кресты!#REF!
Name компер: [7]Кресты!#REF!
Name компер: [6]Кресты!#REF!
Name НомУч: [3]Z_all!$B$1:$B$65536
Name НомУч: [3]Z_all!$B$1:$B$65536
Name НомУч: [3]Z_all!$B$1:$B$65536
Name НомУч: [4]Z_all!$B$1:$B$65536
Name Общество: [3]Z_all!$I$1:$I$65536
Name Общество: [3]Z_all!$I$1:$I$65536
Name Общество: [3]Z_all!$I$1:$I$65536
Name Общество: [4]Z_all!$I$1:$I$65536
Name Пол: [3]Z_all!$C$1:$C$65536
Name Пол: [3]Z_all!$C$1:$C$65536
Name Пол: [3]Z_all!$C$1:$C$65536
Name Пол: [4]Z_all!$C$1:$C$65536
Name р1: [8]Кресты!#REF!
Name р1: [8]Кресты!#REF!
Name р1: [8]Кресты!#REF!
Name р1: [8]Кресты!#REF!
Name Рез: [5]Кресты!#REF!
Name Рез: [5]Кресты!#REF!
Name Рез: [5]Кресты!#REF!
Name Рез: [6]Кресты!#REF!
Name Результат: [9]ПРОТОКОЛ!$Z$1:$Z$65536
Name Результат: [9]ПРОТОКОЛ!$Z$1:$Z$65536
Name Результат: [9]ПРОТОКОЛ!$Z$1:$Z$65536
Name Результат: [10]ПРОТОКОЛ!$Z$1:$Z$65536
Name Результаты: [5]Кресты!#REF!
Name Результаты: [5]Кресты!#REF!
Name Результаты: [5]Кресты!#REF!
Name Результаты: [6]Кресты!#REF!
Name Стр: [3]Z_all!$G$1:$G$65536
Name Стр: [3]Z_all!$G$1:$G$65536
Name Стр: [3]Z_all!$G$1:$G$65536
Name Стр: [4]Z_all!$G$1:$G$65536

Sheet 200Д(2)
F1: МИНИСТЕРСТВО СПОРТА РОССИЙСКОЙ ФЕДЕРАЦИИ
F2: ВСЕРОССИЙСКАЯ ФЕДЕРАЦИЯ ЛЕГКОЙ АТЛЕТИКИ
F3: КОМИТЕТ ПО ФИЗИЧЕСКОЙ КУЛЬТУРЕ И СПОРТУ САНКТ-ПЕТЕРБУРГА
F4: СПОРТИВНАЯ ФЕДЕРАЦИЯ ЛЕГКОЙ АТЛЕТИКИ САНКТ-ПЕТЕРБУРГА
F6: Всероссийские соревнования
F7: (среди юниоров и юниорок до 23 лет) в помещении
A9: 22.38 | B9: ВД Мира 23 | F9: Бег 200 м
A10: 22.58 | B10: ВД Европы 23 | F10: Забеги
A11: 22.79 | B11: Рекорд России 23 | F11: ЮНИОРКИ
J13: ='[11]200Д'!H17 -> 20 февраля 2019 г.
I14: Начало: | J14: 0.66666667
A15: Санкт-Петербург, Легкоатлетический манеж | I15: Окончание:
B17: Фамилия | C17: Имя | D17: Дата рожд | E17: Разряд | F17: Команда | G17: № уч. | H17: Приход | I17: Результат | J17: Примечание
B18: 1 забег
A19: 1 | K19: 11
A20: 2 | B20: =VLOOKUP($K20,'[11]200Д'!$D$20:$W$145,4,FALSE) -> ДОЛИННАЯ | C20: =VLOOKUP($K20,'[11]200Д'!$D$20:$W$145,5,FALSE) -> Виктория | D20: =VLOOKUP($K20,'[11]200Д'!$D$20:$W$145,6,FALSE) -> 14.10.1999 | E20: =VLOOKUP($K20,'[11]200Д'!$D$20:$W$145,7,FALSE) -> 1 | F20: =VLOOKUP($K20,'[11]200Д'!$D$20:$W$145,8,FALSE) -> Омская область | G20: =VLOOKUP($K20,'[11]200Д'!$D$20:$W$145,3,FALSE) -> 228 | K20: 12
A21: 3 | B21: =VLOOKUP($K21,'[11]200Д'!$D$20:$W$145,4,FALSE) -> ГОЛОВЧАНСКАЯ | C21: =VLOOKUP($K21,'[11]200Д'!$D$20:$W$145,5,FALSE) -> Маргарита | D21: =VLOOKUP($K21,'[11]200Д'!$D$20:$W$145,6,FALSE) -> 18.11.1999 | E21: =VLOOKUP($K21,'[11]200Д'!$D$20:$W$145,7,FALSE) -> КМС | F21: =VLOOKUP($K21,'[11]200Д'!$D$20:$W$145,8,FALSE) -> Волгоградская область | G21: =VLOOKUP($K21,'[11]200Д'!$D$20:$W$145,3,FALSE) -> 481 | K21: 13
A22: 4 | B22: =VLOOKUP($K22,'[11]200Д'!$D$20:$W$145,4,FALSE) -> НИЛОВА | C22: =VLOOKUP($K22,'[11]200Д'!$D$20:$W$145,5,FALSE) -> Екатерина | D22: =VLOOKUP($K22,'[11]200Д'!$D$20:$W$145,6,FALSE) -> 19.07.1999 | E22: =VLOOKUP($K22,'[11]200Д'!$D$20:$W$145,7,FALSE) -> КМС | F22: =VLOOKUP($K22,'[11]200Д'!$D$20:$W$145,8,FALSE) -> Москва-2 Орловская область | G22: =VLOOKUP($K22,'[11]200Д'!$D$20:$W$145,3,FALSE) -> 368 | K22: 14
A23: 5 | B23: =VLOOKUP($K23,'[11]200Д'!$D$20:$W$145,4,FALSE) -> СТАРОДУБОВА | C23: =VLOOKUP($K23,'[11]200Д'!$D$20:$W$145,5,FALSE) -> Виолетта | D23: =VLOOKUP($K23,'[11]200Д'!$D$20:$W$145,6,FALSE) -> 15.12.1999 | E23: =VLOOKUP($K23,'[11]200Д'!$D$20:$W$145,7,FALSE) -> КМС | F23: =VLOOKUP($K23,'[11]200Д'!$D$20:$W$145,8,FALSE) -> Воронежская область | G23: =VLOOKUP($K23,'[11]200Д'!$D$20:$W$145,3,FALSE) -> 513 | K23: 15
A24: 6 | B24: =VLOOKUP($K24,'[11]200Д'!$D$20:$W$145,4,FALSE) -> ТКАЧЁВА | C24: =VLOOKUP($K24,'[11]200Д'!$D$20:$W$145,5,FALSE) -> Екатерина | D24: =VLOOKUP($K24,'[11]200Д'!$D$20:$W$145,6,FALSE) -> 15.02.1999 | E24: =VLOOKUP($K24,'[11]200Д'!$D$20:$W$145,7,FALSE) -> КМС | F24: =VLOOKUP($K24,'[11]200Д'!$D$20:$W$145,8,FALSE) -> Новосибирская область | G24: =VLOOKUP($K24,'[11]200Д'!$D$20:$W$145,3,FALSE) -> 302 | K24: 16
B26: 2 забег
A27: 1 | K27: 21
A28: 2 | B28: =VLOOKUP($K28,'[11]200Д'!$D$20:$W$145,4,FALSE) -> ВОЛКОВА | C28: =VLOOKUP($K28,'[11]200Д'!$D$20:$W$145,5,FALSE) -> Анастасия | D28: =VLOOKUP($K28,'[11]200Д'!$D$20:$W$145,6,FALSE) -> 18.05.2000 | E28: =VLOOKUP($K28,'[11]200Д'!$D$20:$W$145,7,FALSE) -> КМС | F28: =VLOOKUP($K28,'[11]200Д'!$D$20:$W$145,8,FALSE) -> Тульская область | G28: =VLOOKUP($K28,'[11]200Д'!$D$20:$W$145,3,FALSE) -> 283 | K28: 22
A29: 3 | B29: =VLOOKUP($K29,'[11]200Д'!$D$20:$W$145,4,FALSE) -> ТАТЬКОВА | C29: =VLOOKUP($K29,'[11]200Д'!$D$20:$W$145,5,FALSE) -> Анна | D29: =VLOOKUP($K29,'[11]200Д'!$D$20:$W$145,6,FALSE) -> 22.06.1999 | E29: =VLOOKUP($K29,'[11]200Д'!$D$20:$W$145,7,FALSE) -> КМС | F29: =VLOOKUP($K29,'[11]200Д'!$D$20:$W$145,8,FALSE) -> Волгоградская область | G29: =VLOOKUP($K29,'[11]200Д'!$D$20:$W$145,3,FALSE) -> 489 | K29: 23
A30: 4 | B30: =VLOOKUP($K30,'[11]200Д'!$D$20:$W$145,4,FALSE) -> РУДЕНКО | C30: =VLOOKUP($K30,'[11]200Д'!$D$20:$W$145,5,FALSE) -> Ксения | D30: =VLOOKUP($K30,'[11]200Д'!$D$20:$W$145,6,FALSE) -> 17.05.1998 | E30: =VLOOKUP($K30,'[11]200Д'!$D$20:$W$145,7,FALSE) -> КМС | F30: =VLOOKUP($K30,'[11]200Д'!$D$20:$W$145,8,FALSE) -> Новосибирская область | G30: =VLOOKUP($K30,'[11]200Д'!$D$20:$W$145,3,FALSE) -> 301 | K30: 24
A31: 5 | B31: =VLOOKUP($K31,'[11]200Д'!$D$20:$W$145,4,FALSE) -> АСОЕВА | C31: =VLOOKUP($K31,'[11]200Д'!$D$20:$W$145,5,FALSE) -> Манижа | D31: =VLOOKUP($K31,'[11]200Д'!$D$20:$W$145,6,FALSE) -> 28.05.2001 | E31: =VLOOKUP($K31,'[11]200Д'!$D$20:$W$145,7,FALSE) -> КМС | F31: =VLOOKUP($K31,'[11]200Д'!$D$20:$W$145,8,FALSE) -> Санкт-Петербург Тверская область | G31: =VLOOKUP($K31,'[11]200Д'!$D$20:$W$145,3,FALSE) -> 106 | K31: 25
A32: 6 | B32: =VLOOKUP($K32,'[11]200Д'!$D$20:$W$145,4,FALSE) -> КРАВЦОВА | C32: =VLOOKUP($K32,'[11]200Д'!$D$20:$W$145,5,FALSE) -> Яна | D32: =VLOOKUP($K32,'[11]200Д'!$D$20:$W$145,6,FALSE) -> 18.01.1999 | E32: =VLOOKUP($K32,'[11]200Д'!$D$20:$W$145,7,FALSE) -> КМС | F32: =VLOOKUP($K32,'[11]200Д'!$D$20:$W$145,8,FALSE) -> Санкт-Петербург-2 | G32: =VLOOKUP($K32,'[11]200Д'!$D$20:$W$145,3,FALSE) -> 137 | K32: 26
B34: 3 забег
A35: 1 | K35: 31
A36: 2 | B36: =VLOOKUP($K36,'[11]200Д'!$D$20:$W$145,4,FALSE) -> МАКАРОВА | C36: =VLOOKUP($K36,'[11]200Д'!$D$20:$W$145,5,FALSE) -> Алиса | D36: =VLOOKUP($K36,'[11]200Д'!$D$20:$W$145,6,FALSE) -> 08.08.1997 | E36: =VLOOKUP($K36,'[11]200Д'!$D$20:$W$145,7,FALSE) -> КМС | F36: =VLOOKUP($K36,'[11]200Д'!$D$20:$W$145,8,FALSE) -> Свердловская область | G36: =VLOOKUP($K36,'[11]200Д'!$D$20:$W$145,3,FALSE) -> 323 | K36: 32
A37: 3 | B37: =VLOOKUP($K37,'[11]200Д'!$D$20:$W$145,4,FALSE) -> ЛОПУНОВА | C37: =VLOOKUP($K37,'[11]200Д'!$D$20:$W$145,5,FALSE) -> Екатерина | D37: =VLOOKUP($K37,'[11]200Д'!$D$20:$W$145,6,FALSE) -> 01.06.1998 | E37: =VLOOKUP($K37,'[11]200Д'!$D$20:$W$145,7,FALSE) -> КМС | F37: =VLOOKUP($K37,'[11]200Д'!$D$20:$W$145,8,FALSE) -> Санкт-Петербург | G37: =VLOOKUP($K37,'[11]200Д'!$D$20:$W$145,3,FALSE) -> 143 | K37: 33
A38: 4 | B38: =VLOOKUP($K38,'[11]200Д'!$D$20:$W$145,4,FALSE) -> ИВАНОВА | C38: =VLOOKUP($K38,'[11]200Д'!$D$20:$W$145,5,FALSE) -> Виктория | D38: =VLOOKUP($K38,'[11]200Д'!$D$20:$W$145,6,FALSE) -> 07.07.2000 | E38: =VLOOKUP($K38,'[11]200Д'!$D$20:$W$145,7,FALSE) -> КМС | F38: =VLOOKUP($K38,'[11]200Д'!$D$20:$W$145,8,FALSE) -> Санкт-Петербург | G38: =VLOOKUP($K38,'[11]200Д'!$D$20:$W$145,3,FALSE) -> 127 | K38: 34
A39: 5 | B39: =VLOOKUP($K39,'[11]200Д'!$D$20:$W$145,4,FALSE) -> МАКСИМОВА | C39: =VLOOKUP($K39,'[11]200Д'!$D$20:$W$145,5,FALSE) -> Марина | D39: =VLOOKUP($K39,'[11]200Д'!$D$20:$W$145,6,FALSE) -> 18.02.1997 | E39: =VLOOKUP($K39,'[11]200Д'!$D$20:$W$145,7,FALSE) -> МС | F39: =VLOOKUP($K39,'[11]200Д'!$D$20:$W$145,8,FALSE) -> Нижегородская область Чувашская республика | G39: 417 | I39: r/med | K39: 35
A40: 6 | B40: =VLOOKUP($K40,'[11]200Д'!$D$20:$W$145,4,FALSE) -> КРАСНОВА | C40: =VLOOKUP($K40,'[11]200Д'!$D$20:$W$145,5,FALSE) -> Елизавета | D40: =VLOOKUP($K40,'[11]200Д'!$D$20:$W$145,6,FALSE) -> 17.08.2002 | E40: =VLOOKUP($K40,'[11]200Д'!$D$20:$W$145,7,FALSE) -> КМС | F40: =VLOOKUP($K40,'[11]200Д'!$D$20:$W$145,8,FALSE) -> Московская область | G40: =VLOOKUP($K40,'[11]200Д'!$D$20:$W$145,3,FALSE) -> 275 | K40: 36
B42: 4 забег
A43: 1 | K43: 41
A44: 2 | B44: =VLOOKUP($K44,'[11]200Д'!$D$20:$W$145,4,FALSE) -> НАВАЦКАЯ | C44: =VLOOKUP($K44,'[11]200Д'!$D$20:$W$145,5,FALSE) -> Софья | D44: =VLOOKUP($K44,'[11]200Д'!$D$20:$W$145,6,FALSE) -> 11.02.1999 | E44: =VLOOKUP($K44,'[11]200Д'!$D$20:$W$145,7,FALSE) -> 1 | F44: =VLOOKUP($K44,'[11]200Д'!$D$20:$W$145,8,FALSE) -> Вологодская область | G44: =VLOOKUP($K44,'[11]200Д'!$D$20:$W$145,3,FALSE) -> 95 | K44: 42
A45: 3 | B45: =VLOOKUP($K45,'[11]200Д'!$D$20:$W$145,4,FALSE) -> НИКОЛАЕВА | C45: =VLOOKUP($K45,'[11]200Д'!$D$20:$W$145,5,FALSE) -> Анна | D45: =VLOOKUP($K45,'[11]200Д'!$D$20:$W$145,6,FALSE) -> 09.06.1999 | E45: =VLOOKUP($K45,'[11]200Д'!$D$20:$W$145,7,FALSE) -> КМС | F45: =VLOOKUP($K45,'[11]200Д'!$D$20:$W$145,8,FALSE) -> Санкт-Петербург | G45: =VLOOKUP($K45,'[11]200Д'!$D$20:$W$145,3,FALSE) -> 154 | K45: 43
A46: 4 | B46: =VLOOKUP($K46,'[11]200Д'!$D$20:$W$145,4,FALSE) -> БРАГИНА | C46: =VLOOKUP($K46,'[11]200Д'!$D$20:$W$145,5,FALSE) -> Анастасия | D46: =VLOOKUP($K46,'[11]200Д'!$D$20:$W$145,6,FALSE) -> 01.06.1998 | E46: =VLOOKUP($K46,'[11]200Д'!$D$20:$W$145,7,FALSE) -> МС | F46: =VLOOKUP($K46,'[11]200Д'!$D$20:$W$145,8,FALSE) -> Новосибирская область | G46: =VLOOKUP($K46,'[11]200Д'!$D$20:$W$145,3,FALSE) -> 296 | K46: 44
A47: 5 | B47: =VLOOKUP($K47,'[11]200Д'!$D$20:$W$145,4,FALSE) -> ЖОЛОБОВА | C47: =VLOOKUP($K47,'[11]200Д'!$D$20:$W$145,5,FALSE) -> Анастасия | D47: =VLOOKUP($K47,'[11]200Д'!$D$20:$W$145,6,FALSE) -> 15.01.1998 | E47: =VLOOKUP($K47,'[11]200Д'!$D$20:$W$145,7,FALSE) -> МС | F47: =VLOOKUP($K47,'[11]200Д'!$D$20:$W$145,8,FALSE) -> Волгоградская область | G47: =VLOOKUP($K47,'[11]200Д'!$D$20:$W$145,3,FALSE) -> 495 | K47: 45
A48: 6 | B48: =VLOOKUP($K48,'[11]200Д'!$D$20:$W$145,4,FALSE) -> КИМ | C48: =VLOOKUP($K48,'[11]200Д'!$D$20:$W$145,5,FALSE) -> Анна | D48: =VLOOKUP($K48,'[11]200Д'!$D$20:$W$145,6,FALSE) -> 19.02.1997 | E48: =VLOOKUP($K48,'[11]200Д'!$D$20:$W$145,7,FALSE) -> КМС | F48: =VLOOKUP($K48,'[11]200Д'!$D$20:$W$145,8,FALSE) -> Санкт-Петербург | G48: =VLOOKUP($K48,'[11]200Д'!$D$20:$W$145,3,FALSE) -> 130 | K48: 46
B50: 5 забег
A51: 1 | B51: =VLOOKUP($K51,'[11]200Д'!$D$20:$W$145,4,FALSE) -> ТУМАЛАЕВА | C51: =VLOOKUP($K51,'[11]200Д'!$D$20:$W$145,5,FALSE) -> Айдан | D51: =VLOOKUP($K51,'[11]200Д'!$D$20:$W$145,6,FALSE) -> 04.07.1998 | E51: =VLOOKUP($K51,'[11]200Д'!$D$20:$W$145,7,FALSE) -> 1 | F51: =VLOOKUP($K51,'[11]200Д'!$D$20:$W$145,8,FALSE) -> Республика Дагестан | G51: =VLOOKUP($K51,'[11]200Д'!$D$20:$W$145,3,FALSE) -> 331 | K51: 51
A52: 2 | B52: =VLOOKUP($K52,'[11]200Д'!$D$20:$W$145,4,FALSE) -> ЛЕОНОВА | C52: =VLOOKUP($K52,'[11]200Д'!$D$20:$W$145,5,FALSE) -> Алина | D52: =VLOOKUP($K52,'[11]200Д'!$D$20:$W$145,6,FALSE) -> 02.10.1998 | E52: =VLOOKUP($K52,'[11]200Д'!$D$20:$W$145,7,FALSE) -> КМС | F52: =VLOOKUP($K52,'[11]200Д'!$D$20:$W$145,8,FALSE) -> Омская область | G52: =VLOOKUP($K52,'[11]200Д'!$D$20:$W$145,3,FALSE) -> 198 | K52: 52
A53: 3 | B53: =VLOOKUP($K53,'[11]200Д'!$D$20:$W$145,4,FALSE) -> ЖУКОВА | C53: =VLOOKUP($K53,'[11]200Д'!$D$20:$W$145,5,FALSE) -> Марина | D53: =VLOOKUP($K53,'[11]200Д'!$D$20:$W$145,6,FALSE) -> 03.03.1998 | E53: =VLOOKUP($K53,'[11]200Д'!$D$20:$W$145,7,FALSE) -> КМС | F53: =VLOOKUP($K53,'[11]200Д'!$D$20:$W$145,8,FALSE) -> Санкт-Петербург | G53: =VLOOKUP($K53,'[11]200Д'!$D$20:$W$145,3,FALSE) -> 122 | K53: 53
A54: 4 | B54: =VLOOKUP($K54,'[11]200Д'!$D$20:$W$145,4,FALSE) -> ВАСИЛЬЕВА | C54: =VLOOKUP($K54,'[11]200Д'!$D$20:$W$145,5,FALSE) -> Лиана | D54: =VLOOKUP($K54,'[11]200Д'!$D$20:$W$145,6,FALSE) -> 07.07.2001 | E54: =VLOOKUP($K54,'[11]200Д'!$D$20:$W$145,7,FALSE) -> КМС | F54: =VLOOKUP($K54,'[11]200Д'!$D$20:$W$145,8,FALSE) -> Нижегородская область Чувашская республика | G54: =VLOOKUP($K54,'[11]200Д'!$D$20:$W$145,3,FALSE) -> 66 | K54: 54
A55: 5 | B55: =VLOOKUP($K55,'[11]200Д'!$D$20:$W$145,4,FALSE) -> ГРАУДЫНЬ | C55: =VLOOKUP($K55,'[11]200Д'!$D$20:$W$145,5,FALSE) -> Полина | D55: =VLOOKUP($K55,'[11]200Д'!$D$20:$W$145,6,FALSE) -> 17.06.1998 | E55: =VLOOKUP($K55,'[11]200Д'!$D$20:$W$145,7,FALSE) -> КМС | F55: =VLOOKUP($K55,'[11]200Д'!$D$20:$W$145,8,FALSE) -> Москва | G55: =VLOOKUP($K55,'[11]200Д'!$D$20:$W$145,3,FALSE) -> 374 | K55: 55
A56: 6 | B56: =VLOOKUP($K56,'[11]200Д'!$D$20:$W$145,4,FALSE) -> ВАХРУШЕВА | C56: =VLOOKUP($K56,'[11]200Д'!$D$20:$W$145,5,FALSE) -> Екатерина | D56: =VLOOKUP($K56,'[11]200Д'!$D$20:$W$145,6,FALSE) -> 06.01.1998 | E56: =VLOOKUP($K56,'[11]200Д'!$D$20:$W$145,7,FALSE) -> КМС | F56: =VLOOKUP($K56,'[11]200Д'!$D$20:$W$145,8,FALSE) -> Свердловская область | G56: =VLOOKUP($K56,'[11]200Д'!$D$20:$W$145,3,FALSE) -> 319 | K56: 56
B58: 6 забег
A59: 1 | B59: =VLOOKUP($K59,'[11]200Д'!$D$20:$W$145,4,FALSE) -> ИВАНОВА | C59: =VLOOKUP($K59,'[11]200Д'!$D$20:$W$145,5,FALSE) -> Екатерина | D59: =VLOOKUP($K59,'[11]200Д'!$D$20:$W$145,6,FALSE) -> 15.05.1998 | E59: =VLOOKUP($K59,'[11]200Д'!$D$20:$W$145,7,FALSE) -> МС | F59: =VLOOKUP($K59,'[11]200Д'!$D$20:$W$145,8,FALSE) -> Иркутская область | G59: =VLOOKUP($K59,'[11]200Д'!$D$20:$W$145,3,FALSE) -> 218 | K59: 61
A60: 2 | B60: =VLOOKUP($K60,'[11]200Д'!$D$20:$W$145,4,FALSE) -> ПАРХОМЧУК | C60: =VLOOKUP($K60,'[11]200Д'!$D$20:$W$145,5,FALSE) -> Виктория | D60: =VLOOKUP($K60,'[11]200Д'!$D$20:$W$145,6,FALSE) -> 20.08.1998 | E60: =VLOOKUP($K60,'[11]200Д'!$D$20:$W$145,7,FALSE) -> КМС | F60: =VLOOKUP($K60,'[11]200Д'!$D$20:$W$145,8,FALSE) -> Тюменская область | G60: =VLOOKUP($K60,'[11]200Д'!$D$20:$W$145,3,FALSE) -> 53 | K60: 62
A61: 3 | B61: =VLOOKUP($K61,'[11]200Д'!$D$20:$W$145,4,FALSE) -> ЛИСТКОВА | C61: =VLOOKUP($K61,'[11]200Д'!$D$20:$W$145,5,FALSE) -> Валентина | D61: =VLOOKUP($K61,'[11]200Д'!$D$20:$W$145,6,FALSE) -> 13.12.1999 | E61: =VLOOKUP($K61,'[11]200Д'!$D$20:$W$145,7,FALSE) -> КМС | F61: =VLOOKUP($K61,'[11]200Д'!$D$20:$W$145,8,FALSE) -> Иркутская область | G61: =VLOOKUP($K61,'[11]200Д'!$D$20:$W$145,3,FALSE) -> 219 | K61: 63
A62: 4 | B62: =VLOOKUP($K62,'[11]200Д'!$D$20:$W$145,4,FALSE) -> КИСЕЛЕВА | C62: =VLOOKUP($K62,'[11]200Д'!$D$20:$W$145,5,FALSE) -> Татьяна | D62: =VLOOKUP($K62,'[11]200Д'!$D$20:$W$145,6,FALSE) -> 06.02.1997 | E62: =VLOOKUP($K62,'[11]200Д'!$D$20:$W$145,7,FALSE) -> КМС | F62: =VLOOKUP($K62,'[11]200Д'!$D$20:$W$145,8,FALSE) -> Курганская область | G62: =VLOOKUP($K62,'[11]200Д'!$D$20:$W$145,3,FALSE) -> 38 | I62: r/med | K62: 64
A63: 5 | B63: =VLOOKUP($K63,'[11]200Д'!$D$20:$W$145,4,FALSE) -> КУЧЕНЕВА | C63: =VLOOKUP($K63,'[11]200Д'!$D$20:$W$145,5,FALSE) -> Юлия | D63: =VLOOKUP($K63,'[11]200Д'!$D$20:$W$145,6,FALSE) -> 11.09.1999 | E63: =VLOOKUP($K63,'[11]200Д'!$D$20:$W$145,7,FALSE) -> КМС | F63: =VLOOKUP($K63,'[11]200Д'!$D$20:$W$145,8,FALSE) -> Волгоградская область | G63: =VLOOKUP($K63,'[11]200Д'!$D$20:$W$145,3,FALSE) -> 499 | K63: 65
A64: 6 | B64: =VLOOKUP($K64,'[11]200Д'!$D$20:$W$145,4,FALSE) -> ЕРЕМЕЕВА | C64: =VLOOKUP($K64,'[11]200Д'!$D$20:$W$145,5,FALSE) -> Анастасия | D64: =VLOOKUP($K64,'[11]200Д'!$D$20:$W$145,6,FALSE) -> 01.03.1998 | E64: =VLOOKUP($K64,'[11]200Д'!$D$20:$W$145,7,FALSE) -> МС | F64: =VLOOKUP($K64,'[11]200Д'!$D$20:$W$145,8,FALSE) -> Московская область | G64: =VLOOKUP($K64,'[11]200Д'!$D$20:$W$145,3,FALSE) -> 269 | K64: 66
B66: 7 забег
A67: 1 | K67: 71
A68: 2 | B68: =VLOOKUP($K68,'[11]200Д'!$D$20:$W$145,4,FALSE) -> НИКИТИНА | C68: =VLOOKUP($K68,'[11]200Д'!$D$20:$W$145,5,FALSE) -> Елена | D68: =VLOOKUP($K68,'[11]200Д'!$D$20:$W$145,6,FALSE) -> 03.05.1998 | E68: =VLOOKUP($K68,'[11]200Д'!$D$20:$W$145,7,FALSE) -> КМС | F68: =VLOOKUP($K68,'[11]200Д'!$D$20:$W$145,8,FALSE) -> Омская область | G68: =VLOOKUP($K68,'[11]200Д'!$D$20:$W$145,3,FALSE) -> 227 | K68: 72
A69: 3 | B69: =VLOOKUP($K69,'[11]200Д'!$D$20:$W$145,4,FALSE) -> КРАСНОВА | C69: =VLOOKUP($K69,'[11]200Д'!$D$20:$W$145,5,FALSE) -> Карина | D69: =VLOOKUP($K69,'[11]200Д'!$D$20:$W$145,6,FALSE) -> 09.07.2000 | E69: =VLOOKUP($K69,'[11]200Д'!$D$20:$W$145,7,FALSE) -> КМС | F69: =VLOOKUP($K69,'[11]200Д'!$D$20:$W$145,8,FALSE) -> Московская область Тульская область | G69: =VLOOKUP($K69,'[11]200Д'!$D$20:$W$145,3,FALSE) -> 274 | K69: 73
A70: 4 | B70: =VLOOKUP($K70,'[11]200Д'!$D$20:$W$145,4,FALSE) -> АЛИСОВА | C70: =VLOOKUP($K70,'[11]200Д'!$D$20:$W$145,5,FALSE) -> Елизавета | D70: =VLOOKUP($K70,'[11]200Д'!$D$20:$W$145,6,FALSE) -> 21.06.2000 | E70: =VLOOKUP($K70,'[11]200Д'!$D$20:$W$145,7,FALSE) -> КМС | F70: =VLOOKUP($K70,'[11]200Д'!$D$20:$W$145,8,FALSE) -> Санкт-Петербург Липецкая область | G70: =VLOOKUP($K70,'[11]200Д'!$D$20:$W$145,3,FALSE) -> 103 | K70: 74
A71: 5 | B71: =VLOOKUP($K71,'[11]200Д'!$D$20:$W$145,4,FALSE) -> ПЕТРИЩЕВА | C71: =VLOOKUP($K71,'[11]200Д'!$D$20:$W$145,5,FALSE) -> Юлия | D71: =VLOOKUP($K71,'[11]200Д'!$D$20:$W$145,6,FALSE) -> 02.03.1997 | E71: =VLOOKUP($K71,'[11]200Д'!$D$20:$W$145,7,FALSE) -> КМС | F71: =VLOOKUP($K71,'[11]200Д'!$D$20:$W$145,8,FALSE) -> Курская область | G71: =VLOOKUP($K71,'[11]200Д'!$D$20:$W$145,3,FALSE) -> 208 | K71: 75
A72: 6 | B72: =VLOOKUP($K72,'[11]200Д'!$D$20:$W$145,4,FALSE) -> ТАРАСОВА | C72: =VLOOKUP($K72,'[11]200Д'!$D$20:$W$145,5,FALSE) -> Алина | D72: =VLOOKUP($K72,'[11]200Д'!$D$20:$W$145,6,FALSE) -> 11.05.1999 | E72: =VLOOKUP($K72,'[11]200Д'!$D$20:$W$145,7,FALSE) -> КМС | F72: =VLOOKUP($K72,'[11]200Д'!$D$20:$W$145,8,FALSE) -> Красноярский край | G72: =VLOOKUP($K72,'[11]200Д'!$D$20:$W$145,3,FALSE) -> 51 | K72: 76
B74: 8 забег
A75: 1 | B75: =VLOOKUP($K75,'[11]200Д'!$D$20:$W$145,4,FALSE) -> КАЛИНИНА | C75: =VLOOKUP($K75,'[11]200Д'!$D$20:$W$145,5,FALSE) -> Ольга | D75: =VLOOKUP($K75,'[11]200Д'!$D$20:$W$145,6,FALSE) -> 01.11.1999 | E75: =VLOOKUP($K75,'[11]200Д'!$D$20:$W$145,7,FALSE) -> 1 | F75: =VLOOKUP($K75,'[11]200Д'!$D$20:$W$145,8,FALSE) -> Нижегородская область | G75: =VLOOKUP($K75,'[11]200Д'!$D$20:$W$145,3,FALSE) -> 59 | K75: 81
A76: 2 | B76: =VLOOKUP($K76,'[11]200Д'!$D$20:$W$145,4,FALSE) -> ГРИЩЕНКО | C76: =VLOOKUP($K76,'[11]200Д'!$D$20:$W$145,5,FALSE) -> Алина | D76: =VLOOKUP($K76,'[11]200Д'!$D$20:$W$145,6,FALSE) -> 02.11.1997 | E76: =VLOOKUP($K76,'[11]200Д'!$D$20:$W$145,7,FALSE) -> КМС | F76: =VLOOKUP($K76,'[11]200Д'!$D$20:$W$145,8,FALSE) -> Ростовская область | G76: =VLOOKUP($K76,'[11]200Д'!$D$20:$W$145,3,FALSE) -> 337 | K76: 82
A77: 3 | B77: =VLOOKUP($K77,'[11]200Д'!$D$20:$W$145,4,FALSE) -> ТРЯЛИНА | C77: =VLOOKUP($K77,'[11]200Д'!$D$20:$W$145,5,FALSE) -> Дарья | D77: =VLOOKUP($K77,'[11]200Д'!$D$20:$W$145,6,FALSE) -> 24.07.1999 | E77: =VLOOKUP($K77,'[11]200Д'!$D$20:$W$145,7,FALSE) -> КМС | F77: =VLOOKUP($K77,'[11]200Д'!$D$20:$W$145,8,FALSE) -> Пензенская область | G77: =VLOOKUP($K77,'[11]200Д'!$D$20:$W$145,3,FALSE) -> 294 | K77: 83
A78: 4 | B78: =VLOOKUP($K78,'[11]200Д'!$D$20:$W$145,4,FALSE) -> ГОЛИКОВА | C78: =VLOOKUP($K78,'[11]200Д'!$D$20:$W$145,5,FALSE) -> Екатерина | D78: =VLOOKUP($K78,'[11]200Д'!$D$20:$W$145,6,FALSE) -> 17.09.2000 | E78: =VLOOKUP($K78,'[11]200Д'!$D$20:$W$145,7,FALSE) -> 1 | F78: =VLOOKUP($K78,'[11]200Д'!$D$20:$W$145,8,FALSE) -> Санкт-Петербург Архангельская область | G78: =VLOOKUP($K78,'[11]200Д'!$D$20:$W$145,3,FALSE) -> 117 | K78: 84
A79: 5 | B79: =VLOOKUP($K79,'[11]200Д'!$D$20:$W$145,4,FALSE) -> КОПРОВА | C79: =VLOOKUP($K79,'[11]200Д'!$D$20:$W$145,5,FALSE) -> Екатерина | D79: =VLOOKUP($K79,'[11]200Д'!$D$20:$W$145,6,FALSE) -> 07.02.1999 | E79: =VLOOKUP($K79,'[11]200Д'!$D$20:$W$145,7,FALSE) -> КМС | F79: =VLOOKUP($K79,'[11]200Д'!$D$20:$W$145,8,FALSE) -> Санкт-Петербург | G79: =VLOOKUP($K79,'[11]200Д'!$D$20:$W$145,3,FALSE) -> 133 | K79: 85
A80: 6 | B80: =VLOOKUP($K80,'[11]200Д'!$D$20:$W$145,4,FALSE) -> МАНЦУРОВА | C80: =VLOOKUP($K80,'[11]200Д'!$D$20:$W$145,5,FALSE) -> Кристина | D80: =VLOOKUP($K80,'[11]200Д'!$D$20:$W$145,6,FALSE) -> 26.08.1999 | E80: =VLOOKUP($K80,'[11]200Д'!$D$20:$W$145,7,FALSE) -> 1 | F80: =VLOOKUP($K80,'[11]200Д'!$D$20:$W$145,8,FALSE) -> Курская область | G80: =VLOOKUP($K80,'[11]200Д'!$D$20:$W$145,3,FALSE) -> 207 | K80: 86
B81: 9 забег
A82: 1 | B82: =VLOOKUP($K82,'[11]200Д'!$D$20:$W$145,4,FALSE) -> КОСАРЕВА | C82: =VLOOKUP($K82,'[11]200Д'!$D$20:$W$145,5,FALSE) -> Наталья | D82: =VLOOKUP($K82,'[11]200Д'!$D$20:$W$145,6,FALSE) -> 26.10.2000 | E82: =VLOOKUP($K82,'[11]200Д'!$D$20:$W$145,7,FALSE) -> 1 | F82: =VLOOKUP($K82,'[11]200Д'!$D$20:$W$145,8,FALSE) -> Санкт-Петербург | G82: =VLOOKUP($K82,'[11]200Д'!$D$20:$W$145,3,FALSE) -> 135 | K82: 91
A83: 2 | B83: =VLOOKUP($K83,'[11]200Д'!$D$20:$W$145,4,FALSE) -> АГАПОВА | C83: =VLOOKUP($K83,'[11]200Д'!$D$20:$W$145,5,FALSE) -> Алёна | D83: =VLOOKUP($K83,'[11]200Д'!$D$20:$W$145,6,FALSE) -> 21.02.1998 | E83: =VLOOKUP($K83,'[11]200Д'!$D$20:$W$145,7,FALSE) -> КМС | F83: =VLOOKUP($K83,'[11]200Д'!$D$20:$W$145,8,FALSE) -> Московская область | G83: =VLOOKUP($K83,'[11]200Д'!$D$20:$W$145,3,FALSE) -> 268 | K83: 92
A84: 3 | B84: =VLOOKUP($K84,'[11]200Д'!$D$20:$W$145,4,FALSE) -> ДЖАБКО | C84: =VLOOKUP($K84,'[11]200Д'!$D$20:$W$145,5,FALSE) -> Софья | D84: =VLOOKUP($K84,'[11]200Д'!$D$20:$W$145,6,FALSE) -> 24.02.1997 | E84: =VLOOKUP($K84,'[11]200Д'!$D$20:$W$145,7,FALSE) -> КМС | F84: =VLOOKUP($K84,'[11]200Д'!$D$20:$W$145,8,FALSE) -> Смоленская область | G84: =VLOOKUP($K84,'[11]200Д'!$D$20:$W$145,3,FALSE) -> 306 | I84: r/med | K84: 93
A85: 4 | B85: =VLOOKUP($K85,'[11]200Д'!$D$20:$W$145,4,FALSE) -> ГРОМОВА | C85: =VLOOKUP($K85,'[11]200Д'!$D$20:$W$145,5,FALSE) -> Валерия | D85: =VLOOKUP($K85,'[11]200Д'!$D$20:$W$145,6,FALSE) -> 08.04.2000 | E85: =VLOOKUP($K85,'[11]200Д'!$D$20:$W$145,7,FALSE) -> КМС | F85: =VLOOKUP($K85,'[11]200Д'!$D$20:$W$145,8,FALSE) -> Санкт-Петербург-2 | G85: =VLOOKUP($K85,'[11]200Д'!$D$20:$W$145,3,FALSE) -> 118 | K85: 94
A86: 5 | B86: =VLOOKUP($K86,'[11]200Д'!$D$20:$W$145,4,FALSE) -> БОЛДЫРЕВА | C86: =VLOOKUP($K86,'[11]200Д'!$D$20:$W$145,5,FALSE) -> Ирина | D86: =VLOOKUP($K86,'[11]200Д'!$D$20:$W$145,6,FALSE) -> 09.05.2001 | E86: =VLOOKUP($K86,'[11]200Д'!$D$20:$W$145,7,FALSE) -> КМС | F86: =VLOOKUP($K86,'[11]200Д'!$D$20:$W$145,8,FALSE) -> Московская область | G86: =VLOOKUP($K86,'[11]200Д'!$D$20:$W$145,3,FALSE) -> 254 | K86: 95
A87: 6 | B87: =VLOOKUP($K87,'[11]200Д'!$D$20:$W$145,4,FALSE) -> КАРПОВА | C87: =VLOOKUP($K87,'[11]200Д'!$D$20:$W$145,5,FALSE) -> Софья | D87: =VLOOKUP($K87,'[11]200Д'!$D$20:$W$145,6,FALSE) -> 02.07.2001 | E87: =VLOOKUP($K87,'[11]200Д'!$D$20:$W$145,7,FALSE) -> КМС | F87: =VLOOKUP($K87,'[11]200Д'!$D$20:$W$145,8,FALSE) -> Нижегородская область | G87: =VLOOKUP($K87,'[11]200Д'!$D$20:$W$145,3,FALSE) -> 61 | K87: 96
B88: 10 забег
A89: 1 | B89: =VLOOKUP($K89,'[11]200Д'!$D$20:$W$145,4,FALSE) -> УСОЛЬЦЕВА | C89: =VLOOKUP($K89,'[11]200Д'!$D$20:$W$145,5,FALSE) -> Екатерина | D89: =VLOOKUP($K89,'[11]200Д'!$D$20:$W$145,6,FALSE) -> 23.06.1999 | E89: =VLOOKUP($K89,'[11]200Д'!$D$20:$W$145,7,FALSE) -> КМС | F89: =VLOOKUP($K89,'[11]200Д'!$D$20:$W$145,8,FALSE) -> Челябинская область | G89: =VLOOKUP($K89,'[11]200Д'!$D$20:$W$145,3,FALSE) -> 476 | K89: 101
A90: 2 | B90: =VLOOKUP($K90,'[11]200Д'!$D$20:$W$145,4,FALSE) -> ШЕРСТОБИТОВА | C90: =VLOOKUP($K90,'[11]200Д'!$D$20:$W$145,5,FALSE) -> Алефтина | D90: =VLOOKUP($K90,'[11]200Д'!$D$20:$W$145,6,FALSE) -> 18.02.1999 | E90: =VLOOKUP($K90,'[11]200Д'!$D$20:$W$145,7,FALSE) -> КМС | F90: =VLOOKUP($K90,'[11]200Д'!$D$20:$W$145,8,FALSE) -> Волгоградская область | G90: =VLOOKUP($K90,'[11]200Д'!$D$20:$W$145,3,FALSE) -> 487 | K90: 102
A91: 3 | B91: =VLOOKUP($K91,'[11]200Д'!$D$20:$W$145,4,FALSE) -> ЦЫГАНОВА | C91: =VLOOKUP($K91,'[11]200Д'!$D$20:$W$145,5,FALSE) -> Виктория | D91: =VLOOKUP($K91,'[11]200Д'!$D$20:$W$145,6,FALSE) -> 01.07.1997 | E91: =VLOOKUP($K91,'[11]200Д'!$D$20:$W$145,7,FALSE) -> КМС | F91: =VLOOKUP($K91,'[11]200Д'!$D$20:$W$145,8,FALSE) -> Москва | G91: =VLOOKUP($K91,'[11]200Д'!$D$20:$W$145,3,FALSE) -> 433 | K91: 103
A92: 4 | B92: =VLOOKUP($K92,'[11]200Д'!$D$20:$W$145,4,FALSE) -> ЗЕЛЕНЦОВА | C92: =VLOOKUP($K92,'[11]200Д'!$D$20:$W$145,5,FALSE) -> Николь | D92: =VLOOKUP($K92,'[11]200Д'!$D$20:$W$145,6,FALSE) -> 37646 | E92: =VLOOKUP($K92,'[11]200Д'!$D$20:$W$145,7,FALSE) -> КМС | F92: =VLOOKUP($K92,'[11]200Д'!$D$20:$W$145,8,FALSE) -> Санкт-Петербург | G92: =VLOOKUP($K92,'[11]200Д'!$D$20:$W$145,3,FALSE) -> 125 | K92: 104
A93: 5 | B93: =VLOOKUP($K93,'[11]200Д'!$D$20:$W$145,4,FALSE) -> МИГЛАН | C93: =VLOOKUP($K93,'[11]200Д'!$D$20:$W$145,5,FALSE) -> Мария | D93: =VLOOKUP($K93,'[11]200Д'!$D$20:$W$145,6,FALSE) -> 20.02.1997 | E93: =VLOOKUP($K93,'[11]200Д'!$D$20:$W$145,7,FALSE) -> КМС | F93: =VLOOKUP($K93,'[11]200Д'!$D$20:$W$145,8,FALSE) -> Тюменская область | G93: =VLOOKUP($K93,'[11]200Д'!$D$20:$W$145,3,FALSE) -> 55 | K93: 105
A94: 6 | B94: =VLOOKUP($K94,'[11]200Д'!$D$20:$W$145,4,FALSE) -> ШЕВНИНА | C94: =VLOOKUP($K94,'[11]200Д'!$D$20:$W$145,5,FALSE) -> София | D94: =VLOOKUP($K94,'[11]200Д'!$D$20:$W$145,6,FALSE) -> 31.05.2001 | E94: =VLOOKUP($K94,'[11]200Д'!$D$20:$W$145,7,FALSE) -> КМС | F94: =VLOOKUP($K94,'[11]200Д'!$D$20:$W$145,8,FALSE) -> Свердловская область | G94: =VLOOKUP($K94,'[11]200Д'!$D$20:$W$145,3,FALSE) -> 322 | K94: 106
B103: Рефери по бегу | G103: =[12]З!F15 -> Алексеев В.Г. /СПб, ССВк/
B104: Старший судья на финише | G104: Куликов В.Я. /СПб, ССВк/
B105: Старший хронометрист | G105: =[12]З!F17 -> Мичурина О.А. /СПб, ССВк/
B106: Секретарь | G106: =[12]З!F18 -> Пономарева С.Е. /СПб, ССВк/

Sheet 400мДфин
G1: МИНИСТЕРСТВО СПОРТА РОССИЙСКОЙ ФЕДЕРАЦИИ
G2: ВСЕРОССИЙСКАЯ ФЕДЕРАЦИЯ ЛЕГКОЙ АТЛЕТИКИ
G3: КОМИТЕТ ПО ФИЗИЧЕСКОЙ КУЛЬТУРЕ И СПОРТУ САНКТ-ПЕТЕРБУРГА
G4: СПОРТИВНАЯ ФЕДЕРАЦИЯ ЛЕГКОЙ АТЛЕТИКИ САНКТ-ПЕТЕРБУРГА
G6: Первенство России по легкой атлетике
G7: (среди юниоров и юниорок до 23 лет) в помещении
A9: 49.76 | B9: ВД Мира 23 | G9: Бег 400 м
A10: 49.76 | B10: ВД Европы 23 | G10: ФИНАЛ
A11: 50.15 | B11: Рекорд России 23 | G11: ЮНИОРКИ | I11: Начало: | J11: 0.76736111
I12: Окончание:
A13: Санкт-Петербург, Легкоатлетический манеж | J13: ='[13]400Д'!H18 -> 20 февраля 2019 г.
A15: № дорожки | B15: № уч. | C15: Фамилия | D15: Имя | E15: Дата рожд | F15: Разряд | G15: Территория | H15: Предвар. рез-т | I15: Приход | J15: Результаты
C16: ФИНАЛ
A17: 1 | B17: 55 | C17: МИГЛАН | D17: Мария | E17: 20.02.1997 | F17: КМС | G17: Тюменская область | H17: 55.3 | K17: ф6
A18: 2 | B18: 139 | C18: КУЗМИНЧУК | D18: Олеся | E18: 04.12.1998 | F18: КМС | G18: Санкт-Петербург-1 | H18: 55.2 | K18: ф5
A19: 3 | B19: 178 | C19: ТЮРИНА | D19: Екатерина | E19: 18.04.1997 | F19: МС | G19: Санкт-Петербург-1/Нижегородская область | H19: 55.16 | K19: ф4
A20: 4 | B20: 20 | C20: ПУЗИК | D20: Инна | E20: 22.01.1997 | F20: МС | G20: Самарская область | H20: 55.07 | K20: ф3
A21: 5 | B21: 240 | C21: ПАРЕНЧУК | D21: Лика | E21: 06.04.2002 | F21: КМС | G21: Алтайский край | H21: 55 | K21: ф2
A22: 6 | B22: 296 | C22: БРАГИНА | D22: Анастасия | E22: 01.06.1998 | F22: МС | G22: Новосибирская область | H22: 53.98 | K22: ф1
C26: Рефери по бегу | H26: =[14]З!F15 -> Алексеев В.Г. /СПб, ССВк/
C27: Старший судья на финише | H27: =[14]З!F16 -> Куликов В.Я. /СПб, ССВк/
C28: Старший хронометрист | H28: =[14]З!F17 -> Мичурина О.А. /СПб, ССВк/
C29: Секретарь | H29: =[14]З!F18 -> Пономарева С.Е. /СПб, Iк/

Sheet 800мДфин
G1: МИНИСТЕРСТВО СПОРТА РОССИЙСКОЙ ФЕДЕРАЦИИ
G2: ВСЕРОССИЙСКАЯ ФЕДЕРАЦИЯ ЛЕГКОЙ АТЛЕТИКИ
G3: КОМИТЕТ ПО ФИЗИЧЕСКОЙ КУЛЬТУРЕ И СПОРТУ САНКТ-ПЕТЕРБУРГА
G4: СПОРТИВНАЯ ФЕДЕРАЦИЯ ЛЕГКОЙ АТЛЕТИКИ САНКТ-ПЕТЕРБУРГА
G6: Первенство России по легкой атлетике
G7: (среди юниоров и юниорок до 23 лет) в помещении
A9: 1.57,55 | B9: ВД Мира 23 | G9: Бег 800 м
A10: 1.58,42 | B10: ВД Европы 23 | G10: ФИНАЛ
A11: 1.59,35 | B11: Рекорд России 23 | G11: ЮНИОРКИ | I11: Начало: | J11: 0.70833333
I12: Окончание:
A13: Санкт-Петербург, Легкоатлетический манеж | J13: ='[15]800Д'!E18 -> 20 февраля 2019 г.
A15: № дорожки | B15: № уч. | C15: Фамилия | D15: Имя | E15: Дата рожд | F15: Разряд | G15: Территория | H15: Предвар. рез-т | I15: Приход | J15: Результаты
C16: ФИНАЛ
A17: 1 | B17: 33 | C17: ТОЛМАЧЁВА | D17: Екатерина | E17: 13.11.1997 | F17: КМС | G17: Мурманская область | H17: 2.10,22
A18: 2 | B18: 459 | C18: ЛУНЕВА | D18: Элина | E18: 29.01.1997 | F18: КМС | G18: Челябинская область | H18: 2.10,22
A19: 3 | B19: 197 | C19: КРИКУН | D19: Наталья | E19: 24.06.1999 | F19: КМС | G19: Омская область | H19: 2.10,20
A20: 4 | B20: 253 | C20: АЛЕКСЕЕВА | D20: Екатерина | E20: 22.05.1998 | F20: МС | G20: Московская область Ставропольский край | H20: 2.10,03
A21: 4 | B21: 267 | C21: ЦЫГАНОВА | D21: Елизавета | E21: 10.10.1997 | F21: КМС | G21: Московская область | H21: 2.10,10
A22: 5 | B22: 52 | C22: КОЛЕНТЕЕВА | D22: Кристина | E22: 23.07.1998 | F22: КМС | G22: Тюменская область | H22: 2.09,91
A23: 5 | B23: 391 | C23: САМУЙЛОВА | D23: Екатерина | E23: 05.11.1999 | F23: КМС | G23: Москва Тверская область | H23: 2.09,99
A24: 6 | B24: 214 | C24: ГУЩЕНЕЦ | D24: Ирина | E24: 23.10.2000 | F24: КМС | G24: Иркутская область | H24: 2.09,44
C44: Рефери по бегу | H44: =[16]З!F15 -> Алексеев В.Г. /СПб, ССВк/
C45: Старший судья на финише | H45: =[16]З!F16 -> Куликов В.Я. /СПб, ССВк/
C46: Старший хронометрист | H46: =[16]З!F17 -> Мичурина О.А. /СПб, ССВк/
C47: Секретарь | H47: =[16]З!F18 -> Пономарева С.Е. /СПб, Iк/

Sheet ВысД(2)
P1: ВСЕРОССИЙСКАЯ ФЕДЕРАЦИЯ ЛЕГКОЙ АТЛЕТИКИ
P2: КОМИТЕТ ПО ФИЗИЧЕСКОЙ КУЛЬТУРЕ И СПОРТУ САНКТ-ПЕТЕРБУРГА
P3: СПОРТИВНАЯ ФЕДЕРАЦИЯ ЛЕГКОЙ АТЛЕТИКИ САНКТ-ПЕТЕРБУРГА
P4: САНКТ-ПЕТЕРБУРГСКАЯ КОЛЛЕГИЯ СУДЕЙ ПО ЛЕГКОЙ АТЛЕТИКЕ
A6: 2.05 | B6: Рекорд России 23 | P6: Первенство России по легкой атлетике
A7: 2.05 | B7: Рекорд России 23 | P7: (среди юниоров и юниорок до 23 лет) в помещении
A8: 2.04 | B8: Рекорд России 23
N9: Прыжок в высоту
K10: (начальная высота - 150 см)
P12: ЮНИОРКИ | AQ12: 20 февраля 2019 г.
AP13: Начало: | AQ13: 0.45833333
A14: Санкт-Петербург, Легкоатлетический манеж | P14: Квалификация | AP14: Окончание:
A16: № п/п | B16: № участ. | C16: Фамилия | D16: Имя | E16: Дата рожд | F16: Разряд | G16: Территория | AO16: А | AP16: Б | AQ16: Рез-тат | AR16: М | AS16: Прим.
B17: № уч. | E17: Г.р. | F17: Разряд | G17: Команда | H17: 1 | I17: 2 | J17: 3 | K17: 1 | L17: 2 | M17: 3 | N17: 1 | O17: 2 | P17: 3 | Q17: 1 | R17: 2 | S17: 3 | T17: 1 | U17: 2 | V17: 3 | W17: 1 | X17: 2 | Y17: 3 | Z17: 1 | AA17: 2 | AB17: 3 | AC17: 1 | AD17: 2 | AE17: 3 | AF17: 1 | AG17: 2 | AH17: 3 | AI17: 1 | AJ17: 2 | AK17: 3 | AL17: 1 | AM17: 2 | AN17: 3 | AP17: Б | AR17: Б | AS17: М
A18: 1 | B18: =[17]ВысД!C19 -> 46 | C18: =[17]ВысД!D19 -> ЛАПШОВА | D18: =[17]ВысД!E19 -> Алина | E18: =[17]ВысД!F19 -> 06.09.1998 | F18: =[17]ВысД!G19 -> КМС | G18: =[17]ВысД!H19 -> Красноярский край
A19: 2 | B19: =[17]ВысД!C20 -> 110 | C19: =[17]ВысД!D20 -> БУЧКИНА | D19: =[17]ВысД!E20 -> Анна | E19: =[17]ВысД!F20 -> 10.11.1999 | F19: =[17]ВысД!G20 -> КМС | G19: =[17]ВысД!H20 -> Санкт-Петербург
A20: 3 | B20: =[17]ВысД!C21 -> 341 | C20: =[17]ВысД!D21 -> ЖУРБА | D20: =[17]ВысД!E21 -> Надежда | E20: =[17]ВысД!F21 -> 06.09.1999 | F20: =[17]ВысД!G21 -> КМС | G20: =[17]ВысД!H21 -> Ростовская область
A21: 4 | B21: =[17]ВысД!C22 -> 239 | C21: =[17]ВысД!D22 -> АКСЕНОВА | D21: =[17]ВысД!E22 -> Наталья | E21: =[17]ВысД!F22 -> 06.06.1997 | F21: =[17]ВысД!G22 -> МС | G21: =[17]ВысД!H22 -> Алтайский край
A22: 5 | B22: =[17]ВысД!C23 -> 77 | C22: =[17]ВысД!D23 -> АНДРЮХИНА | D22: =[17]ВысД!E23 -> Надежда | E22: =[17]ВысД!F23 -> 37075 | F22: =[17]ВысД!G23 -> КМС | G22: =[17]ВысД!H23 -> Краснодарский край
A23: 6 | B23: =[17]ВысД!C24 -> 266 | C23: =[17]ВысД!D24 -> ХАЛИКОВА | D23: =[17]ВысД!E24 -> Аделина | E23: =[17]ВысД!F24 -> 18.12.2002 | F23: =[17]ВысД!G24 -> МС | G23: =[17]ВысД!H24 -> Московская область Самарская
A24: 7 | B24: =[17]ВысД!C25 -> 357 | C24: =[17]ВысД!D25 -> СПИРИДОНОВА | D24: =[17]ВысД!E25 -> Наталья | E24: =[17]ВысД!F25 -> 31.07.2002 | F24: =[17]ВысД!G25 -> МС | G24: =[17]ВысД!H25 -> Москва-1 Псковская область
A25: 8 | B25: =[17]ВысД!C26 -> 161 | C25: =[17]ВысД!D26 -> ПРЕСНЯКОВА | D25: =[17]ВысД!E26 -> Алиса | E25: =[17]ВысД!F26 -> 07.03.1998 | F25: =[17]ВысД!G26 -> МС | G25: =[17]ВысД!H26 -> Санкт-Петербург-1
A26: 9 | B26: =[17]ВысД!C27 -> 427 | C26: =[17]ВысД!D27 -> СТАРУХИНА | D26: =[17]ВысД!E27 -> Полина | E26: =[17]ВысД!F27 -> 20.01.1997 | F26: =[17]ВысД!G27 -> 1 | G26: =[17]ВысД!H27 -> Москва
A27: 10 | B27: =[17]ВысД!C28 -> 334 | C27: =[17]ВысД!D28 -> ЯКОВЛЕВА | D27: =[17]ВысД!E28 -> Ксения | E27: =[17]ВысД!F28 -> 17.08.2000 | F27: =[17]ВысД!G28 -> КМС | G27: =[17]ВысД!H28 -> Республика Карелия
A28: 11 | B28: =[17]ВысД!C29 -> 356 | C28: =[17]ВысД!D29 -> СЛЕПОВА | D28: =[17]ВысД!E29 -> Дарья | E28: =[17]ВысД!F29 -> 10.04.2000 | F28: =[17]ВысД!G29 -> КМС | G28: =[17]ВысД!H29 -> Москва-1
A29: 12 | B29: =[17]ВысД!C30 -> 180 | C29: =[17]ВысД!D30 -> ФИРОНОВА | D29: =[17]ВысД!E30 -> Аделина | E29: =[17]ВысД!F30 -> 04.07.2000 | F29: =[17]ВысД!G30 -> КМС | G29: =[17]ВысД!H30 -> Санкт-Петербург
... A36: 19 | B36: =[17]ВысД!C37 -> 505 | C36: =[17]ВысД!D37 -> ХОМУТОВА | D36: =[17]ВысД!E37 -> Анна | E36: =[17]ВысД!F37 -> 24.09.1999 | F36: =[17]ВысД!G37 -> КМС | G36: =[17]ВысД!H37 -> Волгоградская область
C38: Рефери по прыжкам: | T38: Секретарь:
C40: Старший судья на виде: | T40: Судьи:

Sheet ДлД
H1: МИНИСТЕРСТВО СПОРТА РОССИЙСКОЙ ФЕДЕРАЦИИ
H2: ВСЕРОССИЙСКАЯ ФЕДЕРАЦИЯ ЛЕГКОЙ АТЛЕТИКИ
H3: КОМИТЕТ ПО ФИЗИЧЕСКОЙ КУЛЬТУРЕ И СПОРТУ САНКТ-ПЕТЕРБУРГА
H4: СПОРТИВНАЯ ФЕДЕРАЦИЯ ЛЕГКОЙ АТЛЕТИКИ САНКТ-ПЕТЕРБУРГА
H6: Первенство России по легкой атлетике
H7: (среди юниоров и юниорок до 23 лет) в помещении
H8: Прыжок в длину
A9: 7.29 | B9: Рекорд Мира 23
A10: 7.29 | B10: Рекорд Европы 23 | H10: ЮНИОРКИ | P10: 20 февраля 2019 г.
A11: 7.01 | B11: Рекорд России 23 | O11: Начало: | P11: 0.72569444
A12: Санкт-Петербург, Легкоатлетический манеж | H12: Финальные соревнования | O12: Окончание:
A15: № | B15: № уч. | C15: Фамилия | D15: Имя | E15: Дата рожд | F15: Разряд | G15: Территория | H15: Результаты попыток | O15: Лучший | P15: Место | Q15: прим
A16: п/п | H16: 1 | I16: 2 | J16: 3 | L16: 4 | M16: 5 | N16: 6 | O16: результат
A17: 1 | B17: 120 | C17: ДРОЖЖИНА | D17: Елизавета | E17: 11.02.1998 | F17: КМС | G17: Санкт-Петербург-1
A18: 2 | B18: 35 | C18: КРАСИНА | D18: Александра | E18: 12.09.1998 | F18: КМС | G18: Москва Брянская область
A19: 3 | B19: 168 | C19: СЕМЕНОВА | D19: Алиса | E19: 15.06.2000 | F19: 1 | G19: Санкт-Петербург-2
A20: 4 | B20: 422 | C20: АБАШЕВА | D20: Анастасия | E20: 11.12.1997 | F20: КМС | G20: Москва Ставропольский край
A21: 5 | B21: 354 | C21: КРОПИВКО | D21: Екатерина | E21: 13.06.1997 | F21: МС | G21: Москва-1 Ставропольский край
A22: 6 | B22: 256 | C22: ГОРЛОВА | D22: Виктория | E22: 22.05.2001 | F22: МС | G22: Московская область
A23: 7 | B23: 81 | C23: ЛУКЬЯНЕНКОВА | D23: Полина | E23: 15.07.1998 | F23: МС | G23: Краснодарский край
A24: 8 | B24: 243 | C24: ЛЯПУНОВА | D24: Анастасия | E24: 11.06.1997 | F24: КМС | G24: Москва Саратовская область
A25: 9 | B25: 416 | C25: ЖИЛИНА | D25: Виктория | E25: 15.11.1999 | F25: КМС | G25: Чувашская республика
A26: 10 | B26: 260 | C26: КАВЕШНИКОВА | D26: Елeна | E26: 19.02.1998 | F26: КМС | G26: Московская область Свердловская область
A27: 11 | B27: 107 | C27: АХМАДУЛЛИНА | D27: Валерия | E27: 21.10.1997 | F27: КМС | G27: Санкт-Петербург
A28: 12 | B28: 158 | C28: ПОДОБАЕВА | D28: Арина | E28: 02.04.1999 | F28: КМС | G28: Санкт-Петербург-2
A29: 13 | B29: 454 | C29: ИВАНОВА | D29: Екатерина | E29: 21.02.1999 | F29: КМС | G29: Челябинская область
A30: 14 | B30: 25 | C30: ТОРИНА | D30: Анастасия | E30: 15.10.1999 | F30: КМС | G30: Самарская область
A31: 15 | B31: 483 | C31: ЗИНЧЕНКО | D31: Евгения | E31: 10.08.1997 | F31: КМС | G31: Волгоградская область
A32: 16 | B32: 482 | C32: ДОРОДНИКОВА | D32: Наталья | E32: 15.12.1998 | F32: 1 | G32: Волгоградская область
A33: 17 | B33: 251 | C33: КУЗОВКИНА | D33: Наталья | E33: 03.12.98 | F33: КМС | G33: Приморский край
C34: Рефери по прыжкам: | I34: Секретарь:
C36: Старший судья на виде: | I36: Судьи:

Sheet 200Ю(2)
F1: МИНИСТЕРСТВО СПОРТА РОССИЙСКОЙ ФЕДЕРАЦИИ
F2: ВСЕРОССИЙСКАЯ ФЕДЕРАЦИЯ ЛЕГКОЙ АТЛЕТИКИ
F3: КОМИТЕТ ПО ФИЗИЧЕСКОЙ КУЛЬТУРЕ И СПОРТУ САНКТ-ПЕТЕРБУРГА
F4: СПОРТИВНАЯ ФЕДЕРАЦИЯ ЛЕГКОЙ АТЛЕТИКИ САНКТ-ПЕТЕРБУРГА
F6: Всероссийские соревнования
F7: (среди юниоров и юниорок до 23 лет) в помещении
A9: 20.1 | B9: ВД Мира 23 | F9: Бег 200 м
A10: 20.36 | B10: ВД Европы 23 | F10: Забеги
A11: 20.82 | B11: Рекорд России 23 | F11: ЮНИОРЫ
J13: 19 февраля 2019 г.
I14: Начало: | J14: 0.72222222
A15: Санкт-Петербург, Легкоатлетический манеж | I15: Окончание:
B17: Фамилия | C17: Имя | D17: Дата рожд | E17: Разряд | F17: Команда | G17: № уч. | H17: Приход | I17: Результат | J17: Примечание
B18: 1 забег
A19: 1 | K19: 11
A20: 2 | B20: =VLOOKUP($K20,'[18]200Ю'!A:Q,4,FALSE) -> БОЕВ | C20: =VLOOKUP($K20,'[18]200Ю'!A:Q,5,FALSE) -> Денис | D20: =VLOOKUP($K20,'[18]200Ю'!A:Q,6,FALSE) -> 13.10.2001 | E20: =VLOOKUP($K20,'[18]200Ю'!A:Q,7,FALSE) -> 1 | F20: =VLOOKUP($K20,'[18]200Ю'!A:Q,8,FALSE) -> Курская область | G20: =VLOOKUP($K20,'[18]200Ю'!A:Q,3,FALSE) -> 209 | K20: 12
A21: 3 | B21: =VLOOKUP($K21,'[18]200Ю'!A:Q,4,FALSE) -> БИКТИМИРОВ | C21: =VLOOKUP($K21,'[18]200Ю'!A:Q,5,FALSE) -> Егор | D21: =VLOOKUP($K21,'[18]200Ю'!A:Q,6,FALSE) -> 24.06.1999 | E21: =VLOOKUP($K21,'[18]200Ю'!A:Q,7,FALSE) -> КМС | F21: =VLOOKUP($K21,'[18]200Ю'!A:Q,8,FALSE) -> Челябинская область | G21: =VLOOKUP($K21,'[18]200Ю'!A:Q,3,FALSE) -> 467 | J21: лич | K21: 13
A22: 4 | B22: =VLOOKUP($K22,'[18]200Ю'!A:Q,4,FALSE) -> АБАИМОВ | C22: =VLOOKUP($K22,'[18]200Ю'!A:Q,5,FALSE) -> Александр | D22: =VLOOKUP($K22,'[18]200Ю'!A:Q,6,FALSE) -> 21.05.1998 | E22: =VLOOKUP($K22,'[18]200Ю'!A:Q,7,FALSE) -> КМС | F22: =VLOOKUP($K22,'[18]200Ю'!A:Q,8,FALSE) -> Самарская область | G22: =VLOOKUP($K22,'[18]200Ю'!A:Q,3,FALSE) -> 12 | K22: 14
A23: 5 | B23: =VLOOKUP($K23,'[18]200Ю'!A:Q,4,FALSE) -> ПРОТАСОВ | C23: =VLOOKUP($K23,'[18]200Ю'!A:Q,5,FALSE) -> Александр | D23: =VLOOKUP($K23,'[18]200Ю'!A:Q,6,FALSE) -> 30.08.1997 | E23: =VLOOKUP($K23,'[18]200Ю'!A:Q,7,FALSE) -> КМС | F23: =VLOOKUP($K23,'[18]200Ю'!A:Q,8,FALSE) -> Тюменская область | G23: =VLOOKUP($K23,'[18]200Ю'!A:Q,3,FALSE) -> 56 | K23: 15
A24: 6 | B24: =VLOOKUP($K24,'[18]200Ю'!A:Q,4,FALSE) -> ШЕИН | C24: =VLOOKUP($K24,'[18]200Ю'!A:Q,5,FALSE) -> Вячеслав | D24: =VLOOKUP($K24,'[18]200Ю'!A:Q,6,FALSE) -> 20.03.2002 | E24: =VLOOKUP($K24,'[18]200Ю'!A:Q,7,FALSE) -> 1 | F24: =VLOOKUP($K24,'[18]200Ю'!A:Q,8,FALSE) -> Волгоградская область | G24: =VLOOKUP($K24,'[18]200Ю'!A:Q,3,FALSE) -> 486 | J24: лич | K24: 16
B26: 2 забег
A27: 1 | B27: =VLOOKUP($K27,'[18]200Ю'!A:Q,4,FALSE) -> УЛАЕВ | C27: =VLOOKUP($K27,'[18]200Ю'!A:Q,5,FALSE) -> Магомед | D27: =VLOOKUP($K27,'[18]200Ю'!A:Q,6,FALSE) -> 26.02.1999 | E27: =VLOOKUP($K27,'[18]200Ю'!A:Q,7,FALSE) -> КМС | F27: =VLOOKUP($K27,'[18]200Ю'!A:Q,8,FALSE) -> Республика Дагестан | G27: =VLOOKUP($K27,'[18]200Ю'!A:Q,3,FALSE) -> 328 | K27: 21
A28: 2 | B28: =VLOOKUP($K28,'[18]200Ю'!A:Q,4,FALSE) -> БАСТЫЛОВ | C28: =VLOOKUP($K28,'[18]200Ю'!A:Q,5,FALSE) -> Кирилл | D28: =VLOOKUP($K28,'[18]200Ю'!A:Q,6,FALSE) -> 10.10.1998 | E28: =VLOOKUP($K28,'[18]200Ю'!A:Q,7,FALSE) -> КМС | F28: =VLOOKUP($K28,'[18]200Ю'!A:Q,8,FALSE) -> Пензенская область | G28: =VLOOKUP($K28,'[18]200Ю'!A:Q,3,FALSE) -> 290 | K28: 22
A29: 3 | B29: =VLOOKUP($K29,'[18]200Ю'!A:Q,4,FALSE) -> ЗУБКОВ | C29: =VLOOKUP($K29,'[18]200Ю'!A:Q,5,FALSE) -> Илья | D29: =VLOOKUP($K29,'[18]200Ю'!A:Q,6,FALSE) -> 26.01.1998 | E29: =VLOOKUP($K29,'[18]200Ю'!A:Q,7,FALSE) -> КМС | F29: =VLOOKUP($K29,'[18]200Ю'!A:Q,8,FALSE) -> Челябинская область | G29: =VLOOKUP($K29,'[18]200Ю'!A:Q,3,FALSE) -> 470 | J29: лич | K29: 23
A30: 4 | B30: =VLOOKUP($K30,'[18]200Ю'!A:Q,4,FALSE) -> КЛИМОВ | C30: =VLOOKUP($K30,'[18]200Ю'!A:Q,5,FALSE) -> Иван | D30: =VLOOKUP($K30,'[18]200Ю'!A:Q,6,FALSE) -> 07.07.1997 | E30: =VLOOKUP($K30,'[18]200Ю'!A:Q,7,FALSE) -> КМС | F30: =VLOOKUP($K30,'[18]200Ю'!A:Q,8,FALSE) -> Санкт-Петербург | G30: =VLOOKUP($K30,'[18]200Ю'!A:Q,3,FALSE) -> 131 | J30: лич | K30: 24
A31: 5 | B31: =VLOOKUP($K31,'[18]200Ю'!A:Q,4,FALSE) -> ЛУКИН | C31: =VLOOKUP($K31,'[18]200Ю'!A:Q,5,FALSE) -> Андрей | D31: =VLOOKUP($K31,'[18]200Ю'!A:Q,6,FALSE) -> 28.02.1998 | E31: =VLOOKUP($K31,'[18]200Ю'!A:Q,7,FALSE) -> МС | F31: =VLOOKUP($K31,'[18]200Ю'!A:Q,8,FALSE) -> Республика Карелия | G31: =VLOOKUP($K31,'[18]200Ю'!A:Q,3,FALSE) -> 332 | K31: 25
A32: 6 | B32: =VLOOKUP($K32,'[18]200Ю'!A:Q,4,FALSE) -> ИВАНЧЕНКО | C32: =VLOOKUP($K32,'[18]200Ю'!A:Q,5,FALSE) -> Антон | D32: =VLOOKUP($K32,'[18]200Ю'!A:Q,6,FALSE) -> 17.04.1997 | E32: =VLOOKUP($K32,'[18]200Ю'!A:Q,7,FALSE) -> КМС | F32: =VLOOKUP($K32,'[18]200Ю'!A:Q,8,FALSE) -> Челябинская область | G32: =VLOOKUP($K32,'[18]200Ю'!A:Q,3,FALSE) -> 455 | K32: 26
B34: 3 забег
A35: 1 | B35: =VLOOKUP($K35,'[18]200Ю'!A:Q,4,FALSE) -> КУРБАНОВ | C35: =VLOOKUP($K35,'[18]200Ю'!A:Q,5,FALSE) -> Курбан | D35: =VLOOKUP($K35,'[18]200Ю'!A:Q,6,FALSE) -> 24.06.1998 | E35: =VLOOKUP($K35,'[18]200Ю'!A:Q,7,FALSE) -> КМС | F35: =VLOOKUP($K35,'[18]200Ю'!A:Q,8,FALSE) -> Республика Дагестан | G35: =VLOOKUP($K35,'[18]200Ю'!A:Q,3,FALSE) -> 329 | K35: 31
A36: 2 | B36: =VLOOKUP($K36,'[18]200Ю'!A:Q,4,FALSE) -> МАНАФОВ | C36: =VLOOKUP($K36,'[18]200Ю'!A:Q,5,FALSE) -> Курбан | D36: =VLOOKUP($K36,'[18]200Ю'!A:Q,6,FALSE) -> 09.06.1997 | E36: =VLOOKUP($K36,'[18]200Ю'!A:Q,7,FALSE) -> 1 | F36: =VLOOKUP($K36,'[18]200Ю'!A:Q,8,FALSE) -> Санкт-Петербург | G36: =VLOOKUP($K36,'[18]200Ю'!A:Q,3,FALSE) -> 149 | J36: лич | K36: 32
A37: 3 | B37: =VLOOKUP($K37,'[18]200Ю'!A:Q,4,FALSE) -> ПАРШИН | C37: =VLOOKUP($K37,'[18]200Ю'!A:Q,5,FALSE) -> Владислав | D37: =VLOOKUP($K37,'[18]200Ю'!A:Q,6,FALSE) -> 26.09.1998 | E37: =VLOOKUP($K37,'[18]200Ю'!A:Q,7,FALSE) -> КМС | F37: =VLOOKUP($K37,'[18]200Ю'!A:Q,8,FALSE) -> Пензенская область | G37: =VLOOKUP($K37,'[18]200Ю'!A:Q,3,FALSE) -> 292 | K37: 33
A38: 4 | B38: =VLOOKUP($K38,'[18]200Ю'!A:Q,4,FALSE) -> МАСЮТЕНКО | C38: =VLOOKUP($K38,'[18]200Ю'!A:Q,5,FALSE) -> Александр | D38: =VLOOKUP($K38,'[18]200Ю'!A:Q,6,FALSE) -> 27.04.1998 | E38: =VLOOKUP($K38,'[18]200Ю'!A:Q,7,FALSE) -> КМС | F38: =VLOOKUP($K38,'[18]200Ю'!A:Q,8,FALSE) -> Краснодарский край | G38: =VLOOKUP($K38,'[18]200Ю'!A:Q,3,FALSE) -> 86 | J38: лич | K38: 34
A39: 5 | B39: =VLOOKUP($K39,'[18]200Ю'!A:Q,4,FALSE) -> РОСЛЯКОВ | C39: =VLOOKUP($K39,'[18]200Ю'!A:Q,5,FALSE) -> Данил | D39: =VLOOKUP($K39,'[18]200Ю'!A:Q,6,FALSE) -> 04.11.1997 | E39: =VLOOKUP($K39,'[18]200Ю'!A:Q,7,FALSE) -> МС | F39: =VLOOKUP($K39,'[18]200Ю'!A:Q,8,FALSE) -> Вологодская область | G39: =VLOOKUP($K39,'[18]200Ю'!A:Q,3,FALSE) -> 94 | K39: 35
A40: 6 | B40: =VLOOKUP($K40,'[18]200Ю'!A:Q,4,FALSE) -> КУХАРЕНКО | C40: =VLOOKUP($K40,'[18]200Ю'!A:Q,5,FALSE) -> Андрей | D40: =VLOOKUP($K40,'[18]200Ю'!A:Q,6,FALSE) -> 24.02.1997 | E40: =VLOOKUP($K40,'[18]200Ю'!A:Q,7,FALSE) -> МС | F40: =VLOOKUP($K40,'[18]200Ю'!A:Q,8,FALSE) -> Санкт-Петербург-1 | G40: =VLOOKUP($K40,'[18]200Ю'!A:Q,3,FALSE) -> 141 | K40: 36
B42: 4 забег
A43: 1 | B43: =VLOOKUP($K43,'[18]200Ю'!A:Q,4,FALSE) -> ПИГАСОВ | C43: =VLOOKUP($K43,'[18]200Ю'!A:Q,5,FALSE) -> Артём | D43: =VLOOKUP($K43,'[18]200Ю'!A:Q,6,FALSE) -> 18.02.1998 | E43: =VLOOKUP($K43,'[18]200Ю'!A:Q,7,FALSE) -> 1 | F43: =VLOOKUP($K43,'[18]200Ю'!A:Q,8,FALSE) -> Ульяновская область | G43: =VLOOKUP($K43,'[18]200Ю'!A:Q,3,FALSE) -> 444 | K43: 41
A44: 2 | B44: =VLOOKUP($K44,'[18]200Ю'!A:Q,4,FALSE) -> АНУФРИЕВ | C44: =VLOOKUP($K44,'[18]200Ю'!A:Q,5,FALSE) -> Степан | D44: =VLOOKUP($K44,'[18]200Ю'!A:Q,6,FALSE) -> 23.08.1998 | E44: =VLOOKUP($K44,'[18]200Ю'!A:Q,7,FALSE) -> КМС | F44: =VLOOKUP($K44,'[18]200Ю'!A:Q,8,FALSE) -> Тюменская область | G44: =VLOOKUP($K44,'[18]200Ю'!A:Q,3,FALSE) -> 58 | J44: лич | K44: 42
A45: 3 | B45: =VLOOKUP($K45,'[18]200Ю'!A:Q,4,FALSE) -> ГРИГОРЧЕНКО | C45: =VLOOKUP($K45,'[18]200Ю'!A:Q,5,FALSE) -> Дмитрий | D45: =VLOOKUP($K45,'[18]200Ю'!A:Q,6,FALSE) -> 08.02.1998 | E45: =VLOOKUP($K45,'[18]200Ю'!A:Q,7,FALSE) -> КМС | F45: =VLOOKUP($K45,'[18]200Ю'!A:Q,8,FALSE) -> Ульяновская область | G45: =VLOOKUP($K45,'[18]200Ю'!A:Q,3,FALSE) -> 442 | K45: 43
A46: 4 | B46: =VLOOKUP($K46,'[18]200Ю'!A:Q,4,FALSE) -> КОРЧАГИН | C46: =VLOOKUP($K46,'[18]200Ю'!A:Q,5,FALSE) -> Дмитрий | D46: =VLOOKUP($K46,'[18]200Ю'!A:Q,6,FALSE) -> 11.05.1997 | E46: =VLOOKUP($K46,'[18]200Ю'!A:Q,7,FALSE) -> КМС | F46: =VLOOKUP($K46,'[18]200Ю'!A:Q,8,FALSE) -> Красноярский край | G46: =VLOOKUP($K46,'[18]200Ю'!A:Q,3,FALSE) -> 49 | K46: 44
A47: 5 | B47: =VLOOKUP($K47,'[18]200Ю'!A:Q,4,FALSE) -> АФАНАСЬЕВ | C47: =VLOOKUP($K47,'[18]200Ю'!A:Q,5,FALSE) -> Артем | D47: =VLOOKUP($K47,'[18]200Ю'!A:Q,6,FALSE) -> 29.01.1998 | E47: =VLOOKUP($K47,'[18]200Ю'!A:Q,7,FALSE) -> МС | F47: =VLOOKUP($K47,'[18]200Ю'!A:Q,8,FALSE) -> Нижегородская обл. Чувашская респ. | G47: =VLOOKUP($K47,'[18]200Ю'!A:Q,3,FALSE) -> 345 | K47: 45
A48: 6 | B48: =VLOOKUP($K48,'[18]200Ю'!A:Q,4,FALSE) -> СКОСАРЬ | C48: =VLOOKUP($K48,'[18]200Ю'!A:Q,5,FALSE) -> Михаил | D48: =VLOOKUP($K48,'[18]200Ю'!A:Q,6,FALSE) -> 31.03.1999 | E48: =VLOOKUP($K48,'[18]200Ю'!A:Q,7,FALSE) -> КМС | F48: =VLOOKUP($K48,'[18]200Ю'!A:Q,8,FALSE) -> Санкт-Петербург | G48: =VLOOKUP($K48,'[18]200Ю'!A:Q,3,FALSE) -> 170 | J48: лич | K48: 46
B50: 5 забег
A51: 1 | B51: =VLOOKUP($K51,'[18]200Ю'!A:Q,4,FALSE) -> МАКУРОВ | C51: =VLOOKUP($K51,'[18]200Ю'!A:Q,5,FALSE) -> Глеб | D51: =VLOOKUP($K51,'[18]200Ю'!A:Q,6,FALSE) -> 15.05.1997 | E51: =VLOOKUP($K51,'[18]200Ю'!A:Q,7,FALSE) -> КМС | F51: =VLOOKUP($K51,'[18]200Ю'!A:Q,8,FALSE) -> Санкт-Петербург | G51: =VLOOKUP($K51,'[18]200Ю'!A:Q,3,FALSE) -> 148 | J51: лич | K51: 51
A52: 2 | B52: =VLOOKUP($K52,'[18]200Ю'!A:Q,4,FALSE) -> ЛОБКОВ | C52: =VLOOKUP($K52,'[18]200Ю'!A:Q,5,FALSE) -> Максим | D52: =VLOOKUP($K52,'[18]200Ю'!A:Q,6,FALSE) -> 20.05.1997 | E52: =VLOOKUP($K52,'[18]200Ю'!A:Q,7,FALSE) -> МС | F52: =VLOOKUP($K52,'[18]200Ю'!A:Q,8,FALSE) -> Волгоградская область | G52: =VLOOKUP($K52,'[18]200Ю'!A:Q,3,FALSE) -> 500 | K52: 52
A53: 3 | B53: =VLOOKUP($K53,'[18]200Ю'!A:Q,4,FALSE) -> ЛОМОВ | C53: =VLOOKUP($K53,'[18]200Ю'!A:Q,5,FALSE) -> Евгений | D53: =VLOOKUP($K53,'[18]200Ю'!A:Q,6,FALSE) -> 12.10.1999 | E53: =VLOOKUP($K53,'[18]200Ю'!A:Q,7,FALSE) -> КМС | F53: =VLOOKUP($K53,'[18]200Ю'!A:Q,8,FALSE) -> Красноярский край | G53: =VLOOKUP($K53,'[18]200Ю'!A:Q,3,FALSE) -> 47 | K53: 53
A54: 4 | B54: =VLOOKUP($K54,'[18]200Ю'!A:Q,4,FALSE) -> ВОДИЧЕВ | C54: =VLOOKUP($K54,'[18]200Ю'!A:Q,5,FALSE) -> Александр | D54: =VLOOKUP($K54,'[18]200Ю'!A:Q,6,FALSE) -> 14.11.1999 | E54: =VLOOKUP($K54,'[18]200Ю'!A:Q,7,FALSE) -> КМС | F54: =VLOOKUP($K54,'[18]200Ю'!A:Q,8,FALSE) -> Калининградская обл. Санкт-Петербург | G54: =VLOOKUP($K54,'[18]200Ю'!A:Q,3,FALSE) -> 190 | K54: 54
A55: 5 | B55: =VLOOKUP($K55,'[18]200Ю'!A:Q,4,FALSE) -> НИКОЛАЕВ | C55: =VLOOKUP($K55,'[18]200Ю'!A:Q,5,FALSE) -> Александр | D55: =VLOOKUP($K55,'[18]200Ю'!A:Q,6,FALSE) -> 06.05.1999 | E55: =VLOOKUP($K55,'[18]200Ю'!A:Q,7,FALSE) -> 1 | F55: =VLOOKUP($K55,'[18]200Ю'!A:Q,8,FALSE) -> Хабаровский край | G55: =VLOOKUP($K55,'[18]200Ю'!A:Q,3,FALSE) -> 43 | K55: 55
A56: 6 | B56: =VLOOKUP($K56,'[18]200Ю'!A:Q,4,FALSE) -> БОНДАРЕВ | C56: =VLOOKUP($K56,'[18]200Ю'!A:Q,5,FALSE) -> Николай | D56: =VLOOKUP($K56,'[18]200Ю'!A:Q,6,FALSE) -> 28.03.1998 | E56: =VLOOKUP($K56,'[18]200Ю'!A:Q,7,FALSE) -> КМС | F56: =VLOOKUP($K56,'[18]200Ю'!A:Q,8,FALSE) -> Москва | G56: =VLOOKUP($K56,'[18]200Ю'!A:Q,3,FALSE) -> 373 | J56: лич | K56: 56
B58: 6 забег
A59: 1 | B59: =VLOOKUP($K59,'[18]200Ю'!A:Q,4,FALSE) -> ГРЕКОВ | C59: =VLOOKUP($K59,'[18]200Ю'!A:Q,5,FALSE) -> Роман | D59: =VLOOKUP($K59,'[18]200Ю'!A:Q,6,FALSE) -> 15.02.1999 | E59: =VLOOKUP($K59,'[18]200Ю'!A:Q,7,FALSE) -> КМС | F59: =VLOOKUP($K59,'[18]200Ю'!A:Q,8,FALSE) -> Челябинская область | G59: =VLOOKUP($K59,'[18]200Ю'!A:Q,3,FALSE) -> 469 | J59: лич | K59: 61
A60: 2 | B60: =VLOOKUP($K60,'[18]200Ю'!A:Q,4,FALSE) -> САПРЫКИН | C60: =VLOOKUP($K60,'[18]200Ю'!A:Q,5,FALSE) -> Сергей | D60: =VLOOKUP($K60,'[18]200Ю'!A:Q,6,FALSE) -> 11.08.1997 | E60: =VLOOKUP($K60,'[18]200Ю'!A:Q,7,FALSE) -> КМС | F60: =VLOOKUP($K60,'[18]200Ю'!A:Q,8,FALSE) -> Волгоградская область | G60: =VLOOKUP($K60,'[18]200Ю'!A:Q,3,FALSE) -> 485 | J60: лич | K60: 62
A61: 3 | B61: =VLOOKUP($K61,'[18]200Ю'!A:Q,4,FALSE) -> ГУБАЙДУЛЛИН | C61: =VLOOKUP($K61,'[18]200Ю'!A:Q,5,FALSE) -> Данис | D61: =VLOOKUP($K61,'[18]200Ю'!A:Q,6,FALSE) -> 28.01.2000 | E61: =VLOOKUP($K61,'[18]200Ю'!A:Q,7,FALSE) -> КМС | F61: =VLOOKUP($K61,'[18]200Ю'!A:Q,8,FALSE) -> Свердловская область | G61: =VLOOKUP($K61,'[18]200Ю'!A:Q,3,FALSE) -> 317 | K61: 63
A62: 4 | B62: =VLOOKUP($K62,'[18]200Ю'!A:Q,4,FALSE) -> ПИВОВАРОВ | C62: =VLOOKUP($K62,'[18]200Ю'!A:Q,5,FALSE) -> Даниил | D62: =VLOOKUP($K62,'[18]200Ю'!A:Q,6,FALSE) -> 13.04.1999 | E62: =VLOOKUP($K62,'[18]200Ю'!A:Q,7,FALSE) -> КМС | F62: =VLOOKUP($K62,'[18]200Ю'!A:Q,8,FALSE) -> Республика Татарстан | G62: =VLOOKUP($K62,'[18]200Ю'!A:Q,3,FALSE) -> 404 | I62: r/med | K62: 64
A63: 5 | B63: =VLOOKUP($K63,'[18]200Ю'!A:Q,4,FALSE) -> МАТВЕЕВ | C63: =VLOOKUP($K63,'[18]200Ю'!A:Q,5,FALSE) -> Никита | D63: =VLOOKUP($K63,'[18]200Ю'!A:Q,6,FALSE) -> 28.03.2000 | E63: =VLOOKUP($K63,'[18]200Ю'!A:Q,7,FALSE) -> КМС | F63: =VLOOKUP($K63,'[18]200Ю'!A:Q,8,FALSE) -> Ямало-Ненецкий АО Владимирская обл. | G63: =VLOOKUP($K63,'[18]200Ю'!A:Q,3,FALSE) -> 37 | K63: 65
A64: 6 | B64: =VLOOKUP($K64,'[18]200Ю'!A:Q,4,FALSE) -> НИКИТИН | C64: =VLOOKUP($K64,'[18]200Ю'!A:Q,5,FALSE) -> Олег | D64: =VLOOKUP($K64,'[18]200Ю'!A:Q,6,FALSE) -> 06.06.1997 | E64: =VLOOKUP($K64,'[18]200Ю'!A:Q,7,FALSE) -> КМС | F64: =VLOOKUP($K64,'[18]200Ю'!A:Q,8,FALSE) -> Ульяновская область | G64: =VLOOKUP($K64,'[18]200Ю'!A:Q,3,FALSE) -> 443 | K64: 66
B66: 7 забег
A67: 1 | B67: =VLOOKUP($K67,'[18]200Ю'!A:Q,4,FALSE) -> ЛАПТЕВ | C67: =VLOOKUP($K67,'[18]200Ю'!A:Q,5,FALSE) -> Алексей | D67: =VLOOKUP($K67,'[18]200Ю'!A:Q,6,FALSE) -> 13.05.1998 | E67: =VLOOKUP($K67,'[18]200Ю'!A:Q,7,FALSE) -> КМС | F67: =VLOOKUP($K67,'[18]200Ю'!A:Q,8,FALSE) -> Свердловская область | G67: =VLOOKUP($K67,'[18]200Ю'!A:Q,3,FALSE) -> 316 | K67: 71
A68: 2 | B68: =VLOOKUP($K68,'[18]200Ю'!A:Q,4,FALSE) -> МАРКУНАСОВ | C68: =VLOOKUP($K68,'[18]200Ю'!A:Q,5,FALSE) -> Антон | D68: =VLOOKUP($K68,'[18]200Ю'!A:Q,6,FALSE) -> 07.11.1998 | E68: =VLOOKUP($K68,'[18]200Ю'!A:Q,7,FALSE) -> КМС | F68: =VLOOKUP($K68,'[18]200Ю'!A:Q,8,FALSE) -> Свердловская обл. Челябинская обл. | G68: =VLOOKUP($K68,'[18]200Ю'!A:Q,3,FALSE) -> 314 | J68: к/л | K68: 72
A69: 3 | B69: =VLOOKUP($K69,'[18]200Ю'!A:Q,4,FALSE) -> ГУРОВ | C69: =VLOOKUP($K69,'[18]200Ю'!A:Q,5,FALSE) -> Андрей | D69: =VLOOKUP($K69,'[18]200Ю'!A:Q,6,FALSE) -> 20.09.1998 | E69: =VLOOKUP($K69,'[18]200Ю'!A:Q,7,FALSE) -> КМС | F69: =VLOOKUP($K69,'[18]200Ю'!A:Q,8,FALSE) -> Брянская область | G69: =VLOOKUP($K69,'[18]200Ю'!A:Q,3,FALSE) -> 36 | K69: 73
A70: 4 | B70: =VLOOKUP($K70,'[18]200Ю'!A:Q,4,FALSE) -> ОРЛОВ | C70: =VLOOKUP($K70,'[18]200Ю'!A:Q,5,FALSE) -> Константин | D70: =VLOOKUP($K70,'[18]200Ю'!A:Q,6,FALSE) -> 01.02.1998 | E70: =VLOOKUP($K70,'[18]200Ю'!A:Q,7,FALSE) -> 1 | F70: =VLOOKUP($K70,'[18]200Ю'!A:Q,8,FALSE) -> Чувашская республика | G70: =VLOOKUP($K70,'[18]200Ю'!A:Q,3,FALSE) -> 415 | K70: 74
A71: 5 | B71: =VLOOKUP($K71,'[18]200Ю'!A:Q,4,FALSE) -> РОЖНОВ | C71: =VLOOKUP($K71,'[18]200Ю'!A:Q,5,FALSE) -> Артём | D71: =VLOOKUP($K71,'[18]200Ю'!A:Q,6,FALSE) -> 03.03.1998 | E71: =VLOOKUP($K71,'[18]200Ю'!A:Q,7,FALSE) -> КМС | F71: =VLOOKUP($K71,'[18]200Ю'!A:Q,8,FALSE) -> Тульская область | G71: =VLOOKUP($K71,'[18]200Ю'!A:Q,3,FALSE) -> 285 | K71: 75
A72: 6 | B72: =VLOOKUP($K72,'[18]200Ю'!A:Q,4,FALSE) -> ЕЖОВ | C72: =VLOOKUP($K72,'[18]200Ю'!A:Q,5,FALSE) -> Иван | D72: =VLOOKUP($K72,'[18]200Ю'!A:Q,6,FALSE) -> 01.06.1999 | E72: =VLOOKUP($K72,'[18]200Ю'!A:Q,7,FALSE) -> КМС | F72: =VLOOKUP($K72,'[18]200Ю'!A:Q,8,FALSE) -> Пензенская область | G72: =VLOOKUP($K72,'[18]200Ю'!A:Q,3,FALSE) -> 291 | K72: 76
B74: 8 забег
A75: 1 | B75: =VLOOKUP($K75,'[18]200Ю'!A:Q,4,FALSE) -> ТРОФИМОВИЧ | C75: =VLOOKUP($K75,'[18]200Ю'!A:Q,5,FALSE) -> Иван | D75: =VLOOKUP($K75,'[18]200Ю'!A:Q,6,FALSE) -> 18.08.1999 | E75: =VLOOKUP($K75,'[18]200Ю'!A:Q,7,FALSE) -> КМС | F75: =VLOOKUP($K75,'[18]200Ю'!A:Q,8,FALSE) -> Оренбургская область | G75: =VLOOKUP($K75,'[18]200Ю'!A:Q,3,FALSE) -> 249 | K75: 81
A76: 2 | B76: =VLOOKUP($K76,'[18]200Ю'!A:Q,4,FALSE) -> ВЕШНЯКОВ | C76: =VLOOKUP($K76,'[18]200Ю'!A:Q,5,FALSE) -> Данил | D76: =VLOOKUP($K76,'[18]200Ю'!A:Q,6,FALSE) -> 30.06.2001 | E76: =VLOOKUP($K76,'[18]200Ю'!A:Q,7,FALSE) -> 1 | F76: =VLOOKUP($K76,'[18]200Ю'!A:Q,8,FALSE) -> Санкт-Петербург | G76: =VLOOKUP($K76,'[18]200Ю'!A:Q,3,FALSE) -> 113 | J76: лич | K76: 82
A77: 3 | B77: =VLOOKUP($K77,'[18]200Ю'!A:Q,4,FALSE) -> БЕЛЯЕВ | C77: =VLOOKUP($K77,'[18]200Ю'!A:Q,5,FALSE) -> Илья | D77: =VLOOKUP($K77,'[18]200Ю'!A:Q,6,FALSE) -> 18.01.1998 | E77: =VLOOKUP($K77,'[18]200Ю'!A:Q,7,FALSE) -> КМС | F77: =VLOOKUP($K77,'[18]200Ю'!A:Q,8,FALSE) -> Вологодская область | G77: =VLOOKUP($K77,'[18]200Ю'!A:Q,3,FALSE) -> 92 | K77: 83
A78: 4 | B78: =VLOOKUP($K78,'[18]200Ю'!A:Q,4,FALSE) -> КОНОНЕНКО | C78: =VLOOKUP($K78,'[18]200Ю'!A:Q,5,FALSE) -> Павел | D78: =VLOOKUP($K78,'[18]200Ю'!A:Q,6,FALSE) -> 02.02.1997 | E78: =VLOOKUP($K78,'[18]200Ю'!A:Q,7,FALSE) -> КМС | F78: =VLOOKUP($K78,'[18]200Ю'!A:Q,8,FALSE) -> Вологодская область | G78: =VLOOKUP($K78,'[18]200Ю'!A:Q,3,FALSE) -> 93 | K78: 84
A79: 5 | B79: =VLOOKUP($K79,'[18]200Ю'!A:Q,4,FALSE) -> СЛАКВА | C79: =VLOOKUP($K79,'[18]200Ю'!A:Q,5,FALSE) -> Максим | D79: =VLOOKUP($K79,'[18]200Ю'!A:Q,6,FALSE) -> 10.05.1998 | E79: =VLOOKUP($K79,'[18]200Ю'!A:Q,7,FALSE) -> КМС | F79: =VLOOKUP($K79,'[18]200Ю'!A:Q,8,FALSE) -> Ставропольский край | G79: =VLOOKUP($K79,'[18]200Ю'!A:Q,3,FALSE) -> 425 | K79: 85
A80: 6 | B80: =VLOOKUP($K80,'[18]200Ю'!A:Q,4,FALSE) -> ЛУЖИНСКИЙ | C80: =VLOOKUP($K80,'[18]200Ю'!A:Q,5,FALSE) -> Кирилл | D80: =VLOOKUP($K80,'[18]200Ю'!A:Q,6,FALSE) -> 20.03.1999 | E80: =VLOOKUP($K80,'[18]200Ю'!A:Q,7,FALSE) -> МС | F80: =VLOOKUP($K80,'[18]200Ю'!A:Q,8,FALSE) -> Санкт-Петербург Вологодская обл. | G80: =VLOOKUP($K80,'[18]200Ю'!A:Q,3,FALSE) -> 144 | J80: л/к | K80: 86
B89: Рефери по бегу | G89: =[12]З!F15 -> Алексеев В.Г. /СПб, ССВк/
B90: Старший судья на финише | G90: Куликов В.Я. /СПб, ССВк/
B91: Старший хронометрист | G91: =[12]З!F17 -> Мичурина О.А. /СПб, ССВк/
B92: Секретарь | G92: =[12]З!F18 -> Пономарева С.Е. /СПб, ССВк/

Sheet 400мЮфин
G1: МИНИСТЕРСТВО СПОРТА РОССИЙСКОЙ ФЕДЕРАЦИИ
G2: ВСЕРОССИЙСКАЯ ФЕДЕРАЦИЯ ЛЕГКОЙ АТЛЕТИКИ
G3: КОМИТЕТ ПО ФИЗИЧЕСКОЙ КУЛЬТУРЕ И СПОРТУ САНКТ-ПЕТЕРБУРГА
G4: СПОРТИВНАЯ ФЕДЕРАЦИЯ ЛЕГКОЙ АТЛЕТИКИ САНКТ-ПЕТЕРБУРГА
G6: Первенство России по легкой атлетике
G7: (среди юниоров и юниорок до 23 лет) в помещении
A9: 44.57 | B9: Рекорд Мира 23 | G9: Бег 400 м
A10: 45.39 | B10: Рекорд Европы 23 | G10: ФИНАЛ
A11: 46.18 | B11: Рекорд России 23 | G11: ЮНИОРЫ | I11: Начало: | J11: 0.77430556
I12: Окончание:
A13: Санкт-Петербург, Легкоатлетический манеж | J13: ='[19]400Ю'!H18 -> 20 февраля 2019 г.
A15: № дорожки | B15: № уч. | C15: Фамилия | D15: Имя | E15: Дата рожд | F15: Разряд | G15: Территория | H15: Предвар. рез-т | I15: Приход | J15: Результаты
C16: ФИНАЛ
A17: 1 | B17: 54 | C17: КУКАЛЕВ | D17: Вадим | E17: 22.08.1998 | F17: КМС | G17: Тюменская область | H17: 48.35
A18: 2 | B18: 261 | C18: КАРАСЁВ | D18: Леонид | E18: 30.07.1998 | F18: МС | G18: Московская область Брянская область | H18: 48.23
A19: 3 | B19: 265 | C19: ФИЛИППОВ | D19: Егор | E19: 04.07.1999 | F19: МС | G19: Московская область | H19: 48.22
A20: 4 | B20: 238 | C20: РАЗУМОВ | D20: Дмитрий | E20: 19.08.1999 | F20: МС | G20: Томская область | H20: 48.05
A21: 5 | B21: 264 | C21: ФЕДЯЕВ | D21: Максим | E21: 01.12.1997 | F21: МСМК | G21: Московская область Курская область | H21: 47.67
A22: 6 | B22: 308 | C22: ВЕРХОВЫХ | D22: Рудольф | E22: 03.09.1998 | F22: МС | G22: Свердловская область Челябинская область | H22: 47.37
C44: Рефери по бегу | H44: Алексеев В.Г. /СПб, ССВк/
C45: Старший судья на финише | H45: Куликов В.Я. /СПБ, ССВк/
C46: Старший хронометрист | H46: Мичурина О.А. /СПб, ССВк/
C47: Секретарь | H47: Пономарева С.Е. /СПб, ССВк/

Sheet 800мЮфин
G1: МИНИСТЕРСТВО СПОРТА РОССИЙСКОЙ ФЕДЕРАЦИИ
G2: ВСЕРОССИЙСКАЯ ФЕДЕРАЦИЯ ЛЕГКОЙ АТЛЕТИКИ
G3: КОМИТЕТ ПО ФИЗИЧЕСКОЙ КУЛЬТУРЕ И СПОРТУ САНКТ-ПЕТЕРБУРГА
G4: СПОРТИВНАЯ ФЕДЕРАЦИЯ ЛЕГКОЙ АТЛЕТИКИ САНКТ-ПЕТЕРБУРГА
G6: Первенство России по легкой атлетике
G7: (среди юниоров и юниорок до 23 лет) в помещении
A9: 1.44,15 | B9: Рекорд Мира 23 | G9: Бег 800 м
A10: 1.44,15 | B10: Рекорд Европы 23 | G10: ФИНАЛ
A11: 1.44,15 | B11: Рекорд России 23 | G11: ЮНИОРЫ | I11: Начало: | J11: 0.71527778
I12: Окончание:
A13: Санкт-Петербург, Легкоатлетический манеж | J13: ='[20]800Ю'!H18 -> 20 февраля 2019 г.
A15: № дорожки | B15: № уч. | C15: Фамилия | D15: Имя | E15: Дата рожд | F15: Разряд | G15: Территория | H15: Предвар. рез-т | I15: Приход | J15: Результаты
C16: ФИНАЛ
A17: 1 | B17: 393 | C17: СИНЕНКОВ | D17: Кирилл | E17: 29.08.1998 | F17: КМС | G17: Москва | H17: 1.52,92
A18: 2 | B18: 74 | C18: СМОЛЬНЯКОВСКИЙ | D18: Даниил | E18: 06.04.1998 | F18: КМС | G18: Краснодарский край Ставропольский край | H18: 1.52,79
A19: 3 | B19: 446 | C19: ШМЕЛЕВ | D19: Ярослав | E19: 02.02.2000 | F19: КМС | G19: Ульяновская область | H19: 1.52,20
A20: 4 | B20: 344 | C20: РАЩУПКИН | D20: Игорь | E20: 03.09.1997 | F20: КМС | G20: Москва-1 | H20: 1.51,38
A21: 4 | B21: 514 | C21: МАЗНЫЙ | D21: Богдан | E21: 26.10.1999 | F21: КМС | G21: ЮФО (К) | H21: 1.52,01
A22: 5 | B22: 466 | C22: ЧЕШЕВ | D22: Максим | E22: 25.12.1997 | F22: КМС | G22: Челябинская область | H22: 1.50,73
A23: 5 | B23: 91 | C23: МОРОЗКИН | D23: Вадим | E23: 30.09.1997 | F23: КМС | G23: Республика Мордовия | H23: 1.50,80
A24: 6 | B24: 259 | C24: ЗУЕВ | D24: Константин | E24: 23.12.1998 | F24: КМС | G24: Московская область | H24: 1.50,23
C43: Рефери по бегу | H43: Алексеев В.Г. /СПб, ССВк/
C44: Старший судья на финише | H44: Куликов В.Я. /СПБ, ССВк/
C45: Старший хронометрист | H45: Мичурина О.А. /СПб, ССВк/
C46: Секретарь | H46: Пономарева С.Е. /СПб, ССВк/

Sheet ДлЮ
I1: МИНИСТЕРСТВО СПОРТА РОССИЙСКОЙ ФЕДЕРАЦИИ
I2: ВСЕРОССИЙСКАЯ ФЕДЕРАЦИЯ ЛЕГКОЙ АТЛЕТИКИ
I3: КОМИТЕТ ПО ФИЗИЧЕСКОЙ КУЛЬТУРЕ И СПОРТУ САНКТ-ПЕТЕРБУРГА
I4: СПОРТИВНАЯ ФЕДЕРАЦИЯ ЛЕГКОЙ АТЛЕТИКИ САНКТ-ПЕТЕРБУРГА
A5: 8.56 | B5: ВД Мира 23
A6: 8.56 | B6: ВД Европы 23 | I6: Первенство России по легкой атлетике
A7: 8.41 | B7: Рекорд России 23 | I7: (среди юниоров и юниорок до 23 лет) в помещении
I9: Прыжок в длину
I11: ЮНИОРЫ | Q11: 20 февраля 2018 г.
P12: Начало: | Q12: 0.66666667
A13: Санкт-Петербург, Легкоатлетический манеж | I13: Финальные соревнования | P13: Окончание:
A16: № | B16: № уч. | C16: Фамилия | D16: Имя | E16: Дата рожд | F16: Разряд | G16: Территория | H16: Пред. рез. | I16: Результаты попыток | P16: Лучший | Q16: Место | R16: прим
A17: п/п | I17: 1 | J17: 2 | K17: 3 | M17: 4 | N17: 5 | O17: 6 | P17: результат
A18: 1 | B18: =[21]ДлЮ!D20 -> 501 | C18: =[21]ДлЮ!E20 -> МАРКЕЛОВ | D18: =[21]ДлЮ!F20 -> Михаил | E18: =[21]ДлЮ!G20 -> 35674 | F18: =[21]ДлЮ!H20 -> КМС | G18: =[21]ДлЮ!I20 -> Волгоградская область | H18: =[21]ДлЮ!L20 -> 7.25
A19: 2 | B19: =[21]ДлЮ!D21 -> 451 | C19: =[21]ДлЮ!E21 -> ГУБИН | D19: =[21]ДлЮ!F21 -> Евгений | E19: =[21]ДлЮ!G21 -> 35613 | F19: =[21]ДлЮ!H21 -> КМС | G19: =[21]ДлЮ!I21 -> Москва Челябинская область | H19: =[21]ДлЮ!L21 -> 7.15
A20: 3 | B20: =[21]ДлЮ!D22 -> 41 | C20: =[21]ДлЮ!E22 -> КОСТЮЧЕНКО | D20: =[21]ДлЮ!F22 -> Олег | E20: =[21]ДлЮ!G22 -> 36031 | F20: =[21]ДлЮ!H22 -> КМС | G20: =[21]ДлЮ!I22 -> Хабаровский край | H20: =[21]ДлЮ!L22 -> 6.95
A21: 4 | B21: =[21]ДлЮ!D23 -> 339 | C21: =[21]ДлЮ!E23 -> МИРЗОЯНЦ | D21: =[21]ДлЮ!F23 -> Олег | E21: =[21]ДлЮ!G23 -> 35941 | F21: =[21]ДлЮ!H23 -> КМС | G21: =[21]ДлЮ!I23 -> Ростовская область | H21: =[21]ДлЮ!L23 -> 7.07
A22: 5 | B22: =[21]ДлЮ!D24 -> 382 | C22: =[21]ДлЮ!E24 -> ЖДАНОВ | D22: =[21]ДлЮ!F24 -> Антон | E22: =[21]ДлЮ!G24 -> 35546 | F22: =[21]ДлЮ!H24 -> КМС | G22: =[21]ДлЮ!I24 -> Москва | H22: =[21]ДлЮ!L24 -> 7.06
A23: 6 | B23: =[21]ДлЮ!D25 -> 72 | C23: =[21]ДлЮ!E25 -> РЯПОЛОВ | D23: =[21]ДлЮ!F25 -> Анатолий | E23: =[21]ДлЮ!G25 -> 35461 | F23: =[21]ДлЮ!H25 -> МС | G23: =[21]ДлЮ!I25 -> Краснодарский край | H23: =[21]ДлЮ!L25 -> 7.47
A24: 7 | B24: =[21]ДлЮ!D26 -> 348 | C24: =[21]ДлЮ!E26 -> ТАТАРИНОВ | D24: =[21]ДлЮ!F26 -> Иван | E24: =[21]ДлЮ!G26 -> 35454 | F24: =[21]ДлЮ!H26 -> КМС | G24: =[21]ДлЮ!I26 -> Москва-1 Иркутская область | H24: =[21]ДлЮ!L26 -> 7.36
A25: 8 | B25: =[21]ДлЮ!D27 -> 188 | C25: =[21]ДлЮ!E27 -> АБОЛЬСКИЙ | D25: =[21]ДлЮ!F27 -> Алексей | E25: =[21]ДлЮ!G27 -> 35918 | F25: =[21]ДлЮ!H27 -> КМС | G25: =[21]ДлЮ!I27 -> Омская область | H25: =[21]ДлЮ!L27 -> 7.23
A26: 9 | B26: =[21]ДлЮ!D28 -> 223 | C26: =[21]ДлЮ!E28 -> ИДРИСОВ | D26: =[21]ДлЮ!F28 -> Тимур | E26: =[21]ДлЮ!G28 -> 36194 | F26: =[21]ДлЮ!H28 -> КМС | G26: =[21]ДлЮ!I28 -> Иркутская область | H26: =[21]ДлЮ!L28 -> 7.37
A27: 10 | B27: =[21]ДлЮ!D29 -> 383 | C27: =[21]ДлЮ!E29 -> КАРАВАЕВ | D27: =[21]ДлЮ!F29 -> Евгений | E27: =[21]ДлЮ!G29 -> 36970 | F27: =[21]ДлЮ!H29 -> 1 | G27: =[21]ДлЮ!I29 -> Москва Псковская область | H27: =[21]ДлЮ!L29 -> 7.1
A28: 11 | B28: =[21]ДлЮ!D30 -> 50 | C28: =[21]ДлЮ!E30 -> ЧЕЧЕЛА | D28: =[21]ДлЮ!F30 -> Даниил | E28: =[21]ДлЮ!G30 -> 36615 | F28: =[21]ДлЮ!H30 -> 2 | G28: =[21]ДлЮ!I30 -> Красноярский край | H28: =[21]ДлЮ!L30 -> 7.18
A29: 12 | B29: =[21]ДлЮ!D31 -> 24 | C29: =[21]ДлЮ!E31 -> ТИМОФЕЕВ | D29: =[21]ДлЮ!F31 -> Евгений | E29: =[21]ДлЮ!G31 -> 35945 | F29: =[21]ДлЮ!H31 -> МС | G29: =[21]ДлЮ!I31 -> Самарская область | H29: =[21]ДлЮ!L31 -> 7.18
C33: Рефери по прыжкам: | J33: Секретарь:
C35: Старший судья на виде: | J35: Судьи:

Sheet ВысЮ
Q1: ВСЕРОССИЙСКАЯ ФЕДЕРАЦИЯ ЛЕГКОЙ АТЛЕТИКИ
Q2: КОМИТЕТ ПО ФИЗИЧЕСКОЙ КУЛЬТУРЕ И СПОРТУ САНКТ-ПЕТЕРБУРГА
Q3: СПОРТИВНАЯ ФЕДЕРАЦИЯ ЛЕГКОЙ АТЛЕТИКИ САНКТ-ПЕТЕРБУРГА
Q4: САНКТ-ПЕТЕРБУРГСКАЯ КОЛЛЕГИЯ СУДЕЙ ПО ЛЕГКОЙ АТЛЕТИКЕ
A6: 2.43 | B6: Рекорд Мира 23 | Q6: Первенство России по легкой атлетике
A7: 2.41 | B7: Рекорд Европы 23 | Q7: (среди юниоров и юниорок до 23 лет) в помещении
A8: 2.39 | B8: Рекорд России 23
O9: Прыжок в высоту
L10: (начальная высота - 200 см)
Q12: ЮНИОРЫ | AR12: 20 февраля 2019 г.
AQ13: Начало: | AR13: 0.70138889
A14: Санкт-Петербург, Легкоатлетический манеж | Q14: Финальные соревнования | AQ14: Окончание:
A16: № п/п | B16: № участ. | C16: Фамилия | D16: Имя | E16: Дата рожд | F16: Разряд | G16: Территория | H16: Пред. рез. | I16: 200 | L16: 205 | O16: 210 | S16: 215 | V16: 218 | Y16: 221 | AB16: 224 | AE16: 226 | AP16: А | AQ16: Б | AR16: Рез-тат | AS16: М | AT16: Прим.
B17: № уч. | E17: Г.р. | F17: Разряд | G17: Команда | I17: 1 | J17: 2 | K17: 3 | L17: 1 | M17: 2 | N17: 3 | O17: 1 | P17: 2 | Q17: 3 | R17: 1 | S17: 2 | T17: 3 | U17: 1 | V17: 2 | W17: 3 | X17: 1 | Y17: 2 | Z17: 3 | AA17: 1 | AB17: 2 | AC17: 3 | AD17: 1 | AE17: 2 | AF17: 3 | AG17: 1 | AH17: 2 | AI17: 3 | AJ17: 1 | AK17: 2 | AL17: 3 | AM17: 1 | AN17: 2 | AO17: 3 | AQ17: Б | AS17: Б | AT17: М
A18: 1 | B18: =[22]ВысЮ!C30 -> 414 | C18: =[22]ВысЮ!D30 -> МОРОЗОВ | D18: =[22]ВысЮ!E30 -> Сергей | E18: =[22]ВысЮ!F30 -> 06.10.1999 | F18: =[22]ВысЮ!G30 -> КМС | G18: =[22]ВысЮ!H30 -> Чувашская республика | H18: 207
A19: 2 | B19: =[22]ВысЮ!C34 -> 350 | C19: =[22]ВысЮ!D34 -> КУРБАНОВ | D19: =[22]ВысЮ!E34 -> Никита | E19: =[22]ВысЮ!F34 -> 13.04.1999 | F19: =[22]ВысЮ!G34 -> МС | G19: =[22]ВысЮ!H34 -> Москва-1 | H19: 207
A20: 3 | B20: =[22]ВысЮ!C20 -> 381 | C20: =[22]ВысЮ!D20 -> ЕФАНОВ | D20: =[22]ВысЮ!E20 -> Алексей | E20: =[22]ВысЮ!F20 -> 06.10.1997 | F20: =[22]ВысЮ!G20 -> МС | G20: =[22]ВысЮ!H20 -> Москва Липецкая область | H20: 207
A21: 4 | B21: =[22]ВысЮ!C39 -> 98 | C21: =[22]ВысЮ!D39 -> ПУНТУС | D21: =[22]ВысЮ!E39 -> Антон | E21: =[22]ВысЮ!F39 -> 16.06.1999 | F21: =[22]ВысЮ!G39 -> МС | G21: =[22]ВысЮ!H39 -> Кемеровская область | H21: 204
A22: 5 | B22: =[22]ВысЮ!C28 -> 398 | C22: =[22]ВысЮ!D28 -> ГАЙНУТДИНОВ | D22: =[22]ВысЮ!E28 -> Азат | E22: =[22]ВысЮ!F28 -> 24.06.1999 | F22: =[22]ВысЮ!G28 -> МС | G22: =[22]ВысЮ!H28 -> Республика Татарстан | H22: 207
A23: 6 | B23: =[22]ВысЮ!C23 -> 138 | C23: =[22]ВысЮ!D23 -> КРЫЛОВ | D23: =[22]ВысЮ!E23 -> Сергей | E23: =[22]ВысЮ!F23 -> 29.07.1999 | F23: =[22]ВысЮ!G23 -> КМС | G23: =[22]ВысЮ!H23 -> Санкт-Петербург-2 Курская область | H23: 207
A24: 7 | B24: =[22]ВысЮ!C29 -> 492 | C24: =[22]ВысЮ!D29 -> ГАТИЦКИЙ | D24: =[22]ВысЮ!E29 -> Александр | E24: =[22]ВысЮ!F29 -> 09.02.1998 | F24: =[22]ВысЮ!G29 -> КМС | G24: =[22]ВысЮ!H29 -> Волгоградская область | H24: 207
A25: 8 | B25: =[22]ВысЮ!C31 -> 340 | C25: =[22]ВысЮ!D31 -> КИСЛЯКОВ | D25: =[22]ВысЮ!E31 -> Владислав | E25: =[22]ВысЮ!F31 -> 12.04.2002 | F25: =[22]ВысЮ!G31 -> КМС | G25: =[22]ВысЮ!H31 -> Ростовская область | H25: 207
A26: 9 | B26: =[22]ВысЮ!C41 -> 450 | C26: =[22]ВысЮ!D41 -> ВЕДЕШКИН | D26: =[22]ВысЮ!E41 -> Кирилл | E26: =[22]ВысЮ!F41 -> 07.10.1998 | F26: =[22]ВысЮ!G41 -> КМС | G26: =[22]ВысЮ!H41 -> Челябинская область | H26: 207
A27: 10 | B27: =[22]ВысЮ!C25 -> 325 | C27: =[22]ВысЮ!D25 -> МЫЛЬНИКОВ | D27: =[22]ВысЮ!E25 -> Артем | E27: =[22]ВысЮ!F25 -> 27.03.1997 | F27: =[22]ВысЮ!G25 -> МС | G27: =[22]ВысЮ!H25 -> Ярославская область | H27: 207
A28: 11 | B28: =[22]ВысЮ!C26 -> 195 | C28: =[22]ВысЮ!D26 -> РУДНИК | D28: =[22]ВысЮ!E26 -> Матвей | E28: =[22]ВысЮ!F26 -> 08.06.1999 | F28: =[22]ВысЮ!G26 -> МС | G28: =[22]ВысЮ!H26 -> Омская область Кемеровская область | H28: 207
A29: 12 | B29: =[22]ВысЮ!C36 -> 76 | C29: =[22]ВысЮ!D36 -> КУТКОВОЙ | D29: =[22]ВысЮ!E36 -> Ярослав | E29: =[22]ВысЮ!F36 -> 10.10.2000 | F29: =[22]ВысЮ!G36 -> КМС | G29: =[22]ВысЮ!H36 -> Краснодарский край | H29: 207
C32: Рефери по прыжкам: | U32: Секретарь:
C34: Старший судья на виде: | U34: Судьи:

Sheet ШесЮ(2)
P1: ВСЕРОССИЙСКАЯ ФЕДЕРАЦИЯ ЛЕГКОЙ АТЛЕТИКИ
R2: КОМИТЕТ ПО ФИЗИЧЕСКОЙ КУЛЬТУРЕ И СПОРТУ САНКТ-ПЕТЕРБУРГА
R3: СПОРТИВНАЯ ФЕДЕРАЦИЯ ЛЕГКОЙ АТЛЕТИКИ САНКТ-ПЕТЕРБУРГА
R4: САНКТ-ПЕТЕРБУРГСКАЯ КОЛЛЕГИЯ СУДЕЙ ПО ЛЕГКОЙ АТЛЕТИКЕ
R6: Первенство России по легкой атлетике
R7: (среди юниоров и юниорок до 23 лет) в помещении
N9: Прыжок с шестом
A10: 5.91 | B10: Рекорд Мира 23 | K10: (начальная высота - 370 см)
A11: 5.91 | B11: Рекорд Европы 23
A12: 5.91 | B12: Рекорд России 23 | Q12: ЮНИОРЫ | AT12: 20 февраля 2019 г.
AS13: Начало: | AT13: 0.68055556
A14: Санкт-Петербург, Легкоатлетический манеж | R14: Финальные соревнования | AS14: Окончание:
A16: № п/п | B16: № участ. | C16: Фамилия | D16: Имя | E16: Дата рожд | F16: Разряд | G16: Территория | H16: 370 | K16: 400 | N16: 420 | Q16: 440 | T16: 460 | W16: 480 | Z16: 490 | AC16: 500 | AF16: 510 | AI16: 515 | AR16: А | AS16: Б | AT16: Рез-тат | AU16: М | AV16: Прим.
B17: № уч. | E17: Г.р. | F17: Разряд | G17: Команда | H17: 1 | I17: 2 | J17: 3 | K17: 1 | L17: 2 | M17: 3 | N17: 1 | O17: 2 | P17: 3 | Q17: 1 | R17: 2 | S17: 3 | T17: 1 | U17: 2 | V17: 3 | W17: 1 | X17: 2 | Y17: 3 | Z17: 1 | AA17: 2 | AB17: 3 | AC17: 1 | AD17: 2 | AE17: 3 | AF17: 1 | AG17: 2 | AH17: 3 | AI17: 1 | AJ17: 2 | AK17: 3 | AO17: 1 | AP17: 2 | AQ17: 3 | AS17: Б | AU17: Б | AV17: М
A18: 1 | B18: =[17]ШесЮ!C19 -> 405 | C18: =[17]ШесЮ!D19 -> ФЕДОТОВ | D18: =[17]ШесЮ!E19 -> Максим | E18: =[17]ШесЮ!F19 -> 08.05.1999 | F18: =[17]ШесЮ!G19 -> КМС | G18: =[17]ШесЮ!H19 -> Республика Татарстан
A20: 2 | B20: =[17]ШесЮ!C20 -> 458 | C20: =[17]ШесЮ!D20 -> КУРНОСОВ | D20: =[17]ШесЮ!E20 -> Александр | E20: =[17]ШесЮ!F20 -> 21.08.1997 | F20: =[17]ШесЮ!G20 -> КМС | G20: =[17]ШесЮ!H20 -> Челябинская область
A22: 3 | B22: =[17]ШесЮ!C21 -> 351 | C22: =[17]ШесЮ!D21 -> АКИНЬШИН | D22: =[17]ШесЮ!E21 -> Денис | E22: =[17]ШесЮ!F21 -> 06.05.1998 | F22: =[17]ШесЮ!G21 -> КМС | G22: =[17]ШесЮ!H21 -> Москва-1 | AV22: лич
A24: 4 | B24: =[17]ШесЮ!C22 -> 3 | C24: =[17]ШесЮ!D22 -> КОБЕЛЕВ | D24: =[17]ШесЮ!E22 -> Павел | E24: =[17]ШесЮ!F22 -> 21.12.2001 | F24: =[17]ШесЮ!G22 -> КМС | G24: =[17]ШесЮ!H22 -> Ленинградская область СПб
A26: 5 | B26: =[17]ШесЮ!C23 -> 365 | C26: =[17]ШесЮ!D23 -> ХАМИДОВ | D26: =[17]ШесЮ!E23 -> Артур | E26: =[17]ШесЮ!F23 -> 16.01.1998 | F26: =[17]ШесЮ!G23 -> КМС | G26: =[17]ШесЮ!H23 -> Москва-2
A28: 6 | B28: =[17]ШесЮ!C24 -> 115 | C28: =[17]ШесЮ!D24 -> ГАЛКИН | D28: =[17]ШесЮ!E24 -> Владислав | E28: =[17]ШесЮ!F24 -> 07.10.2000 | F28: =[17]ШесЮ!G24 -> КМС | G28: =[17]ШесЮ!H24 -> Санкт-Петербург-1
A30: 7 | C30: =[17]ШесЮ!D25 -> ЩЕРБАКОВ | D30: =[17]ШесЮ!E25 -> Владимир | E30: =[17]ШесЮ!F25 -> 08.01.1997 | F30: =[17]ШесЮ!G25 -> МС | G30: =[17]ШесЮ!H25 -> Ленинградская область СПб | AV30: лич
A32: 8 | B32: =[17]ШесЮ!C26 -> 364 | C32: =[17]ШесЮ!D26 -> МИЦКИЙ | D32: =[17]ШесЮ!E26 -> Дмитрий | E32: =[17]ШесЮ!F26 -> 25.04.1998 | F32: =[17]ШесЮ!G26 -> КМС | G32: =[17]ШесЮ!H26 -> Москва-2
A34: 9 | B34: =[17]ШесЮ!C27 -> 187 | C34: =[17]ШесЮ!D27 -> ЯРОМИЧ | D34: =[17]ШесЮ!E27 -> Кирилл | E34: =[17]ШесЮ!F27 -> 11.04.2000 | F34: =[17]ШесЮ!G27 -> КМС | G34: =[17]ШесЮ!H27 -> Санкт-Петербург | AV34: лич
C38: Рефери по прыжкам: | T38: Секретарь:
C40: Старший судья на виде: | T40: Судьи:
